{"text_format":"1","workbook":"xlsx","n_sheets":11,"sheets":["Calculator_old","Calculator","Living Exp","Self Employed","Help Guide","Tables ","Result Sheet","Postcode","HEM","Version log","RK Use_Do not delete"],"not_rendered":{"charts":0,"images":3,"macros":1,"external_links":2,"defined_names":30,"comments":1,"pivot_tables":0},"unopened":[],"bounds":{"document_bytes":16777216,"sheet_cells":100000,"rows_first":2000,"rows_last":500,"rows_between":2000,"halvings":0,"cell_chars":16384,"cell_head_chars":4096},"cells_cut":0,"cells_raw":0,"read":"whole","date_system":"1900"}

{"sheet":"Calculator_old","index":0,"n_rows":135,"n_cols":29,"rows_kept":135,"cut":false,"hidden":true,"merged":[[4,24,4,26],[9,1,9,12],[9,13,9,15],[9,18,9,20],[9,22,9,24],[11,13,11,15],[11,18,11,20],[11,22,11,23],[13,13,13,15],[13,16,13,20],[13,22,13,23],[13,28,13,33],[15,9,15,12],[15,13,15,15],[15,18,15,20],[15,22,15,23],[17,1,17,26],[19,12,19,13],[19,15,19,16],[19,18,19,20],[19,22,19,24],[21,1,21,10],[21,12,21,13],[21,15,21,16],[21,18,21,20],[21,22,21,24],[23,1,23,10],[23,12,23,13],[23,15,23,16],[23,18,23,20],[23,22,23,24],[25,1,25,10],[25,12,25,13],[25,15,25,16],[25,18,25,20],[25,22,25,24],[27,1,27,10],[27,12,27,13],[27,15,27,16],[27,18,27,20],[27,22,27,24],[29,1,29,10],[29,12,29,13],[29,15,29,16],[29,18,29,20],[29,22,29,24],[31,1,31,10],[31,12,31,13],[31,15,31,16],[31,18,31,20],[31,22,31,24],[33,1,33,10],[33,12,33,13],[33,15,33,16],[33,18,33,20],[33,22,33,24],[35,1,35,10],[35,12,35,13],[35,15,35,16],[35,18,35,20],[35,22,35,24],[37,1,37,10],[37,12,37,13],[37,15,37,16],[37,18,37,20],[37,22,37,24],[39,1,39,10],[39,12,39,13],[39,15,39,16],[39,18,39,20],[39,22,39,24],[41,1,41,10],[41,12,41,13],[41,15,41,16],[41,18,41,20],[41,22,41,24],[43,1,43,10],[43,12,43,13],[43,15,43,16],[43,18,43,20],[43,22,43,24],[45,6,45,10],[45,12,45,13],[45,15,45,16],[45,18,45,20],[45,22,45,24],[47,9,47,10],[47,12,47,13],[47,15,47,16],[47,18,47,20],[47,22,47,24],[47,28,47,33],[49,8,49,10],[49,12,49,13],[49,15,49,16],[49,18,49,20],[49,22,49,24],[51,1,51,26],[53,1,53,26],[55,12,55,13],[55,15,55,16],[55,18,55,20],[55,22,55,24],[57,1,57,10],[57,12,57,13],[57,15,57,16],[57,18,57,20],[57,22,57,24],[59,1,59,10],[59,12,59,13],[59,15,59,16],[59,18,59,20],[59,22,59,24],[61,1,61,10],[61,12,61,13],[61,15,61,16],[61,18,61,20],[61,22,61,24],[63,1,63,10],[63,12,63,13],[63,15,63,16],[63,18,63,20],[63,22,63,24],[65,1,65,10],[65,12,65,13],[65,15,65,16],[65,18,65,20],[65,22,65,24],[67,1,67,10],[67,12,67,13],[67,15,67,16],[67,18,67,20],[67,22,67,24],[69,1,69,10],[69,12,69,13],[69,15,69,16],[69,18,69,20],[69,22,69,24],[71,1,71,10],[71,12,71,13],[71,15,71,16],[71,18,71,20],[71,22,71,24],[73,1,73,10],[73,12,73,13],[73,15,73,16],[73,18,73,20],[73,22,73,24],[75,1,75,10],[75,12,75,13],[75,15,75,16],[75,18,75,20],[75,22,75,24],[76,1,76,10],[77,1,77,10],[77,12,77,13],[77,15,77,16],[77,18,77,20],[77,22,77,24],[78,1,78,10],[79,1,79,10],[79,12,79,13],[79,15,79,16],[79,18,79,20],[79,22,79,24],[80,1,80,10],[81,5,81,10],[81,12,81,13],[81,15,81,16],[81,18,81,20],[81,22,81,24],[81,28,81,33],[83,4,83,10],[83,12,83,13],[83,14,83,16],[83,18,83,20],[83,22,83,24],[83,28,83,33],[84,1,84,10],[85,5,85,10],[85,12,85,13],[85,15,85,16],[85,18,85,20],[85,22,85,24],[85,28,85,34],[86,1,86,10],[87,5,87,10],[87,12,87,13],[87,22,87,24],[87,28,87,33],[88,1,88,10],[89,1,89,26],[90,1,90,26],[91,1,91,26],[93,7,93,10],[93,12,93,13],[93,15,93,16],[93,18,93,20],[93,22,93,25],[95,2,95,5],[95,7,95,10],[95,12,95,13],[95,15,95,16],[95,18,95,20],[95,22,95,25],[97,2,97,5],[97,7,97,10],[97,12,97,13],[97,15,97,16],[97,18,97,20],[97,22,97,25],[99,2,99,5],[99,7,99,10],[99,12,99,13],[99,15,99,16],[99,18,99,20],[99,22,99,25],[101,2,101,5],[101,7,101,10],[101,12,101,13],[101,15,101,16],[101,18,101,20],[101,22,101,25],[103,2,103,5],[103,7,103,10],[103,12,103,13],[103,15,103,16],[103,18,103,20],[103,22,103,25],[105,2,105,5],[105,7,105,10],[105,12,105,13],[105,15,105,16],[105,18,105,20],[105,22,105,25],[107,2,107,5],[107,7,107,10],[107,12,107,13],[107,15,107,16],[107,18,107,20],[107,22,107,25],[109,2,109,5],[109,7,109,10],[109,12,109,13],[109,15,109,16],[109,18,109,20],[109,22,109,25],[111,2,111,5],[111,7,111,10],[111,12,111,13],[111,15,111,16],[111,18,111,20],[111,22,111,25],[113,2,113,5],[113,7,113,10],[113,12,113,13],[113,15,113,16],[113,18,113,20],[113,22,113,25],[115,20,115,22],[115,28,115,33],[117,1,117,26],[120,2,120,13],[120,15,120,16],[120,17,120,23],[120,24,120,25],[120,28,120,33],[122,9,122,13],[122,15,122,16],[122,20,122,24],[122,28,122,33],[124,2,124,13],[124,15,124,16],[124,17,124,23],[124,24,124,25],[124,28,124,33],[126,9,126,13],[126,15,126,16],[126,28,126,33],[128,5,128,13],[128,15,128,16],[128,28,128,33],[130,9,130,13],[130,15,130,16],[130,17,130,22],[130,28,130,33],[134,1,134,26],[95,28,107,33],[34,28,39,33],[44,28,45,33],[7,28,11,33],[49,28,50,33]]}
[]
[null,"Servicing Calculator"]
[null,"V1.0.0 27/04/2021"]
[]
[null,null,null,null,null,null,null,null,null,null,null,null,null,null,null,null,null,null,null,null,null,null,null,null,{"$f":"TODAY()","v":"2023-07-05"}]
[null,"Servicing calculator is subject to change. Check Partner portal for the latest version."]
[]
[null,null,null,null,null,null,null,null,null,null,null,null,null,null,null,null,null,null,null,null,null,null,null,null,null,null,null,null,"Assessment rate to have a difference of 2.5% higher than borrower rate                                                                                 Assessment rate can not be lower than 5.50% (floor rate)"]
[]
[null,"Total Loan Amount including capped LMI",null,null,null,null,null,null,null,null,null,null,null,300000,null,null,null,null,"Total Security Value",null,null,null,350000]
[]
[null,null,null,null,null,null,null,null,null,null,null,null,"Loan Term in months",360,null,null,null,null,"Borrower Interest Rate",null,null,null,0.0179]
[]
[null,null,null,null,null,null,null,null,null,null,null,null,"Repayment Type","Principal and Interest",null,null,"Interest Only Term in years",null,null,null,null,null,null,null,null,null,null,null,"Max loan term not more thatn 360 months"]
[]
[null,null,null,null,null,null,null,null,null,"Number of Households",null,null,null,1,null,null,null,null,"Assessment Rate",null,null,null,{"$f":"IF(OR(ISBLANK(W12)),\"\",IF(W12+2.5%<=5.5%,5.5%,W12+2.5%))","v":0.055}]
[]
[]
[]
[null,null,null,null,null,null,null,null,null,null,null,null,"Borrower 1",null,null,"Borrower 2",null,null,"Borrower 3",null,null,null,"Borrower 4"]
[]
[null,"Applicant Name",null,null,null,null,null,null,null,null,null,null,"John"]
[]
[null,"Martial Status",null,null,null,null,null,null,null,null,null,null,"Married",null,null,null,null,null,"Married"]
[]
[null,"Number of Dependants"]
[]
[null,"Household",null,null,null,null,null,null,null,null,null,null,1,null,null,null,null,null,1]
[]
[null,"Residential Postcode",null,null,null,null,null,null,null,null,null,null,2125]
[]
[null,"Annual Taxable Income",null,null,null,null,null,null,null,null,null,null,85000]
[]
[null,"Total Gross Rental Income"]
[null,null,null,null,null,null,null,null,null,null,null,null,null,null,null,null,null,null,null,null,null,null,null,null,null,null,null,null,"Investment loan add back row is calculated at 6% of the investment loan entered - this must be able to be amended from time to time"]
[null,"Total Investment Loan"]
[]
[null,"Investment Interest add back",null,null,null,null,null,null,null,null,null,null,{"$f":"M36*'Tables '!$G$16","v":0},null,null,{"$f":"P36*'Tables '!$G$16","v":0},null,null,{"$f":"S36*'Tables '!$G$16","v":0},null,null,null,{"$f":"W36*'Tables '!$G$16","v":0}]
[]
[null,"Other Taxable Income"]
[]
[null,"Company car"]
[]
[null,"Family Assistance"]
[null,null,null,null,null,null,null,null,null,null,null,null,null,null,null,null,null,null,null,null,null,null,null,null,null,null,null,null,"refer to cell formaula "]
[null,null,null,null,null,null,"Total Taxable Income",null,null,null,null,null,{"$f":"M32+M34+M38+M40+M42","v":85000},null,null,{"$f":"P32+P34+P38+P40+P42","v":0},null,null,{"$f":"S32+S34+S38+S40+S42","v":0},null,null,null,{"$f":"W32+W34+W38+W40+W42","v":0}]
[]
[null,null,null,null,null,null,null,null,null,"Tax Payable",null,null,{"$f":"IF(OR(ISBLANK(M46)),\"\",IF(AND(M46>=0,M46<=18200),M46*'Tables '!$J$5,IF(AND(M46>=18201,M46<=45000),M46*'Tables '!$J$6,IF(AND(M46>=45001,M46<=120000),M46*'Tables '!$J$7,IF(AND(M46>=120001,M46<=180000),M46*'Tables '!$J$8,IF(AND(M46>=180001),M46*'Tables '!$J$9,\"\"))))))","v":27625},null,null,{"$f":"IF(OR(ISBLANK(P46)),\"\",IF(AND(P46>=0,P46<=18200),P46*'Tables '!$J$5,IF(AND(P46>=18201,P46<=45000),P46*'Tables '!$J$6,IF(AND(P46>=45001,P46<=120000),P46*'Tables '!$J$7,IF(AND(P46>=120001,P46<=180000),P46*'Tables '!$J$8,IF(AND(P46>=180001),P46*'Tables '!$J$9,\"\"))))))","v":0},null,null,{"$f":"IF(OR(ISBLANK(S46)),\"\",IF(AND(S46>=0,S46<=18200),S46*'Tables '!$J$5,IF(AND(S46>=18201,S46<=45000),S46*'Tables '!$J$6,IF(AND(S46>=45001,S46<=120000),S46*'Tables '!$J$7,IF(AND(S46>=120001,S46<=180000),S46*'Tables '!$J$8,IF(AND(S46>=180001),S46*'Tables '!$J$9,\"\"))))))","v":0},null,null,null,{"$f":"IF(OR(ISBLANK(W46)),\"\",IF(AND(W46>=0,W46<=18200),W46*'Tables '!$J$5,IF(AND(W46>=18201,W46<=45000),W46*'Tables '!$J$6,IF(AND(W46>=45001,W46<=120000),W46*'Tables '!$J$7,IF(AND(W46>=120001,W46<=180000),W46*'Tables '!$J$8,IF(AND(W46>=180001),W46*'Tables '!$J$9,\"\"))))))","v":0},null,null,null,null,null,"have to build tax table for income brackets"]
[]
[null,null,null,null,null,null,null,null,"Total Net Income",null,null,null,{"$f":"(M46-M48)+M44","v":57375},null,null,{"$f":"(P46-P48)+P44","v":0},null,null,{"$f":"(S46-S48)+S44","v":0},null,null,null,{"$f":"(W46-W48)+W44","v":0},null,null,null,null,null,"Refer to cell formula"]
[]
[]
[]
[null,"Monthly Household Declared Living Expenses"]
[]
[null,null,null,null,null,null,null,null,null,null,null,null,"Household 1",null,null,"Household 2",null,null,"Household 3",null,null,null,"Household 4"]
[]
[null,"Childcare"]
[]
[null,"Clothing & other personal expenses",null,null,null,null,null,null,null,null,null,null,200]
[]
[null,"Education"]
[]
[null,"Groceries"]
[]
[null,"Insurance"]
[]
[null,"Investment Property Expenses"]
[]
[null,"Medical & Health"]
[]
[null,"Other"]
[]
[null,"Owner Occupied Property Expenses"]
[]
[null,"Recreation & Entertainment"]
[]
[null,"Telephone, Media and Subscriptions"]
[]
[null,"Transport Expenses"]
[]
[null,null,null,null,null,"Total Monthly Household",null,null,null,null,null,null,{"$f":"SUM(M58:N80)","v":200},null,null,{"$f":"SUM(P58:Q80)","v":0},null,null,{"$f":"SUM(S58:U80)","v":0},null,null,null,{"$f":"SUM(W58:Y80)","v":0},null,null,null,null,null,"Refer to cell formula"]
[]
[null,null,null,null,"Total Declared Living Expenses",null,null,null,null,null,null,null,{"$f":"SUM(M82+P82+S82+W82)*12","v":2400},null,"(Annual Amount)",null,null,null,null,null,null,null,null,null,null,null,null,null,"Refer to cell formula"]
[]
[null,null,null,null,null,"Total HEM Living Expense",null,null,null,null,null,null,{"$f":"390*52","v":20280},null,null,null,null,null,null,null,null,null,null,null,null,null,null,null,"Have to build HEM table (martial status, dependats and post code)"]
[]
[null,null,null,null,null,"Living Expenses Variation",null,null,null,null,null,null,{"$f":"M84/M86","v":0.118343195266272},null,"Comment required if less than or equal to 75%",null,null,null,null,null,null,null,null,null,null,null,null,null,"Refer to cell formula"]
[]
[]
[]
[null,"Ongoing Commitments"]
[]
[null,null,null,null,null,null,null,"Commitment Type",null,null,null,null,"Repayment Amount",null,null,"Frequency",null,null,"Annual Amount",null,null,null,"Current Balance in Redraw"]
[]
[null,null,"Commitment 1",null,null,null,null,null,null,null,null,null,null,null,null,null,null,null,{"$f":"IF(OR(ISBLANK(M96),ISBLANK(P96)),\"\",IF(P96=\"weekly\",SUM(M96*52),IF(P96=\"fortnightly\",SUM(M96*26),IF(P96=\"monthly\",SUM(M96*12),IF(P96=\"annually\",SUM(M96*1))))))","v":""},null,null,null,null,null,null,null,null,null,"Only the first row to be displayed by default.                     Following rows to be displayed as previous rows start to have information entered                                                                             Annual Amount based on repayment amount by Frequency to be annualised                                                                                                                                                                                                Last Row - field to allow info if commitment type is other mortgage"]
[]
[null,null,"Commitment 2",null,null,null,null,null,null,null,null,null,null,null,null,null,null,null,{"$f":"IF(OR(ISBLANK(M98),ISBLANK(P98)),\"\",IF(P98=\"weekly\",SUM(M98*52),IF(P98=\"fortnightly\",SUM(M98*26),IF(P98=\"monthly\",SUM(M98*12),IF(P98=\"annually\",SUM(M98*1))))))","v":""}]
[]
[null,null,"Commitment 3",null,null,null,null,null,null,null,null,null,null,null,null,null,null,null,{"$f":"IF(OR(ISBLANK(M100),ISBLANK(P100)),\"\",IF(P100=\"weekly\",SUM(M100*52),IF(P100=\"fortnightly\",SUM(M100*26),IF(P100=\"monthly\",SUM(M100*12),IF(P100=\"annually\",SUM(M100*1))))))","v":""}]
[]
[null,null,"Commitment 4",null,null,null,null,null,null,null,null,null,null,null,null,null,null,null,{"$f":"IF(OR(ISBLANK(M102),ISBLANK(P102)),\"\",IF(P102=\"weekly\",SUM(M102*52),IF(P102=\"fortnightly\",SUM(M102*26),IF(P102=\"monthly\",SUM(M102*12),IF(P102=\"annually\",SUM(M102*1))))))","v":""}]
[]
[null,null,"Commitment 5",null,null,null,null,null,null,null,null,null,null,null,null,null,null,null,{"$f":"IF(OR(ISBLANK(M104),ISBLANK(P104)),\"\",IF(P104=\"weekly\",SUM(M104*52),IF(P104=\"fortnightly\",SUM(M104*26),IF(P104=\"monthly\",SUM(M104*12),IF(P104=\"annually\",SUM(M104*1))))))","v":""}]
[]
[null,null,"Commitment 6",null,null,null,null,null,null,null,null,null,null,null,null,null,null,null,{"$f":"IF(OR(ISBLANK(M106),ISBLANK(P106)),\"\",IF(P106=\"weekly\",SUM(M106*52),IF(P106=\"fortnightly\",SUM(M106*26),IF(P106=\"monthly\",SUM(M106*12),IF(P106=\"annually\",SUM(M106*1))))))","v":""}]
[]
[null,null,"Commitment 7",null,null,null,null,null,null,null,null,null,null,null,null,null,null,null,{"$f":"IF(OR(ISBLANK(M108),ISBLANK(P108)),\"\",IF(P108=\"weekly\",SUM(M108*52),IF(P108=\"fortnightly\",SUM(M108*26),IF(P108=\"monthly\",SUM(M108*12),IF(P108=\"annually\",SUM(M108*1))))))","v":""}]
[]
[null,null,"Commitment 8",null,null,null,null,null,null,null,null,null,null,null,null,null,null,null,{"$f":"IF(OR(ISBLANK(M110),ISBLANK(P110)),\"\",IF(P110=\"weekly\",SUM(M110*52),IF(P110=\"fortnightly\",SUM(M110*26),IF(P110=\"monthly\",SUM(M110*12),IF(P110=\"annually\",SUM(M110*1))))))","v":""}]
[]
[null,null,"Commitment 9",null,null,null,null,null,null,null,null,null,null,null,null,null,null,null,{"$f":"IF(OR(ISBLANK(M112),ISBLANK(P112)),\"\",IF(P112=\"weekly\",SUM(M112*52),IF(P112=\"fortnightly\",SUM(M112*26),IF(P112=\"monthly\",SUM(M112*12),IF(P112=\"annually\",SUM(M112*1))))))","v":""}]
[]
[null,null,"Commitment 10",null,null,null,null,null,null,null,null,null,null,null,null,null,null,null,{"$f":"IF(OR(ISBLANK(M114),ISBLANK(P114)),\"\",IF(P114=\"weekly\",SUM(M114*52),IF(P114=\"fortnightly\",SUM(M114*26),IF(P114=\"monthly\",SUM(M114*12),IF(P114=\"annually\",SUM(M114*1))))))","v":""}]
[]
[null,null,null,null,null,null,null,null,null,null,null,null,null,null,null,null,null,"Total Annual Commitments",null,null,{"$f":"SUM(S96:U114)","v":0},null,null,null,null,null,null,null,"Row 110 is the annual total of all commitment entered "]
[]
[]
[]
[]
[null,null,"LVR",null,null,null,null,null,null,null,null,null,null,null,null,{"$f":"N10/W10","v":0.857142857142857},null,"LMI required if LVR is greater than 80%",null,null,null,null,null,null,null,null,null,null,"Refer to cell formula"]
[]
[null,null,null,null,null,null,null,null,null,"Total Net Income",null,null,null,null,null,{"$f":"(M50+P50+S50+W50)-P129","v":20394.9999297577},null,null,null,null,null,null,null,null,null,null,null,null,"Refer to cell formula"]
[]
[null,null,"Total Repayments For This Loan (Assessment Interest Rate)",null,null,null,null,null,null,null,null,null,null,null,null,{"$f":"PMT(W16,N12,-N10)","v":16500.0000702423},null,"Total Repayments (Actual Interest Rate)  ",null,null,null,null,null,null,{"$f":"PMT(W12,N12,-N10)","v":5379.05450626813},null,null,null,"need formula for P&I loan at assesment rate"]
[]
[null,null,null,null,null,null,null,null,null,"Total Credit Card Limit",null,null,null,null,null,5000,null," @4%",null,{"$f":"P127*4%","v":200},null,null,null,null,null,null,null,null,"Refer to cell formula"]
[]
[null,null,null,null,null,"Total Commitments",null,null,null,null,null,null,null,null,null,{"$f":"IF(M86>=M84,U116+T127+P125+M86,U116+T127+P125+M84)","v":36980.0000702423},null,null,null,null,null,null,null,null,null,null,null,null,"Refer to cell formula"]
[]
[null,null,null,null,null,null,null,null,null,"Net Disposable Income Ratio (NDI)",null,null,null,null,null,{"$f":"(ROUNDDOWN(P123/P125,2)&\":\"&(P123/P123))","v":"1.23:1"},null,"NDI must be 1.00 or higher",null,null,null,null,null,null,null,null,null,null,"should be displayed as 1.00:1"]
[]
[]
[null,"Important Information:"]
[null,"This calculator is provided for information purposes only. The calculations produced are intended for use by you as a guide only. They DO NOT constitute a quote or loan approval. The calculator estimates loan serviceability based on the accuracy of information provided. Source Funding Pty Ltd reserves the right to change its lending and assessment criteria at any time. Actual loan serviceability can only be calculated once your application has been lodged."]

{"sheet":"Calculator","index":1,"n_rows":162,"n_cols":23,"rows_kept":162,"cut":false,"hidden":false,"merged":[[2,12,2,13],[4,23,4,25],[5,19,5,25],[9,6,9,10],[9,12,9,13],[9,19,9,20],[9,22,9,23],[10,4,10,10],[10,12,10,13],[10,19,10,20],[10,22,10,24],[11,7,11,9],[12,4,12,10],[12,12,12,13],[12,19,12,20],[12,22,12,24],[14,4,14,10],[14,12,14,13],[14,19,14,20],[14,22,14,24],[16,6,16,10],[16,12,16,13],[16,17,16,19],[16,22,16,24],[18,12,18,13],[18,19,18,20],[18,22,18,24],[20,1,20,25],[24,12,24,13],[24,15,24,17],[24,19,24,20],[24,22,24,23],[26,1,26,10],[26,12,26,13],[26,15,26,17],[26,19,26,20],[26,22,26,23],[28,1,28,10],[28,12,28,13],[28,15,28,17],[28,19,28,20],[28,22,28,23],[31,12,31,13],[31,15,31,17],[31,19,31,20],[31,22,31,23],[33,1,33,10],[33,12,33,13],[33,15,33,17],[33,19,33,20],[33,22,33,23],[35,1,35,10],[35,12,35,13],[35,15,35,17],[35,19,35,20],[35,22,35,23],[37,1,37,10],[37,12,37,13],[37,15,37,17],[37,19,37,20],[37,22,37,23],[40,12,40,13],[40,15,40,17],[40,19,40,20],[40,22,40,23],[42,12,42,13],[42,15,42,17],[42,19,42,20],[42,22,42,23],[46,12,46,13],[46,15,46,17],[46,19,46,20],[46,22,46,23],[48,12,48,13],[48,15,48,17],[48,19,48,20],[48,22,48,23],[50,1,50,10],[50,12,50,13],[50,15,50,17],[50,19,50,20],[50,22,50,23],[53,12,53,13],[53,15,53,17],[53,19,53,20],[53,22,53,23],[55,1,55,10],[55,12,55,13],[55,15,55,17],[55,19,55,20],[55,22,55,23],[57,1,57,10],[57,12,57,13],[57,15,57,17],[57,19,57,20],[57,22,57,23],[59,1,59,10],[59,12,59,13],[59,15,59,17],[59,19,59,20],[59,22,59,23],[61,1,61,10],[61,12,61,13],[61,15,61,17],[61,19,61,20],[61,22,61,23],[66,7,66,10],[66,12,66,13],[66,15,66,17],[66,19,66,20],[66,22,66,23],[67,7,67,10],[68,7,68,10],[68,12,68,13],[68,15,68,17],[68,19,68,20],[68,22,68,23],[69,7,69,10],[70,7,70,10],[70,12,70,13],[70,15,70,17],[70,19,70,20],[70,22,70,23],[71,7,71,10],[72,7,72,10],[72,12,72,13],[72,15,72,17],[72,19,72,20],[72,22,72,23],[74,1,74,10],[74,12,74,13],[74,15,74,17],[74,19,74,20],[74,22,74,23],[76,1,76,10],[76,12,76,13],[76,15,76,17],[76,19,76,20],[76,22,76,23],[78,1,78,10],[78,12,78,13],[78,15,78,17],[78,19,78,20],[78,22,78,23],[80,6,80,10],[80,12,80,13],[80,15,80,17],[80,19,80,20],[80,22,80,23],[82,6,82,10],[82,12,82,13],[82,15,82,17],[82,19,82,20],[82,22,82,23],[84,1,84,25],[86,1,86,25],[88,12,88,13],[88,15,88,17],[88,19,88,20],[88,22,88,23],[90,1,90,10],[91,4,91,10],[91,12,91,13],[91,15,91,17],[91,19,91,20],[91,22,91,23],[93,4,93,10],[93,12,93,13],[93,15,93,17],[93,19,93,20],[93,22,93,23],[94,1,94,10],[95,4,95,10],[95,12,95,13],[95,15,95,17],[95,20,95,23],[95,24,95,25],[96,1,96,10],[97,1,97,25],[98,1,98,25],[99,1,99,25],[101,7,101,10],[101,12,101,13],[101,19,101,21],[101,22,101,24],[103,2,103,5],[103,7,103,10],[103,12,103,13],[103,19,103,20],[103,22,103,24],[105,2,105,5],[105,7,105,10],[105,12,105,13],[105,19,105,20],[105,22,105,24],[107,2,107,5],[107,7,107,10],[107,12,107,13],[107,19,107,20],[107,22,107,24],[109,2,109,5],[109,7,109,10],[109,12,109,13],[109,19,109,20],[109,22,109,24],[111,2,111,5],[111,7,111,10],[111,12,111,13],[111,19,111,20],[111,22,111,24],[113,2,113,5],[113,7,113,10],[113,12,113,13],[113,19,113,20],[113,22,113,24],[115,19,115,20],[117,7,117,10],[117,12,117,13],[117,15,117,17],[117,19,117,24],[119,7,119,10],[119,12,119,13],[119,15,119,17],[119,19,119,24],[121,7,121,10],[121,12,121,13],[121,15,121,17],[121,19,121,24],[123,7,123,10],[123,12,123,13],[123,15,123,17],[123,19,123,24],[125,7,125,10],[125,12,125,13],[125,15,125,17],[125,19,125,24],[127,7,127,10],[127,12,127,13],[127,15,127,17],[127,19,127,24],[129,7,129,10],[131,1,131,25],[134,7,134,10],[134,22,134,24],[136,7,136,10],[136,22,136,24],[138,7,138,10],[138,22,138,24],[143,1,143,25],[161,12,161,13],[161,15,161,17],[161,19,161,20],[161,22,161,23],[119,27,128,34],[102,27,113,34],[91,27,96,34]]}
[]
[null,"Servicing Calculator"]
[null,"V1.1.4 14/06/2023"]
[]
[]
[null,"Servicing calculator is subject to change. Check Partner Portal for the latest version.",null,null,null,null,null,null,null,null,null,null,null,null,null,null,null,null,null,{"$f":"TODAY()","v":"2023-07-05"}]
[]
[]
[null,null,"New Commitment"]
[null,null,null,null,null,null,"Type of Product",null,null,null,null,null,"Amount/Limit ($)\nIncluding LMI",null,null,"Loan Term\nin months",null,"Contract Rate",null,"Eligible for Tax Deduction?",null,null,"Comments"]
[null,null,null,1]
[]
[null,null,null,2]
[]
[null,null,null,3]
[]
[null,null,null,null,null,null,"Total Loan Amount including capped LMI",null,null,null,null,null,{"$f":"SUM(M11:N15)","v":0},null,null,"Security Value",null,null,null,null,"LVR",null,{"$f":"IFERROR(M17/R17,\"\")","v":""}]
[]
[null,null,null,null,null,null,null,null,null,null,"Security  Postcode",null,null,null,null,null,null,null,null,"Assessment Rate",null,null,{"$f":"IF(OR(ISBLANK(R11:R15)),\"\",IF(MAX(R11:R15)+'Tables '!D7<='Tables '!D8,'Tables '!D8,MAX(R11:R15)+'Tables '!D7))","v":0.05}]
[]
[]
[]
[]
[]
[null,null,"Applicant Details",null,null,null,null,null,null,null,null,null,"Borrower 1",null,null,"Borrower 2",null,null,null,"Borrower 3",null,null,"Borrower 4"]
[]
[null,"Applicant Name"]
[]
[null,"Household"]
[]
[]
[null,null,"Household Details",null,null,null,null,null,null,null,null,null,"Household 1",null,null,"Household 2",null,null,null,"Household 3",null,null,"Household 4"]
[]
[null,"Couple"]
[]
[null,"Adults",null,null,null,null,null,null,null,null,null,null,{"$f":"IF(OR(ISBLANK(M34)),\"\",IF(M34=\"YES\",2,1))","v":""},null,null,{"$f":"IF(OR(ISBLANK(P34)),\"\",IF(P34=\"YES\",2,1))","v":""},null,null,null,{"$f":"IF(OR(ISBLANK(T34)),\"\",IF(T34=\"YES\",2,1))","v":""},null,null,{"$f":"IF(OR(ISBLANK(W34)),\"\",IF(W34=\"YES\",2,1))","v":""}]
[]
[null,"Dependents"]
[]
[]
[null,null,"PAYG",null,null,null,null,null,null,null,null,null,"Borrower 1",null,null,"Borrower 2",null,null,null,"Borrower 3",null,null,"Borrower 4"]
[]
[null,null,null,null,null,null,null,null,null,null,"Income PAYG"]
[]
[null,null,"Self Employed"]
[]
[null,null,null,null,null,null,null,null,null,null,"Taxable Income",null,{"$f":"'Self Employed'!E35","v":0},null,null,{"$f":"'Self Employed'!G35","v":0},null,null,null,{"$f":"'Self Employed'!I35","v":0},null,null,{"$f":"'Self Employed'!K35","v":0}]
[]
[null,null,null,null,null,null,null,null,null,null,"Non-Taxable Income",null,{"$f":"'Self Employed'!E49","v":0},null,null,{"$f":"'Self Employed'!G49","v":0},null,null,null,{"$f":"'Self Employed'!I49","v":0},null,null,{"$f":"'Self Employed'!K49","v":0}]
[null,{"$f":"SUMIF(Calculator!M29:X29,1)","v":0}]
[null,"Total Income",null,null,null,null,null,null,null,null,null,null,{"$f":"SUM(M47:N49)","v":0},null,null,{"$f":"SUM(P47:R49)","v":0},null,null,null,{"$f":"SUM(T47:U49)","v":0},null,null,{"$f":"SUM(W47:X49)","v":0}]
[]
[]
[null,null,"Rental Income",null,null,null,null,null,null,null,null,null,"Gross",null,null,"Gross",null,null,null,"Gross",null,null,"Gross"]
[]
[null,"Cat 1,2,3 and any other Residential"]
[]
[null,"Cat 4 Residential"]
[]
[null,"Cat 1,2,3 and any other Commercial"]
[]
[null,"Cat 4 Commercial"]
[]
[]
[null,null,"Other Income"]
[]
[null,null,null,null,null,null,null,"Bonus"]
[]
[null,null,null,null,null,null,null,"Commission"]
[]
[null,null,null,null,null,null,null,"Dividends"]
[]
[null,null,null,null,null,null,null,"Overtime"]
[]
[null,"Other Taxable Income"]
[]
[null,"Company car"]
[]
[null,"Tax Free Income"]
[]
[null,null,null,null,null,null,"Non-Taxable Income",null,null,null,null,null,{"$f":"M79","v":0},null,null,{"$f":"P79","v":0},null,null,null,{"$f":"T79","v":0},null,null,{"$f":"W79","v":0}]
[]
[null,null,null,null,null,null,"Total Taxable Income",null,null,null,null,null,{"$f":"M43+M47+M56+M58+M60+M62+M67+M69+M71+M73+M75+M77","v":0},null,null,{"$f":"P43+P47+P56+P58+P60+P62+P67+P69+P71+P73+P75+P77","v":0},null,null,null,{"$f":"T43+T51+T56+T58+T60+T62+T67+T69+T71+T73+T75+T77","v":0},null,null,{"$f":"W43+W51+W56+W58+W60+W62+W67+W69+W71+W73+W75+W77","v":0}]
[]
[]
[]
[null,"Monthly Household Declared Living Expenses"]
[]
[null,null,null,null,null,null,null,null,null,null,null,null,"Household 1",null,null,"Household 2",null,null,null,"Household 3",null,null,"Household 4"]
[]
[]
[null,null,null,null,"Total Monthly Household",null,null,null,null,null,null,null,{"$f":"'Living Exp'!F47","v":0},null,null,{"$f":"'Living Exp'!H47","v":0},null,null,null,{"$f":"'Living Exp'!J47","v":0},null,null,{"$f":"'Living Exp'!L47","v":0}]
[]
[null,null,null,null,"HEM + Disc Living Expenses",null,null,null,null,null,null,null,{"$f":"'Result Sheet'!D139","v":0},null,null,{"$f":"'Result Sheet'!D140","v":0},null,null,null,{"$f":"'Result Sheet'!D141","v":0},null,null,{"$f":"'Result Sheet'!D142","v":0}]
[]
[null,null,null,null,"Total HEM + Disc Living Expenses",null,null,null,null,null,null,null,{"$f":"SUM('Result Sheet'!D139:D142)","v":0},null,null,"Living Expenses Variation",null,null,null,{"$f":"IFERROR(SUM(M92:X92)/M96,\"\")","v":""}]
[]
[]
[]
[null,"Ongoing Commitments"]
[]
[null,null,null,null,null,null,null,"Commitment Type",null,null,null,null,"Amount/Limit($)",null,null,"Remaining P&I Loan Term (m)",null,"Contractual Rate (%)",null,"Monthly Amount ($)",null,null,"Eligible for Tax Deduction?"]
[]
[null,null,"Commitment 1"]
[]
[null,null,"Commitment 2"]
[]
[null,null,"Commitment 3"]
[]
[null,null,"Commitment 4"]
[]
[null,null,"Commitment 5"]
[]
[null,null,"Commitment 6"]
[]
[null,null,null,null,null,null,null,null,null,null,null,null,null,null,null,null,null,"Total Monthly Commitments",null,{"$f":"SUM(T104:U114)","v":0}]
[]
[null,null,null,null,null,null,null,"Credit Institution",null,null,null,null,"Card Limit",null,null,"Paid off every month?",null,null,null,"Comment"]
[]
[null,null,null,null,null,"Credit/Store Card 1"]
[]
[null,null,null,null,null,"Credit/Store Card 2"]
[]
[null,null,null,null,null,"Credit/Store Card 3"]
[]
[null,null,null,null,null,"Credit/Store Card 4"]
[]
[null,null,null,null,null,"Credit/Store Card 5"]
[]
[null,null,null,null,null,"Total Credit Card Limit",null,{"$f":"SUM(M120:N128)","v":0}]
[]
[]
[]
[]
[null,null,null,null,null,"Total Net Income",null,{"$f":"'Result Sheet'!G107/12","v":0},null,null,null,null,null,null,null,null,null,null,null,null,"Monthly Repayments (Assessment Interest Rate)",null,{"$f":"IFERROR('Result Sheet'!L121,\"\")","v":0}]
[]
[null,null,null,null,null,"Monthly Surplus Income",null,{"$f":"IFERROR(H135-'Result Sheet'!Q135-'Result Sheet'!D109-W135-'Result Sheet'!B65-'Result Sheet'!B64,\"\")","v":0},null,null,null,null,null,null,null,null,null,null,null,null,"Monthly Repayments (Actual Interest Rate) ",null,{"$f":"IFERROR('Result Sheet'!L126,\"\")","v":0}]
[]
[null,null,null,null,null,"Serviceability Ratio",null,{"$f":"IF(OR(ISBLANK(M29)),\"\",'Result Sheet'!B153)","v":""},null,null,null,null,"DTI",{"$f":"IFERROR((M17+'Result Sheet'!B115+SUM(M104:N114))/(SUM('Result Sheet'!D56:G56)),\"\")","v":""},null,null,null,null,null,null,"Mortgage Repayment to Income",null,{"$f":"IFERROR(SUM(W137+'Result Sheet'!E135)/'Result Sheet'!B151,\"\")","v":""}]
[]
[]
[]
[null,"Important Information:"]
[null,"This calculator is provided for information purposes only. The calculations produced are intended for use by you as a guide ONLY. They DO NOT constitute a quote or loan approval. The calculator estimates loan serviceability based on the accuracy of information provided. Source Funding Pty Ltd reserves the right to change its lending and assessment criteria at any time. Actual loan serviceability can only be calculated once your application has been lodged."]
[]
[]
[]
[]
[]
[]
[]
[]
[]
[]
[]
[]
[]
[]
[]
[]
[]
[null,null,null,null,null,null,null,null,null,null,null,null,{"$f":"IF(OR(ISBLANK(M160)),\"\",IF(M160=\"YES\",2,1))","v":""},null,null,{"$f":"IF(OR(ISBLANK(P160)),\"\",IF(P160=\"YES\",2,1))","v":""},null,null,null,{"$f":"IF(OR(ISBLANK(T160)),\"\",IF(T160=\"YES\",2,1))","v":""},null,null,{"$f":"IF(OR(ISBLANK(W160)),\"\",IF(W160=\"YES\",2,1))","v":""}]

{"sheet":"Living Exp","index":2,"n_rows":49,"n_cols":12,"rows_kept":49,"cut":false,"hidden":false,"merged":[]}
[]
[null,"Monthly Household Declared Living Expenses"]
[]
[]
[null,"Expense Category",null,"Description",null,"Household 1",null,"Household 2",null,"Household 3",null,"Household 4"]
[]
[null,"Childcare",null,"Childcare including nannies and non-compulsory pre-school."]
[]
[null,"Clothing & other personal expenses",null,"Clothing, Footwear, Buy Now/Pay Later Purchases, Cosmetics, Hairdressing etc"]
[]
[null,"General Basic Insurances",null,"General basic insurances include ambulance, car (not recreation vehicles), travel, and personal belongings insurance. Excludes property (house and contents), health, sickness and personal accident, life, income protection and pet insurance."]
[]
[null,"Groceries",null,"Groceries (food and non-alcoholic beverages), toiletries and cleaning products."]
[]
[null,"Higher Education, Vocational Training and Professional Fees",null,"Higher education and vocational training fees (including TAFE, business college, drama, music, dance) excluding HECS, and professional fees (union dues, professional association subscriptions, legal, accountant and tax agent fees)."]
[]
[null,"Medical & Health",null,"Medical and health care services including GPs, specialists, physiotherapists, chiropractors, and opticians. Medicines, pharmaceuticals, prescriptions, glasses, purchase or hire of therapeutic appliances and equipment, hospital charges, nursing home charges. Excludes health insurance and ambulance insurance."]
[]
[null,"Pet Care",null,"Pet food, grooming, minding services, care products, health products, veterinarian fees."]
[]
[null,"Primary Residence Running Costs",null,"Costs associated with the primary residence, either owned or rented. Includes rates, water, sewage, repairs and maintenance, electricity, gas, heating oil and wood for fuel, purchase, hire and repair of household and outdoor furnishings and equipment, furnishings, floor coverings, linen, tableware, gardening tools, power tools, electrical, lights, trees, shrubs, plants, pool chemicals, home insurance, contents insurance and appliance insurance. Excludes body corporate fees, strata fees and land tax."]
[]
[null,"Public or Government Primary and Secondary Education",null,"Public or government, primary and secondary school tuition, school and sports fees including compulsory kindergarten/reception/pre-primary/prep."]
[]
[null,"Recreation and entertainment",null,"Meals in restaurants, hotels and clubs, fast food and takeaway including coffee. Alcoholic beverages and tobacco products. Purchase, hire, repair of recreational personal belongings including electronics, computers, games consoles, AV equipment, cameras. Toys, hobbies, stationery, arts, crafts, sports, camping, fishing and recreation equipment including musical instruments, accessories and lessons. Non-subscription TV, video, games, and audio content, books, newspapers, magazines (including physical material and digital content). Recreation, gym, and health and fitness studios fees, court hire, sports lessons, admission fees and tickets (sports, theatre, gallery, museum, music events). Domestic holidays (fares, fuel, accommodation, theme parks, zoos tours). Recreational gambling, including lottery-type games, scratch cards, poker machines, club and casino gaming, and sports betting. Excludes travel insurance."]
[]
[null,"Telephone, internet, pay TV and media streaming subscriptions",null,"Telephone accounts (home and mobile), internet, pay TV and media streaming subscriptions (such as Netflix and Spotify)."]
[]
[null,"Transport",null,"Public transport, taxis, ride-sharing and non-holiday domestic airfares (excludes overseas airfares). Running costs for essential vehicles including fuel, servicing, repairs, parking, tolls (excludes insurance) and registration of motor vehicles (excludes recreational vehicles such as caravans, trailers, motorcycles, boats and aircraft)."]
[]
[null,"Body Corporate Fees, Strata Fees and Land Tax on Owner Occupied Principal Place of Residence",null,"Body corporate fees, strata fees and land tax on owner occupied principal place of residence. Excludes investment properties, secondary residences, and properties maintained for other purposes such as holiday properties or residences maintained for parents or children."]
[]
[null,"Private Schooling and Tuition",null,"Tuition fees, school fees and sports fees for private schooling, including independent schools (Catholic or non-Catholic) and private tuition including compulsory age kindergarten/reception/pre-primary/prep."]
[]
[null,"Sickness and Personal Accident Insurance, Life Insurance",null,"Sickness and personal accident insurance, life insurance"]
[]
[null,"Health Insurance",null,"Health insurance including hospital, medical and dental insurance (excludes separate ambulance insurance)."]
[]
[null,"Investment Property Running Costs",null,"Costs associated with any property owned for investment purposes. Includes body corporate fees, strata fees, land tax, property management fees, rates, water, sewage, repairs and maintenance, electricity, gas, heating oil and wood for fuel, purchase, hire and repair of household and outdoor furnishings and equipment, furnishings, floor coverings, linen, tableware, gardening tools, power tools, electrical, lights, trees, shrubs, plants, pool chemicals, landlords insurance, home insurance, contents insurance and appliance insurance."]
[]
[null,"Secondary Residence Running Costs",null,"Costs associated with any secondary residence, either rented or owned for non-investment purposes, such as a holiday property that is not rented to generate income, or a property that family members (parents or children) are allowed to live in rent-free. Includes body corporate fees, strata fees, land tax, property management fees, rates, water, sewage, repairs and maintenance, electricity, gas, heating oil and wood for fuel, purchase, hire and repair of household and outdoor furnishings and equipment, furnishings, floor coverings, linen, tableware, gardening tools, power tools, electrical, lights, trees, shrubs, plants, pool chemicals, landlords insurance, home insurance, contents insurance and appliance insurance."]
[]
[null,"Other",null,"Other ongoing or recurring items not included within the other categories including, but not limited to pet insurance, insurance not elsewhere classified, registration, insurance and operation of recreational vehicles (such as caravans, trailers, motorcycles, boats and aircraft), overseas holidays, gifts, jewellery, household services including cleaning, gardening, housekeeping, security and pest control services."]
[]
[]
[null,null,null,null,null,"Household 1",null,"Household 2",null,"Household 3",null,"Household 4"]
[null,null,null,"Total",null,{"$f":"SUM(F7:F43)","v":0},null,{"$f":"SUM(H7:H43)","v":0},null,{"$f":"SUM(J7:J43)","v":0},null,{"$f":"SUM(L7:L43)","v":0}]
[]
[null,null,null,"HEM",null,{"$f":"HEM!K17","v":0},null,{"$f":"HEM!K24","v":0},null,{"$f":"HEM!K31","v":0},null,{"$f":"HEM!K38","v":0}]

{"sheet":"Self Employed","index":3,"n_rows":51,"n_cols":11,"rows_kept":51,"cut":false,"hidden":false,"merged":[[10,1,10,11],[11,1,11,2],[24,1,24,11],[36,1,36,11]]}
[]
[]
[]
[]
[]
[]
[]
[null,"Corporate Self Employed Income"]
[]
[]
[null,"Taxable Income - Sole Proprietor or Partnership"]
[null,null,null,null,"Applicant 1",null,"Applicant 2",null,"Applicant 3",null,"Applicant 4"]
[]
[null,"Sole Traders/Partners/Directors Salary"]
[]
[null,"Net Profit"]
[]
[null,"Abnormal Expenses"]
[]
[null,"Abnormal Income"]
[]
[null,"Other Income"]
[]
[]
[null,"Taxable Income - Company"]
[]
[null,"Company Profit"]
[]
[null,"Abnormal Expenses"]
[]
[null,"Abnormal Income"]
[]
[null,"Other Income"]
[]
[null,"TOTAL TAXABLE INCOME",null,null,{"$f":"SUM(E14:E18)+E22+SUM(E27:E29)+E33-E20-E31","v":0},null,{"$f":"SUM(G14:G22)+SUM(G27:G33)","v":0},null,{"$f":"SUM(I14:I22)+SUM(I27:I33)","v":0},null,{"$f":"SUM(K14:K22)+SUM(K27:K33)","v":0}]
[]
[null,"Plus Addbacks / Non Taxable Income"]
[]
[null,"Motor Vehicle Expenses"]
[]
[null,"Depreciation"]
[]
[null,"Interest of Loans being refinanced"]
[]
[null,"Other Self-Employed Addbacks"]
[]
[null,"Government Ongoing Payments"]
[]
[null,"TOTAL NON TAXABLE INCOME",null,null,{"$f":"SUM(E39:E47)","v":0},null,{"$f":"SUM(G39:G47)","v":0},null,{"$f":"SUM(I39:I47)","v":0},null,{"$f":"SUM(K39:K47)","v":0}]
[]
[null,"TOTAL INCOME",null,null,{"$f":"E35+E49","v":0},null,{"$f":"G35+G49","v":0},null,{"$f":"I35+I49","v":0},null,{"$f":"K35+K49","v":0}]

{"sheet":"Help Guide","index":4,"n_rows":72,"n_cols":4,"rows_kept":72,"cut":false,"hidden":false,"merged":[[0,0,0,3],[1,0,2,1]]}
["Help Guide"]
["Ensure to enable the calculator before commencement"]
[]
["NEW COMMITMENT Details"]
[null,"New Commitment","Auto populated (locked field)","Field containing numbering of the new commitments."]
[null,"Type of Product","Drop down list (with predefined products)","Choose a new commitment to include in the servicing scenario. This field is mandatory for all products."]
[null,"Amount/Limit ($)","Number field (Currency)","Input field to contain loan amount or credit card Limit. This field is mandatory for all products. Inclusive of LMI or other Fees & Charges to be included in the loan."]
[null,"Loan Term","Number field (1 to 360)","Input field to contain the term of the loan. Mandatory if unlocked."]
[null,"Contractual Rate (%)","Number field (percentage)","Input field to contain the contractual rate of the application. Mandatory if Unlocked."]
[null,"Investment Eligible for Tax Deductions?","Drop down list (Y/N)","Answer 'Yes' if the commitment is an investment and is eligible for a tax deduction. Otherwise select 'No' from the drop down box. Mandatory if Unlocked. Selecting 'Yes' will apply a tax deduction amount. Note: Only answer \"Yes\" for an Investment loan where rental income forms part of the serviceability and customer is an Australian Resident."]
[null,"Comment","Free text field (any characters)","Input field to contain a comment/note if further information is needed. This field is not mandatory."]
[null,"Total Loan Amount including capped LMI amount","Auto populated (locked field)","Sum of New Commitments entered prior"]
[null,"Security Value","Number field (Currency)","Field containing the security value for the new lending."]
[null,"Loan to Valuation Ratio","Auto populated (locked field)","Field containing Loan to Valuation Ratio, auto calculated based on inputs."]
[null,"Assessment Rate","Auto populated (locked field)","Field containg 5% floor rate or contract rate plus 2.5% interest buffer, whichever is greater, auto calculated based on inputs."]
["APPLICANT Details","Applicant Name","Free text field (any characters)","Input field to contain full Customer name or Company name."]
[null,"Which household?","Drop down list (with option between 1 and 4)","Select in which household the applicant belongs to. This field is used to determine whether a set of applicants are in the same household or not for servicing."]
["HOUSEHOLD Details","Couple?","Drop down list (YES/NO)","Answer 'YES' if applicant/s are Married or  in a defacto relationship. Otherwise select 'NO' from the drop down box. This is based on Household not number of applicants, i.e. if single applicant but in a Couple household select \"Couple\" - Determines the appropriate application of the HEM."]
[null,"Adults","Auto populated (locked field)","This field will auto populate with number of adults depending on relationship status. Couples set to 'YES' will populate 2 adults and couples set to 'NO' will populate 1 adult.  (Regardless of the number of applicants)"]
[null,"Dependant/s","Number field","Input field to contain number of dependants (children & adults)."]
["PAYG Details - Annual","Gross (PAYG)","Number field (Currency)","Input field to contain the gross pay/salary of the applicant, before Tax. Foreign Income needs to be converted to Australian dollars as per credit policy."]
["Self Employed Details"]
["INCOME - CORPORATE/SELF EMPLOYED","Calculate SE Income Sheet","Button","Button that will take you to the \"Corporate / Self-Employed  Income\" sheet."]
[null,"Sole Traders/Partners/Directors Salary","Number field (Currency)","Field containing Sole Traders/Partners/Directors Salary. (Field exists in the \"Corporate / Self-Employed  Income\" sheet)"]
[null,"Net Profit","Number field (Currency)","Field containing Net Profit. (Field exists in the \"Corporate / Self-Employed  Income\" sheet)"]
[null,"Company Profit","Number field (Currency)","Field containing Company Profit. (Field exists in the \"Corporate / Self-Employed  Income\" sheet)"]
[null,"Abnormal Expenses","Number field (Currency)","Field containing Abnormal Expenses. (Field exists in the \"Corporate / Self-Employed  Income\" sheet). These expenses are added to the sevicing as these expenses won't occur again."]
[null,"Abnormal Income","Number field (Currency)","Field containing Abnormal Income in the \"Corporate / Self-Employed  Income\" sheet. (Field exists in the \"Corporate / Self-Employed  Income\" sheet). This income is subtracted from the servicing as the income will not occure again."]
[null,"Other Income","Number field (Currency)","Field containing Other Income. (Field exists in the \"Corporate / Self-Employed  Income\" sheet)"]
[null,"Motor Vehicle Expenses","Number field (Currency)","Field containing Motor Vehicle Expenses. (Field exists in the \"Corporate / Self-Employed  Income\" sheet as an addback item)"]
[null,"Depreciation","Number field (Currency)","Field containing Depreciation. (Field exists in the \"Corporate / Self-Employed  Income\" sheet as an addback item)"]
[null,"Interest of Loans being refinanced","Number field (Currency)","Field containing Interest of Loans being refinanced. (Field exists in the \"Corporate / Self-Employed  Income\" sheet as an addback item)"]
[null,"Other Self-Employed Addbacks","Number field (Currency)","Field containing Other Self-Employed Addbacks. (Field exists in the \"Corporate / Self-Employed  Income\" sheet as an addback item)"]
[null,"Centrelink Payments","Number field (Currency)","Field containing Centrelink Payments. (Field exists in the \"Corporate / Self-Employed  Income\" sheet as an addback item)"]
[null,"NON-TAXABLE","Auto populated (locked field)","Field containing NON-TAXABLE income from the \"Corporate / Self-Employed  Income\" sheet."]
[null,"TAXABLE","Auto populated (locked field)","Field containing Taxable income from the \"Corporate / Self-Employed  Income\" sheet."]
[null,"TOTAL INCOME","Auto populated (locked field)","Field containing Total Income from the \"Corporate / Self-Employed  Income\" sheet."]
["Rental Income Details","Cat 1,2 and 3 Residential","Number field (Currency)","Input field to populate any Cat 1, 2 and 3 Residential rental income. This will then calculate the appropriate income deduction as per credit policy."]
[null,"Cat 4 Residential","Number field (Currency)","Input field to populate any Cat 4 Residential rental income. Higher Risk Postcodes, this will then be calculated with the appropriate income deduction as per credit policy."]
[null,"Cat 1, 2, and 3 Commercial","Number field (Currency)","Input field to populate any Cat 1, 2, and 3 Commercial rental income. This will then calculate the appropriate income deduction as per credit policy."]
[null,"Cat 4 Commercial","Number field (Currency)","Input field to populate any Cat 4 Commercial rental income. (Higher Risk Postcodes) - This will then calcualate an income deduction as per credit policy."]
["Other Income Details","Bonus (lower of the last 2 yrs)","Number field (Currency)","Input field to populate any Bonus (lower of the last 2 years), this will then be calculated with a deduction as per credit policy."]
[null,"Commission (lower of the last 2 yrs)","Number field (Currency)","Input field to populate any Commission (lower of the last 2 yrs), this will then be calculated with a deduction as per credit policy."]
[null,"Dividends","Number field (Currency)","Input field to populate any Dividends which will then be calculated at a deduction as per credit policy"]
[null,"Overtime","Number field (Currency)","Input field to populate any \"permanent\" overtime as defined in Credit Policy."]
[null,"Other Taxable Income","Number field (Currency)","Input field to populate any Other non taxable benefit."]
[null,"Company Car","Number field (Currency)","Input field to populate any Company Car non taxable benefit."]
[null,"Tax Free Income","Number field (Currency)","Field containing Centrelink Payments."]
[null,"TOTAL NON-TAXABLE INCOME","Number field (Currency)","Field containing Total Non Taxable Income."]
[null,"TOTAL TAXABLE INCOME","Number field (Currency)","Field containing Total Taxable Income"]
["Monthly Household Declared Living Expenses","Total Monthly Household","Number field (Currency)","Field containting Total Declared Living Expenses by Household, auto calculated based on inputs"]
[null,"HEM Living Expenses","Number field (Currency)","Field containing HEM Living expenses by Household, auto calculated based on inputs"]
[null,"Total HEM Living Expenses","Number field (Currency)","Sum of HEM Living expenses of all households, auto calculated. Field is locked."]
["Ongoing Commitments","Commitment Type","Drop down list (with predefined commitments)","Choose an existing commitment to include in the servicing scenario. This field is mandatory for all type of commitments."]
[null,"Amount/Limit ($)","Number field (Currency)","Input field to contain loan amount. Mandatory if Unlocked."]
[null,"Actual Monthly Scheduled Commitment ($)","Number field (Currency)","Input field to contain the monthly commitment of the type of commitment selected. This field is mandatory for all type of commitments."]
[null,"Remaining P&I Loan Term","Number field (Months)","Remaining P&I Loan Term. Only applicable to P&I, IO and LOC loans."]
[null,"Contractual Rate (%)","Number field (Percentage)","Input field to contain the contractual rate of an existing. Mandatory for P&I, IO and LOC loans."]
[null,"Monthly Amount ($)","Number field (Currency)","Current monthly Commitment."]
[null,"Investment Eligible for Tax Deductions?","Drop down list (Y/N)","Answer yes (Y) if the commitment is an investment and is eligible for a tax deduction. Otherwise select no (N) from the drop down box. Mandatory if Unlocked. Selecting \"Yes\" (Y) will apply a tax deduction amount. Note: Only answer \"Yes\" for an Investment loan where rental income forms part of the serviceability and customer is an Australian Resident."]
[null,"Credit/Store Card","Auto populated (locked field)","Field containing numbering of the new commitments."]
[null,"Credit Institution","Drop Down list","Select Financial Institution from list"]
[null,"Card Limit","Number field (Currency)","Input field containing card limit"]
[null,"Paid off every months","Drop Down list (Yes/No)","Select 'Yes' if card is paid off every month, otherwise select 'No'."]
[null,"Comment","Free text field (any characters)","Input field to contain a comment/note if further information is needed. This field is not mandatory."]
["RESULTS","Total Net Income","Auto populated (locked field)","Field containing Total income after tax"]
[null,"Monthly Surplus Income","Auto populated (locked field)","Field containing Monthly Actual Surplus Income."]
[null,"Serviceability Ratio","Auto populated (locked field)","Field containing Serviceability Ratio."]
[null,"DTI","Auto populated (locked field)","Debt to Income ratio."]
[null,"Monthly Repayments (Assessment Interest Rate)","Auto populated (locked field)","Field containing monthly repayments for new commitments at assessment interest rate."]
[null,"Monthly Repayments (Actual Interest Rate)","Auto populated (locked field)","Field containing monthly repayments for new commitments at actual interest rate."]
[null,"Monthly Mortgage Repayment to Income Measure","Auto populated (locked field)","Field containing Monthly Mortgage Repayment to Income Measure"]

{"sheet":"Tables ","index":5,"n_rows":116,"n_cols":13,"rows_kept":116,"cut":false,"hidden":true,"merged":[[3,7,3,9],[3,11,3,12],[11,11,11,12],[58,2,58,3],[58,5,58,7],[58,9,58,10],[58,12,58,13]]}
[]
[null,null,"Repayment Type"]
[null,null,"Principal and Interest"]
[null,null,"Interest Only",null,null,null,null,"Tax Table",null,null,null,"Low Income Tax"]
[null,null,null,null,null,null,null,"Gross","$0-$18,200",0,null,"$0-$37,500",700]
[null,null,"Interest rate for ReInvestment",0.0576,null,null,null,null,"$18,201-$45,000",0.19,null,"$37,501 - $45,000","$700 minus ((Taxable Income minus $37,500) x 5%))"]
[null,null,"Interest Rate buffer",0.025,null,"Commitment Type",null,null,"$45,001-$120,000",0.325,null,"$45,001 - $66,667","$325 minus ((Taxable Income minus $45,000) x 1.5%))"]
[null,null,"Floor rate",0.05,null,"Other Mortgage",null,null,"$120,001-$180,000",0.37,null,"More than $66,667","Nil"]
[null,null,"Proxy rate",0.0378,null,"Rental Expense",null,null,"$180,000-",0.45]
[null,null,"Default commitment rate",0.065,null,"Personal Loan"]
[null,null,null,null,null,"Hire Purchase"]
[null,null,"New Commitement Table",null,null,"HECS - HELP",null,null,"Rental Categories","%",null,"Low and middle income tax offset"]
[null,null,"Residential Loan P&I",null,null,"Child Maintenance",null,null,"Cat 1 Resi",0.8,null,"$0 - $37,000",255]
[null,null,"Residential Loan IO 1 Year",null,null,"Other Commitments",null,null,"Cat 1 Commercial",0.65,null,"$37,001 - $48,000","$255 plus 7.5 cents for every dollar above $37,000, up to a maximum of $1,080"]
[null,null,"Residential Loan IO 2 Years",null,null,null,null,null,"Cat 2 Resi",0.8,null,"$48,001 - $90,000",1080]
[null,null,"Residential Loan IO 3 Years",null,null,"Investment Loan Add Back",0.06,null,"Cat 2 Commercial",0.65,null,"$90,001 - $126,000","$1,080 minus 3 cents for every dollar of the amount above $90,000"]
[null,null,"Residential Loan IO 4 Years",null,null,null,null,null,"Cat 3 Resi",0.8]
[null,null,"Residential Loan IO 5 Years",null,null,"Payment Frequency",null,null,"Cat 3 Commercial",0.65]
[null,null,"Secured Personal Loan",null,null,"Weekly",null,null,"Cat 4 Resi",0.65]
[null,null,"Unsecured Personal Loan",null,null,"Fortnightly",null,null,"Cat 4 Commercial",0.65]
[null,null,"Credit Card",null,null,"Monthly"]
[null,null,"Line of Credit P&I",null,null,"Annually"]
[null,null,"Line of Credit IO",null,null,null,null,"LVR","Inner City","Cat 1","Cat 2","Cat 3/4"]
[null,null,null,null,null,null,null,0.7,2000000,2000000,1000000,500000]
[null,null,"Married",null,null,"Existing Commitments",null,0.8,2000000,2000000,1000000,400000]
[null,null,"Single",null,null,null,null,0.9,"N/A",1500000,750000,"N/A"]
[null,null,"Couple Other",null,null,"Residential Loan P&I",null,0.95,"N/A",800000,500000,"N/A"]
[null,null,null,null,null,"Residential Loan IO"]
[null,null,null,null,null,"Secured Personal Loan"]
[null,null,null,null,null,"Unsecured Personal Loan",null,null,"Weighting Classifications"]
[null,null,null,null,null,"Line of Credit",null,null,"Bonus",0.8]
[null,null,"HEM Test",null,null,"Child Maintenance",null,null,"Commission",0.8]
[null,null,"Couple",null,null,"HECS/HELP",null,null,"Dividends",0.9]
[null,null,"Couple with 1 child",null,null,"Board/Rental Commitment",null,null,"Overtime",0.8]
[null,null,"Couple with 2 children",null,null,"Other",null,null,"Car Allowance",1]
[null,null,"Couple with 3 children",null,null,null,null,null,"Foreign Income",1]
[null,null,"Single person",null,null,"Living Expense Variaton",0.75]
[null,null,"Single parent with 1 child"]
[null,null,"Single parent with 2 children"]
[null,null,"Single parent with 3 children",null,null,"YES"]
[null,null,null,null,null,"NO"]
[]
[]
[]
[]
[]
[]
[]
[]
[]
[]
[]
[]
[]
[]
[]
[]
[]
[null,null,{"$f":"IF(OR(ISBLANK(C57)),\"\",IF(C57=\"YES\",2,1))","v":""},null,null,{"$f":"IF(OR(ISBLANK(F57)),\"\",IF(F57=\"YES\",2,1))","v":""},null,null,null,{"$f":"IF(OR(ISBLANK(J57)),\"\",IF(J57=\"YES\",2,1))","v":""},null,null,{"$f":"IF(OR(ISBLANK(M57)),\"\",IF(M57=\"YES\",2,1))","v":""}]
[null,null,"Credit Institution"]
[]
[null,null,"Adelaide Bank"]
[null,null,"Advantedge"]
[null,null,"AFG Home Loans"]
[null,null,"Afterpay"]
[null,null,"Allstate Home Loans"]
[null,null,"American Express"]
[null,null,"AMP"]
[null,null,"ANZ Bank"]
[null,null,"Athena Home Loans"]
[null,null,"Aussie Home Loans"]
[null,null,"Australian First Mortgage"]
[null,null,"Bank of Melbourne"]
[null,null,"Bank of Queensland"]
[null,null,"Bank of Sydney Ltd"]
[null,null,"Bank SA"]
[null,null,"Bankwest"]
[null,null,"BC Securities Pty Ltd"]
[null,null,"Bendigo Bank"]
[null,null,"Better Choice"]
[null,null,"Better Mortgage Mgmt"]
[null,null,"Bluestone"]
[null,null,"BOQ"]
[null,null,"Brighten Home Loans"]
[null,null,"CBA"]
[null,null,"Citibank"]
[null,null,"Columbus Capital Pty Ltd"]
[null,null,"Commonwealth Bank"]
[null,null,"Credit Union Australia"]
[null,null,"EMoney Pty Ltd"]
[null,null,"Esanda"]
[null,null,"FASTLend"]
[null,null,"Firstmac"]
[null,null,"Heritage"]
[null,null,"Homeloans Ltd"]
[null,null,"Homeside"]
[null,null,"Homestar Finance Pty Ltd"]
[null,null,"HSBC"]
[null,null,"ING"]
[null,null,"LaTrobe"]
[null,null,"Liberty"]
[null,null,"Macquarie"]
[null,null,"ME Bank"]
[null,null,"Mortgage Ezy"]
[null,null,"Mortgage Mart"]
[null,null,"NAB"]
[null,null,"Origin Mortgage Management Services Pty Ltd"]
[null,null,"Pepper"]
[null,null,"RESIMAC"]
[null,null,"St George"]
[null,null,"Suncorp Metway"]
[null,null,"Teachers Credit Union"]
[null,null,"Tictoc Online"]
[null,null,"Well Nigh Capital Funding No 1 Pty Ltd"]
[null,null,"Westpac Bank"]
[null,null,"Other"]

{"sheet":"Result Sheet","index":6,"n_rows":153,"n_cols":20,"rows_kept":153,"cut":false,"hidden":true,"merged":[[0,0,0,9],[12,0,12,5],[16,0,16,9],[33,0,33,9],[40,0,40,9],[67,0,67,8],[78,0,78,8],[85,0,85,8]]}
["PAYG Income",null,null,null,null,null,null,null,null,null,null,null,"Number of Applicants",{"$f":"COUNTA(Calculator!M27:X27)","v":0}]
[null,"Weighting","Applicant 1","Haircut","Applicant 2","Haircut","Applicant 3","Haircut","Applicant 4","Haircut"]
["Income",1,{"$f":"Calculator!M43","v":0},{"$f":"C3-(C3*B3)","v":0},{"$f":"Calculator!P43","v":0},{"$f":"E3-(E3*B3)","v":0},{"$f":"Calculator!T43","v":0},{"$f":"G3-(G3*B3)","v":0},{"$f":"Calculator!W43","v":0},{"$f":"I3-(I3*B3)","v":0}]
["Bonus",{"$f":"'Tables '!J31","v":0.8},{"$f":"Calculator!M67","v":0},{"$f":"C4-(C4*B4)","v":0},{"$f":"Calculator!P67*$B4","v":0},{"$f":"E4-(E4*B4)","v":0},{"$f":"Calculator!T67","v":0},{"$f":"G4-(G4*B4)","v":0},{"$f":"Calculator!W67","v":0},{"$f":"I4-(I4*$B4)","v":0}]
["Commission",{"$f":"'Tables '!J32","v":0.8},{"$f":"Calculator!M69","v":0},0,{"$f":"Calculator!P69*$B5","v":0},0,{"$f":"Calculator!T69","v":0},0,{"$f":"Calculator!W69","v":0},0]
["Dividends",{"$f":"'Tables '!J33","v":0.9},{"$f":"Calculator!M71","v":0},0,{"$f":"Calculator!P71*$B6","v":0},0,{"$f":"Calculator!T71","v":0},0,{"$f":"Calculator!W71","v":0},0]
["Overtime",{"$f":"'Tables '!J34","v":0.8},{"$f":"Calculator!M73","v":0},0,{"$f":"Calculator!P73*$B7","v":0},0,{"$f":"Calculator!T73","v":0},0,{"$f":"Calculator!W73","v":0},0]
["Other Taxable Income",1,{"$f":"Calculator!M75","v":0},0,{"$f":"Calculator!P75*$B8","v":0},0,{"$f":"Calculator!T75","v":0},0,{"$f":"Calculator!W75","v":0},0]
["Company car",{"$f":"'Tables '!J35","v":1},{"$f":"Calculator!M77","v":0},0,{"$f":"Calculator!P77*$B9","v":0},0,{"$f":"Calculator!T77","v":0},0,{"$f":"Calculator!W77","v":0},0]
["Centrelink",1,{"$f":"Calculator!M79","v":0},0,{"$f":"Calculator!P79","v":0},0,{"$f":"Calculator!T79","v":0},0,{"$f":"Calculator!W79","v":0},0]
[]
["PAYG Haircut",null,null,{"$f":"SUM(D3:D9)","v":0},null,{"$f":"SUM(F3:F9)","v":0},null,{"$f":"SUM(H3:H9)","v":0},null,{"$f":"SUM(J3:J9)","v":0}]
["Self Employed Income"]
[null,"Weighting","Applicant 1","Applicant 2","Applicant 3","Applicant 4"]
["Income",1,{"$f":"'Self Employed'!E35","v":0},{"$f":"'Self Employed'!G35","v":0},{"$f":"'Self Employed'!I35","v":0},{"$f":"'Self Employed'!K35","v":0}]
["HEM Income",1,{"$f":"'Self Employed'!E51","v":0},{"$f":"'Self Employed'!G51","v":0},{"$f":"'Self Employed'!I51","v":0},{"$f":"'Self Employed'!K51","v":0}]
["Rent"]
[null,"Weighting","Applicant 1","Haircut","Applicant 2","Haircut","Applicant 3","Haircut","Applicant 4","Haircut"]
["Household",null,{"$f":"Calculator!M29","v":0},null,{"$f":"Calculator!P29","v":0},null,{"$f":"Calculator!T29","v":0},null,{"$f":"Calculator!W29","v":0}]
["Cat 1,2,3 and any other Residential",{"$f":"'Tables '!J13","v":0.8},{"$f":"Calculator!M56","v":0},{"$f":"C20-(C20*B20)","v":0},{"$f":"Calculator!P56","v":0},{"$f":"E20-(E20*B20)","v":0},{"$f":"Calculator!T56","v":0},{"$f":"G20-(G20*B20)","v":0},{"$f":"Calculator!W56","v":0},{"$f":"I20-(I20*B20)","v":0}]
["Cat 4 Residential",{"$f":"'Tables '!J19","v":0.65},{"$f":"Calculator!M58","v":0},{"$f":"C21-(C21*B21)","v":0},{"$f":"Calculator!P58","v":0},{"$f":"E21-(E21*B21)","v":0},{"$f":"Calculator!T58","v":0},{"$f":"G21-(G21*B21)","v":0},{"$f":"Calculator!W58","v":0},{"$f":"I21-(I21*B21)","v":0}]
["Cat 1,2,3 and any other Commercial",{"$f":"'Tables '!J14","v":0.65},{"$f":"Calculator!M60","v":0},0,{"$f":"Calculator!P60","v":0},0,{"$f":"Calculator!T60","v":0},0,{"$f":"Calculator!W60","v":0},0]
["Cat 4 Commercial",{"$f":"'Tables '!J20","v":0.65},{"$f":"Calculator!M62","v":0},0,{"$f":"Calculator!P62","v":0},0,{"$f":"Calculator!T62","v":0},0,{"$f":"Calculator!W62","v":0},0]
[]
[]
["Total Gross Rental",null,{"$f":"SUM(C20:C23)","v":0},null,0,null,0,null,0]
["Total Haircut",null,{"$f":"SUM(D20:D23)","v":0},null,{"$f":"SUM(F20:F23)","v":0},null,{"$f":"SUM(H20:H23)","v":0},null,{"$f":"SUM(J20:J23)","v":0}]
[]
["Household",1,2,3,4]
["Gross Rental Income",{"$f":"SUMIF(C19:I19,B29,C26:I26)","v":0},{"$f":"SUMIF(C19:I19,C29,C26:I26)","v":0},{"$f":"SUMIF(C19:I19,D29,C26:I26)","v":0},{"$f":"SUMIF(C19:I19,E29,C26:I26)","v":0}]
["Eligible Rental Income",{"$f":"SUMIF(C19:I19,B29,C27:I27)","v":0},{"$f":"SUMIF(C19:I19,C29,C27:I27)","v":0},{"$f":"SUMIF(C19:I19,D29,C27:I27)","v":0},{"$f":"SUMIF(C19:I19,E29,C27:I27)","v":0}]
["Rent less Commitment",{"$f":"B30-((SUMIF(D36:G36,B29,D40:G40)+SUMIF(D43:G43,B29,D50:G50)))","v":0},{"$f":"C30-((SUMIF(D36:G36,C29,D40:G40)+SUMIF(D43:G43,C29,D50:G50)))","v":0},{"$f":"D30-((SUMIF(D36:G36,D29,D40:G40)+SUMIF(D43:G43,D29,D50:G50)))","v":0},{"$f":"E30-((SUMIF(D36:G36,E29,D40:G40)+SUMIF(D43:G43,E29,D50:G50)))","v":0}]
[]
["New Commitment Tax Deduction"]
[null,"Tax Deductible","Tax Deduction","Applicant 1","Applicant 2","Applicant 3","Applicant 4",null,null,"Income Earner",{"$f":"IF(OR(C19>0),1,0)+IF(OR(E19>0),1,0)+IF(OR(G19>0),1,0)+IF(OR(I19>0),1,0)","v":0}]
["Household",null,null,{"$f":"C19","v":0},{"$f":"E19","v":0},{"$f":"G19","v":0},{"$f":"I19","v":0}]
["Commitment 1",{"$f":"Calculator!T11","v":0},{"$f":"IF($B37=\"YES\",(IPMT('Tables '!$D$6/12,1,Calculator!$P11,-Calculator!$M11)*12),0)","v":0},{"$f":"IF(AND(B37=\"YES\",C26>0),C37/K35,0)","v":0},{"$f":"IF(AND(B37=\"YES\",E26>0),C37/K35,0)","v":0},{"$f":"IF(AND(B37=\"YES\",G26>0),C37/K35,0)","v":0},{"$f":"IF(AND(B37=\"YES\",I26>0),C37/K35,0)","v":0}]
["Commitment 2",{"$f":"Calculator!T13","v":0},{"$f":"IF($B38=\"YES\",(IPMT('Tables '!$D$6/12,1,Calculator!$P13,-Calculator!$M13)*12),0)","v":0},{"$f":"IF(AND(B38=\"YES\",C26>0),C38/K35,0)","v":0},{"$f":"IF(AND(B38=\"YES\",E26>0),C38/K35,0)","v":0},{"$f":"IF(AND(B38=\"YES\",G26>0),C38/K35,0)","v":0},{"$f":"IF(AND(B38=\"YES\",I26>0),C38/K35,0)","v":0}]
["Commitment 3",{"$f":"Calculator!T15","v":0},{"$f":"IF($B39=\"YES\",(IPMT('Tables '!$D$6/12,1,Calculator!$P15,-Calculator!$M15)*12),0)","v":0},{"$f":"IF(AND(B39=\"YES\",C26>0),C39/K35,0)","v":0},{"$f":"IF(AND(B39=\"YES\",E26>0),C39/K35,0)","v":0},{"$f":"IF(AND(B39=\"YES\",G26>0),C39/K35,0)","v":0},{"$f":"IF(AND(B39=\"YES\",I26>0),C39/K35,0)","v":0}]
["Total",null,null,{"$f":"SUM(D37:D39)","v":0},{"$f":"SUM(E37:E39)","v":0},{"$f":"SUM(F37:F39)","v":0},{"$f":"SUM(G37:G39)","v":0}]
["Current Commitment Tax Deduction"]
[null,"Tax Deductible","Tax Deduction","Applicant 1","Applicant 2","Applicant 3","Applicant 4"]
["Household",null,null,{"$f":"D36","v":0},{"$f":"E36","v":0},{"$f":"F36","v":0},{"$f":"G36","v":0}]
["Commitment 1",{"$f":"Calculator!W104","v":0},{"$f":"IF($B44=\"YES\",(Calculator!$M104*'Tables '!$D$6),0)","v":0},{"$f":"IF(ISBLANK(Calculator!$M$27),\"\",IF($N$1=1,$C44/1,IF($N$1=2,$C44/2,IF($N$1=3,$C44/3,IF($N$1=4,$C44/4,0)))))","v":""},{"$f":"IF(ISBLANK(Calculator!$P$27),\"\",IF($N$1=1,$C$44/1,IF($N$1=2,$C$44/2,IF($N$1=3,$C$44/3,IF($N$1=4,$C$44/4,0)))))","v":""},{"$f":"IF(ISBLANK(Calculator!$T$27),\"\",IF($N$1=1,$C$44/1,IF($N$1=2,$C$44/2,IF($N$1=3,$C$44/3,IF($N$1=4,$C$44/4,0)))))","v":""},{"$f":"IF(ISBLANK(Calculator!$W$27),\"\",IF($N$1=1,$C$44/1,IF($N$1=2,$C$44/2,IF($N$1=3,$C$44/3,IF($N$1=4,$C$44/4,0)))))","v":""}]
["Commitment 2",{"$f":"Calculator!W106","v":0},{"$f":"IF($B45=\"YES\",(Calculator!$M106*'Tables '!$D$6),0)","v":0},{"$f":"IF(ISBLANK(Calculator!$M$27),\"\",IF($N$1=1,$C45/1,IF($N$1=2,$C45/2,IF($N$1=3,$C45/3,IF($N$1=4,$C45/4,0)))))","v":""},{"$f":"IF(ISBLANK(Calculator!$P$27),\"\",IF($N$1=1,$C$45/1,IF($N$1=2,$C$45/2,IF($N$1=3,$C$45/3,IF($N$1=4,$C$45/4,0)))))","v":""},{"$f":"IF(ISBLANK(Calculator!$T$27),\"\",IF($N$1=1,$C$45/1,IF($N$1=2,$C$45/2,IF($N$1=3,$C$45/3,IF($N$1=4,$C$45/4,0)))))","v":""},{"$f":"IF(ISBLANK(Calculator!$W$27),\"\",IF($N$1=1,$C$45/1,IF($N$1=2,$C$45/2,IF($N$1=3,$C$45/3,IF($N$1=4,$C$45/4,0)))))","v":""}]
["Commitment 3",{"$f":"Calculator!W108","v":0},{"$f":"IF($B46=\"YES\",(Calculator!$M108*'Tables '!$D$6),0)","v":0},{"$f":"IF(ISBLANK(Calculator!$M$27),\"\",IF($N$1=1,$C46/1,IF($N$1=2,$C46/2,IF($N$1=3,$C46/3,IF($N$1=4,$C46/4,0)))))","v":""},{"$f":"IF(ISBLANK(Calculator!$P$27),\"\",IF($N$1=1,$C46/1,IF($N$1=2,$C46/2,IF($N$1=3,$C46/3,IF($N$1=4,$C46/4,0)))))","v":""},{"$f":"IF(ISBLANK(Calculator!$T$27),\"\",IF($N$1=1,$C46/1,IF($N$1=2,$C46/2,IF($N$1=3,$C46/3,IF($N$1=4,$C46/4,0)))))","v":""},{"$f":"IF(ISBLANK(Calculator!$W$27),\"\",IF($N$1=1,$C46/1,IF($N$1=2,$C46/2,IF($N$1=3,$C46/3,IF($N$1=4,$C46/4,0)))))","v":""}]
["Commitment 4",{"$f":"Calculator!W110","v":0},{"$f":"IF($B47=\"YES\",(Calculator!$M110*'Tables '!$D$6),0)","v":0},{"$f":"IF(ISBLANK(Calculator!$M$27),\"\",IF($N$1=1,$C47/1,IF($N$1=2,$C47/2,IF($N$1=3,$C47/3,IF($N$1=4,$C47/4,0)))))","v":""},{"$f":"IF(ISBLANK(Calculator!$P$27),\"\",IF($N$1=1,$C47/1,IF($N$1=2,$C47/2,IF($N$1=3,$C47/3,IF($N$1=4,$C47/4,0)))))","v":""},{"$f":"IF(ISBLANK(Calculator!$T$27),\"\",IF($N$1=1,$C47/1,IF($N$1=2,$C47/2,IF($N$1=3,$C47/3,IF($N$1=4,$C47/4,0)))))","v":""},{"$f":"IF(ISBLANK(Calculator!$W$27),\"\",IF($N$1=1,$C47/1,IF($N$1=2,$C47/2,IF($N$1=3,$C47/3,IF($N$1=4,$C47/4,0)))))","v":""}]
["Commitment 5",{"$f":"Calculator!W112","v":0},{"$f":"IF($B48=\"YES\",(Calculator!$M112*'Tables '!$D$6),0)","v":0},{"$f":"IF(ISBLANK(Calculator!$M$27),\"\",IF($N$1=1,$C48/1,IF($N$1=2,$C48/2,IF($N$1=3,$C48/3,IF($N$1=4,$C48/4,0)))))","v":""},{"$f":"IF(ISBLANK(Calculator!$P$27),\"\",IF($N$1=1,$C48/1,IF($N$1=2,$C48/2,IF($N$1=3,$C48/3,IF($N$1=4,$C48/4,0)))))","v":""},{"$f":"IF(ISBLANK(Calculator!$T$27),\"\",IF($N$1=1,$C48/1,IF($N$1=2,$C48/2,IF($N$1=3,$C48/3,IF($N$1=4,$C48/4,0)))))","v":""},{"$f":"IF(ISBLANK(Calculator!$W$27),\"\",IF($N$1=1,$C48/1,IF($N$1=2,$C48/2,IF($N$1=3,$C48/3,IF($N$1=4,$C48/4,0)))))","v":""}]
["Commitment 6",{"$f":"Calculator!W114","v":0},{"$f":"IF($B49=\"YES\",(Calculator!$M114*'Tables '!$D$6),0)","v":0},{"$f":"IF(ISBLANK(Calculator!$M$27),\"\",IF($N$1=1,$C49/1,IF($N$1=2,$C49/2,IF($N$1=3,$C49/3,IF($N$1=4,$C49/4,0)))))","v":""},{"$f":"IF(ISBLANK(Calculator!$P$27),\"\",IF($N$1=1,$C49/1,IF($N$1=2,$C49/2,IF($N$1=3,$C49/3,IF($N$1=4,$C49/4,0)))))","v":""},{"$f":"IF(ISBLANK(Calculator!$T$27),\"\",IF($N$1=1,$C49/1,IF($N$1=2,$C49/2,IF($N$1=3,$C49/3,IF($N$1=4,$C49/4,0)))))","v":""},{"$f":"IF(ISBLANK(Calculator!$W$27),\"\",IF($N$1=1,$C49/1,IF($N$1=2,$C49/2,IF($N$1=3,$C49/3,IF($N$1=4,$C49/4,0)))))","v":""}]
[null,null,null,{"$f":"SUM(D44:D49)","v":0},{"$f":"SUM(E44:E49)","v":0},{"$f":"SUM(F44:F49)","v":0},{"$f":"SUM(G44:G49)","v":0}]
[]
["Household",null,null,{"$f":"IF(ISBLANK(Calculator!M29),\"\",Calculator!M29)","v":""},{"$f":"IF(ISBLANK(Calculator!P29),\"\",Calculator!P29)","v":""},{"$f":"IF(ISBLANK(Calculator!T29),\"\",Calculator!T29)","v":""},{"$f":"IF(ISBLANK(Calculator!W29),\"\",Calculator!W29)","v":""},null,null,"Number of households",{"$f":"SUMPRODUCT((D52:G52<>\"\")/COUNTIF(D52:G52,D52:G52&\"\"))","v":0}]
["Taxable Income",null,null,{"$f":"SUM(C3:C9)+C15+SUM(C20:C23)-D40-D50","v":0},{"$f":"SUM(E3:E9)+D15+SUM(E20:E23)-E40-E50","v":0},{"$f":"SUM(G3:G9)+E15+SUM(G20:G23)-F40-F50","v":0},{"$f":"SUM(I3:I9)+F15+SUM(I20:I23)-G40-G50","v":0}]
["Gross Income",null,null,{"$f":"SUM((SUM(C3:C9))+C15+C26)","v":0},{"$f":"SUM((SUM(E3:E9)-F12)+D15+E26)","v":0},{"$f":"SUM((SUM(G3:G9)-H12)+E15+G26)","v":0},{"$f":"SUM((SUM(I3:I9)+F15+I26))","v":0}]
["Living Expense Income",null,null,{"$f":"SUM((SUM(C3:C10))+C16+C26-D12-C27)","v":0},{"$f":"SUM((SUM(E3:E10))+D16+E26-F12-E27)","v":0},{"$f":"SUM((SUM(G3:G10))+E16+G26-H12-G27)","v":0},{"$f":"SUM((SUM(I3:I10))+F16+I26-J12-I27)","v":0}]
["DTI",null,null,{"$f":"SUM((SUM(C3:C10))+C16+C26)","v":0},{"$f":"SUM((SUM(E3:E10))+D16+E26)","v":0},{"$f":"SUM((SUM(G3:G10))+F16+G26)","v":0},{"$f":"SUM((SUM(I3:I10))+F16+I26)","v":0}]
[]
["Household",1,2,3,4]
["Household Income",{"$f":"SUMIF(D52:G52,B58,D55:G55)","v":0},{"$f":"SUMIF(D52:G52,C58,D55:G55)","v":0},{"$f":"SUMIF(D52:G52,D58,D55:G55)","v":0},{"$f":"SUMIF(D52:G52,E58,D55:G55)","v":0}]
["Couple Validation",{"$f":"IF(D52=\"\",0,IF(OR(ISBLANK(Calculator!M34)),0,IF(Calculator!M34=\"YES\",\"Y\",\"N\")))","v":0},{"$f":"IF(E52=\"\",0,IF(OR(ISBLANK(Calculator!P34)),0,IF(Calculator!P34=\"YES\",\"Y\",\"N\")))","v":0},{"$f":"IF(F52=\"\",0,IF(OR(ISBLANK(Calculator!T34)),0,IF(Calculator!T34=\"YES\",\"Y\",\"N\")))","v":0},{"$f":"IF(G52=\"\",0,IF(OR(ISBLANK(Calculator!W34)),0,IF(Calculator!W34=\"YES\",\"Y\",\"N\")))","v":0}]
["Couple Count",{"$f":"COUNTIFS(Calculator!#REF!,\"Yes\",Calculator!$M$29:$X$29,B58)","v":{"$error":"#REF!"}},{"$f":"COUNTIFS(Calculator!#REF!,\"Yes\",Calculator!$M$29:$X$29,C58)","v":{"$error":"#REF!"}},{"$f":"COUNTIFS(Calculator!#REF!,\"Yes\",Calculator!$M$29:$X$29,D58)","v":{"$error":"#REF!"}},{"$f":"COUNTIFS(Calculator!#REF!,\"Yes\",Calculator!$M$29:$X$29,E58)","v":{"$error":"#REF!"}}]
[null,{"$f":"IF(B61=0,\"\",B61)","v":{"$error":"#REF!"}}]
["Children",{"$f":"Calculator!M38","v":0},{"$f":"Calculator!P38","v":0},{"$f":"Calculator!T38","v":0},{"$f":"Calculator!W38","v":0}]
["Savings Capacity Buffer",{"$f":"IF(K52=0,0,(IF(('Living Exp'!F47<('Living Exp'!F49)),(((Calculator!W137*1)/12)/K52),IF(('Living Exp'!F47>=('Living Exp'!F49+(((Calculator!W137*1)/12)/K52))),0,(('Living Exp'!F49+(((Calculator!W137*1)/12)/K52)-'Living Exp'!F47))))*IF(ISBLANK(Calculator!M34),0,1)+IF(('Living Exp'!H47<('Living Exp'!H49)),(((Calculator!W137*1)/12)/K52),IF(('Living Exp'!H47>=('Living Exp'!H49+(((Calculator!W137*1)/12)/K52))),0,(('Living Exp'!H49+(((Calculator!W137*1)/12)/K52)-'Living Exp'!H47))))*IF(ISBLANK(Calculator!P34),0,1)+IF(('Living Exp'!J47<('Living Exp'!J49)),(((Calculator!W137*1)/12)/K52),IF(('Living Exp'!J47>=('Living Exp'!J49+(((Calculator!W137*1)/12)/K52))),0,(('Living Exp'!J49+(((Calculator!W137*1)/12)/K52)-'Living Exp'!J47))))*IF(ISBLANK(Calculator!T34),0,1)+IF(('Living Exp'!L47<('Living Exp'!L49)),(((Calculator!W137*1)/12)/K52),IF(('Living Exp'!L47>=('Living Exp'!L49+(((Calculator!W137*1)/12)/K52))),0,(('Living Exp'!L49+(((Calculator!W137*1)/12)/K52)-'Living Exp'!L47))))*IF(ISBLANK(Calculator!W34),0,1)))","v":0},null,{"$f":"Calculator!T38","v":0}]
["Applicable Living expenses per month",{"$f":"MAX('Living Exp'!F47,D139)+MAX('Living Exp'!H47,D140)+MAX('Living Exp'!J47,D141)+MAX('Living Exp'!L47,D142)","v":0}]
[]
[]
["Income Tax"]
[null,null,"Income Tax","Medicare Levy","Total Tax","Applicant 1","Applicant 2","Applicant 3","Applicant 4"]
[0,18200,0,0,{"$f":"C70+D70","v":0},{"$f":"IF(AND(D53>='Result Sheet'!A70,D53<='Result Sheet'!B70),D53*'Result Sheet'!E70,0)","v":0},{"$f":"IF(AND(E53>='Result Sheet'!A70,E53<='Result Sheet'!B70),E53*'Result Sheet'!E70,0)","v":0},{"$f":"IF(AND(F53>='Result Sheet'!A70,F53<='Result Sheet'!B70),F53*'Result Sheet'!E70,0)","v":0},{"$f":"IF(AND(G53>='Result Sheet'!A70,G53<='Result Sheet'!B70),G53*'Result Sheet'!E70,0)","v":0}]
[18200.01,22801,0.19,0,{"$f":"C71+D71","v":0.19},{"$f":"IF(AND(D53>='Result Sheet'!A71,D53<='Result Sheet'!B71),(D53-A71)*'Result Sheet'!E71,0)","v":0},{"$f":"IF(AND(E53>='Result Sheet'!A71,E53<='Result Sheet'!B71),(E53-A71)*'Result Sheet'!E71,0)","v":0},{"$f":"IF(AND(F53>='Result Sheet'!A71,F53<='Result Sheet'!B71),(F53-A71)*'Result Sheet'!E71,0)","v":0},{"$f":"IF(AND(G53>='Result Sheet'!A71,G53<='Result Sheet'!B71),(G53-A71)*'Result Sheet'!E71,0)","v":0}]
[22801.01,28501,0.19,0.02,0.29,{"$f":"IF(AND(D53>='Result Sheet'!$A72,D53<='Result Sheet'!$B72),SUM((($B71-A71)*$E71)+(($D53-$A72)*$E72)),0)","v":0},{"$f":"IF(AND(E53>='Result Sheet'!$A72,E53<='Result Sheet'!$B72),SUM((($B71-A71)*$E71)+(($E53-$A72)*$E72)),0)","v":0},{"$f":"IF(AND(F53>='Result Sheet'!$A72,F53<='Result Sheet'!$B72),SUM((($B71-A71)*$E71)+(($F53-$A72)*$E72)),0)","v":0},{"$f":"IF(AND(G53>='Result Sheet'!$A72,G53<='Result Sheet'!$B72),SUM((($B71-A71)*$E71)+(($G53-$A72)*$E72)),0)","v":0}]
[28501.01,45000,0.19,0.02,0.21,{"$f":"IF(AND(D53>='Result Sheet'!$A73,D53<='Result Sheet'!$B73),SUM((($B71-A71)*$E71)+(($B72-A72)*$E72)+((D53-$B72)*$E73)),0)","v":0},{"$f":"IF(AND(E53>='Result Sheet'!$A73,E53<='Result Sheet'!$B73),SUM((($B71-A71)*$E71)+(($B72-A72)*$E72)+((E53-$A73)*$E73)),0)","v":0},{"$f":"IF(AND(F53>='Result Sheet'!$A73,F53<='Result Sheet'!$B73),SUM((($B71-A71)*$E71)+(($B72-A72)*$E72)+((F53-$A73)*$E73)),0)","v":0},{"$f":"IF(AND(G53>='Result Sheet'!$A73,G53<='Result Sheet'!$B73),SUM((($B71-A71)*$E71)+(($B72-A72)*$E72)+((G53-$A73)*$E73)),0)","v":0}]
[45000.01,120000,0.325,0.02,0.345,{"$f":"IF(AND(D53>='Result Sheet'!$A74,D53<='Result Sheet'!$B74),SUM((($B71-A71)*$E71)+(($B72-A72)*$E72)+(($B73-A73)*$E73)+((D53-A74)*$E74),0))","v":false},{"$f":"IF(AND(E53>='Result Sheet'!$A74,E53<='Result Sheet'!$B74),SUM((($B71-A71)*$E71)+(($B72-A72)*$E72)+(($B73-A73)*$E73)+((E53-A74)*$E74),0))","v":false},{"$f":"IF(AND(F53>='Result Sheet'!$A74,F53<='Result Sheet'!$B74),SUM((($B71-A71)*$E71)+(($B72-A72)*$E72)+(($B73-A73)*$E73)+((F53-A74)*$E74),0))","v":false},{"$f":"IF(AND(G53>='Result Sheet'!$A74,G53<='Result Sheet'!$B74),SUM((($B71-A71)*$E71)+(($B72-A72)*$E72)+(($B73-$A73)*$E73)+((G53-A74)*$E74),0))","v":false}]
[120000.01,180000,0.37,0.02,0.39,{"$f":"IF(AND(D53>='Result Sheet'!$A75,D53<='Result Sheet'!$B75),SUM((($B71-A71)*$E71)+(($B72-A72)*$E72)+(($B73-A73)*$E73)+(($B74-A74)*$E74)+((D53-A75)*$E75),0))","v":false},{"$f":"IF(AND(E53>='Result Sheet'!$A75,E53<='Result Sheet'!$B75),SUM((($B71-A71)*$E71)+(($B72-A72)*$E72)+(($B73-A73)*$E73)+(($B74-A74)*$E74)+((E53-A75)*$E75),0))","v":false},{"$f":"IF(AND(F53>='Result Sheet'!$A75,F53<='Result Sheet'!$B75),SUM((($B71-A71)*$E71)+(($B72-A72)*$E72)+(($B73-A73)*$E73)+(($B74-A74)*$E74)+((F53-A75)*$E75),0))","v":false},{"$f":"IF(AND(G53>='Result Sheet'!$A75,G53<='Result Sheet'!$B75),SUM((($B71-A71)*$E71)+(($B72-A72)*$E72)+(($B73-A73)*$E73)+(($B74-A74)*$E74)+((G53-A75)*$E75),0))","v":false}]
[180000.01,999999999,0.45,0.02,0.47,{"$f":"IF(AND(D53>='Result Sheet'!$A76,D53<='Result Sheet'!$B76),SUM((($B71-A71)*$E71)+(($B72-A72)*$E72)+(($B73-A73)*$E73)+(($B74-A74)*$E74)+(($B75-A75)*$E75)+((D53-A76)*$E76),0))","v":false},{"$f":"IF(AND(E53>='Result Sheet'!$A76,E53<='Result Sheet'!$B76),SUM((($B71-A71)*$E71)+(($B72-A72)*$E72)+(($B73-A73)*$E73)+(($B74-A74)*$E74)+(($B75-A75)*$E75)+((E53-A76)*$E76),0))","v":false},{"$f":"IF(AND(F53>='Result Sheet'!$A76,F53<='Result Sheet'!$B76),SUM((($B71-A71)*$E71)+(($B72-A72)*$E72)+(($B73-A73)*$E73)+(($B74-A74)*$E74)+(($B75-A75)*$E75)+((F53-A76)*$E76),0))","v":false},{"$f":"IF(AND(G53>='Result Sheet'!$A76,G53<='Result Sheet'!$B76),SUM((($B71-A71)*$E71)+(($B72-A72)*$E72)+(($B73-A73)*$E73)+(($B74-A74)*$E74)+(($B75-A75)*$E75)+((G53-A76)*$E76),0))","v":false}]
[]
[]
["Low Income Tax Offset"]
[null,null,"Reduction","Applicant 1","Applicant 2","Applicant 3","Applicant 4"]
[0,37500,700,{"$f":"IF(AND(D53>='Result Sheet'!$A81,D53<='Result Sheet'!$B81),$C81,0)","v":700},{"$f":"IF(AND(E53>='Result Sheet'!$A81,E53<='Result Sheet'!$B81),$C81,0)","v":700},{"$f":"IF(AND(F53>='Result Sheet'!$A81,F53<='Result Sheet'!$B81),$C81,0)","v":700},{"$f":"IF(AND(G53>='Result Sheet'!$A81,G53<='Result Sheet'!$B81),$C81,0)","v":700}]
[37501,45000,"$700 minus ((Taxable Income minus $37,500) x 5%))",{"$f":"IF(AND(D53>='Result Sheet'!$A$82,D53<='Result Sheet'!$B$82),SUM(700-(D53-37500)*0.05),0)","v":0},{"$f":"IF(AND(E53>='Result Sheet'!$A$82,E53<='Result Sheet'!$B$82),SUM(700-(E53-37500)*0.05),0)","v":0},{"$f":"IF(AND(F53>='Result Sheet'!$A$82,F53<='Result Sheet'!$B$82),SUM(700-(F53-37500)*0.05),0)","v":0},{"$f":"IF(AND(G53>='Result Sheet'!$A$82,G53<='Result Sheet'!$B$82),SUM(700-(G53-37500)*0.05),0)","v":0}]
[45001,66667,"$325 minus ((Taxable Income minus $45,000) x 1.5%))",{"$f":"IF(AND(D53>='Result Sheet'!$A$83,D53<='Result Sheet'!$B$83),SUM(325-(D53-45000)*0.015),0)","v":0},{"$f":"IF(AND(E53>='Result Sheet'!$A$83,E53<='Result Sheet'!$B$83),SUM(325-(E53-45000)*0.015),0)","v":0},{"$f":"IF(AND(F53>='Result Sheet'!$A$83,F53<='Result Sheet'!$B$83),SUM(325-(F53-45000)*0.015),0)","v":0},{"$f":"IF(AND(G53>='Result Sheet'!$A$83,G53<='Result Sheet'!$B$83),SUM(325-(G53-45000)*0.015),0)","v":0}]
[]
[]
["Low and middle Income Tax Offset"]
[null,null,"Reduction","Applicant 1","Applicant 2","Applicant 3","Applicant 4"]
[0,37000,255]
[37001,48000,"$255 plus 7.5 cents for every dollar above $37,000, up to a maximum of $1,080"]
[48001,90000,1080]
[90001,126000,"$1,080 minus 3 cents for every dollar of the amount above $90,000"]
[]
[]
[null,null,"Total Income Tax","Applicant 1","Applicant 2","Applicant 3","Applicant 4"]
[null,null,"Income Tax",{"$f":"SUM(F70:F76)","v":0},{"$f":"SUM(G70:G76)","v":0},{"$f":"SUM(H70:H76)","v":0},{"$f":"SUM(I70:I76)","v":0}]
[null,null,"Low Income Tax Offset",{"$f":"SUM(D81:D83)","v":700},{"$f":"SUM(E81:E83)","v":700},{"$f":"SUM(F81:F83)","v":700},{"$f":"SUM(G81:G83)","v":700}]
[null,null,"Low and middle income Tax offset",{"$f":"SUM(D88:D91)","v":0},{"$f":"SUM(E88:E91)","v":0},{"$f":"SUM(F88:F91)","v":0},{"$f":"SUM(G88:G91)","v":0}]
[null,null,"Tax Payable",{"$f":"MAX(0,D95-D96-D97)","v":0},{"$f":"MAX(0,E95-E96-E97)","v":0},{"$f":"MAX(0,F95-F96-F97)","v":0},{"$f":"MAX(0,G95-G96-G97)","v":0}]
[]
[null,null,"PAYG Addback",{"$f":"Calculator!M79","v":0},{"$f":"Calculator!P79","v":0},{"$f":"Calculator!T79","v":0},{"$f":"Calculator!W79","v":0}]
[null,null,"SE Addback",{"$f":"'Self Employed'!E49","v":0},{"$f":"'Self Employed'!G49","v":0},{"$f":"'Self Employed'!I49","v":0},{"$f":"'Self Employed'!K49","v":0}]
[null,null,"(Haircut PAYG)",{"$f":"D12","v":0},{"$f":"F12","v":0},{"$f":"H12","v":0},{"$f":"J12","v":0}]
[null,null,"(HaircutRent)",{"$f":"C27","v":0},{"$f":"E27","v":0},{"$f":"G27","v":0},{"$f":"I27","v":0}]
[null,null,"Net Income",{"$f":"D54-D98+D100+D101-D103-D102","v":0},{"$f":"E54-E98+E100+E101-E102-E103","v":0},{"$f":"F54-F98+F100+F101-F102-F103","v":0},{"$f":"G54+G100+G101-G98-G102-G103","v":0}]
[]
[]
[null,null,null,null,null,"Total",{"$f":"SUM(D104:G104)","v":0}]
[null,"YES","NO","Total CC Repayment",null,null,{"$f":"SUM(D99:E99)","v":0}]
["Credit Card Min Repayment",{"$f":"IF(SUM(B110:B114)>=20000,(SUM(B110:B114)-20000)*4%,0)","v":0},{"$f":"SUM(C110:C114)*4%","v":0},{"$f":"SUM(B109:C109)","v":0}]
["Credit Card 1",{"$f":"IF(Calculator!P120=\"YES\",Calculator!M120,0)","v":0},{"$f":"IF(Calculator!P120=\"NO\",Calculator!M120,0)","v":0}]
["Credit Card 2",{"$f":"IF(Calculator!P122=\"YES\",Calculator!M122,0)","v":0},{"$f":"IF(Calculator!P122=\"NO\",Calculator!M122,0)","v":0}]
["Credit Card 3",{"$f":"IF(Calculator!P124=\"YES\",Calculator!M124,0)","v":0},{"$f":"IF(Calculator!P124=\"NO\",Calculator!M124,0)","v":0}]
["Credit Card 4",{"$f":"IF(Calculator!P126=\"YES\",Calculator!M126,0)","v":0},{"$f":"IF(Calculator!P126=\"NO\",Calculator!M126,0)","v":0}]
["Credit Card 5",{"$f":"IF(Calculator!P128=\"YES\",Calculator!M128,0)","v":0},{"$f":"IF(Calculator!P128=\"NO\",Calculator!M128,0)","v":0}]
["Total CC Limit",{"$f":"SUM(B110:C114)","v":0}]
[]
["New Commitment","Type","Key","Interest Rate","Assessment Rate","P&I","IO 1","IO2","IO3","IO4","IO5"]
["Commitment 1",{"$f":"Calculator!E11","v":0},{"$f":"IF(ISNUMBER(SEARCH(\"residential loan p&i\",B118)),1,IF(ISNUMBER(SEARCH(\"Residential Loan IO 1 Year\",B118)),2,IF(ISNUMBER(SEARCH(\"Residential Loan IO 2 Years\",B118)),3,IF(ISNUMBER(SEARCH(\"Residential Loan IO 3 Years\",B118)),4,IF(ISNUMBER(SEARCH(\"Residential Loan IO 4 Years\",B118)),5,IF(ISNUMBER(SEARCH(\"Residential Loan IO 5 Years\",B118)),6,0))))))","v":0},{"$f":"Calculator!R11","v":0},{"$f":"IF(OR(ISBLANK(Calculator!R11)),\"\",IF(D118+'Tables '!D$7>='Tables '!D$8,'Result Sheet'!D118+'Tables '!D$7,'Tables '!D$8))","v":""},{"$f":"IF(C118=1,PMT(E118/12,Calculator!P11,-Calculator!M11),0)","v":0},{"$f":"IF(C118=2,PMT(E118/12,(Calculator!$P$11-12),-Calculator!$M$11),0)","v":0},{"$f":"IF(C118=3,PMT(E118/12,(Calculator!$P$11-24),-Calculator!$M$11),0)","v":0},{"$f":"IF(C118=4,PMT(E118/12,(Calculator!$P$11-36),-Calculator!$M$11),0)","v":0},{"$f":"IF(C118=5,PMT(E118/12,(Calculator!$P$11-48),-Calculator!$M$11),0)","v":0},{"$f":"IF(C118=6,PMT(E118/12,(Calculator!$P$11-60),-Calculator!$M$11),0)","v":0}]
["Commitment 2",{"$f":"Calculator!E13","v":0},{"$f":"IF(ISNUMBER(SEARCH(\"residential loan p&i\",B119)),1,IF(ISNUMBER(SEARCH(\"Residential Loan IO 1 Year\",B119)),2,IF(ISNUMBER(SEARCH(\"Residential Loan IO 2 Years\",B119)),3,IF(ISNUMBER(SEARCH(\"Residential Loan IO 3 Years\",B119)),4,IF(ISNUMBER(SEARCH(\"Residential Loan IO 4 Years\",B119)),5,IF(ISNUMBER(SEARCH(\"Residential Loan IO 5 Years\",B119)),6,0))))))","v":0},{"$f":"Calculator!R13","v":0},{"$f":"IF(OR(ISBLANK(Calculator!R13)),\"\",IF(D119+'Tables '!D$7>='Tables '!D$8,'Result Sheet'!D119+'Tables '!D$7,'Tables '!D$8))","v":""},{"$f":"IF(C119=1,PMT(E119/12,Calculator!P13,-Calculator!M13),0)","v":0},{"$f":"IF(C119=2,PMT(E119/12,(Calculator!$P$13-12),-Calculator!$M$13),0)","v":0},{"$f":"IF(C119=3,PMT(E119/12,(Calculator!$P$13-24),-Calculator!$M$13),0)","v":0},{"$f":"IF(C119=4,PMT(E119/12,(Calculator!$P$13-36),-Calculator!$M$13),0)","v":0},{"$f":"IF(C119=5,PMT(E119/12,(Calculator!$P$13-48),-Calculator!$M$13),0)","v":0},{"$f":"IF(C119=6,PMT(E119/12,(Calculator!$P$13-60),-Calculator!$M$13),0)","v":0}]
["Commitment 3",{"$f":"Calculator!E15","v":0},{"$f":"IF(ISNUMBER(SEARCH(\"residential loan p&i\",B120)),1,IF(ISNUMBER(SEARCH(\"Residential Loan IO 1 Year\",B120)),2,IF(ISNUMBER(SEARCH(\"Residential Loan IO 2 Years\",B120)),3,IF(ISNUMBER(SEARCH(\"Residential Loan IO 3 Years\",B120)),4,IF(ISNUMBER(SEARCH(\"Residential Loan IO 4 Years\",B120)),5,IF(ISNUMBER(SEARCH(\"Residential Loan IO 5 Years\",B120)),6,0))))))","v":0},{"$f":"Calculator!R15","v":0},{"$f":"IF(OR(ISBLANK(Calculator!R15)),\"\",IF(D120+'Tables '!D$7>='Tables '!D$8,'Result Sheet'!D120+'Tables '!D$7,'Tables '!D$8))","v":""},{"$f":"IF(C120=1,PMT(E120/12,Calculator!P15,-Calculator!M15),0)","v":0},{"$f":"IF(C120=2,PMT(E120/12,(Calculator!$P$15-12),-Calculator!$M$15),0)","v":0},{"$f":"IF(C120=3,PMT(E120/12,(Calculator!$P$15-24),-Calculator!$M$15),0)","v":0},{"$f":"IF(C120=4,PMT(E120/12,(Calculator!$P$15-36),-Calculator!$M$15),0)","v":0},{"$f":"IF(C120=5,PMT(E120/12,(Calculator!$P$15-48),-Calculator!$M$15),0)","v":0},{"$f":"IF(C120=6,PMT(E120/12,(Calculator!$P$15-60),-Calculator!$M$15),0)","v":0}]
[null,null,null,null,null,null,null,null,null,null,null,{"$f":"SUM(F118:K120)","v":0}]
["<Actual>"]
["Commitment 1",{"$f":"Calculator!E11","v":0},{"$f":"IF(ISNUMBER(SEARCH(\"residential loan p&i\",B123)),1,IF(ISNUMBER(SEARCH(\"Residential Loan IO 1 Year\",B123)),2,IF(ISNUMBER(SEARCH(\"Residential Loan IO 2 Years\",B123)),3,IF(ISNUMBER(SEARCH(\"Residential Loan IO 3 Years\",B123)),4,IF(ISNUMBER(SEARCH(\"Residential Loan IO 4 Years\",B123)),5,IF(ISNUMBER(SEARCH(\"Residential Loan IO 5 Years\",B123)),6,0))))))","v":0},{"$f":"Calculator!R11","v":0},null,{"$f":"IF(C123=1,PMT(D123/12,Calculator!P11,-Calculator!M11),0)","v":0},{"$f":"IF(C123=2,IPMT(D123/12,1,12,-Calculator!$M$11))","v":false},{"$f":"IF(C123=3,IPMT(D123/12,1,24,-Calculator!$M$11))","v":false},{"$f":"IF(C123=4,IPMT(D123/12,1,12,-Calculator!$M$11))","v":false},{"$f":"IF(C123=5,IPMT(D123/12,1,12,-Calculator!$M$11))","v":false},{"$f":"IF(C123=6,IPMT(D123/12,1,12,-Calculator!$M$11))","v":false}]
["Commitment 2",{"$f":"Calculator!E13","v":0},{"$f":"IF(ISNUMBER(SEARCH(\"residential loan p&i\",B124)),1,IF(ISNUMBER(SEARCH(\"Residential Loan IO 1 Year\",B124)),2,IF(ISNUMBER(SEARCH(\"Residential Loan IO 2 Years\",B124)),3,IF(ISNUMBER(SEARCH(\"Residential Loan IO 3 Years\",B124)),4,IF(ISNUMBER(SEARCH(\"Residential Loan IO 4 Years\",B124)),5,IF(ISNUMBER(SEARCH(\"Residential Loan IO 5 Years\",B124)),6,0))))))","v":0},{"$f":"Calculator!R13","v":0},null,{"$f":"IF(C124=1,PMT(D124/12,Calculator!P13,-Calculator!M13),0)","v":0},{"$f":"IF(C124=2,IPMT(D124/12,1,12,-Calculator!$M$13))","v":false},{"$f":"IF(C124=3,IPMT(D124/12,1,24,-Calculator!$M$13))","v":false},{"$f":"IF(C124=4,IPMT(D124/12,1,12,-Calculator!$M$13))","v":false},{"$f":"IF(C124=5,IPMT(D124/12,1,12,-Calculator!$M$13))","v":false},{"$f":"IF(C124=6,IPMT(D124/12,1,12,-Calculator!$M$13))","v":false}]
["Commitment 3",{"$f":"Calculator!E15","v":0},{"$f":"IF(ISNUMBER(SEARCH(\"residential loan p&i\",B125)),1,IF(ISNUMBER(SEARCH(\"Residential Loan IO 1 Year\",B125)),2,IF(ISNUMBER(SEARCH(\"Residential Loan IO 2 Years\",B125)),3,IF(ISNUMBER(SEARCH(\"Residential Loan IO 3 Years\",B125)),4,IF(ISNUMBER(SEARCH(\"Residential Loan IO 4 Years\",B125)),5,IF(ISNUMBER(SEARCH(\"Residential Loan IO 5 Years\",B125)),6,0))))))","v":0},{"$f":"Calculator!R15","v":0},null,{"$f":"IF(C125=1,PMT(D125/12,Calculator!P15,-Calculator!M15),0)","v":0},{"$f":"IF(C125=2,IPMT(D125/12,1,12,-Calculator!$M$15))","v":false},{"$f":"IF(C125=3,IPMT(D125/12,1,24,-Calculator!$M$15))","v":false},{"$f":"IF(C125=4,IPMT(D125/12,1,12,-Calculator!$M$15))","v":false},{"$f":"IF(C125=5,IPMT(D125/12,1,12,-Calculator!$M$15))","v":false},{"$f":"IF(C125=6,IPMT(D125/12,1,12,-Calculator!$M$15))","v":false},null,null,null,null,null,{"$f":"IF(AND(F129=1,Calculator!P104<1),PMT('Tables '!$D$8/12,300,-Calculator!M104),IF(AND(F129=2,Calculator!P104<1),PMT('Tables '!$D$8/12,300,-Calculator!M104),IF(AND(F129=5,Calculator!P104<1),PMT('Tables '!$D$8/12,300,-Calculator!M104),0)))","v":0}]
[null,null,null,null,null,null,null,null,null,null,null,{"$f":"SUM(F123:K125)","v":0}]
[]
["Existing Commitment","Type","Key","Limit","Repayment","Key 2","P&I","IO","Secured","Unsecured","LoC","Child Maint","Boarding","HECS","Other","Default","Total",null,null,"Metric:"]
["Commitment 1",{"$f":"Calculator!H104","v":0},{"$f":"IF(ISNUMBER(SEARCH(\"residential loan p&i\",B129)),1,IF(ISNUMBER(SEARCH(\"residential loan IO\",B129)),1,IF(ISNUMBER(SEARCH(\"line of credit\",B129)),1,0)))","v":0},{"$f":"Calculator!M104","v":0},{"$f":"Calculator!T104","v":0},{"$f":"IF(ISNUMBER(SEARCH(\"residential loan p&i\",B129)),1,IF(ISNUMBER(SEARCH(\"residential loan IO\",B129)),2,IF(ISNUMBER(SEARCH(\"Secured Personal Loan\",B129)),3,IF(ISNUMBER(SEARCH(\"unsecured personal loan\",B129)),4,IF(ISNUMBER(SEARCH(\"Line of Credit\",B129)),5,IF(ISNUMBER(SEARCH(\"Child Maintenance\",B129)),6,IF(ISNUMBER(SEARCH(\"Board/Rental Commitment\",B129)),7,IF(ISNUMBER(SEARCH(\"HECS/HELP\",B129)),8,IF(ISNUMBER(SEARCH(\"OTHER\",B129)),9,0)))))))))","v":0},{"$f":"IF(AND(F129=1,Calculator!P104>0),IF(AND((Calculator!R104+'Tables '!D7)>'Tables '!$D$8,Calculator!R104>0),PMT((Calculator!R104+'Tables '!D7)/12,Calculator!P104,-Calculator!M104),PMT('Tables '!$D$8/12,Calculator!P104,-Calculator!M104)),0)","v":0},{"$f":"IF(AND(F129=2,Calculator!P104>0),IF(AND((Calculator!R104+'Tables '!D7)>'Tables '!$D$8,Calculator!R104>0),PMT((Calculator!R104+'Tables '!D7)/12,Calculator!P104,-Calculator!M104),PMT('Tables '!$D$8/12,Calculator!P104,-Calculator!M104)),0)","v":0},{"$f":"IF(F129=3,E129,0)","v":0},{"$f":"IF(F129=4,E129,0)","v":0},{"$f":"IF(AND(F129=5,Calculator!P104>0),IF(AND((Calculator!R104+'Tables '!D7)>'Tables '!$D$8,Calculator!R104>0),PMT((Calculator!R104+'Tables '!D7)/12,Calculator!P104,-Calculator!M104),PMT('Tables '!$D$8/12,Calculator!P104,-Calculator!M104)),IF(F129=5,IF(AND((Calculator!R104+'Tables '!D7)>'Tables '!$D$8,Calculator!R104>0),PMT((Calculator!R104+'Tables '!D7)/12,(25*12),-Calculator!M104),PMT('Tables '!$D$8/12,(25*12),-Calculator!M104))))","v":false},{"$f":"IF(F129=6,E129,0)","v":0},{"$f":"IF(F129=7,E129,0)","v":0},{"$f":"IF(F129=8,E129,0)","v":0},{"$f":"IF(F129=9,E129,0)","v":0},{"$f":"IF(AND(F129=1,Calculator!P104<1),PMT('Tables '!$D$10/12,300,-Calculator!M104),IF(AND(F129=2,Calculator!P104<1),PMT('Tables '!$D$10/12,300,-Calculator!M104),IF(AND(F129=5,Calculator!P104<1),PMT('Tables '!$D$10/12,300,-Calculator!M104),0)))","v":0},{"$f":"(SUM(G129:P129))","v":0},null,null,"P&I and IO facilities where the remaining term is known, the sensitised repayment will be Sensitised Interest Rate on the (Principal Balance) over the Remaining Loan Term on a P&I basis. No calculation will be available for these facilities where the remaining term is unknown. "]
["Commitment 2",{"$f":"Calculator!H106","v":0},0,{"$f":"Calculator!M106","v":0},{"$f":"Calculator!T106","v":0},{"$f":"IF(ISNUMBER(SEARCH(\"residential loan p&i\",B130)),1,IF(ISNUMBER(SEARCH(\"residential loan IO\",B130)),2,IF(ISNUMBER(SEARCH(\"Secured Personal Loan\",B130)),3,IF(ISNUMBER(SEARCH(\"unsecured personal loan\",B130)),4,IF(ISNUMBER(SEARCH(\"Line of Credit\",B130)),5,IF(ISNUMBER(SEARCH(\"Child Maintenance\",B130)),6,IF(ISNUMBER(SEARCH(\"Board/Rental Commitment\",B130)),7,IF(ISNUMBER(SEARCH(\"HECS/HELP\",B130)),8,IF(ISNUMBER(SEARCH(\"OTHER\",B130)),9,0)))))))))","v":0},{"$f":"IF(AND(F130=1,Calculator!P106>0),IF(AND((Calculator!R106+'Tables '!D7)>'Tables '!$D$8,Calculator!R106>0),PMT((Calculator!R106+'Tables '!D7)/12,Calculator!P106,-Calculator!M106),PMT('Tables '!$D$8/12,Calculator!P106,-Calculator!M106)),0)","v":0},{"$f":"IF(AND(F130=2,Calculator!P106>0),IF(AND((Calculator!R106+'Tables '!D7)>'Tables '!$D$8,Calculator!R106>0),PMT((Calculator!R106+'Tables '!D7)/12,Calculator!P106,-Calculator!M106),PMT('Tables '!$D$8/12,Calculator!P106,-Calculator!M106)),0)","v":0},0,{"$f":"IF(F130=4,E130,0)","v":0},{"$f":"IF(AND(F130=5,Calculator!P106>0),IF(AND((Calculator!R106+'Tables '!D7)>'Tables '!$D$8,Calculator!R106>0),PMT((Calculator!R106+'Tables '!D7)/12,Calculator!P106,-Calculator!M106),PMT('Tables '!$D$8/12,Calculator!P106,-Calculator!M106)),IF(F130=5,IF(AND((Calculator!R106+'Tables '!D7)>'Tables '!$D$8,Calculator!R106>0),PMT((Calculator!R106+'Tables '!D7)/12,(25*12),-Calculator!M106),PMT('Tables '!$D$8/12,(25*12),-Calculator!M106))))","v":false},0,{"$f":"IF(F130=7,E130,0)","v":0},0,{"$f":"IF(F130=9,E130,0)","v":0},{"$f":"IF(AND(F130=1,Calculator!P106<1),PMT('Tables '!$D$10/12,300,-Calculator!M106),IF(AND(F130=2,Calculator!P106<1),PMT('Tables '!$D$10/12,300,-Calculator!M106),IF(AND(F130=5,Calculator!P106<1),PMT('Tables '!$D$10/12,300,-Calculator!M106),0)))","v":0},{"$f":"(SUM(G130:P130))","v":0},null,null,"LOC facilities where the remaining term is known, will be Sensitised Interest Rate on the (Principal Balance) over the Remaining Loan Term on a P&I basis "]
["Commitment 3",{"$f":"Calculator!H108","v":0},0,{"$f":"Calculator!M108","v":0},{"$f":"Calculator!T108","v":0},0,{"$f":"IF(AND(F131=1,Calculator!P108>0),IF(AND((Calculator!R108+'Tables '!D7)>'Tables '!$D$8,Calculator!R108>0),PMT((Calculator!R108+'Tables '!D7)/12,Calculator!P108,-Calculator!M108),PMT('Tables '!$D$8/12,Calculator!P108,-Calculator!M108)),0)","v":0},{"$f":"IF(AND(F131=2,Calculator!P108>0),IF(AND((Calculator!R108+'Tables '!D7)>'Tables '!$D$8,Calculator!R108>0),PMT((Calculator!R108+'Tables '!D7)/12,Calculator!P108,-Calculator!M108),PMT('Tables '!$D$8/12,Calculator!P108,-Calculator!M108)),0)","v":0},0,{"$f":"IF(F131=4,E131,0)","v":0},{"$f":"IF(AND(F131=5,Calculator!P108>0),IF(AND((Calculator!R108+'Tables '!D7)>'Tables '!$D$8,Calculator!R108>0),PMT((Calculator!R108+'Tables '!D7)/12,Calculator!P108,-Calculator!M108),PMT('Tables '!$D$8/12,Calculator!P108,-Calculator!M108)),IF(F131=5,IF(AND((Calculator!R108+'Tables '!D7)>'Tables '!$D$8,Calculator!R108>0),PMT((Calculator!R108+'Tables '!D7)/12,(25*12),-Calculator!M108),PMT('Tables '!$D$8/12,(25*12),-Calculator!M108))))","v":false},0,0,0,0,{"$f":"IF(AND(F131=1,Calculator!P108<1),PMT('Tables '!$D$10/12,300,-Calculator!M108),IF(AND(F131=2,Calculator!P108<1),PMT('Tables '!$D$10/12,300,-Calculator!M108),IF(AND(F131=5,Calculator!P108<1),PMT('Tables '!$D$10/12,300,-Calculator!M108),0)))","v":0},0,null,null,"Where the remaining term is unknown the LOC facilities will be the Sensitised Interest Rate on the (Principal Balance) over the default LOC P&I term (25 years)."]
["Commitment 4",{"$f":"Calculator!H110","v":0},0,{"$f":"Calculator!M110","v":0},{"$f":"Calculator!T110","v":0},0,{"$f":"IF(AND(F132=1,Calculator!P110>0),IF(AND((Calculator!R110+'Tables '!D8)>'Tables '!$D$8,Calculator!R110>0),PMT((Calculator!R110+'Tables '!D8)/12,Calculator!P110,-Calculator!M110),PMT('Tables '!$D$8/12,Calculator!P110,-Calculator!M110)),0)","v":0},{"$f":"IF(AND(F132=2,Calculator!P110>0),IF(AND((Calculator!R110+'Tables '!D8)>'Tables '!$D$8,Calculator!R110>0),PMT((Calculator!R110+'Tables '!D8)/12,Calculator!P110,-Calculator!M110),PMT('Tables '!$D$8/12,Calculator!P110,-Calculator!M110)),0)","v":0},0,{"$f":"IF(F132=4,E132,0)","v":0},{"$f":"IF(AND(F132=5,Calculator!P110>0),IF(AND((Calculator!R110+'Tables '!D8)>'Tables '!$D$8,Calculator!R110>0),PMT((Calculator!R110+'Tables '!D8)/12,Calculator!P110,-Calculator!M110),PMT('Tables '!$D$8/12,Calculator!P110,-Calculator!M110)),IF(F132=5,IF(AND((Calculator!R110+'Tables '!D8)>'Tables '!$D$8,Calculator!R110>0),PMT((Calculator!R110+'Tables '!D8)/12,(25*12),-Calculator!M110),PMT('Tables '!$D$8/12,(25*12),-Calculator!M110))))","v":false},0,0,0,0,{"$f":"IF(AND(F132=1,Calculator!P110<1),PMT('Tables '!$D$10/12,300,-Calculator!M110),IF(AND(F132=2,Calculator!P110<1),PMT('Tables '!$D$10/12,300,-Calculator!M110),IF(AND(F132=5,Calculator!P110<1),PMT('Tables '!$D$10/12,300,-Calculator!M110),0)))","v":0},0]
["Commitment 5",{"$f":"Calculator!H112","v":0},0,{"$f":"Calculator!M112","v":0},{"$f":"Calculator!T112","v":0},0,{"$f":"IF(AND(F133=1,Calculator!P112>0),IF(AND((Calculator!R112+'Tables '!D9)>'Tables '!$D$8,Calculator!R112>0),PMT((Calculator!R112+'Tables '!D9)/12,Calculator!P112,-Calculator!M112),PMT('Tables '!$D$8/12,Calculator!P112,-Calculator!M112)),0)","v":0},{"$f":"IF(AND(F133=2,Calculator!P112>0),IF(AND((Calculator!R112+'Tables '!D9)>'Tables '!$D$8,Calculator!R112>0),PMT((Calculator!R112+'Tables '!D9)/12,Calculator!P112,-Calculator!M112),PMT('Tables '!$D$8/12,Calculator!P112,-Calculator!M112)),0)","v":0},0,0,{"$f":"IF(AND(F133=5,Calculator!P112>0),IF(AND((Calculator!R112+'Tables '!D9)>'Tables '!$D$8,Calculator!R112>0),PMT((Calculator!R112+'Tables '!D9)/12,Calculator!P112,-Calculator!M112),PMT('Tables '!$D$8/12,Calculator!P112,-Calculator!M112)),IF(F133=5,IF(AND((Calculator!R112+'Tables '!D9)>'Tables '!$D$8,Calculator!R112>0),PMT((Calculator!R112+'Tables '!D9)/12,(25*12),-Calculator!M112),PMT('Tables '!$D$8/12,(25*12),-Calculator!M112))))","v":false},0,0,0,0,{"$f":"IF(AND(F133=1,Calculator!P112<1),PMT('Tables '!$D$10/12,300,-Calculator!M112),IF(AND(F133=2,Calculator!P112<1),PMT('Tables '!$D$10/12,300,-Calculator!M112),IF(AND(F133=5,Calculator!P112<1),PMT('Tables '!$D$10/12,300,-Calculator!M112),0)))","v":0},0]
["Commitment 6",{"$f":"Calculator!H114","v":0},0,{"$f":"Calculator!M114","v":0},{"$f":"Calculator!T114","v":0},0,{"$f":"IF(AND(F134=1,Calculator!P114>0),IF(AND((Calculator!R114+'Tables '!D10)>'Tables '!$D$8,Calculator!R114>0),PMT((Calculator!R114+'Tables '!D10)/12,Calculator!P114,-Calculator!M114),PMT('Tables '!$D$8/12,Calculator!P114,-Calculator!M114)),0)","v":0},{"$f":"IF(AND(F134=2,Calculator!P114>0),IF(AND((Calculator!R114+'Tables '!D10)>'Tables '!$D$8,Calculator!R114>0),PMT((Calculator!R114+'Tables '!D10)/12,Calculator!P114,-Calculator!M114),PMT('Tables '!$D$8/12,Calculator!P114,-Calculator!M114)),0)","v":0},0,0,{"$f":"IF(AND(F134=5,Calculator!P114>0),IF(AND((Calculator!R114+'Tables '!D10)>'Tables '!$D$8,Calculator!R114>0),PMT((Calculator!R114+'Tables '!D10)/12,Calculator!P114,-Calculator!M114),PMT('Tables '!$D$8/12,Calculator!P114,-Calculator!M114)),IF(F134=5,IF(AND((Calculator!R114+'Tables '!D10)>'Tables '!$D$8,Calculator!R114>0),PMT((Calculator!R114+'Tables '!D10)/12,(25*12),-Calculator!M114),PMT('Tables '!$D$8/12,(25*12),-Calculator!M114))))","v":false},0,0,0,0,{"$f":"IF(AND(F134=1,Calculator!P114<1),PMT('Tables '!$D$10/12,300,-Calculator!M114),IF(AND(F134=2,Calculator!P114<1),PMT('Tables '!$D$10/12,300,-Calculator!M114),IF(AND(F134=5,Calculator!P114<1),PMT('Tables '!$D$10/12,300,-Calculator!M114),0)))","v":0},0]
[null,null,null,"Total if '1'",{"$f":"SUMIF(C129:C134,1,E129:E134)","v":0},null,null,null,null,null,null,null,null,null,null,null,{"$f":"SUM(Q129:Q134)","v":0}]
[null,null,null,null,null,null,null,{"$f":"IF(F130=2,-PMT('Tables '!D8/12,25*12,'Result Sheet'!D130),\"\")","v":""},null,null,null,null,null,null,null,null,null,null,null,"Sensitised Interest Rates"]
[null,null,null,null,null,null,null,{"$f":"IPMT(D123/12,1,36,-Calculator!$M$11)","v":0}]
["Living Expenses Income",null,null,"HEM + Disc Expenses",null,null,null,null,null,null,null,null,null,null,null,null,null,null,null,"Sensitised Interest Rates on all existing residential mortgage facilities (IO, LOC, P&I) will be as follows: "]
["Household 1",{"$f":"SUMIF(D52:G52,1,D53:G53)","v":0},null,{"$f":"HEM!$K17+'Living Exp'!F31+'Living Exp'!F33+'Living Exp'!F35+'Living Exp'!F37+'Living Exp'!F41+'Living Exp'!F43","v":0},null,null,null,null,null,null,null,null,null,null,null,null,null,null,null,"Where the contracted rate is known this will be the greater of Interest Floor Rate (5.25%) or the Contractual Interest Rate + Interest Rate Buffer (2.5%)."]
["Household 2",{"$f":"SUMIF(D52:G52,2,D53:G53)","v":0},null,{"$f":"HEM!$K24+'Living Exp'!H31+'Living Exp'!H33+'Living Exp'!H35+'Living Exp'!H37+'Living Exp'!H41+'Living Exp'!H43","v":0},null,null,null,null,null,null,null,null,null,null,null,null,null,null,null,"Where the contracted rate is not known this will be the greater of Interest Floor Rate (5.25%) or the Proxy Interest rate (3.78) + Interest Rate Buffer (2.5%)."]
["Household 3",{"$f":"SUMIF(D52:G52,3,D53:G53)","v":0},null,{"$f":"HEM!$K31+'Living Exp'!J31+'Living Exp'!J33+'Living Exp'!J35+'Living Exp'!J37+'Living Exp'!J41+'Living Exp'!J43","v":0}]
["Household 4",{"$f":"SUMIF(D52:G52,4,D53:G53)","v":0},null,{"$f":"HEM!$K38+'Living Exp'!L31+'Living Exp'!L33+'Living Exp'!L35+'Living Exp'!L37+'Living Exp'!L41+'Living Exp'!L43","v":0}]
[]
["Mortgag Repayment to Income","Applicant 1","Applicant 2","Applicant 3","Applicant 4"]
["Gross Income",{"$f":"D54","v":0},{"$f":"E54","v":0},{"$f":"F54","v":0},{"$f":"G54","v":0}]
["PAYG Addback",{"$f":"D100","v":0},{"$f":"E100","v":0},0,0]
["SE Addback",{"$f":"D101","v":0},{"$f":"E101","v":0},0,0]
["(Haircut PAYG)",{"$f":"D12","v":0},{"$f":"F12","v":0},{"$f":"H12","v":0},{"$f":"J12","v":0}]
["(Haircut Rent)",{"$f":"D103","v":0},{"$f":"E103","v":0},{"$f":"F103","v":0},{"$f":"G103","v":0}]
["Total",{"$f":"B145+B146+B147-B148-B149","v":0},{"$f":"C145+C146+C147-C148-C149","v":0},{"$f":"D145+D146+D147-D148-D149","v":0},{"$f":"E145+E146+E147-E148-E149","v":0}]
["Total all applicants per month",{"$f":"SUM(B150:E150)/12","v":0}]
[]
["Serviceabilty Ratio",{"$f":"IFERROR(SUM(('Result Sheet'!G107/12)-B65-'Result Sheet'!B64)/(Calculator!W135+'Result Sheet'!Q135+'Result Sheet'!D109),\"\")","v":""}]

{"sheet":"Postcode","index":7,"n_rows":1484,"n_cols":10,"rows_kept":1484,"cut":false,"hidden":true,"merged":[]}
["Residential Security Locations"]
["Postcode","Category",0.7,0.8,0.9,0.95]
[2000,1,{"$f":"IF($B3=1,VLOOKUP(C$2,Table1[],3,0),IF($B3=2,VLOOKUP(C$2,Table1[],4,0),IF($B3=3,VLOOKUP(C$2,Table1[],5,0),IF($B3=4,VLOOKUP(C$2,Table1[],5,0),0))))","v":2000000},{"$f":"IF($B3=1,VLOOKUP(D$2,Table1[],3,0),IF($B3=2,VLOOKUP(D$2,Table1[],4,0),IF($B3=3,VLOOKUP(D$2,Table1[],5,0),IF($B3=4,VLOOKUP(D$2,Table1[],5,0),0))))","v":2000000},{"$f":"IF($B3=1,VLOOKUP(E$2,Table1[],3,0),IF($B3=2,VLOOKUP(E$2,Table1[],4,0),IF($B3=3,VLOOKUP(E$2,Table1[],5,0),IF($B3=4,VLOOKUP(E$2,Table1[],5,0),0))))","v":1500000},{"$f":"IF($B3=1,VLOOKUP(F$2,Table1[],3,0),IF($B3=2,VLOOKUP(F$2,Table1[],4,0),IF($B3=3,VLOOKUP(F$2,Table1[],5,0),IF($B3=4,VLOOKUP(F$2,Table1[],5,0),0))))","v":800000},null,"Enter Postcode",{"$f":"Calculator!M19","v":0}]
[2007,1,{"$f":"IF($B4=1,VLOOKUP(C$2,Table1[],3,0),IF($B4=2,VLOOKUP(C$2,Table1[],4,0),IF($B4=3,VLOOKUP(C$2,Table1[],5,0),IF($B4=4,VLOOKUP(C$2,Table1[],5,0),0))))","v":2000000},{"$f":"IF($B4=1,VLOOKUP(D$2,Table1[],3,0),IF($B4=2,VLOOKUP(D$2,Table1[],4,0),IF($B4=3,VLOOKUP(D$2,Table1[],5,0),IF($B4=4,VLOOKUP(D$2,Table1[],5,0),0))))","v":2000000},{"$f":"IF($B4=1,VLOOKUP(E$2,Table1[],3,0),IF($B4=2,VLOOKUP(E$2,Table1[],4,0),IF($B4=3,VLOOKUP(E$2,Table1[],5,0),IF($B4=4,VLOOKUP(E$2,Table1[],5,0),0))))","v":1500000},{"$f":"IF($B4=1,VLOOKUP(F$2,Table1[],3,0),IF($B4=2,VLOOKUP(F$2,Table1[],4,0),IF($B4=3,VLOOKUP(F$2,Table1[],5,0),IF($B4=4,VLOOKUP(F$2,Table1[],5,0),0))))","v":800000},null,"Enter LVR",{"$f":"Calculator!W17","v":""}]
[2008,1,{"$f":"IF($B5=1,VLOOKUP(C$2,Table1[],3,0),IF($B5=2,VLOOKUP(C$2,Table1[],4,0),IF($B5=3,VLOOKUP(C$2,Table1[],5,0),IF($B5=4,VLOOKUP(C$2,Table1[],5,0),0))))","v":2000000},{"$f":"IF($B5=1,VLOOKUP(D$2,Table1[],3,0),IF($B5=2,VLOOKUP(D$2,Table1[],4,0),IF($B5=3,VLOOKUP(D$2,Table1[],5,0),IF($B5=4,VLOOKUP(D$2,Table1[],5,0),0))))","v":2000000},{"$f":"IF($B5=1,VLOOKUP(E$2,Table1[],3,0),IF($B5=2,VLOOKUP(E$2,Table1[],4,0),IF($B5=3,VLOOKUP(E$2,Table1[],5,0),IF($B5=4,VLOOKUP(E$2,Table1[],5,0),0))))","v":1500000},{"$f":"IF($B5=1,VLOOKUP(F$2,Table1[],3,0),IF($B5=2,VLOOKUP(F$2,Table1[],4,0),IF($B5=3,VLOOKUP(F$2,Table1[],5,0),IF($B5=4,VLOOKUP(F$2,Table1[],5,0),0))))","v":800000},null,"Enter Loan Amount",{"$f":"Calculator!M17","v":0}]
[2009,1,{"$f":"IF($B6=1,VLOOKUP(C$2,Table1[],3,0),IF($B6=2,VLOOKUP(C$2,Table1[],4,0),IF($B6=3,VLOOKUP(C$2,Table1[],5,0),IF($B6=4,VLOOKUP(C$2,Table1[],5,0),0))))","v":2000000},{"$f":"IF($B6=1,VLOOKUP(D$2,Table1[],3,0),IF($B6=2,VLOOKUP(D$2,Table1[],4,0),IF($B6=3,VLOOKUP(D$2,Table1[],5,0),IF($B6=4,VLOOKUP(D$2,Table1[],5,0),0))))","v":2000000},{"$f":"IF($B6=1,VLOOKUP(E$2,Table1[],3,0),IF($B6=2,VLOOKUP(E$2,Table1[],4,0),IF($B6=3,VLOOKUP(E$2,Table1[],5,0),IF($B6=4,VLOOKUP(E$2,Table1[],5,0),0))))","v":1500000},{"$f":"IF($B6=1,VLOOKUP(F$2,Table1[],3,0),IF($B6=2,VLOOKUP(F$2,Table1[],4,0),IF($B6=3,VLOOKUP(F$2,Table1[],5,0),IF($B6=4,VLOOKUP(F$2,Table1[],5,0),0))))","v":800000}]
[2010,1,{"$f":"IF($B7=1,VLOOKUP(C$2,Table1[],3,0),IF($B7=2,VLOOKUP(C$2,Table1[],4,0),IF($B7=3,VLOOKUP(C$2,Table1[],5,0),IF($B7=4,VLOOKUP(C$2,Table1[],5,0),0))))","v":2000000},{"$f":"IF($B7=1,VLOOKUP(D$2,Table1[],3,0),IF($B7=2,VLOOKUP(D$2,Table1[],4,0),IF($B7=3,VLOOKUP(D$2,Table1[],5,0),IF($B7=4,VLOOKUP(D$2,Table1[],5,0),0))))","v":2000000},{"$f":"IF($B7=1,VLOOKUP(E$2,Table1[],3,0),IF($B7=2,VLOOKUP(E$2,Table1[],4,0),IF($B7=3,VLOOKUP(E$2,Table1[],5,0),IF($B7=4,VLOOKUP(E$2,Table1[],5,0),0))))","v":1500000},{"$f":"IF($B7=1,VLOOKUP(F$2,Table1[],3,0),IF($B7=2,VLOOKUP(F$2,Table1[],4,0),IF($B7=3,VLOOKUP(F$2,Table1[],5,0),IF($B7=4,VLOOKUP(F$2,Table1[],5,0),0))))","v":800000},null,0.7,{"$f":"IF(ISERROR(VLOOKUP($I$3,$A$3:$F$1484,3,0)),\"-\",VLOOKUP($I$3,$A$3:$F$1484,3,0))","v":"-"},{"$f":"IF(AND(I7<>\"-\",I7<>\"N/A\"),IF(AND($I$4<=70%,$I$5<=I7),1,0),0)","v":0}]
[2011,1,{"$f":"IF($B8=1,VLOOKUP(C$2,Table1[],3,0),IF($B8=2,VLOOKUP(C$2,Table1[],4,0),IF($B8=3,VLOOKUP(C$2,Table1[],5,0),IF($B8=4,VLOOKUP(C$2,Table1[],5,0),0))))","v":2000000},{"$f":"IF($B8=1,VLOOKUP(D$2,Table1[],3,0),IF($B8=2,VLOOKUP(D$2,Table1[],4,0),IF($B8=3,VLOOKUP(D$2,Table1[],5,0),IF($B8=4,VLOOKUP(D$2,Table1[],5,0),0))))","v":2000000},{"$f":"IF($B8=1,VLOOKUP(E$2,Table1[],3,0),IF($B8=2,VLOOKUP(E$2,Table1[],4,0),IF($B8=3,VLOOKUP(E$2,Table1[],5,0),IF($B8=4,VLOOKUP(E$2,Table1[],5,0),0))))","v":1500000},{"$f":"IF($B8=1,VLOOKUP(F$2,Table1[],3,0),IF($B8=2,VLOOKUP(F$2,Table1[],4,0),IF($B8=3,VLOOKUP(F$2,Table1[],5,0),IF($B8=4,VLOOKUP(F$2,Table1[],5,0),0))))","v":800000},null,0.8,{"$f":"IF(ISERROR(VLOOKUP($I$3,$A$3:$F$1484,4,0)),\"-\",VLOOKUP($I$3,$A$3:$F$1484,4,0))","v":"-"},{"$f":"IF(AND(I8<>\"-\",I8<>\"N/A\"),IF(AND($I$4>=70.01%,$I$4<=80%),IF($I$5<=$I8,1,0),0),0)","v":0}]
[2015,1,{"$f":"IF($B9=1,VLOOKUP(C$2,Table1[],3,0),IF($B9=2,VLOOKUP(C$2,Table1[],4,0),IF($B9=3,VLOOKUP(C$2,Table1[],5,0),IF($B9=4,VLOOKUP(C$2,Table1[],5,0),0))))","v":2000000},{"$f":"IF($B9=1,VLOOKUP(D$2,Table1[],3,0),IF($B9=2,VLOOKUP(D$2,Table1[],4,0),IF($B9=3,VLOOKUP(D$2,Table1[],5,0),IF($B9=4,VLOOKUP(D$2,Table1[],5,0),0))))","v":2000000},{"$f":"IF($B9=1,VLOOKUP(E$2,Table1[],3,0),IF($B9=2,VLOOKUP(E$2,Table1[],4,0),IF($B9=3,VLOOKUP(E$2,Table1[],5,0),IF($B9=4,VLOOKUP(E$2,Table1[],5,0),0))))","v":1500000},{"$f":"IF($B9=1,VLOOKUP(F$2,Table1[],3,0),IF($B9=2,VLOOKUP(F$2,Table1[],4,0),IF($B9=3,VLOOKUP(F$2,Table1[],5,0),IF($B9=4,VLOOKUP(F$2,Table1[],5,0),0))))","v":800000},null,0.9,{"$f":"IF(ISERROR(VLOOKUP($I$3,$A$3:$F$1484,5,0)),\"-\",VLOOKUP($I$3,$A$3:$F$1484,5,0))","v":"-"},{"$f":"IF(AND(I9<>\"-\",I9<>\"N/A\"),IF(AND($I$4>=80.01%,$I$4<=90%),IF($I$5<=$I9,1,0),0),0)","v":0}]
[2016,1,{"$f":"IF($B10=1,VLOOKUP(C$2,Table1[],3,0),IF($B10=2,VLOOKUP(C$2,Table1[],4,0),IF($B10=3,VLOOKUP(C$2,Table1[],5,0),IF($B10=4,VLOOKUP(C$2,Table1[],5,0),0))))","v":2000000},{"$f":"IF($B10=1,VLOOKUP(D$2,Table1[],3,0),IF($B10=2,VLOOKUP(D$2,Table1[],4,0),IF($B10=3,VLOOKUP(D$2,Table1[],5,0),IF($B10=4,VLOOKUP(D$2,Table1[],5,0),0))))","v":2000000},{"$f":"IF($B10=1,VLOOKUP(E$2,Table1[],3,0),IF($B10=2,VLOOKUP(E$2,Table1[],4,0),IF($B10=3,VLOOKUP(E$2,Table1[],5,0),IF($B10=4,VLOOKUP(E$2,Table1[],5,0),0))))","v":1500000},{"$f":"IF($B10=1,VLOOKUP(F$2,Table1[],3,0),IF($B10=2,VLOOKUP(F$2,Table1[],4,0),IF($B10=3,VLOOKUP(F$2,Table1[],5,0),IF($B10=4,VLOOKUP(F$2,Table1[],5,0),0))))","v":800000},null,0.95,{"$f":"IF(ISERROR(VLOOKUP($I$3,$A$3:$F$1484,6,0)),\"-\",VLOOKUP($I$3,$A$3:$F$1484,6,0))","v":"-"},{"$f":"IF(AND(I10<>\"-\",I10<>\"N/A\"),IF(AND($I$4>=90.01%,$I$4<=95%),IF($I$5<=$I10,1,0),0),0)","v":0}]
[2017,1,{"$f":"IF($B11=1,VLOOKUP(C$2,Table1[],3,0),IF($B11=2,VLOOKUP(C$2,Table1[],4,0),IF($B11=3,VLOOKUP(C$2,Table1[],5,0),IF($B11=4,VLOOKUP(C$2,Table1[],5,0),0))))","v":2000000},{"$f":"IF($B11=1,VLOOKUP(D$2,Table1[],3,0),IF($B11=2,VLOOKUP(D$2,Table1[],4,0),IF($B11=3,VLOOKUP(D$2,Table1[],5,0),IF($B11=4,VLOOKUP(D$2,Table1[],5,0),0))))","v":2000000},{"$f":"IF($B11=1,VLOOKUP(E$2,Table1[],3,0),IF($B11=2,VLOOKUP(E$2,Table1[],4,0),IF($B11=3,VLOOKUP(E$2,Table1[],5,0),IF($B11=4,VLOOKUP(E$2,Table1[],5,0),0))))","v":1500000},{"$f":"IF($B11=1,VLOOKUP(F$2,Table1[],3,0),IF($B11=2,VLOOKUP(F$2,Table1[],4,0),IF($B11=3,VLOOKUP(F$2,Table1[],5,0),IF($B11=4,VLOOKUP(F$2,Table1[],5,0),0))))","v":800000},null,"Result",{"$f":"IF(MAX(J7:J10)=1,\"Pass\",\"Refer\")","v":"Refer"}]
[2018,1,{"$f":"IF($B12=1,VLOOKUP(C$2,Table1[],3,0),IF($B12=2,VLOOKUP(C$2,Table1[],4,0),IF($B12=3,VLOOKUP(C$2,Table1[],5,0),IF($B12=4,VLOOKUP(C$2,Table1[],5,0),0))))","v":2000000},{"$f":"IF($B12=1,VLOOKUP(D$2,Table1[],3,0),IF($B12=2,VLOOKUP(D$2,Table1[],4,0),IF($B12=3,VLOOKUP(D$2,Table1[],5,0),IF($B12=4,VLOOKUP(D$2,Table1[],5,0),0))))","v":2000000},{"$f":"IF($B12=1,VLOOKUP(E$2,Table1[],3,0),IF($B12=2,VLOOKUP(E$2,Table1[],4,0),IF($B12=3,VLOOKUP(E$2,Table1[],5,0),IF($B12=4,VLOOKUP(E$2,Table1[],5,0),0))))","v":1500000},{"$f":"IF($B12=1,VLOOKUP(F$2,Table1[],3,0),IF($B12=2,VLOOKUP(F$2,Table1[],4,0),IF($B12=3,VLOOKUP(F$2,Table1[],5,0),IF($B12=4,VLOOKUP(F$2,Table1[],5,0),0))))","v":800000}]
[2019,1,{"$f":"IF($B13=1,VLOOKUP(C$2,Table1[],3,0),IF($B13=2,VLOOKUP(C$2,Table1[],4,0),IF($B13=3,VLOOKUP(C$2,Table1[],5,0),IF($B13=4,VLOOKUP(C$2,Table1[],5,0),0))))","v":2000000},{"$f":"IF($B13=1,VLOOKUP(D$2,Table1[],3,0),IF($B13=2,VLOOKUP(D$2,Table1[],4,0),IF($B13=3,VLOOKUP(D$2,Table1[],5,0),IF($B13=4,VLOOKUP(D$2,Table1[],5,0),0))))","v":2000000},{"$f":"IF($B13=1,VLOOKUP(E$2,Table1[],3,0),IF($B13=2,VLOOKUP(E$2,Table1[],4,0),IF($B13=3,VLOOKUP(E$2,Table1[],5,0),IF($B13=4,VLOOKUP(E$2,Table1[],5,0),0))))","v":1500000},{"$f":"IF($B13=1,VLOOKUP(F$2,Table1[],3,0),IF($B13=2,VLOOKUP(F$2,Table1[],4,0),IF($B13=3,VLOOKUP(F$2,Table1[],5,0),IF($B13=4,VLOOKUP(F$2,Table1[],5,0),0))))","v":800000}]
[2020,1,{"$f":"IF($B14=1,VLOOKUP(C$2,Table1[],3,0),IF($B14=2,VLOOKUP(C$2,Table1[],4,0),IF($B14=3,VLOOKUP(C$2,Table1[],5,0),IF($B14=4,VLOOKUP(C$2,Table1[],5,0),0))))","v":2000000},{"$f":"IF($B14=1,VLOOKUP(D$2,Table1[],3,0),IF($B14=2,VLOOKUP(D$2,Table1[],4,0),IF($B14=3,VLOOKUP(D$2,Table1[],5,0),IF($B14=4,VLOOKUP(D$2,Table1[],5,0),0))))","v":2000000},{"$f":"IF($B14=1,VLOOKUP(E$2,Table1[],3,0),IF($B14=2,VLOOKUP(E$2,Table1[],4,0),IF($B14=3,VLOOKUP(E$2,Table1[],5,0),IF($B14=4,VLOOKUP(E$2,Table1[],5,0),0))))","v":1500000},{"$f":"IF($B14=1,VLOOKUP(F$2,Table1[],3,0),IF($B14=2,VLOOKUP(F$2,Table1[],4,0),IF($B14=3,VLOOKUP(F$2,Table1[],5,0),IF($B14=4,VLOOKUP(F$2,Table1[],5,0),0))))","v":800000}]
[2021,1,{"$f":"IF($B15=1,VLOOKUP(C$2,Table1[],3,0),IF($B15=2,VLOOKUP(C$2,Table1[],4,0),IF($B15=3,VLOOKUP(C$2,Table1[],5,0),IF($B15=4,VLOOKUP(C$2,Table1[],5,0),0))))","v":2000000},{"$f":"IF($B15=1,VLOOKUP(D$2,Table1[],3,0),IF($B15=2,VLOOKUP(D$2,Table1[],4,0),IF($B15=3,VLOOKUP(D$2,Table1[],5,0),IF($B15=4,VLOOKUP(D$2,Table1[],5,0),0))))","v":2000000},{"$f":"IF($B15=1,VLOOKUP(E$2,Table1[],3,0),IF($B15=2,VLOOKUP(E$2,Table1[],4,0),IF($B15=3,VLOOKUP(E$2,Table1[],5,0),IF($B15=4,VLOOKUP(E$2,Table1[],5,0),0))))","v":1500000},{"$f":"IF($B15=1,VLOOKUP(F$2,Table1[],3,0),IF($B15=2,VLOOKUP(F$2,Table1[],4,0),IF($B15=3,VLOOKUP(F$2,Table1[],5,0),IF($B15=4,VLOOKUP(F$2,Table1[],5,0),0))))","v":800000}]
[2022,1,{"$f":"IF($B16=1,VLOOKUP(C$2,Table1[],3,0),IF($B16=2,VLOOKUP(C$2,Table1[],4,0),IF($B16=3,VLOOKUP(C$2,Table1[],5,0),IF($B16=4,VLOOKUP(C$2,Table1[],5,0),0))))","v":2000000},{"$f":"IF($B16=1,VLOOKUP(D$2,Table1[],3,0),IF($B16=2,VLOOKUP(D$2,Table1[],4,0),IF($B16=3,VLOOKUP(D$2,Table1[],5,0),IF($B16=4,VLOOKUP(D$2,Table1[],5,0),0))))","v":2000000},{"$f":"IF($B16=1,VLOOKUP(E$2,Table1[],3,0),IF($B16=2,VLOOKUP(E$2,Table1[],4,0),IF($B16=3,VLOOKUP(E$2,Table1[],5,0),IF($B16=4,VLOOKUP(E$2,Table1[],5,0),0))))","v":1500000},{"$f":"IF($B16=1,VLOOKUP(F$2,Table1[],3,0),IF($B16=2,VLOOKUP(F$2,Table1[],4,0),IF($B16=3,VLOOKUP(F$2,Table1[],5,0),IF($B16=4,VLOOKUP(F$2,Table1[],5,0),0))))","v":800000}]
[2023,1,{"$f":"IF($B17=1,VLOOKUP(C$2,Table1[],3,0),IF($B17=2,VLOOKUP(C$2,Table1[],4,0),IF($B17=3,VLOOKUP(C$2,Table1[],5,0),IF($B17=4,VLOOKUP(C$2,Table1[],5,0),0))))","v":2000000},{"$f":"IF($B17=1,VLOOKUP(D$2,Table1[],3,0),IF($B17=2,VLOOKUP(D$2,Table1[],4,0),IF($B17=3,VLOOKUP(D$2,Table1[],5,0),IF($B17=4,VLOOKUP(D$2,Table1[],5,0),0))))","v":2000000},{"$f":"IF($B17=1,VLOOKUP(E$2,Table1[],3,0),IF($B17=2,VLOOKUP(E$2,Table1[],4,0),IF($B17=3,VLOOKUP(E$2,Table1[],5,0),IF($B17=4,VLOOKUP(E$2,Table1[],5,0),0))))","v":1500000},{"$f":"IF($B17=1,VLOOKUP(F$2,Table1[],3,0),IF($B17=2,VLOOKUP(F$2,Table1[],4,0),IF($B17=3,VLOOKUP(F$2,Table1[],5,0),IF($B17=4,VLOOKUP(F$2,Table1[],5,0),0))))","v":800000}]
[2024,1,{"$f":"IF($B18=1,VLOOKUP(C$2,Table1[],3,0),IF($B18=2,VLOOKUP(C$2,Table1[],4,0),IF($B18=3,VLOOKUP(C$2,Table1[],5,0),IF($B18=4,VLOOKUP(C$2,Table1[],5,0),0))))","v":2000000},{"$f":"IF($B18=1,VLOOKUP(D$2,Table1[],3,0),IF($B18=2,VLOOKUP(D$2,Table1[],4,0),IF($B18=3,VLOOKUP(D$2,Table1[],5,0),IF($B18=4,VLOOKUP(D$2,Table1[],5,0),0))))","v":2000000},{"$f":"IF($B18=1,VLOOKUP(E$2,Table1[],3,0),IF($B18=2,VLOOKUP(E$2,Table1[],4,0),IF($B18=3,VLOOKUP(E$2,Table1[],5,0),IF($B18=4,VLOOKUP(E$2,Table1[],5,0),0))))","v":1500000},{"$f":"IF($B18=1,VLOOKUP(F$2,Table1[],3,0),IF($B18=2,VLOOKUP(F$2,Table1[],4,0),IF($B18=3,VLOOKUP(F$2,Table1[],5,0),IF($B18=4,VLOOKUP(F$2,Table1[],5,0),0))))","v":800000}]
[2025,1,{"$f":"IF($B19=1,VLOOKUP(C$2,Table1[],3,0),IF($B19=2,VLOOKUP(C$2,Table1[],4,0),IF($B19=3,VLOOKUP(C$2,Table1[],5,0),IF($B19=4,VLOOKUP(C$2,Table1[],5,0),0))))","v":2000000},{"$f":"IF($B19=1,VLOOKUP(D$2,Table1[],3,0),IF($B19=2,VLOOKUP(D$2,Table1[],4,0),IF($B19=3,VLOOKUP(D$2,Table1[],5,0),IF($B19=4,VLOOKUP(D$2,Table1[],5,0),0))))","v":2000000},{"$f":"IF($B19=1,VLOOKUP(E$2,Table1[],3,0),IF($B19=2,VLOOKUP(E$2,Table1[],4,0),IF($B19=3,VLOOKUP(E$2,Table1[],5,0),IF($B19=4,VLOOKUP(E$2,Table1[],5,0),0))))","v":1500000},{"$f":"IF($B19=1,VLOOKUP(F$2,Table1[],3,0),IF($B19=2,VLOOKUP(F$2,Table1[],4,0),IF($B19=3,VLOOKUP(F$2,Table1[],5,0),IF($B19=4,VLOOKUP(F$2,Table1[],5,0),0))))","v":800000}]
[2026,1,{"$f":"IF($B20=1,VLOOKUP(C$2,Table1[],3,0),IF($B20=2,VLOOKUP(C$2,Table1[],4,0),IF($B20=3,VLOOKUP(C$2,Table1[],5,0),IF($B20=4,VLOOKUP(C$2,Table1[],5,0),0))))","v":2000000},{"$f":"IF($B20=1,VLOOKUP(D$2,Table1[],3,0),IF($B20=2,VLOOKUP(D$2,Table1[],4,0),IF($B20=3,VLOOKUP(D$2,Table1[],5,0),IF($B20=4,VLOOKUP(D$2,Table1[],5,0),0))))","v":2000000},{"$f":"IF($B20=1,VLOOKUP(E$2,Table1[],3,0),IF($B20=2,VLOOKUP(E$2,Table1[],4,0),IF($B20=3,VLOOKUP(E$2,Table1[],5,0),IF($B20=4,VLOOKUP(E$2,Table1[],5,0),0))))","v":1500000},{"$f":"IF($B20=1,VLOOKUP(F$2,Table1[],3,0),IF($B20=2,VLOOKUP(F$2,Table1[],4,0),IF($B20=3,VLOOKUP(F$2,Table1[],5,0),IF($B20=4,VLOOKUP(F$2,Table1[],5,0),0))))","v":800000}]
[2027,1,{"$f":"IF($B21=1,VLOOKUP(C$2,Table1[],3,0),IF($B21=2,VLOOKUP(C$2,Table1[],4,0),IF($B21=3,VLOOKUP(C$2,Table1[],5,0),IF($B21=4,VLOOKUP(C$2,Table1[],5,0),0))))","v":2000000},{"$f":"IF($B21=1,VLOOKUP(D$2,Table1[],3,0),IF($B21=2,VLOOKUP(D$2,Table1[],4,0),IF($B21=3,VLOOKUP(D$2,Table1[],5,0),IF($B21=4,VLOOKUP(D$2,Table1[],5,0),0))))","v":2000000},{"$f":"IF($B21=1,VLOOKUP(E$2,Table1[],3,0),IF($B21=2,VLOOKUP(E$2,Table1[],4,0),IF($B21=3,VLOOKUP(E$2,Table1[],5,0),IF($B21=4,VLOOKUP(E$2,Table1[],5,0),0))))","v":1500000},{"$f":"IF($B21=1,VLOOKUP(F$2,Table1[],3,0),IF($B21=2,VLOOKUP(F$2,Table1[],4,0),IF($B21=3,VLOOKUP(F$2,Table1[],5,0),IF($B21=4,VLOOKUP(F$2,Table1[],5,0),0))))","v":800000}]
[2028,1,{"$f":"IF($B22=1,VLOOKUP(C$2,Table1[],3,0),IF($B22=2,VLOOKUP(C$2,Table1[],4,0),IF($B22=3,VLOOKUP(C$2,Table1[],5,0),IF($B22=4,VLOOKUP(C$2,Table1[],5,0),0))))","v":2000000},{"$f":"IF($B22=1,VLOOKUP(D$2,Table1[],3,0),IF($B22=2,VLOOKUP(D$2,Table1[],4,0),IF($B22=3,VLOOKUP(D$2,Table1[],5,0),IF($B22=4,VLOOKUP(D$2,Table1[],5,0),0))))","v":2000000},{"$f":"IF($B22=1,VLOOKUP(E$2,Table1[],3,0),IF($B22=2,VLOOKUP(E$2,Table1[],4,0),IF($B22=3,VLOOKUP(E$2,Table1[],5,0),IF($B22=4,VLOOKUP(E$2,Table1[],5,0),0))))","v":1500000},{"$f":"IF($B22=1,VLOOKUP(F$2,Table1[],3,0),IF($B22=2,VLOOKUP(F$2,Table1[],4,0),IF($B22=3,VLOOKUP(F$2,Table1[],5,0),IF($B22=4,VLOOKUP(F$2,Table1[],5,0),0))))","v":800000}]
[2029,1,{"$f":"IF($B23=1,VLOOKUP(C$2,Table1[],3,0),IF($B23=2,VLOOKUP(C$2,Table1[],4,0),IF($B23=3,VLOOKUP(C$2,Table1[],5,0),IF($B23=4,VLOOKUP(C$2,Table1[],5,0),0))))","v":2000000},{"$f":"IF($B23=1,VLOOKUP(D$2,Table1[],3,0),IF($B23=2,VLOOKUP(D$2,Table1[],4,0),IF($B23=3,VLOOKUP(D$2,Table1[],5,0),IF($B23=4,VLOOKUP(D$2,Table1[],5,0),0))))","v":2000000},{"$f":"IF($B23=1,VLOOKUP(E$2,Table1[],3,0),IF($B23=2,VLOOKUP(E$2,Table1[],4,0),IF($B23=3,VLOOKUP(E$2,Table1[],5,0),IF($B23=4,VLOOKUP(E$2,Table1[],5,0),0))))","v":1500000},{"$f":"IF($B23=1,VLOOKUP(F$2,Table1[],3,0),IF($B23=2,VLOOKUP(F$2,Table1[],4,0),IF($B23=3,VLOOKUP(F$2,Table1[],5,0),IF($B23=4,VLOOKUP(F$2,Table1[],5,0),0))))","v":800000}]
[2030,1,{"$f":"IF($B24=1,VLOOKUP(C$2,Table1[],3,0),IF($B24=2,VLOOKUP(C$2,Table1[],4,0),IF($B24=3,VLOOKUP(C$2,Table1[],5,0),IF($B24=4,VLOOKUP(C$2,Table1[],5,0),0))))","v":2000000},{"$f":"IF($B24=1,VLOOKUP(D$2,Table1[],3,0),IF($B24=2,VLOOKUP(D$2,Table1[],4,0),IF($B24=3,VLOOKUP(D$2,Table1[],5,0),IF($B24=4,VLOOKUP(D$2,Table1[],5,0),0))))","v":2000000},{"$f":"IF($B24=1,VLOOKUP(E$2,Table1[],3,0),IF($B24=2,VLOOKUP(E$2,Table1[],4,0),IF($B24=3,VLOOKUP(E$2,Table1[],5,0),IF($B24=4,VLOOKUP(E$2,Table1[],5,0),0))))","v":1500000},{"$f":"IF($B24=1,VLOOKUP(F$2,Table1[],3,0),IF($B24=2,VLOOKUP(F$2,Table1[],4,0),IF($B24=3,VLOOKUP(F$2,Table1[],5,0),IF($B24=4,VLOOKUP(F$2,Table1[],5,0),0))))","v":800000}]
[2031,1,{"$f":"IF($B25=1,VLOOKUP(C$2,Table1[],3,0),IF($B25=2,VLOOKUP(C$2,Table1[],4,0),IF($B25=3,VLOOKUP(C$2,Table1[],5,0),IF($B25=4,VLOOKUP(C$2,Table1[],5,0),0))))","v":2000000},{"$f":"IF($B25=1,VLOOKUP(D$2,Table1[],3,0),IF($B25=2,VLOOKUP(D$2,Table1[],4,0),IF($B25=3,VLOOKUP(D$2,Table1[],5,0),IF($B25=4,VLOOKUP(D$2,Table1[],5,0),0))))","v":2000000},{"$f":"IF($B25=1,VLOOKUP(E$2,Table1[],3,0),IF($B25=2,VLOOKUP(E$2,Table1[],4,0),IF($B25=3,VLOOKUP(E$2,Table1[],5,0),IF($B25=4,VLOOKUP(E$2,Table1[],5,0),0))))","v":1500000},{"$f":"IF($B25=1,VLOOKUP(F$2,Table1[],3,0),IF($B25=2,VLOOKUP(F$2,Table1[],4,0),IF($B25=3,VLOOKUP(F$2,Table1[],5,0),IF($B25=4,VLOOKUP(F$2,Table1[],5,0),0))))","v":800000}]
[2032,1,{"$f":"IF($B26=1,VLOOKUP(C$2,Table1[],3,0),IF($B26=2,VLOOKUP(C$2,Table1[],4,0),IF($B26=3,VLOOKUP(C$2,Table1[],5,0),IF($B26=4,VLOOKUP(C$2,Table1[],5,0),0))))","v":2000000},{"$f":"IF($B26=1,VLOOKUP(D$2,Table1[],3,0),IF($B26=2,VLOOKUP(D$2,Table1[],4,0),IF($B26=3,VLOOKUP(D$2,Table1[],5,0),IF($B26=4,VLOOKUP(D$2,Table1[],5,0),0))))","v":2000000},{"$f":"IF($B26=1,VLOOKUP(E$2,Table1[],3,0),IF($B26=2,VLOOKUP(E$2,Table1[],4,0),IF($B26=3,VLOOKUP(E$2,Table1[],5,0),IF($B26=4,VLOOKUP(E$2,Table1[],5,0),0))))","v":1500000},{"$f":"IF($B26=1,VLOOKUP(F$2,Table1[],3,0),IF($B26=2,VLOOKUP(F$2,Table1[],4,0),IF($B26=3,VLOOKUP(F$2,Table1[],5,0),IF($B26=4,VLOOKUP(F$2,Table1[],5,0),0))))","v":800000}]
[2033,1,{"$f":"IF($B27=1,VLOOKUP(C$2,Table1[],3,0),IF($B27=2,VLOOKUP(C$2,Table1[],4,0),IF($B27=3,VLOOKUP(C$2,Table1[],5,0),IF($B27=4,VLOOKUP(C$2,Table1[],5,0),0))))","v":2000000},{"$f":"IF($B27=1,VLOOKUP(D$2,Table1[],3,0),IF($B27=2,VLOOKUP(D$2,Table1[],4,0),IF($B27=3,VLOOKUP(D$2,Table1[],5,0),IF($B27=4,VLOOKUP(D$2,Table1[],5,0),0))))","v":2000000},{"$f":"IF($B27=1,VLOOKUP(E$2,Table1[],3,0),IF($B27=2,VLOOKUP(E$2,Table1[],4,0),IF($B27=3,VLOOKUP(E$2,Table1[],5,0),IF($B27=4,VLOOKUP(E$2,Table1[],5,0),0))))","v":1500000},{"$f":"IF($B27=1,VLOOKUP(F$2,Table1[],3,0),IF($B27=2,VLOOKUP(F$2,Table1[],4,0),IF($B27=3,VLOOKUP(F$2,Table1[],5,0),IF($B27=4,VLOOKUP(F$2,Table1[],5,0),0))))","v":800000}]
[2034,1,{"$f":"IF($B28=1,VLOOKUP(C$2,Table1[],3,0),IF($B28=2,VLOOKUP(C$2,Table1[],4,0),IF($B28=3,VLOOKUP(C$2,Table1[],5,0),IF($B28=4,VLOOKUP(C$2,Table1[],5,0),0))))","v":2000000},{"$f":"IF($B28=1,VLOOKUP(D$2,Table1[],3,0),IF($B28=2,VLOOKUP(D$2,Table1[],4,0),IF($B28=3,VLOOKUP(D$2,Table1[],5,0),IF($B28=4,VLOOKUP(D$2,Table1[],5,0),0))))","v":2000000},{"$f":"IF($B28=1,VLOOKUP(E$2,Table1[],3,0),IF($B28=2,VLOOKUP(E$2,Table1[],4,0),IF($B28=3,VLOOKUP(E$2,Table1[],5,0),IF($B28=4,VLOOKUP(E$2,Table1[],5,0),0))))","v":1500000},{"$f":"IF($B28=1,VLOOKUP(F$2,Table1[],3,0),IF($B28=2,VLOOKUP(F$2,Table1[],4,0),IF($B28=3,VLOOKUP(F$2,Table1[],5,0),IF($B28=4,VLOOKUP(F$2,Table1[],5,0),0))))","v":800000}]
[2035,1,{"$f":"IF($B29=1,VLOOKUP(C$2,Table1[],3,0),IF($B29=2,VLOOKUP(C$2,Table1[],4,0),IF($B29=3,VLOOKUP(C$2,Table1[],5,0),IF($B29=4,VLOOKUP(C$2,Table1[],5,0),0))))","v":2000000},{"$f":"IF($B29=1,VLOOKUP(D$2,Table1[],3,0),IF($B29=2,VLOOKUP(D$2,Table1[],4,0),IF($B29=3,VLOOKUP(D$2,Table1[],5,0),IF($B29=4,VLOOKUP(D$2,Table1[],5,0),0))))","v":2000000},{"$f":"IF($B29=1,VLOOKUP(E$2,Table1[],3,0),IF($B29=2,VLOOKUP(E$2,Table1[],4,0),IF($B29=3,VLOOKUP(E$2,Table1[],5,0),IF($B29=4,VLOOKUP(E$2,Table1[],5,0),0))))","v":1500000},{"$f":"IF($B29=1,VLOOKUP(F$2,Table1[],3,0),IF($B29=2,VLOOKUP(F$2,Table1[],4,0),IF($B29=3,VLOOKUP(F$2,Table1[],5,0),IF($B29=4,VLOOKUP(F$2,Table1[],5,0),0))))","v":800000}]
[2036,1,{"$f":"IF($B30=1,VLOOKUP(C$2,Table1[],3,0),IF($B30=2,VLOOKUP(C$2,Table1[],4,0),IF($B30=3,VLOOKUP(C$2,Table1[],5,0),IF($B30=4,VLOOKUP(C$2,Table1[],5,0),0))))","v":2000000},{"$f":"IF($B30=1,VLOOKUP(D$2,Table1[],3,0),IF($B30=2,VLOOKUP(D$2,Table1[],4,0),IF($B30=3,VLOOKUP(D$2,Table1[],5,0),IF($B30=4,VLOOKUP(D$2,Table1[],5,0),0))))","v":2000000},{"$f":"IF($B30=1,VLOOKUP(E$2,Table1[],3,0),IF($B30=2,VLOOKUP(E$2,Table1[],4,0),IF($B30=3,VLOOKUP(E$2,Table1[],5,0),IF($B30=4,VLOOKUP(E$2,Table1[],5,0),0))))","v":1500000},{"$f":"IF($B30=1,VLOOKUP(F$2,Table1[],3,0),IF($B30=2,VLOOKUP(F$2,Table1[],4,0),IF($B30=3,VLOOKUP(F$2,Table1[],5,0),IF($B30=4,VLOOKUP(F$2,Table1[],5,0),0))))","v":800000}]
[2037,1,{"$f":"IF($B31=1,VLOOKUP(C$2,Table1[],3,0),IF($B31=2,VLOOKUP(C$2,Table1[],4,0),IF($B31=3,VLOOKUP(C$2,Table1[],5,0),IF($B31=4,VLOOKUP(C$2,Table1[],5,0),0))))","v":2000000},{"$f":"IF($B31=1,VLOOKUP(D$2,Table1[],3,0),IF($B31=2,VLOOKUP(D$2,Table1[],4,0),IF($B31=3,VLOOKUP(D$2,Table1[],5,0),IF($B31=4,VLOOKUP(D$2,Table1[],5,0),0))))","v":2000000},{"$f":"IF($B31=1,VLOOKUP(E$2,Table1[],3,0),IF($B31=2,VLOOKUP(E$2,Table1[],4,0),IF($B31=3,VLOOKUP(E$2,Table1[],5,0),IF($B31=4,VLOOKUP(E$2,Table1[],5,0),0))))","v":1500000},{"$f":"IF($B31=1,VLOOKUP(F$2,Table1[],3,0),IF($B31=2,VLOOKUP(F$2,Table1[],4,0),IF($B31=3,VLOOKUP(F$2,Table1[],5,0),IF($B31=4,VLOOKUP(F$2,Table1[],5,0),0))))","v":800000}]
[2038,1,{"$f":"IF($B32=1,VLOOKUP(C$2,Table1[],3,0),IF($B32=2,VLOOKUP(C$2,Table1[],4,0),IF($B32=3,VLOOKUP(C$2,Table1[],5,0),IF($B32=4,VLOOKUP(C$2,Table1[],5,0),0))))","v":2000000},{"$f":"IF($B32=1,VLOOKUP(D$2,Table1[],3,0),IF($B32=2,VLOOKUP(D$2,Table1[],4,0),IF($B32=3,VLOOKUP(D$2,Table1[],5,0),IF($B32=4,VLOOKUP(D$2,Table1[],5,0),0))))","v":2000000},{"$f":"IF($B32=1,VLOOKUP(E$2,Table1[],3,0),IF($B32=2,VLOOKUP(E$2,Table1[],4,0),IF($B32=3,VLOOKUP(E$2,Table1[],5,0),IF($B32=4,VLOOKUP(E$2,Table1[],5,0),0))))","v":1500000},{"$f":"IF($B32=1,VLOOKUP(F$2,Table1[],3,0),IF($B32=2,VLOOKUP(F$2,Table1[],4,0),IF($B32=3,VLOOKUP(F$2,Table1[],5,0),IF($B32=4,VLOOKUP(F$2,Table1[],5,0),0))))","v":800000}]
[2039,1,{"$f":"IF($B33=1,VLOOKUP(C$2,Table1[],3,0),IF($B33=2,VLOOKUP(C$2,Table1[],4,0),IF($B33=3,VLOOKUP(C$2,Table1[],5,0),IF($B33=4,VLOOKUP(C$2,Table1[],5,0),0))))","v":2000000},{"$f":"IF($B33=1,VLOOKUP(D$2,Table1[],3,0),IF($B33=2,VLOOKUP(D$2,Table1[],4,0),IF($B33=3,VLOOKUP(D$2,Table1[],5,0),IF($B33=4,VLOOKUP(D$2,Table1[],5,0),0))))","v":2000000},{"$f":"IF($B33=1,VLOOKUP(E$2,Table1[],3,0),IF($B33=2,VLOOKUP(E$2,Table1[],4,0),IF($B33=3,VLOOKUP(E$2,Table1[],5,0),IF($B33=4,VLOOKUP(E$2,Table1[],5,0),0))))","v":1500000},{"$f":"IF($B33=1,VLOOKUP(F$2,Table1[],3,0),IF($B33=2,VLOOKUP(F$2,Table1[],4,0),IF($B33=3,VLOOKUP(F$2,Table1[],5,0),IF($B33=4,VLOOKUP(F$2,Table1[],5,0),0))))","v":800000}]
[2040,1,{"$f":"IF($B34=1,VLOOKUP(C$2,Table1[],3,0),IF($B34=2,VLOOKUP(C$2,Table1[],4,0),IF($B34=3,VLOOKUP(C$2,Table1[],5,0),IF($B34=4,VLOOKUP(C$2,Table1[],5,0),0))))","v":2000000},{"$f":"IF($B34=1,VLOOKUP(D$2,Table1[],3,0),IF($B34=2,VLOOKUP(D$2,Table1[],4,0),IF($B34=3,VLOOKUP(D$2,Table1[],5,0),IF($B34=4,VLOOKUP(D$2,Table1[],5,0),0))))","v":2000000},{"$f":"IF($B34=1,VLOOKUP(E$2,Table1[],3,0),IF($B34=2,VLOOKUP(E$2,Table1[],4,0),IF($B34=3,VLOOKUP(E$2,Table1[],5,0),IF($B34=4,VLOOKUP(E$2,Table1[],5,0),0))))","v":1500000},{"$f":"IF($B34=1,VLOOKUP(F$2,Table1[],3,0),IF($B34=2,VLOOKUP(F$2,Table1[],4,0),IF($B34=3,VLOOKUP(F$2,Table1[],5,0),IF($B34=4,VLOOKUP(F$2,Table1[],5,0),0))))","v":800000}]
[2041,1,{"$f":"IF($B35=1,VLOOKUP(C$2,Table1[],3,0),IF($B35=2,VLOOKUP(C$2,Table1[],4,0),IF($B35=3,VLOOKUP(C$2,Table1[],5,0),IF($B35=4,VLOOKUP(C$2,Table1[],5,0),0))))","v":2000000},{"$f":"IF($B35=1,VLOOKUP(D$2,Table1[],3,0),IF($B35=2,VLOOKUP(D$2,Table1[],4,0),IF($B35=3,VLOOKUP(D$2,Table1[],5,0),IF($B35=4,VLOOKUP(D$2,Table1[],5,0),0))))","v":2000000},{"$f":"IF($B35=1,VLOOKUP(E$2,Table1[],3,0),IF($B35=2,VLOOKUP(E$2,Table1[],4,0),IF($B35=3,VLOOKUP(E$2,Table1[],5,0),IF($B35=4,VLOOKUP(E$2,Table1[],5,0),0))))","v":1500000},{"$f":"IF($B35=1,VLOOKUP(F$2,Table1[],3,0),IF($B35=2,VLOOKUP(F$2,Table1[],4,0),IF($B35=3,VLOOKUP(F$2,Table1[],5,0),IF($B35=4,VLOOKUP(F$2,Table1[],5,0),0))))","v":800000}]
[2042,1,{"$f":"IF($B36=1,VLOOKUP(C$2,Table1[],3,0),IF($B36=2,VLOOKUP(C$2,Table1[],4,0),IF($B36=3,VLOOKUP(C$2,Table1[],5,0),IF($B36=4,VLOOKUP(C$2,Table1[],5,0),0))))","v":2000000},{"$f":"IF($B36=1,VLOOKUP(D$2,Table1[],3,0),IF($B36=2,VLOOKUP(D$2,Table1[],4,0),IF($B36=3,VLOOKUP(D$2,Table1[],5,0),IF($B36=4,VLOOKUP(D$2,Table1[],5,0),0))))","v":2000000},{"$f":"IF($B36=1,VLOOKUP(E$2,Table1[],3,0),IF($B36=2,VLOOKUP(E$2,Table1[],4,0),IF($B36=3,VLOOKUP(E$2,Table1[],5,0),IF($B36=4,VLOOKUP(E$2,Table1[],5,0),0))))","v":1500000},{"$f":"IF($B36=1,VLOOKUP(F$2,Table1[],3,0),IF($B36=2,VLOOKUP(F$2,Table1[],4,0),IF($B36=3,VLOOKUP(F$2,Table1[],5,0),IF($B36=4,VLOOKUP(F$2,Table1[],5,0),0))))","v":800000}]
[2043,1,{"$f":"IF($B37=1,VLOOKUP(C$2,Table1[],3,0),IF($B37=2,VLOOKUP(C$2,Table1[],4,0),IF($B37=3,VLOOKUP(C$2,Table1[],5,0),IF($B37=4,VLOOKUP(C$2,Table1[],5,0),0))))","v":2000000},{"$f":"IF($B37=1,VLOOKUP(D$2,Table1[],3,0),IF($B37=2,VLOOKUP(D$2,Table1[],4,0),IF($B37=3,VLOOKUP(D$2,Table1[],5,0),IF($B37=4,VLOOKUP(D$2,Table1[],5,0),0))))","v":2000000},{"$f":"IF($B37=1,VLOOKUP(E$2,Table1[],3,0),IF($B37=2,VLOOKUP(E$2,Table1[],4,0),IF($B37=3,VLOOKUP(E$2,Table1[],5,0),IF($B37=4,VLOOKUP(E$2,Table1[],5,0),0))))","v":1500000},{"$f":"IF($B37=1,VLOOKUP(F$2,Table1[],3,0),IF($B37=2,VLOOKUP(F$2,Table1[],4,0),IF($B37=3,VLOOKUP(F$2,Table1[],5,0),IF($B37=4,VLOOKUP(F$2,Table1[],5,0),0))))","v":800000}]
[2044,1,{"$f":"IF($B38=1,VLOOKUP(C$2,Table1[],3,0),IF($B38=2,VLOOKUP(C$2,Table1[],4,0),IF($B38=3,VLOOKUP(C$2,Table1[],5,0),IF($B38=4,VLOOKUP(C$2,Table1[],5,0),0))))","v":2000000},{"$f":"IF($B38=1,VLOOKUP(D$2,Table1[],3,0),IF($B38=2,VLOOKUP(D$2,Table1[],4,0),IF($B38=3,VLOOKUP(D$2,Table1[],5,0),IF($B38=4,VLOOKUP(D$2,Table1[],5,0),0))))","v":2000000},{"$f":"IF($B38=1,VLOOKUP(E$2,Table1[],3,0),IF($B38=2,VLOOKUP(E$2,Table1[],4,0),IF($B38=3,VLOOKUP(E$2,Table1[],5,0),IF($B38=4,VLOOKUP(E$2,Table1[],5,0),0))))","v":1500000},{"$f":"IF($B38=1,VLOOKUP(F$2,Table1[],3,0),IF($B38=2,VLOOKUP(F$2,Table1[],4,0),IF($B38=3,VLOOKUP(F$2,Table1[],5,0),IF($B38=4,VLOOKUP(F$2,Table1[],5,0),0))))","v":800000}]
[2045,1,{"$f":"IF($B39=1,VLOOKUP(C$2,Table1[],3,0),IF($B39=2,VLOOKUP(C$2,Table1[],4,0),IF($B39=3,VLOOKUP(C$2,Table1[],5,0),IF($B39=4,VLOOKUP(C$2,Table1[],5,0),0))))","v":2000000},{"$f":"IF($B39=1,VLOOKUP(D$2,Table1[],3,0),IF($B39=2,VLOOKUP(D$2,Table1[],4,0),IF($B39=3,VLOOKUP(D$2,Table1[],5,0),IF($B39=4,VLOOKUP(D$2,Table1[],5,0),0))))","v":2000000},{"$f":"IF($B39=1,VLOOKUP(E$2,Table1[],3,0),IF($B39=2,VLOOKUP(E$2,Table1[],4,0),IF($B39=3,VLOOKUP(E$2,Table1[],5,0),IF($B39=4,VLOOKUP(E$2,Table1[],5,0),0))))","v":1500000},{"$f":"IF($B39=1,VLOOKUP(F$2,Table1[],3,0),IF($B39=2,VLOOKUP(F$2,Table1[],4,0),IF($B39=3,VLOOKUP(F$2,Table1[],5,0),IF($B39=4,VLOOKUP(F$2,Table1[],5,0),0))))","v":800000}]
[2046,1,{"$f":"IF($B40=1,VLOOKUP(C$2,Table1[],3,0),IF($B40=2,VLOOKUP(C$2,Table1[],4,0),IF($B40=3,VLOOKUP(C$2,Table1[],5,0),IF($B40=4,VLOOKUP(C$2,Table1[],5,0),0))))","v":2000000},{"$f":"IF($B40=1,VLOOKUP(D$2,Table1[],3,0),IF($B40=2,VLOOKUP(D$2,Table1[],4,0),IF($B40=3,VLOOKUP(D$2,Table1[],5,0),IF($B40=4,VLOOKUP(D$2,Table1[],5,0),0))))","v":2000000},{"$f":"IF($B40=1,VLOOKUP(E$2,Table1[],3,0),IF($B40=2,VLOOKUP(E$2,Table1[],4,0),IF($B40=3,VLOOKUP(E$2,Table1[],5,0),IF($B40=4,VLOOKUP(E$2,Table1[],5,0),0))))","v":1500000},{"$f":"IF($B40=1,VLOOKUP(F$2,Table1[],3,0),IF($B40=2,VLOOKUP(F$2,Table1[],4,0),IF($B40=3,VLOOKUP(F$2,Table1[],5,0),IF($B40=4,VLOOKUP(F$2,Table1[],5,0),0))))","v":800000}]
[2047,1,{"$f":"IF($B41=1,VLOOKUP(C$2,Table1[],3,0),IF($B41=2,VLOOKUP(C$2,Table1[],4,0),IF($B41=3,VLOOKUP(C$2,Table1[],5,0),IF($B41=4,VLOOKUP(C$2,Table1[],5,0),0))))","v":2000000},{"$f":"IF($B41=1,VLOOKUP(D$2,Table1[],3,0),IF($B41=2,VLOOKUP(D$2,Table1[],4,0),IF($B41=3,VLOOKUP(D$2,Table1[],5,0),IF($B41=4,VLOOKUP(D$2,Table1[],5,0),0))))","v":2000000},{"$f":"IF($B41=1,VLOOKUP(E$2,Table1[],3,0),IF($B41=2,VLOOKUP(E$2,Table1[],4,0),IF($B41=3,VLOOKUP(E$2,Table1[],5,0),IF($B41=4,VLOOKUP(E$2,Table1[],5,0),0))))","v":1500000},{"$f":"IF($B41=1,VLOOKUP(F$2,Table1[],3,0),IF($B41=2,VLOOKUP(F$2,Table1[],4,0),IF($B41=3,VLOOKUP(F$2,Table1[],5,0),IF($B41=4,VLOOKUP(F$2,Table1[],5,0),0))))","v":800000}]
[2048,1,{"$f":"IF($B42=1,VLOOKUP(C$2,Table1[],3,0),IF($B42=2,VLOOKUP(C$2,Table1[],4,0),IF($B42=3,VLOOKUP(C$2,Table1[],5,0),IF($B42=4,VLOOKUP(C$2,Table1[],5,0),0))))","v":2000000},{"$f":"IF($B42=1,VLOOKUP(D$2,Table1[],3,0),IF($B42=2,VLOOKUP(D$2,Table1[],4,0),IF($B42=3,VLOOKUP(D$2,Table1[],5,0),IF($B42=4,VLOOKUP(D$2,Table1[],5,0),0))))","v":2000000},{"$f":"IF($B42=1,VLOOKUP(E$2,Table1[],3,0),IF($B42=2,VLOOKUP(E$2,Table1[],4,0),IF($B42=3,VLOOKUP(E$2,Table1[],5,0),IF($B42=4,VLOOKUP(E$2,Table1[],5,0),0))))","v":1500000},{"$f":"IF($B42=1,VLOOKUP(F$2,Table1[],3,0),IF($B42=2,VLOOKUP(F$2,Table1[],4,0),IF($B42=3,VLOOKUP(F$2,Table1[],5,0),IF($B42=4,VLOOKUP(F$2,Table1[],5,0),0))))","v":800000}]
[2049,1,{"$f":"IF($B43=1,VLOOKUP(C$2,Table1[],3,0),IF($B43=2,VLOOKUP(C$2,Table1[],4,0),IF($B43=3,VLOOKUP(C$2,Table1[],5,0),IF($B43=4,VLOOKUP(C$2,Table1[],5,0),0))))","v":2000000},{"$f":"IF($B43=1,VLOOKUP(D$2,Table1[],3,0),IF($B43=2,VLOOKUP(D$2,Table1[],4,0),IF($B43=3,VLOOKUP(D$2,Table1[],5,0),IF($B43=4,VLOOKUP(D$2,Table1[],5,0),0))))","v":2000000},{"$f":"IF($B43=1,VLOOKUP(E$2,Table1[],3,0),IF($B43=2,VLOOKUP(E$2,Table1[],4,0),IF($B43=3,VLOOKUP(E$2,Table1[],5,0),IF($B43=4,VLOOKUP(E$2,Table1[],5,0),0))))","v":1500000},{"$f":"IF($B43=1,VLOOKUP(F$2,Table1[],3,0),IF($B43=2,VLOOKUP(F$2,Table1[],4,0),IF($B43=3,VLOOKUP(F$2,Table1[],5,0),IF($B43=4,VLOOKUP(F$2,Table1[],5,0),0))))","v":800000}]
[2050,1,{"$f":"IF($B44=1,VLOOKUP(C$2,Table1[],3,0),IF($B44=2,VLOOKUP(C$2,Table1[],4,0),IF($B44=3,VLOOKUP(C$2,Table1[],5,0),IF($B44=4,VLOOKUP(C$2,Table1[],5,0),0))))","v":2000000},{"$f":"IF($B44=1,VLOOKUP(D$2,Table1[],3,0),IF($B44=2,VLOOKUP(D$2,Table1[],4,0),IF($B44=3,VLOOKUP(D$2,Table1[],5,0),IF($B44=4,VLOOKUP(D$2,Table1[],5,0),0))))","v":2000000},{"$f":"IF($B44=1,VLOOKUP(E$2,Table1[],3,0),IF($B44=2,VLOOKUP(E$2,Table1[],4,0),IF($B44=3,VLOOKUP(E$2,Table1[],5,0),IF($B44=4,VLOOKUP(E$2,Table1[],5,0),0))))","v":1500000},{"$f":"IF($B44=1,VLOOKUP(F$2,Table1[],3,0),IF($B44=2,VLOOKUP(F$2,Table1[],4,0),IF($B44=3,VLOOKUP(F$2,Table1[],5,0),IF($B44=4,VLOOKUP(F$2,Table1[],5,0),0))))","v":800000}]
[2060,1,{"$f":"IF($B45=1,VLOOKUP(C$2,Table1[],3,0),IF($B45=2,VLOOKUP(C$2,Table1[],4,0),IF($B45=3,VLOOKUP(C$2,Table1[],5,0),IF($B45=4,VLOOKUP(C$2,Table1[],5,0),0))))","v":2000000},{"$f":"IF($B45=1,VLOOKUP(D$2,Table1[],3,0),IF($B45=2,VLOOKUP(D$2,Table1[],4,0),IF($B45=3,VLOOKUP(D$2,Table1[],5,0),IF($B45=4,VLOOKUP(D$2,Table1[],5,0),0))))","v":2000000},{"$f":"IF($B45=1,VLOOKUP(E$2,Table1[],3,0),IF($B45=2,VLOOKUP(E$2,Table1[],4,0),IF($B45=3,VLOOKUP(E$2,Table1[],5,0),IF($B45=4,VLOOKUP(E$2,Table1[],5,0),0))))","v":1500000},{"$f":"IF($B45=1,VLOOKUP(F$2,Table1[],3,0),IF($B45=2,VLOOKUP(F$2,Table1[],4,0),IF($B45=3,VLOOKUP(F$2,Table1[],5,0),IF($B45=4,VLOOKUP(F$2,Table1[],5,0),0))))","v":800000}]
[2061,1,{"$f":"IF($B46=1,VLOOKUP(C$2,Table1[],3,0),IF($B46=2,VLOOKUP(C$2,Table1[],4,0),IF($B46=3,VLOOKUP(C$2,Table1[],5,0),IF($B46=4,VLOOKUP(C$2,Table1[],5,0),0))))","v":2000000},{"$f":"IF($B46=1,VLOOKUP(D$2,Table1[],3,0),IF($B46=2,VLOOKUP(D$2,Table1[],4,0),IF($B46=3,VLOOKUP(D$2,Table1[],5,0),IF($B46=4,VLOOKUP(D$2,Table1[],5,0),0))))","v":2000000},{"$f":"IF($B46=1,VLOOKUP(E$2,Table1[],3,0),IF($B46=2,VLOOKUP(E$2,Table1[],4,0),IF($B46=3,VLOOKUP(E$2,Table1[],5,0),IF($B46=4,VLOOKUP(E$2,Table1[],5,0),0))))","v":1500000},{"$f":"IF($B46=1,VLOOKUP(F$2,Table1[],3,0),IF($B46=2,VLOOKUP(F$2,Table1[],4,0),IF($B46=3,VLOOKUP(F$2,Table1[],5,0),IF($B46=4,VLOOKUP(F$2,Table1[],5,0),0))))","v":800000}]
[2062,1,{"$f":"IF($B47=1,VLOOKUP(C$2,Table1[],3,0),IF($B47=2,VLOOKUP(C$2,Table1[],4,0),IF($B47=3,VLOOKUP(C$2,Table1[],5,0),IF($B47=4,VLOOKUP(C$2,Table1[],5,0),0))))","v":2000000},{"$f":"IF($B47=1,VLOOKUP(D$2,Table1[],3,0),IF($B47=2,VLOOKUP(D$2,Table1[],4,0),IF($B47=3,VLOOKUP(D$2,Table1[],5,0),IF($B47=4,VLOOKUP(D$2,Table1[],5,0),0))))","v":2000000},{"$f":"IF($B47=1,VLOOKUP(E$2,Table1[],3,0),IF($B47=2,VLOOKUP(E$2,Table1[],4,0),IF($B47=3,VLOOKUP(E$2,Table1[],5,0),IF($B47=4,VLOOKUP(E$2,Table1[],5,0),0))))","v":1500000},{"$f":"IF($B47=1,VLOOKUP(F$2,Table1[],3,0),IF($B47=2,VLOOKUP(F$2,Table1[],4,0),IF($B47=3,VLOOKUP(F$2,Table1[],5,0),IF($B47=4,VLOOKUP(F$2,Table1[],5,0),0))))","v":800000}]
[2063,1,{"$f":"IF($B48=1,VLOOKUP(C$2,Table1[],3,0),IF($B48=2,VLOOKUP(C$2,Table1[],4,0),IF($B48=3,VLOOKUP(C$2,Table1[],5,0),IF($B48=4,VLOOKUP(C$2,Table1[],5,0),0))))","v":2000000},{"$f":"IF($B48=1,VLOOKUP(D$2,Table1[],3,0),IF($B48=2,VLOOKUP(D$2,Table1[],4,0),IF($B48=3,VLOOKUP(D$2,Table1[],5,0),IF($B48=4,VLOOKUP(D$2,Table1[],5,0),0))))","v":2000000},{"$f":"IF($B48=1,VLOOKUP(E$2,Table1[],3,0),IF($B48=2,VLOOKUP(E$2,Table1[],4,0),IF($B48=3,VLOOKUP(E$2,Table1[],5,0),IF($B48=4,VLOOKUP(E$2,Table1[],5,0),0))))","v":1500000},{"$f":"IF($B48=1,VLOOKUP(F$2,Table1[],3,0),IF($B48=2,VLOOKUP(F$2,Table1[],4,0),IF($B48=3,VLOOKUP(F$2,Table1[],5,0),IF($B48=4,VLOOKUP(F$2,Table1[],5,0),0))))","v":800000}]
[2064,1,{"$f":"IF($B49=1,VLOOKUP(C$2,Table1[],3,0),IF($B49=2,VLOOKUP(C$2,Table1[],4,0),IF($B49=3,VLOOKUP(C$2,Table1[],5,0),IF($B49=4,VLOOKUP(C$2,Table1[],5,0),0))))","v":2000000},{"$f":"IF($B49=1,VLOOKUP(D$2,Table1[],3,0),IF($B49=2,VLOOKUP(D$2,Table1[],4,0),IF($B49=3,VLOOKUP(D$2,Table1[],5,0),IF($B49=4,VLOOKUP(D$2,Table1[],5,0),0))))","v":2000000},{"$f":"IF($B49=1,VLOOKUP(E$2,Table1[],3,0),IF($B49=2,VLOOKUP(E$2,Table1[],4,0),IF($B49=3,VLOOKUP(E$2,Table1[],5,0),IF($B49=4,VLOOKUP(E$2,Table1[],5,0),0))))","v":1500000},{"$f":"IF($B49=1,VLOOKUP(F$2,Table1[],3,0),IF($B49=2,VLOOKUP(F$2,Table1[],4,0),IF($B49=3,VLOOKUP(F$2,Table1[],5,0),IF($B49=4,VLOOKUP(F$2,Table1[],5,0),0))))","v":800000}]
[2065,1,{"$f":"IF($B50=1,VLOOKUP(C$2,Table1[],3,0),IF($B50=2,VLOOKUP(C$2,Table1[],4,0),IF($B50=3,VLOOKUP(C$2,Table1[],5,0),IF($B50=4,VLOOKUP(C$2,Table1[],5,0),0))))","v":2000000},{"$f":"IF($B50=1,VLOOKUP(D$2,Table1[],3,0),IF($B50=2,VLOOKUP(D$2,Table1[],4,0),IF($B50=3,VLOOKUP(D$2,Table1[],5,0),IF($B50=4,VLOOKUP(D$2,Table1[],5,0),0))))","v":2000000},{"$f":"IF($B50=1,VLOOKUP(E$2,Table1[],3,0),IF($B50=2,VLOOKUP(E$2,Table1[],4,0),IF($B50=3,VLOOKUP(E$2,Table1[],5,0),IF($B50=4,VLOOKUP(E$2,Table1[],5,0),0))))","v":1500000},{"$f":"IF($B50=1,VLOOKUP(F$2,Table1[],3,0),IF($B50=2,VLOOKUP(F$2,Table1[],4,0),IF($B50=3,VLOOKUP(F$2,Table1[],5,0),IF($B50=4,VLOOKUP(F$2,Table1[],5,0),0))))","v":800000}]
[2066,1,{"$f":"IF($B51=1,VLOOKUP(C$2,Table1[],3,0),IF($B51=2,VLOOKUP(C$2,Table1[],4,0),IF($B51=3,VLOOKUP(C$2,Table1[],5,0),IF($B51=4,VLOOKUP(C$2,Table1[],5,0),0))))","v":2000000},{"$f":"IF($B51=1,VLOOKUP(D$2,Table1[],3,0),IF($B51=2,VLOOKUP(D$2,Table1[],4,0),IF($B51=3,VLOOKUP(D$2,Table1[],5,0),IF($B51=4,VLOOKUP(D$2,Table1[],5,0),0))))","v":2000000},{"$f":"IF($B51=1,VLOOKUP(E$2,Table1[],3,0),IF($B51=2,VLOOKUP(E$2,Table1[],4,0),IF($B51=3,VLOOKUP(E$2,Table1[],5,0),IF($B51=4,VLOOKUP(E$2,Table1[],5,0),0))))","v":1500000},{"$f":"IF($B51=1,VLOOKUP(F$2,Table1[],3,0),IF($B51=2,VLOOKUP(F$2,Table1[],4,0),IF($B51=3,VLOOKUP(F$2,Table1[],5,0),IF($B51=4,VLOOKUP(F$2,Table1[],5,0),0))))","v":800000}]
[2067,1,{"$f":"IF($B52=1,VLOOKUP(C$2,Table1[],3,0),IF($B52=2,VLOOKUP(C$2,Table1[],4,0),IF($B52=3,VLOOKUP(C$2,Table1[],5,0),IF($B52=4,VLOOKUP(C$2,Table1[],5,0),0))))","v":2000000},{"$f":"IF($B52=1,VLOOKUP(D$2,Table1[],3,0),IF($B52=2,VLOOKUP(D$2,Table1[],4,0),IF($B52=3,VLOOKUP(D$2,Table1[],5,0),IF($B52=4,VLOOKUP(D$2,Table1[],5,0),0))))","v":2000000},{"$f":"IF($B52=1,VLOOKUP(E$2,Table1[],3,0),IF($B52=2,VLOOKUP(E$2,Table1[],4,0),IF($B52=3,VLOOKUP(E$2,Table1[],5,0),IF($B52=4,VLOOKUP(E$2,Table1[],5,0),0))))","v":1500000},{"$f":"IF($B52=1,VLOOKUP(F$2,Table1[],3,0),IF($B52=2,VLOOKUP(F$2,Table1[],4,0),IF($B52=3,VLOOKUP(F$2,Table1[],5,0),IF($B52=4,VLOOKUP(F$2,Table1[],5,0),0))))","v":800000}]
[2068,1,{"$f":"IF($B53=1,VLOOKUP(C$2,Table1[],3,0),IF($B53=2,VLOOKUP(C$2,Table1[],4,0),IF($B53=3,VLOOKUP(C$2,Table1[],5,0),IF($B53=4,VLOOKUP(C$2,Table1[],5,0),0))))","v":2000000},{"$f":"IF($B53=1,VLOOKUP(D$2,Table1[],3,0),IF($B53=2,VLOOKUP(D$2,Table1[],4,0),IF($B53=3,VLOOKUP(D$2,Table1[],5,0),IF($B53=4,VLOOKUP(D$2,Table1[],5,0),0))))","v":2000000},{"$f":"IF($B53=1,VLOOKUP(E$2,Table1[],3,0),IF($B53=2,VLOOKUP(E$2,Table1[],4,0),IF($B53=3,VLOOKUP(E$2,Table1[],5,0),IF($B53=4,VLOOKUP(E$2,Table1[],5,0),0))))","v":1500000},{"$f":"IF($B53=1,VLOOKUP(F$2,Table1[],3,0),IF($B53=2,VLOOKUP(F$2,Table1[],4,0),IF($B53=3,VLOOKUP(F$2,Table1[],5,0),IF($B53=4,VLOOKUP(F$2,Table1[],5,0),0))))","v":800000}]
[2069,1,{"$f":"IF($B54=1,VLOOKUP(C$2,Table1[],3,0),IF($B54=2,VLOOKUP(C$2,Table1[],4,0),IF($B54=3,VLOOKUP(C$2,Table1[],5,0),IF($B54=4,VLOOKUP(C$2,Table1[],5,0),0))))","v":2000000},{"$f":"IF($B54=1,VLOOKUP(D$2,Table1[],3,0),IF($B54=2,VLOOKUP(D$2,Table1[],4,0),IF($B54=3,VLOOKUP(D$2,Table1[],5,0),IF($B54=4,VLOOKUP(D$2,Table1[],5,0),0))))","v":2000000},{"$f":"IF($B54=1,VLOOKUP(E$2,Table1[],3,0),IF($B54=2,VLOOKUP(E$2,Table1[],4,0),IF($B54=3,VLOOKUP(E$2,Table1[],5,0),IF($B54=4,VLOOKUP(E$2,Table1[],5,0),0))))","v":1500000},{"$f":"IF($B54=1,VLOOKUP(F$2,Table1[],3,0),IF($B54=2,VLOOKUP(F$2,Table1[],4,0),IF($B54=3,VLOOKUP(F$2,Table1[],5,0),IF($B54=4,VLOOKUP(F$2,Table1[],5,0),0))))","v":800000}]
[2070,1,{"$f":"IF($B55=1,VLOOKUP(C$2,Table1[],3,0),IF($B55=2,VLOOKUP(C$2,Table1[],4,0),IF($B55=3,VLOOKUP(C$2,Table1[],5,0),IF($B55=4,VLOOKUP(C$2,Table1[],5,0),0))))","v":2000000},{"$f":"IF($B55=1,VLOOKUP(D$2,Table1[],3,0),IF($B55=2,VLOOKUP(D$2,Table1[],4,0),IF($B55=3,VLOOKUP(D$2,Table1[],5,0),IF($B55=4,VLOOKUP(D$2,Table1[],5,0),0))))","v":2000000},{"$f":"IF($B55=1,VLOOKUP(E$2,Table1[],3,0),IF($B55=2,VLOOKUP(E$2,Table1[],4,0),IF($B55=3,VLOOKUP(E$2,Table1[],5,0),IF($B55=4,VLOOKUP(E$2,Table1[],5,0),0))))","v":1500000},{"$f":"IF($B55=1,VLOOKUP(F$2,Table1[],3,0),IF($B55=2,VLOOKUP(F$2,Table1[],4,0),IF($B55=3,VLOOKUP(F$2,Table1[],5,0),IF($B55=4,VLOOKUP(F$2,Table1[],5,0),0))))","v":800000}]
[2071,1,{"$f":"IF($B56=1,VLOOKUP(C$2,Table1[],3,0),IF($B56=2,VLOOKUP(C$2,Table1[],4,0),IF($B56=3,VLOOKUP(C$2,Table1[],5,0),IF($B56=4,VLOOKUP(C$2,Table1[],5,0),0))))","v":2000000},{"$f":"IF($B56=1,VLOOKUP(D$2,Table1[],3,0),IF($B56=2,VLOOKUP(D$2,Table1[],4,0),IF($B56=3,VLOOKUP(D$2,Table1[],5,0),IF($B56=4,VLOOKUP(D$2,Table1[],5,0),0))))","v":2000000},{"$f":"IF($B56=1,VLOOKUP(E$2,Table1[],3,0),IF($B56=2,VLOOKUP(E$2,Table1[],4,0),IF($B56=3,VLOOKUP(E$2,Table1[],5,0),IF($B56=4,VLOOKUP(E$2,Table1[],5,0),0))))","v":1500000},{"$f":"IF($B56=1,VLOOKUP(F$2,Table1[],3,0),IF($B56=2,VLOOKUP(F$2,Table1[],4,0),IF($B56=3,VLOOKUP(F$2,Table1[],5,0),IF($B56=4,VLOOKUP(F$2,Table1[],5,0),0))))","v":800000}]
[2072,1,{"$f":"IF($B57=1,VLOOKUP(C$2,Table1[],3,0),IF($B57=2,VLOOKUP(C$2,Table1[],4,0),IF($B57=3,VLOOKUP(C$2,Table1[],5,0),IF($B57=4,VLOOKUP(C$2,Table1[],5,0),0))))","v":2000000},{"$f":"IF($B57=1,VLOOKUP(D$2,Table1[],3,0),IF($B57=2,VLOOKUP(D$2,Table1[],4,0),IF($B57=3,VLOOKUP(D$2,Table1[],5,0),IF($B57=4,VLOOKUP(D$2,Table1[],5,0),0))))","v":2000000},{"$f":"IF($B57=1,VLOOKUP(E$2,Table1[],3,0),IF($B57=2,VLOOKUP(E$2,Table1[],4,0),IF($B57=3,VLOOKUP(E$2,Table1[],5,0),IF($B57=4,VLOOKUP(E$2,Table1[],5,0),0))))","v":1500000},{"$f":"IF($B57=1,VLOOKUP(F$2,Table1[],3,0),IF($B57=2,VLOOKUP(F$2,Table1[],4,0),IF($B57=3,VLOOKUP(F$2,Table1[],5,0),IF($B57=4,VLOOKUP(F$2,Table1[],5,0),0))))","v":800000}]
[2073,1,{"$f":"IF($B58=1,VLOOKUP(C$2,Table1[],3,0),IF($B58=2,VLOOKUP(C$2,Table1[],4,0),IF($B58=3,VLOOKUP(C$2,Table1[],5,0),IF($B58=4,VLOOKUP(C$2,Table1[],5,0),0))))","v":2000000},{"$f":"IF($B58=1,VLOOKUP(D$2,Table1[],3,0),IF($B58=2,VLOOKUP(D$2,Table1[],4,0),IF($B58=3,VLOOKUP(D$2,Table1[],5,0),IF($B58=4,VLOOKUP(D$2,Table1[],5,0),0))))","v":2000000},{"$f":"IF($B58=1,VLOOKUP(E$2,Table1[],3,0),IF($B58=2,VLOOKUP(E$2,Table1[],4,0),IF($B58=3,VLOOKUP(E$2,Table1[],5,0),IF($B58=4,VLOOKUP(E$2,Table1[],5,0),0))))","v":1500000},{"$f":"IF($B58=1,VLOOKUP(F$2,Table1[],3,0),IF($B58=2,VLOOKUP(F$2,Table1[],4,0),IF($B58=3,VLOOKUP(F$2,Table1[],5,0),IF($B58=4,VLOOKUP(F$2,Table1[],5,0),0))))","v":800000}]
[2074,1,{"$f":"IF($B59=1,VLOOKUP(C$2,Table1[],3,0),IF($B59=2,VLOOKUP(C$2,Table1[],4,0),IF($B59=3,VLOOKUP(C$2,Table1[],5,0),IF($B59=4,VLOOKUP(C$2,Table1[],5,0),0))))","v":2000000},{"$f":"IF($B59=1,VLOOKUP(D$2,Table1[],3,0),IF($B59=2,VLOOKUP(D$2,Table1[],4,0),IF($B59=3,VLOOKUP(D$2,Table1[],5,0),IF($B59=4,VLOOKUP(D$2,Table1[],5,0),0))))","v":2000000},{"$f":"IF($B59=1,VLOOKUP(E$2,Table1[],3,0),IF($B59=2,VLOOKUP(E$2,Table1[],4,0),IF($B59=3,VLOOKUP(E$2,Table1[],5,0),IF($B59=4,VLOOKUP(E$2,Table1[],5,0),0))))","v":1500000},{"$f":"IF($B59=1,VLOOKUP(F$2,Table1[],3,0),IF($B59=2,VLOOKUP(F$2,Table1[],4,0),IF($B59=3,VLOOKUP(F$2,Table1[],5,0),IF($B59=4,VLOOKUP(F$2,Table1[],5,0),0))))","v":800000}]
[2075,1,{"$f":"IF($B60=1,VLOOKUP(C$2,Table1[],3,0),IF($B60=2,VLOOKUP(C$2,Table1[],4,0),IF($B60=3,VLOOKUP(C$2,Table1[],5,0),IF($B60=4,VLOOKUP(C$2,Table1[],5,0),0))))","v":2000000},{"$f":"IF($B60=1,VLOOKUP(D$2,Table1[],3,0),IF($B60=2,VLOOKUP(D$2,Table1[],4,0),IF($B60=3,VLOOKUP(D$2,Table1[],5,0),IF($B60=4,VLOOKUP(D$2,Table1[],5,0),0))))","v":2000000},{"$f":"IF($B60=1,VLOOKUP(E$2,Table1[],3,0),IF($B60=2,VLOOKUP(E$2,Table1[],4,0),IF($B60=3,VLOOKUP(E$2,Table1[],5,0),IF($B60=4,VLOOKUP(E$2,Table1[],5,0),0))))","v":1500000},{"$f":"IF($B60=1,VLOOKUP(F$2,Table1[],3,0),IF($B60=2,VLOOKUP(F$2,Table1[],4,0),IF($B60=3,VLOOKUP(F$2,Table1[],5,0),IF($B60=4,VLOOKUP(F$2,Table1[],5,0),0))))","v":800000}]
[2076,1,{"$f":"IF($B61=1,VLOOKUP(C$2,Table1[],3,0),IF($B61=2,VLOOKUP(C$2,Table1[],4,0),IF($B61=3,VLOOKUP(C$2,Table1[],5,0),IF($B61=4,VLOOKUP(C$2,Table1[],5,0),0))))","v":2000000},{"$f":"IF($B61=1,VLOOKUP(D$2,Table1[],3,0),IF($B61=2,VLOOKUP(D$2,Table1[],4,0),IF($B61=3,VLOOKUP(D$2,Table1[],5,0),IF($B61=4,VLOOKUP(D$2,Table1[],5,0),0))))","v":2000000},{"$f":"IF($B61=1,VLOOKUP(E$2,Table1[],3,0),IF($B61=2,VLOOKUP(E$2,Table1[],4,0),IF($B61=3,VLOOKUP(E$2,Table1[],5,0),IF($B61=4,VLOOKUP(E$2,Table1[],5,0),0))))","v":1500000},{"$f":"IF($B61=1,VLOOKUP(F$2,Table1[],3,0),IF($B61=2,VLOOKUP(F$2,Table1[],4,0),IF($B61=3,VLOOKUP(F$2,Table1[],5,0),IF($B61=4,VLOOKUP(F$2,Table1[],5,0),0))))","v":800000}]
[2077,1,{"$f":"IF($B62=1,VLOOKUP(C$2,Table1[],3,0),IF($B62=2,VLOOKUP(C$2,Table1[],4,0),IF($B62=3,VLOOKUP(C$2,Table1[],5,0),IF($B62=4,VLOOKUP(C$2,Table1[],5,0),0))))","v":2000000},{"$f":"IF($B62=1,VLOOKUP(D$2,Table1[],3,0),IF($B62=2,VLOOKUP(D$2,Table1[],4,0),IF($B62=3,VLOOKUP(D$2,Table1[],5,0),IF($B62=4,VLOOKUP(D$2,Table1[],5,0),0))))","v":2000000},{"$f":"IF($B62=1,VLOOKUP(E$2,Table1[],3,0),IF($B62=2,VLOOKUP(E$2,Table1[],4,0),IF($B62=3,VLOOKUP(E$2,Table1[],5,0),IF($B62=4,VLOOKUP(E$2,Table1[],5,0),0))))","v":1500000},{"$f":"IF($B62=1,VLOOKUP(F$2,Table1[],3,0),IF($B62=2,VLOOKUP(F$2,Table1[],4,0),IF($B62=3,VLOOKUP(F$2,Table1[],5,0),IF($B62=4,VLOOKUP(F$2,Table1[],5,0),0))))","v":800000}]
[2079,1,{"$f":"IF($B63=1,VLOOKUP(C$2,Table1[],3,0),IF($B63=2,VLOOKUP(C$2,Table1[],4,0),IF($B63=3,VLOOKUP(C$2,Table1[],5,0),IF($B63=4,VLOOKUP(C$2,Table1[],5,0),0))))","v":2000000},{"$f":"IF($B63=1,VLOOKUP(D$2,Table1[],3,0),IF($B63=2,VLOOKUP(D$2,Table1[],4,0),IF($B63=3,VLOOKUP(D$2,Table1[],5,0),IF($B63=4,VLOOKUP(D$2,Table1[],5,0),0))))","v":2000000},{"$f":"IF($B63=1,VLOOKUP(E$2,Table1[],3,0),IF($B63=2,VLOOKUP(E$2,Table1[],4,0),IF($B63=3,VLOOKUP(E$2,Table1[],5,0),IF($B63=4,VLOOKUP(E$2,Table1[],5,0),0))))","v":1500000},{"$f":"IF($B63=1,VLOOKUP(F$2,Table1[],3,0),IF($B63=2,VLOOKUP(F$2,Table1[],4,0),IF($B63=3,VLOOKUP(F$2,Table1[],5,0),IF($B63=4,VLOOKUP(F$2,Table1[],5,0),0))))","v":800000}]
[2080,1,{"$f":"IF($B64=1,VLOOKUP(C$2,Table1[],3,0),IF($B64=2,VLOOKUP(C$2,Table1[],4,0),IF($B64=3,VLOOKUP(C$2,Table1[],5,0),IF($B64=4,VLOOKUP(C$2,Table1[],5,0),0))))","v":2000000},{"$f":"IF($B64=1,VLOOKUP(D$2,Table1[],3,0),IF($B64=2,VLOOKUP(D$2,Table1[],4,0),IF($B64=3,VLOOKUP(D$2,Table1[],5,0),IF($B64=4,VLOOKUP(D$2,Table1[],5,0),0))))","v":2000000},{"$f":"IF($B64=1,VLOOKUP(E$2,Table1[],3,0),IF($B64=2,VLOOKUP(E$2,Table1[],4,0),IF($B64=3,VLOOKUP(E$2,Table1[],5,0),IF($B64=4,VLOOKUP(E$2,Table1[],5,0),0))))","v":1500000},{"$f":"IF($B64=1,VLOOKUP(F$2,Table1[],3,0),IF($B64=2,VLOOKUP(F$2,Table1[],4,0),IF($B64=3,VLOOKUP(F$2,Table1[],5,0),IF($B64=4,VLOOKUP(F$2,Table1[],5,0),0))))","v":800000}]
[2081,1,{"$f":"IF($B65=1,VLOOKUP(C$2,Table1[],3,0),IF($B65=2,VLOOKUP(C$2,Table1[],4,0),IF($B65=3,VLOOKUP(C$2,Table1[],5,0),IF($B65=4,VLOOKUP(C$2,Table1[],5,0),0))))","v":2000000},{"$f":"IF($B65=1,VLOOKUP(D$2,Table1[],3,0),IF($B65=2,VLOOKUP(D$2,Table1[],4,0),IF($B65=3,VLOOKUP(D$2,Table1[],5,0),IF($B65=4,VLOOKUP(D$2,Table1[],5,0),0))))","v":2000000},{"$f":"IF($B65=1,VLOOKUP(E$2,Table1[],3,0),IF($B65=2,VLOOKUP(E$2,Table1[],4,0),IF($B65=3,VLOOKUP(E$2,Table1[],5,0),IF($B65=4,VLOOKUP(E$2,Table1[],5,0),0))))","v":1500000},{"$f":"IF($B65=1,VLOOKUP(F$2,Table1[],3,0),IF($B65=2,VLOOKUP(F$2,Table1[],4,0),IF($B65=3,VLOOKUP(F$2,Table1[],5,0),IF($B65=4,VLOOKUP(F$2,Table1[],5,0),0))))","v":800000}]
[2082,1,{"$f":"IF($B66=1,VLOOKUP(C$2,Table1[],3,0),IF($B66=2,VLOOKUP(C$2,Table1[],4,0),IF($B66=3,VLOOKUP(C$2,Table1[],5,0),IF($B66=4,VLOOKUP(C$2,Table1[],5,0),0))))","v":2000000},{"$f":"IF($B66=1,VLOOKUP(D$2,Table1[],3,0),IF($B66=2,VLOOKUP(D$2,Table1[],4,0),IF($B66=3,VLOOKUP(D$2,Table1[],5,0),IF($B66=4,VLOOKUP(D$2,Table1[],5,0),0))))","v":2000000},{"$f":"IF($B66=1,VLOOKUP(E$2,Table1[],3,0),IF($B66=2,VLOOKUP(E$2,Table1[],4,0),IF($B66=3,VLOOKUP(E$2,Table1[],5,0),IF($B66=4,VLOOKUP(E$2,Table1[],5,0),0))))","v":1500000},{"$f":"IF($B66=1,VLOOKUP(F$2,Table1[],3,0),IF($B66=2,VLOOKUP(F$2,Table1[],4,0),IF($B66=3,VLOOKUP(F$2,Table1[],5,0),IF($B66=4,VLOOKUP(F$2,Table1[],5,0),0))))","v":800000}]
[2083,1,{"$f":"IF($B67=1,VLOOKUP(C$2,Table1[],3,0),IF($B67=2,VLOOKUP(C$2,Table1[],4,0),IF($B67=3,VLOOKUP(C$2,Table1[],5,0),IF($B67=4,VLOOKUP(C$2,Table1[],5,0),0))))","v":2000000},{"$f":"IF($B67=1,VLOOKUP(D$2,Table1[],3,0),IF($B67=2,VLOOKUP(D$2,Table1[],4,0),IF($B67=3,VLOOKUP(D$2,Table1[],5,0),IF($B67=4,VLOOKUP(D$2,Table1[],5,0),0))))","v":2000000},{"$f":"IF($B67=1,VLOOKUP(E$2,Table1[],3,0),IF($B67=2,VLOOKUP(E$2,Table1[],4,0),IF($B67=3,VLOOKUP(E$2,Table1[],5,0),IF($B67=4,VLOOKUP(E$2,Table1[],5,0),0))))","v":1500000},{"$f":"IF($B67=1,VLOOKUP(F$2,Table1[],3,0),IF($B67=2,VLOOKUP(F$2,Table1[],4,0),IF($B67=3,VLOOKUP(F$2,Table1[],5,0),IF($B67=4,VLOOKUP(F$2,Table1[],5,0),0))))","v":800000}]
[2084,1,{"$f":"IF($B68=1,VLOOKUP(C$2,Table1[],3,0),IF($B68=2,VLOOKUP(C$2,Table1[],4,0),IF($B68=3,VLOOKUP(C$2,Table1[],5,0),IF($B68=4,VLOOKUP(C$2,Table1[],5,0),0))))","v":2000000},{"$f":"IF($B68=1,VLOOKUP(D$2,Table1[],3,0),IF($B68=2,VLOOKUP(D$2,Table1[],4,0),IF($B68=3,VLOOKUP(D$2,Table1[],5,0),IF($B68=4,VLOOKUP(D$2,Table1[],5,0),0))))","v":2000000},{"$f":"IF($B68=1,VLOOKUP(E$2,Table1[],3,0),IF($B68=2,VLOOKUP(E$2,Table1[],4,0),IF($B68=3,VLOOKUP(E$2,Table1[],5,0),IF($B68=4,VLOOKUP(E$2,Table1[],5,0),0))))","v":1500000},{"$f":"IF($B68=1,VLOOKUP(F$2,Table1[],3,0),IF($B68=2,VLOOKUP(F$2,Table1[],4,0),IF($B68=3,VLOOKUP(F$2,Table1[],5,0),IF($B68=4,VLOOKUP(F$2,Table1[],5,0),0))))","v":800000}]
[2085,1,{"$f":"IF($B69=1,VLOOKUP(C$2,Table1[],3,0),IF($B69=2,VLOOKUP(C$2,Table1[],4,0),IF($B69=3,VLOOKUP(C$2,Table1[],5,0),IF($B69=4,VLOOKUP(C$2,Table1[],5,0),0))))","v":2000000},{"$f":"IF($B69=1,VLOOKUP(D$2,Table1[],3,0),IF($B69=2,VLOOKUP(D$2,Table1[],4,0),IF($B69=3,VLOOKUP(D$2,Table1[],5,0),IF($B69=4,VLOOKUP(D$2,Table1[],5,0),0))))","v":2000000},{"$f":"IF($B69=1,VLOOKUP(E$2,Table1[],3,0),IF($B69=2,VLOOKUP(E$2,Table1[],4,0),IF($B69=3,VLOOKUP(E$2,Table1[],5,0),IF($B69=4,VLOOKUP(E$2,Table1[],5,0),0))))","v":1500000},{"$f":"IF($B69=1,VLOOKUP(F$2,Table1[],3,0),IF($B69=2,VLOOKUP(F$2,Table1[],4,0),IF($B69=3,VLOOKUP(F$2,Table1[],5,0),IF($B69=4,VLOOKUP(F$2,Table1[],5,0),0))))","v":800000}]
[2086,1,{"$f":"IF($B70=1,VLOOKUP(C$2,Table1[],3,0),IF($B70=2,VLOOKUP(C$2,Table1[],4,0),IF($B70=3,VLOOKUP(C$2,Table1[],5,0),IF($B70=4,VLOOKUP(C$2,Table1[],5,0),0))))","v":2000000},{"$f":"IF($B70=1,VLOOKUP(D$2,Table1[],3,0),IF($B70=2,VLOOKUP(D$2,Table1[],4,0),IF($B70=3,VLOOKUP(D$2,Table1[],5,0),IF($B70=4,VLOOKUP(D$2,Table1[],5,0),0))))","v":2000000},{"$f":"IF($B70=1,VLOOKUP(E$2,Table1[],3,0),IF($B70=2,VLOOKUP(E$2,Table1[],4,0),IF($B70=3,VLOOKUP(E$2,Table1[],5,0),IF($B70=4,VLOOKUP(E$2,Table1[],5,0),0))))","v":1500000},{"$f":"IF($B70=1,VLOOKUP(F$2,Table1[],3,0),IF($B70=2,VLOOKUP(F$2,Table1[],4,0),IF($B70=3,VLOOKUP(F$2,Table1[],5,0),IF($B70=4,VLOOKUP(F$2,Table1[],5,0),0))))","v":800000}]
[2087,1,{"$f":"IF($B71=1,VLOOKUP(C$2,Table1[],3,0),IF($B71=2,VLOOKUP(C$2,Table1[],4,0),IF($B71=3,VLOOKUP(C$2,Table1[],5,0),IF($B71=4,VLOOKUP(C$2,Table1[],5,0),0))))","v":2000000},{"$f":"IF($B71=1,VLOOKUP(D$2,Table1[],3,0),IF($B71=2,VLOOKUP(D$2,Table1[],4,0),IF($B71=3,VLOOKUP(D$2,Table1[],5,0),IF($B71=4,VLOOKUP(D$2,Table1[],5,0),0))))","v":2000000},{"$f":"IF($B71=1,VLOOKUP(E$2,Table1[],3,0),IF($B71=2,VLOOKUP(E$2,Table1[],4,0),IF($B71=3,VLOOKUP(E$2,Table1[],5,0),IF($B71=4,VLOOKUP(E$2,Table1[],5,0),0))))","v":1500000},{"$f":"IF($B71=1,VLOOKUP(F$2,Table1[],3,0),IF($B71=2,VLOOKUP(F$2,Table1[],4,0),IF($B71=3,VLOOKUP(F$2,Table1[],5,0),IF($B71=4,VLOOKUP(F$2,Table1[],5,0),0))))","v":800000}]
[2088,1,{"$f":"IF($B72=1,VLOOKUP(C$2,Table1[],3,0),IF($B72=2,VLOOKUP(C$2,Table1[],4,0),IF($B72=3,VLOOKUP(C$2,Table1[],5,0),IF($B72=4,VLOOKUP(C$2,Table1[],5,0),0))))","v":2000000},{"$f":"IF($B72=1,VLOOKUP(D$2,Table1[],3,0),IF($B72=2,VLOOKUP(D$2,Table1[],4,0),IF($B72=3,VLOOKUP(D$2,Table1[],5,0),IF($B72=4,VLOOKUP(D$2,Table1[],5,0),0))))","v":2000000},{"$f":"IF($B72=1,VLOOKUP(E$2,Table1[],3,0),IF($B72=2,VLOOKUP(E$2,Table1[],4,0),IF($B72=3,VLOOKUP(E$2,Table1[],5,0),IF($B72=4,VLOOKUP(E$2,Table1[],5,0),0))))","v":1500000},{"$f":"IF($B72=1,VLOOKUP(F$2,Table1[],3,0),IF($B72=2,VLOOKUP(F$2,Table1[],4,0),IF($B72=3,VLOOKUP(F$2,Table1[],5,0),IF($B72=4,VLOOKUP(F$2,Table1[],5,0),0))))","v":800000}]
[2089,1,{"$f":"IF($B73=1,VLOOKUP(C$2,Table1[],3,0),IF($B73=2,VLOOKUP(C$2,Table1[],4,0),IF($B73=3,VLOOKUP(C$2,Table1[],5,0),IF($B73=4,VLOOKUP(C$2,Table1[],5,0),0))))","v":2000000},{"$f":"IF($B73=1,VLOOKUP(D$2,Table1[],3,0),IF($B73=2,VLOOKUP(D$2,Table1[],4,0),IF($B73=3,VLOOKUP(D$2,Table1[],5,0),IF($B73=4,VLOOKUP(D$2,Table1[],5,0),0))))","v":2000000},{"$f":"IF($B73=1,VLOOKUP(E$2,Table1[],3,0),IF($B73=2,VLOOKUP(E$2,Table1[],4,0),IF($B73=3,VLOOKUP(E$2,Table1[],5,0),IF($B73=4,VLOOKUP(E$2,Table1[],5,0),0))))","v":1500000},{"$f":"IF($B73=1,VLOOKUP(F$2,Table1[],3,0),IF($B73=2,VLOOKUP(F$2,Table1[],4,0),IF($B73=3,VLOOKUP(F$2,Table1[],5,0),IF($B73=4,VLOOKUP(F$2,Table1[],5,0),0))))","v":800000}]
[2090,1,{"$f":"IF($B74=1,VLOOKUP(C$2,Table1[],3,0),IF($B74=2,VLOOKUP(C$2,Table1[],4,0),IF($B74=3,VLOOKUP(C$2,Table1[],5,0),IF($B74=4,VLOOKUP(C$2,Table1[],5,0),0))))","v":2000000},{"$f":"IF($B74=1,VLOOKUP(D$2,Table1[],3,0),IF($B74=2,VLOOKUP(D$2,Table1[],4,0),IF($B74=3,VLOOKUP(D$2,Table1[],5,0),IF($B74=4,VLOOKUP(D$2,Table1[],5,0),0))))","v":2000000},{"$f":"IF($B74=1,VLOOKUP(E$2,Table1[],3,0),IF($B74=2,VLOOKUP(E$2,Table1[],4,0),IF($B74=3,VLOOKUP(E$2,Table1[],5,0),IF($B74=4,VLOOKUP(E$2,Table1[],5,0),0))))","v":1500000},{"$f":"IF($B74=1,VLOOKUP(F$2,Table1[],3,0),IF($B74=2,VLOOKUP(F$2,Table1[],4,0),IF($B74=3,VLOOKUP(F$2,Table1[],5,0),IF($B74=4,VLOOKUP(F$2,Table1[],5,0),0))))","v":800000}]
[2092,1,{"$f":"IF($B75=1,VLOOKUP(C$2,Table1[],3,0),IF($B75=2,VLOOKUP(C$2,Table1[],4,0),IF($B75=3,VLOOKUP(C$2,Table1[],5,0),IF($B75=4,VLOOKUP(C$2,Table1[],5,0),0))))","v":2000000},{"$f":"IF($B75=1,VLOOKUP(D$2,Table1[],3,0),IF($B75=2,VLOOKUP(D$2,Table1[],4,0),IF($B75=3,VLOOKUP(D$2,Table1[],5,0),IF($B75=4,VLOOKUP(D$2,Table1[],5,0),0))))","v":2000000},{"$f":"IF($B75=1,VLOOKUP(E$2,Table1[],3,0),IF($B75=2,VLOOKUP(E$2,Table1[],4,0),IF($B75=3,VLOOKUP(E$2,Table1[],5,0),IF($B75=4,VLOOKUP(E$2,Table1[],5,0),0))))","v":1500000},{"$f":"IF($B75=1,VLOOKUP(F$2,Table1[],3,0),IF($B75=2,VLOOKUP(F$2,Table1[],4,0),IF($B75=3,VLOOKUP(F$2,Table1[],5,0),IF($B75=4,VLOOKUP(F$2,Table1[],5,0),0))))","v":800000}]
[2093,1,{"$f":"IF($B76=1,VLOOKUP(C$2,Table1[],3,0),IF($B76=2,VLOOKUP(C$2,Table1[],4,0),IF($B76=3,VLOOKUP(C$2,Table1[],5,0),IF($B76=4,VLOOKUP(C$2,Table1[],5,0),0))))","v":2000000},{"$f":"IF($B76=1,VLOOKUP(D$2,Table1[],3,0),IF($B76=2,VLOOKUP(D$2,Table1[],4,0),IF($B76=3,VLOOKUP(D$2,Table1[],5,0),IF($B76=4,VLOOKUP(D$2,Table1[],5,0),0))))","v":2000000},{"$f":"IF($B76=1,VLOOKUP(E$2,Table1[],3,0),IF($B76=2,VLOOKUP(E$2,Table1[],4,0),IF($B76=3,VLOOKUP(E$2,Table1[],5,0),IF($B76=4,VLOOKUP(E$2,Table1[],5,0),0))))","v":1500000},{"$f":"IF($B76=1,VLOOKUP(F$2,Table1[],3,0),IF($B76=2,VLOOKUP(F$2,Table1[],4,0),IF($B76=3,VLOOKUP(F$2,Table1[],5,0),IF($B76=4,VLOOKUP(F$2,Table1[],5,0),0))))","v":800000}]
[2094,1,{"$f":"IF($B77=1,VLOOKUP(C$2,Table1[],3,0),IF($B77=2,VLOOKUP(C$2,Table1[],4,0),IF($B77=3,VLOOKUP(C$2,Table1[],5,0),IF($B77=4,VLOOKUP(C$2,Table1[],5,0),0))))","v":2000000},{"$f":"IF($B77=1,VLOOKUP(D$2,Table1[],3,0),IF($B77=2,VLOOKUP(D$2,Table1[],4,0),IF($B77=3,VLOOKUP(D$2,Table1[],5,0),IF($B77=4,VLOOKUP(D$2,Table1[],5,0),0))))","v":2000000},{"$f":"IF($B77=1,VLOOKUP(E$2,Table1[],3,0),IF($B77=2,VLOOKUP(E$2,Table1[],4,0),IF($B77=3,VLOOKUP(E$2,Table1[],5,0),IF($B77=4,VLOOKUP(E$2,Table1[],5,0),0))))","v":1500000},{"$f":"IF($B77=1,VLOOKUP(F$2,Table1[],3,0),IF($B77=2,VLOOKUP(F$2,Table1[],4,0),IF($B77=3,VLOOKUP(F$2,Table1[],5,0),IF($B77=4,VLOOKUP(F$2,Table1[],5,0),0))))","v":800000}]
[2095,1,{"$f":"IF($B78=1,VLOOKUP(C$2,Table1[],3,0),IF($B78=2,VLOOKUP(C$2,Table1[],4,0),IF($B78=3,VLOOKUP(C$2,Table1[],5,0),IF($B78=4,VLOOKUP(C$2,Table1[],5,0),0))))","v":2000000},{"$f":"IF($B78=1,VLOOKUP(D$2,Table1[],3,0),IF($B78=2,VLOOKUP(D$2,Table1[],4,0),IF($B78=3,VLOOKUP(D$2,Table1[],5,0),IF($B78=4,VLOOKUP(D$2,Table1[],5,0),0))))","v":2000000},{"$f":"IF($B78=1,VLOOKUP(E$2,Table1[],3,0),IF($B78=2,VLOOKUP(E$2,Table1[],4,0),IF($B78=3,VLOOKUP(E$2,Table1[],5,0),IF($B78=4,VLOOKUP(E$2,Table1[],5,0),0))))","v":1500000},{"$f":"IF($B78=1,VLOOKUP(F$2,Table1[],3,0),IF($B78=2,VLOOKUP(F$2,Table1[],4,0),IF($B78=3,VLOOKUP(F$2,Table1[],5,0),IF($B78=4,VLOOKUP(F$2,Table1[],5,0),0))))","v":800000}]
[2096,1,{"$f":"IF($B79=1,VLOOKUP(C$2,Table1[],3,0),IF($B79=2,VLOOKUP(C$2,Table1[],4,0),IF($B79=3,VLOOKUP(C$2,Table1[],5,0),IF($B79=4,VLOOKUP(C$2,Table1[],5,0),0))))","v":2000000},{"$f":"IF($B79=1,VLOOKUP(D$2,Table1[],3,0),IF($B79=2,VLOOKUP(D$2,Table1[],4,0),IF($B79=3,VLOOKUP(D$2,Table1[],5,0),IF($B79=4,VLOOKUP(D$2,Table1[],5,0),0))))","v":2000000},{"$f":"IF($B79=1,VLOOKUP(E$2,Table1[],3,0),IF($B79=2,VLOOKUP(E$2,Table1[],4,0),IF($B79=3,VLOOKUP(E$2,Table1[],5,0),IF($B79=4,VLOOKUP(E$2,Table1[],5,0),0))))","v":1500000},{"$f":"IF($B79=1,VLOOKUP(F$2,Table1[],3,0),IF($B79=2,VLOOKUP(F$2,Table1[],4,0),IF($B79=3,VLOOKUP(F$2,Table1[],5,0),IF($B79=4,VLOOKUP(F$2,Table1[],5,0),0))))","v":800000}]
[2097,1,{"$f":"IF($B80=1,VLOOKUP(C$2,Table1[],3,0),IF($B80=2,VLOOKUP(C$2,Table1[],4,0),IF($B80=3,VLOOKUP(C$2,Table1[],5,0),IF($B80=4,VLOOKUP(C$2,Table1[],5,0),0))))","v":2000000},{"$f":"IF($B80=1,VLOOKUP(D$2,Table1[],3,0),IF($B80=2,VLOOKUP(D$2,Table1[],4,0),IF($B80=3,VLOOKUP(D$2,Table1[],5,0),IF($B80=4,VLOOKUP(D$2,Table1[],5,0),0))))","v":2000000},{"$f":"IF($B80=1,VLOOKUP(E$2,Table1[],3,0),IF($B80=2,VLOOKUP(E$2,Table1[],4,0),IF($B80=3,VLOOKUP(E$2,Table1[],5,0),IF($B80=4,VLOOKUP(E$2,Table1[],5,0),0))))","v":1500000},{"$f":"IF($B80=1,VLOOKUP(F$2,Table1[],3,0),IF($B80=2,VLOOKUP(F$2,Table1[],4,0),IF($B80=3,VLOOKUP(F$2,Table1[],5,0),IF($B80=4,VLOOKUP(F$2,Table1[],5,0),0))))","v":800000}]
[2099,1,{"$f":"IF($B81=1,VLOOKUP(C$2,Table1[],3,0),IF($B81=2,VLOOKUP(C$2,Table1[],4,0),IF($B81=3,VLOOKUP(C$2,Table1[],5,0),IF($B81=4,VLOOKUP(C$2,Table1[],5,0),0))))","v":2000000},{"$f":"IF($B81=1,VLOOKUP(D$2,Table1[],3,0),IF($B81=2,VLOOKUP(D$2,Table1[],4,0),IF($B81=3,VLOOKUP(D$2,Table1[],5,0),IF($B81=4,VLOOKUP(D$2,Table1[],5,0),0))))","v":2000000},{"$f":"IF($B81=1,VLOOKUP(E$2,Table1[],3,0),IF($B81=2,VLOOKUP(E$2,Table1[],4,0),IF($B81=3,VLOOKUP(E$2,Table1[],5,0),IF($B81=4,VLOOKUP(E$2,Table1[],5,0),0))))","v":1500000},{"$f":"IF($B81=1,VLOOKUP(F$2,Table1[],3,0),IF($B81=2,VLOOKUP(F$2,Table1[],4,0),IF($B81=3,VLOOKUP(F$2,Table1[],5,0),IF($B81=4,VLOOKUP(F$2,Table1[],5,0),0))))","v":800000}]
[2100,1,{"$f":"IF($B82=1,VLOOKUP(C$2,Table1[],3,0),IF($B82=2,VLOOKUP(C$2,Table1[],4,0),IF($B82=3,VLOOKUP(C$2,Table1[],5,0),IF($B82=4,VLOOKUP(C$2,Table1[],5,0),0))))","v":2000000},{"$f":"IF($B82=1,VLOOKUP(D$2,Table1[],3,0),IF($B82=2,VLOOKUP(D$2,Table1[],4,0),IF($B82=3,VLOOKUP(D$2,Table1[],5,0),IF($B82=4,VLOOKUP(D$2,Table1[],5,0),0))))","v":2000000},{"$f":"IF($B82=1,VLOOKUP(E$2,Table1[],3,0),IF($B82=2,VLOOKUP(E$2,Table1[],4,0),IF($B82=3,VLOOKUP(E$2,Table1[],5,0),IF($B82=4,VLOOKUP(E$2,Table1[],5,0),0))))","v":1500000},{"$f":"IF($B82=1,VLOOKUP(F$2,Table1[],3,0),IF($B82=2,VLOOKUP(F$2,Table1[],4,0),IF($B82=3,VLOOKUP(F$2,Table1[],5,0),IF($B82=4,VLOOKUP(F$2,Table1[],5,0),0))))","v":800000}]
[2101,1,{"$f":"IF($B83=1,VLOOKUP(C$2,Table1[],3,0),IF($B83=2,VLOOKUP(C$2,Table1[],4,0),IF($B83=3,VLOOKUP(C$2,Table1[],5,0),IF($B83=4,VLOOKUP(C$2,Table1[],5,0),0))))","v":2000000},{"$f":"IF($B83=1,VLOOKUP(D$2,Table1[],3,0),IF($B83=2,VLOOKUP(D$2,Table1[],4,0),IF($B83=3,VLOOKUP(D$2,Table1[],5,0),IF($B83=4,VLOOKUP(D$2,Table1[],5,0),0))))","v":2000000},{"$f":"IF($B83=1,VLOOKUP(E$2,Table1[],3,0),IF($B83=2,VLOOKUP(E$2,Table1[],4,0),IF($B83=3,VLOOKUP(E$2,Table1[],5,0),IF($B83=4,VLOOKUP(E$2,Table1[],5,0),0))))","v":1500000},{"$f":"IF($B83=1,VLOOKUP(F$2,Table1[],3,0),IF($B83=2,VLOOKUP(F$2,Table1[],4,0),IF($B83=3,VLOOKUP(F$2,Table1[],5,0),IF($B83=4,VLOOKUP(F$2,Table1[],5,0),0))))","v":800000}]
[2102,1,{"$f":"IF($B84=1,VLOOKUP(C$2,Table1[],3,0),IF($B84=2,VLOOKUP(C$2,Table1[],4,0),IF($B84=3,VLOOKUP(C$2,Table1[],5,0),IF($B84=4,VLOOKUP(C$2,Table1[],5,0),0))))","v":2000000},{"$f":"IF($B84=1,VLOOKUP(D$2,Table1[],3,0),IF($B84=2,VLOOKUP(D$2,Table1[],4,0),IF($B84=3,VLOOKUP(D$2,Table1[],5,0),IF($B84=4,VLOOKUP(D$2,Table1[],5,0),0))))","v":2000000},{"$f":"IF($B84=1,VLOOKUP(E$2,Table1[],3,0),IF($B84=2,VLOOKUP(E$2,Table1[],4,0),IF($B84=3,VLOOKUP(E$2,Table1[],5,0),IF($B84=4,VLOOKUP(E$2,Table1[],5,0),0))))","v":1500000},{"$f":"IF($B84=1,VLOOKUP(F$2,Table1[],3,0),IF($B84=2,VLOOKUP(F$2,Table1[],4,0),IF($B84=3,VLOOKUP(F$2,Table1[],5,0),IF($B84=4,VLOOKUP(F$2,Table1[],5,0),0))))","v":800000}]
[2103,1,{"$f":"IF($B85=1,VLOOKUP(C$2,Table1[],3,0),IF($B85=2,VLOOKUP(C$2,Table1[],4,0),IF($B85=3,VLOOKUP(C$2,Table1[],5,0),IF($B85=4,VLOOKUP(C$2,Table1[],5,0),0))))","v":2000000},{"$f":"IF($B85=1,VLOOKUP(D$2,Table1[],3,0),IF($B85=2,VLOOKUP(D$2,Table1[],4,0),IF($B85=3,VLOOKUP(D$2,Table1[],5,0),IF($B85=4,VLOOKUP(D$2,Table1[],5,0),0))))","v":2000000},{"$f":"IF($B85=1,VLOOKUP(E$2,Table1[],3,0),IF($B85=2,VLOOKUP(E$2,Table1[],4,0),IF($B85=3,VLOOKUP(E$2,Table1[],5,0),IF($B85=4,VLOOKUP(E$2,Table1[],5,0),0))))","v":1500000},{"$f":"IF($B85=1,VLOOKUP(F$2,Table1[],3,0),IF($B85=2,VLOOKUP(F$2,Table1[],4,0),IF($B85=3,VLOOKUP(F$2,Table1[],5,0),IF($B85=4,VLOOKUP(F$2,Table1[],5,0),0))))","v":800000}]
[2104,1,{"$f":"IF($B86=1,VLOOKUP(C$2,Table1[],3,0),IF($B86=2,VLOOKUP(C$2,Table1[],4,0),IF($B86=3,VLOOKUP(C$2,Table1[],5,0),IF($B86=4,VLOOKUP(C$2,Table1[],5,0),0))))","v":2000000},{"$f":"IF($B86=1,VLOOKUP(D$2,Table1[],3,0),IF($B86=2,VLOOKUP(D$2,Table1[],4,0),IF($B86=3,VLOOKUP(D$2,Table1[],5,0),IF($B86=4,VLOOKUP(D$2,Table1[],5,0),0))))","v":2000000},{"$f":"IF($B86=1,VLOOKUP(E$2,Table1[],3,0),IF($B86=2,VLOOKUP(E$2,Table1[],4,0),IF($B86=3,VLOOKUP(E$2,Table1[],5,0),IF($B86=4,VLOOKUP(E$2,Table1[],5,0),0))))","v":1500000},{"$f":"IF($B86=1,VLOOKUP(F$2,Table1[],3,0),IF($B86=2,VLOOKUP(F$2,Table1[],4,0),IF($B86=3,VLOOKUP(F$2,Table1[],5,0),IF($B86=4,VLOOKUP(F$2,Table1[],5,0),0))))","v":800000}]
[2105,1,{"$f":"IF($B87=1,VLOOKUP(C$2,Table1[],3,0),IF($B87=2,VLOOKUP(C$2,Table1[],4,0),IF($B87=3,VLOOKUP(C$2,Table1[],5,0),IF($B87=4,VLOOKUP(C$2,Table1[],5,0),0))))","v":2000000},{"$f":"IF($B87=1,VLOOKUP(D$2,Table1[],3,0),IF($B87=2,VLOOKUP(D$2,Table1[],4,0),IF($B87=3,VLOOKUP(D$2,Table1[],5,0),IF($B87=4,VLOOKUP(D$2,Table1[],5,0),0))))","v":2000000},{"$f":"IF($B87=1,VLOOKUP(E$2,Table1[],3,0),IF($B87=2,VLOOKUP(E$2,Table1[],4,0),IF($B87=3,VLOOKUP(E$2,Table1[],5,0),IF($B87=4,VLOOKUP(E$2,Table1[],5,0),0))))","v":1500000},{"$f":"IF($B87=1,VLOOKUP(F$2,Table1[],3,0),IF($B87=2,VLOOKUP(F$2,Table1[],4,0),IF($B87=3,VLOOKUP(F$2,Table1[],5,0),IF($B87=4,VLOOKUP(F$2,Table1[],5,0),0))))","v":800000}]
[2106,1,{"$f":"IF($B88=1,VLOOKUP(C$2,Table1[],3,0),IF($B88=2,VLOOKUP(C$2,Table1[],4,0),IF($B88=3,VLOOKUP(C$2,Table1[],5,0),IF($B88=4,VLOOKUP(C$2,Table1[],5,0),0))))","v":2000000},{"$f":"IF($B88=1,VLOOKUP(D$2,Table1[],3,0),IF($B88=2,VLOOKUP(D$2,Table1[],4,0),IF($B88=3,VLOOKUP(D$2,Table1[],5,0),IF($B88=4,VLOOKUP(D$2,Table1[],5,0),0))))","v":2000000},{"$f":"IF($B88=1,VLOOKUP(E$2,Table1[],3,0),IF($B88=2,VLOOKUP(E$2,Table1[],4,0),IF($B88=3,VLOOKUP(E$2,Table1[],5,0),IF($B88=4,VLOOKUP(E$2,Table1[],5,0),0))))","v":1500000},{"$f":"IF($B88=1,VLOOKUP(F$2,Table1[],3,0),IF($B88=2,VLOOKUP(F$2,Table1[],4,0),IF($B88=3,VLOOKUP(F$2,Table1[],5,0),IF($B88=4,VLOOKUP(F$2,Table1[],5,0),0))))","v":800000}]
[2107,1,{"$f":"IF($B89=1,VLOOKUP(C$2,Table1[],3,0),IF($B89=2,VLOOKUP(C$2,Table1[],4,0),IF($B89=3,VLOOKUP(C$2,Table1[],5,0),IF($B89=4,VLOOKUP(C$2,Table1[],5,0),0))))","v":2000000},{"$f":"IF($B89=1,VLOOKUP(D$2,Table1[],3,0),IF($B89=2,VLOOKUP(D$2,Table1[],4,0),IF($B89=3,VLOOKUP(D$2,Table1[],5,0),IF($B89=4,VLOOKUP(D$2,Table1[],5,0),0))))","v":2000000},{"$f":"IF($B89=1,VLOOKUP(E$2,Table1[],3,0),IF($B89=2,VLOOKUP(E$2,Table1[],4,0),IF($B89=3,VLOOKUP(E$2,Table1[],5,0),IF($B89=4,VLOOKUP(E$2,Table1[],5,0),0))))","v":1500000},{"$f":"IF($B89=1,VLOOKUP(F$2,Table1[],3,0),IF($B89=2,VLOOKUP(F$2,Table1[],4,0),IF($B89=3,VLOOKUP(F$2,Table1[],5,0),IF($B89=4,VLOOKUP(F$2,Table1[],5,0),0))))","v":800000}]
[2108,1,{"$f":"IF($B90=1,VLOOKUP(C$2,Table1[],3,0),IF($B90=2,VLOOKUP(C$2,Table1[],4,0),IF($B90=3,VLOOKUP(C$2,Table1[],5,0),IF($B90=4,VLOOKUP(C$2,Table1[],5,0),0))))","v":2000000},{"$f":"IF($B90=1,VLOOKUP(D$2,Table1[],3,0),IF($B90=2,VLOOKUP(D$2,Table1[],4,0),IF($B90=3,VLOOKUP(D$2,Table1[],5,0),IF($B90=4,VLOOKUP(D$2,Table1[],5,0),0))))","v":2000000},{"$f":"IF($B90=1,VLOOKUP(E$2,Table1[],3,0),IF($B90=2,VLOOKUP(E$2,Table1[],4,0),IF($B90=3,VLOOKUP(E$2,Table1[],5,0),IF($B90=4,VLOOKUP(E$2,Table1[],5,0),0))))","v":1500000},{"$f":"IF($B90=1,VLOOKUP(F$2,Table1[],3,0),IF($B90=2,VLOOKUP(F$2,Table1[],4,0),IF($B90=3,VLOOKUP(F$2,Table1[],5,0),IF($B90=4,VLOOKUP(F$2,Table1[],5,0),0))))","v":800000}]
[2110,1,{"$f":"IF($B91=1,VLOOKUP(C$2,Table1[],3,0),IF($B91=2,VLOOKUP(C$2,Table1[],4,0),IF($B91=3,VLOOKUP(C$2,Table1[],5,0),IF($B91=4,VLOOKUP(C$2,Table1[],5,0),0))))","v":2000000},{"$f":"IF($B91=1,VLOOKUP(D$2,Table1[],3,0),IF($B91=2,VLOOKUP(D$2,Table1[],4,0),IF($B91=3,VLOOKUP(D$2,Table1[],5,0),IF($B91=4,VLOOKUP(D$2,Table1[],5,0),0))))","v":2000000},{"$f":"IF($B91=1,VLOOKUP(E$2,Table1[],3,0),IF($B91=2,VLOOKUP(E$2,Table1[],4,0),IF($B91=3,VLOOKUP(E$2,Table1[],5,0),IF($B91=4,VLOOKUP(E$2,Table1[],5,0),0))))","v":1500000},{"$f":"IF($B91=1,VLOOKUP(F$2,Table1[],3,0),IF($B91=2,VLOOKUP(F$2,Table1[],4,0),IF($B91=3,VLOOKUP(F$2,Table1[],5,0),IF($B91=4,VLOOKUP(F$2,Table1[],5,0),0))))","v":800000}]
[2111,1,{"$f":"IF($B92=1,VLOOKUP(C$2,Table1[],3,0),IF($B92=2,VLOOKUP(C$2,Table1[],4,0),IF($B92=3,VLOOKUP(C$2,Table1[],5,0),IF($B92=4,VLOOKUP(C$2,Table1[],5,0),0))))","v":2000000},{"$f":"IF($B92=1,VLOOKUP(D$2,Table1[],3,0),IF($B92=2,VLOOKUP(D$2,Table1[],4,0),IF($B92=3,VLOOKUP(D$2,Table1[],5,0),IF($B92=4,VLOOKUP(D$2,Table1[],5,0),0))))","v":2000000},{"$f":"IF($B92=1,VLOOKUP(E$2,Table1[],3,0),IF($B92=2,VLOOKUP(E$2,Table1[],4,0),IF($B92=3,VLOOKUP(E$2,Table1[],5,0),IF($B92=4,VLOOKUP(E$2,Table1[],5,0),0))))","v":1500000},{"$f":"IF($B92=1,VLOOKUP(F$2,Table1[],3,0),IF($B92=2,VLOOKUP(F$2,Table1[],4,0),IF($B92=3,VLOOKUP(F$2,Table1[],5,0),IF($B92=4,VLOOKUP(F$2,Table1[],5,0),0))))","v":800000}]
[2112,1,{"$f":"IF($B93=1,VLOOKUP(C$2,Table1[],3,0),IF($B93=2,VLOOKUP(C$2,Table1[],4,0),IF($B93=3,VLOOKUP(C$2,Table1[],5,0),IF($B93=4,VLOOKUP(C$2,Table1[],5,0),0))))","v":2000000},{"$f":"IF($B93=1,VLOOKUP(D$2,Table1[],3,0),IF($B93=2,VLOOKUP(D$2,Table1[],4,0),IF($B93=3,VLOOKUP(D$2,Table1[],5,0),IF($B93=4,VLOOKUP(D$2,Table1[],5,0),0))))","v":2000000},{"$f":"IF($B93=1,VLOOKUP(E$2,Table1[],3,0),IF($B93=2,VLOOKUP(E$2,Table1[],4,0),IF($B93=3,VLOOKUP(E$2,Table1[],5,0),IF($B93=4,VLOOKUP(E$2,Table1[],5,0),0))))","v":1500000},{"$f":"IF($B93=1,VLOOKUP(F$2,Table1[],3,0),IF($B93=2,VLOOKUP(F$2,Table1[],4,0),IF($B93=3,VLOOKUP(F$2,Table1[],5,0),IF($B93=4,VLOOKUP(F$2,Table1[],5,0),0))))","v":800000}]
[2113,1,{"$f":"IF($B94=1,VLOOKUP(C$2,Table1[],3,0),IF($B94=2,VLOOKUP(C$2,Table1[],4,0),IF($B94=3,VLOOKUP(C$2,Table1[],5,0),IF($B94=4,VLOOKUP(C$2,Table1[],5,0),0))))","v":2000000},{"$f":"IF($B94=1,VLOOKUP(D$2,Table1[],3,0),IF($B94=2,VLOOKUP(D$2,Table1[],4,0),IF($B94=3,VLOOKUP(D$2,Table1[],5,0),IF($B94=4,VLOOKUP(D$2,Table1[],5,0),0))))","v":2000000},{"$f":"IF($B94=1,VLOOKUP(E$2,Table1[],3,0),IF($B94=2,VLOOKUP(E$2,Table1[],4,0),IF($B94=3,VLOOKUP(E$2,Table1[],5,0),IF($B94=4,VLOOKUP(E$2,Table1[],5,0),0))))","v":1500000},{"$f":"IF($B94=1,VLOOKUP(F$2,Table1[],3,0),IF($B94=2,VLOOKUP(F$2,Table1[],4,0),IF($B94=3,VLOOKUP(F$2,Table1[],5,0),IF($B94=4,VLOOKUP(F$2,Table1[],5,0),0))))","v":800000}]
[2114,1,{"$f":"IF($B95=1,VLOOKUP(C$2,Table1[],3,0),IF($B95=2,VLOOKUP(C$2,Table1[],4,0),IF($B95=3,VLOOKUP(C$2,Table1[],5,0),IF($B95=4,VLOOKUP(C$2,Table1[],5,0),0))))","v":2000000},{"$f":"IF($B95=1,VLOOKUP(D$2,Table1[],3,0),IF($B95=2,VLOOKUP(D$2,Table1[],4,0),IF($B95=3,VLOOKUP(D$2,Table1[],5,0),IF($B95=4,VLOOKUP(D$2,Table1[],5,0),0))))","v":2000000},{"$f":"IF($B95=1,VLOOKUP(E$2,Table1[],3,0),IF($B95=2,VLOOKUP(E$2,Table1[],4,0),IF($B95=3,VLOOKUP(E$2,Table1[],5,0),IF($B95=4,VLOOKUP(E$2,Table1[],5,0),0))))","v":1500000},{"$f":"IF($B95=1,VLOOKUP(F$2,Table1[],3,0),IF($B95=2,VLOOKUP(F$2,Table1[],4,0),IF($B95=3,VLOOKUP(F$2,Table1[],5,0),IF($B95=4,VLOOKUP(F$2,Table1[],5,0),0))))","v":800000}]
[2115,1,{"$f":"IF($B96=1,VLOOKUP(C$2,Table1[],3,0),IF($B96=2,VLOOKUP(C$2,Table1[],4,0),IF($B96=3,VLOOKUP(C$2,Table1[],5,0),IF($B96=4,VLOOKUP(C$2,Table1[],5,0),0))))","v":2000000},{"$f":"IF($B96=1,VLOOKUP(D$2,Table1[],3,0),IF($B96=2,VLOOKUP(D$2,Table1[],4,0),IF($B96=3,VLOOKUP(D$2,Table1[],5,0),IF($B96=4,VLOOKUP(D$2,Table1[],5,0),0))))","v":2000000},{"$f":"IF($B96=1,VLOOKUP(E$2,Table1[],3,0),IF($B96=2,VLOOKUP(E$2,Table1[],4,0),IF($B96=3,VLOOKUP(E$2,Table1[],5,0),IF($B96=4,VLOOKUP(E$2,Table1[],5,0),0))))","v":1500000},{"$f":"IF($B96=1,VLOOKUP(F$2,Table1[],3,0),IF($B96=2,VLOOKUP(F$2,Table1[],4,0),IF($B96=3,VLOOKUP(F$2,Table1[],5,0),IF($B96=4,VLOOKUP(F$2,Table1[],5,0),0))))","v":800000}]
[2116,1,{"$f":"IF($B97=1,VLOOKUP(C$2,Table1[],3,0),IF($B97=2,VLOOKUP(C$2,Table1[],4,0),IF($B97=3,VLOOKUP(C$2,Table1[],5,0),IF($B97=4,VLOOKUP(C$2,Table1[],5,0),0))))","v":2000000},{"$f":"IF($B97=1,VLOOKUP(D$2,Table1[],3,0),IF($B97=2,VLOOKUP(D$2,Table1[],4,0),IF($B97=3,VLOOKUP(D$2,Table1[],5,0),IF($B97=4,VLOOKUP(D$2,Table1[],5,0),0))))","v":2000000},{"$f":"IF($B97=1,VLOOKUP(E$2,Table1[],3,0),IF($B97=2,VLOOKUP(E$2,Table1[],4,0),IF($B97=3,VLOOKUP(E$2,Table1[],5,0),IF($B97=4,VLOOKUP(E$2,Table1[],5,0),0))))","v":1500000},{"$f":"IF($B97=1,VLOOKUP(F$2,Table1[],3,0),IF($B97=2,VLOOKUP(F$2,Table1[],4,0),IF($B97=3,VLOOKUP(F$2,Table1[],5,0),IF($B97=4,VLOOKUP(F$2,Table1[],5,0),0))))","v":800000}]
[2117,1,{"$f":"IF($B98=1,VLOOKUP(C$2,Table1[],3,0),IF($B98=2,VLOOKUP(C$2,Table1[],4,0),IF($B98=3,VLOOKUP(C$2,Table1[],5,0),IF($B98=4,VLOOKUP(C$2,Table1[],5,0),0))))","v":2000000},{"$f":"IF($B98=1,VLOOKUP(D$2,Table1[],3,0),IF($B98=2,VLOOKUP(D$2,Table1[],4,0),IF($B98=3,VLOOKUP(D$2,Table1[],5,0),IF($B98=4,VLOOKUP(D$2,Table1[],5,0),0))))","v":2000000},{"$f":"IF($B98=1,VLOOKUP(E$2,Table1[],3,0),IF($B98=2,VLOOKUP(E$2,Table1[],4,0),IF($B98=3,VLOOKUP(E$2,Table1[],5,0),IF($B98=4,VLOOKUP(E$2,Table1[],5,0),0))))","v":1500000},{"$f":"IF($B98=1,VLOOKUP(F$2,Table1[],3,0),IF($B98=2,VLOOKUP(F$2,Table1[],4,0),IF($B98=3,VLOOKUP(F$2,Table1[],5,0),IF($B98=4,VLOOKUP(F$2,Table1[],5,0),0))))","v":800000}]
[2118,1,{"$f":"IF($B99=1,VLOOKUP(C$2,Table1[],3,0),IF($B99=2,VLOOKUP(C$2,Table1[],4,0),IF($B99=3,VLOOKUP(C$2,Table1[],5,0),IF($B99=4,VLOOKUP(C$2,Table1[],5,0),0))))","v":2000000},{"$f":"IF($B99=1,VLOOKUP(D$2,Table1[],3,0),IF($B99=2,VLOOKUP(D$2,Table1[],4,0),IF($B99=3,VLOOKUP(D$2,Table1[],5,0),IF($B99=4,VLOOKUP(D$2,Table1[],5,0),0))))","v":2000000},{"$f":"IF($B99=1,VLOOKUP(E$2,Table1[],3,0),IF($B99=2,VLOOKUP(E$2,Table1[],4,0),IF($B99=3,VLOOKUP(E$2,Table1[],5,0),IF($B99=4,VLOOKUP(E$2,Table1[],5,0),0))))","v":1500000},{"$f":"IF($B99=1,VLOOKUP(F$2,Table1[],3,0),IF($B99=2,VLOOKUP(F$2,Table1[],4,0),IF($B99=3,VLOOKUP(F$2,Table1[],5,0),IF($B99=4,VLOOKUP(F$2,Table1[],5,0),0))))","v":800000}]
[2119,1,{"$f":"IF($B100=1,VLOOKUP(C$2,Table1[],3,0),IF($B100=2,VLOOKUP(C$2,Table1[],4,0),IF($B100=3,VLOOKUP(C$2,Table1[],5,0),IF($B100=4,VLOOKUP(C$2,Table1[],5,0),0))))","v":2000000},{"$f":"IF($B100=1,VLOOKUP(D$2,Table1[],3,0),IF($B100=2,VLOOKUP(D$2,Table1[],4,0),IF($B100=3,VLOOKUP(D$2,Table1[],5,0),IF($B100=4,VLOOKUP(D$2,Table1[],5,0),0))))","v":2000000},{"$f":"IF($B100=1,VLOOKUP(E$2,Table1[],3,0),IF($B100=2,VLOOKUP(E$2,Table1[],4,0),IF($B100=3,VLOOKUP(E$2,Table1[],5,0),IF($B100=4,VLOOKUP(E$2,Table1[],5,0),0))))","v":1500000},{"$f":"IF($B100=1,VLOOKUP(F$2,Table1[],3,0),IF($B100=2,VLOOKUP(F$2,Table1[],4,0),IF($B100=3,VLOOKUP(F$2,Table1[],5,0),IF($B100=4,VLOOKUP(F$2,Table1[],5,0),0))))","v":800000}]
[2120,1,{"$f":"IF($B101=1,VLOOKUP(C$2,Table1[],3,0),IF($B101=2,VLOOKUP(C$2,Table1[],4,0),IF($B101=3,VLOOKUP(C$2,Table1[],5,0),IF($B101=4,VLOOKUP(C$2,Table1[],5,0),0))))","v":2000000},{"$f":"IF($B101=1,VLOOKUP(D$2,Table1[],3,0),IF($B101=2,VLOOKUP(D$2,Table1[],4,0),IF($B101=3,VLOOKUP(D$2,Table1[],5,0),IF($B101=4,VLOOKUP(D$2,Table1[],5,0),0))))","v":2000000},{"$f":"IF($B101=1,VLOOKUP(E$2,Table1[],3,0),IF($B101=2,VLOOKUP(E$2,Table1[],4,0),IF($B101=3,VLOOKUP(E$2,Table1[],5,0),IF($B101=4,VLOOKUP(E$2,Table1[],5,0),0))))","v":1500000},{"$f":"IF($B101=1,VLOOKUP(F$2,Table1[],3,0),IF($B101=2,VLOOKUP(F$2,Table1[],4,0),IF($B101=3,VLOOKUP(F$2,Table1[],5,0),IF($B101=4,VLOOKUP(F$2,Table1[],5,0),0))))","v":800000}]
[2121,1,{"$f":"IF($B102=1,VLOOKUP(C$2,Table1[],3,0),IF($B102=2,VLOOKUP(C$2,Table1[],4,0),IF($B102=3,VLOOKUP(C$2,Table1[],5,0),IF($B102=4,VLOOKUP(C$2,Table1[],5,0),0))))","v":2000000},{"$f":"IF($B102=1,VLOOKUP(D$2,Table1[],3,0),IF($B102=2,VLOOKUP(D$2,Table1[],4,0),IF($B102=3,VLOOKUP(D$2,Table1[],5,0),IF($B102=4,VLOOKUP(D$2,Table1[],5,0),0))))","v":2000000},{"$f":"IF($B102=1,VLOOKUP(E$2,Table1[],3,0),IF($B102=2,VLOOKUP(E$2,Table1[],4,0),IF($B102=3,VLOOKUP(E$2,Table1[],5,0),IF($B102=4,VLOOKUP(E$2,Table1[],5,0),0))))","v":1500000},{"$f":"IF($B102=1,VLOOKUP(F$2,Table1[],3,0),IF($B102=2,VLOOKUP(F$2,Table1[],4,0),IF($B102=3,VLOOKUP(F$2,Table1[],5,0),IF($B102=4,VLOOKUP(F$2,Table1[],5,0),0))))","v":800000}]
[2122,1,{"$f":"IF($B103=1,VLOOKUP(C$2,Table1[],3,0),IF($B103=2,VLOOKUP(C$2,Table1[],4,0),IF($B103=3,VLOOKUP(C$2,Table1[],5,0),IF($B103=4,VLOOKUP(C$2,Table1[],5,0),0))))","v":2000000},{"$f":"IF($B103=1,VLOOKUP(D$2,Table1[],3,0),IF($B103=2,VLOOKUP(D$2,Table1[],4,0),IF($B103=3,VLOOKUP(D$2,Table1[],5,0),IF($B103=4,VLOOKUP(D$2,Table1[],5,0),0))))","v":2000000},{"$f":"IF($B103=1,VLOOKUP(E$2,Table1[],3,0),IF($B103=2,VLOOKUP(E$2,Table1[],4,0),IF($B103=3,VLOOKUP(E$2,Table1[],5,0),IF($B103=4,VLOOKUP(E$2,Table1[],5,0),0))))","v":1500000},{"$f":"IF($B103=1,VLOOKUP(F$2,Table1[],3,0),IF($B103=2,VLOOKUP(F$2,Table1[],4,0),IF($B103=3,VLOOKUP(F$2,Table1[],5,0),IF($B103=4,VLOOKUP(F$2,Table1[],5,0),0))))","v":800000}]
[2125,1,{"$f":"IF($B104=1,VLOOKUP(C$2,Table1[],3,0),IF($B104=2,VLOOKUP(C$2,Table1[],4,0),IF($B104=3,VLOOKUP(C$2,Table1[],5,0),IF($B104=4,VLOOKUP(C$2,Table1[],5,0),0))))","v":2000000},{"$f":"IF($B104=1,VLOOKUP(D$2,Table1[],3,0),IF($B104=2,VLOOKUP(D$2,Table1[],4,0),IF($B104=3,VLOOKUP(D$2,Table1[],5,0),IF($B104=4,VLOOKUP(D$2,Table1[],5,0),0))))","v":2000000},{"$f":"IF($B104=1,VLOOKUP(E$2,Table1[],3,0),IF($B104=2,VLOOKUP(E$2,Table1[],4,0),IF($B104=3,VLOOKUP(E$2,Table1[],5,0),IF($B104=4,VLOOKUP(E$2,Table1[],5,0),0))))","v":1500000},{"$f":"IF($B104=1,VLOOKUP(F$2,Table1[],3,0),IF($B104=2,VLOOKUP(F$2,Table1[],4,0),IF($B104=3,VLOOKUP(F$2,Table1[],5,0),IF($B104=4,VLOOKUP(F$2,Table1[],5,0),0))))","v":800000}]
[2126,1,{"$f":"IF($B105=1,VLOOKUP(C$2,Table1[],3,0),IF($B105=2,VLOOKUP(C$2,Table1[],4,0),IF($B105=3,VLOOKUP(C$2,Table1[],5,0),IF($B105=4,VLOOKUP(C$2,Table1[],5,0),0))))","v":2000000},{"$f":"IF($B105=1,VLOOKUP(D$2,Table1[],3,0),IF($B105=2,VLOOKUP(D$2,Table1[],4,0),IF($B105=3,VLOOKUP(D$2,Table1[],5,0),IF($B105=4,VLOOKUP(D$2,Table1[],5,0),0))))","v":2000000},{"$f":"IF($B105=1,VLOOKUP(E$2,Table1[],3,0),IF($B105=2,VLOOKUP(E$2,Table1[],4,0),IF($B105=3,VLOOKUP(E$2,Table1[],5,0),IF($B105=4,VLOOKUP(E$2,Table1[],5,0),0))))","v":1500000},{"$f":"IF($B105=1,VLOOKUP(F$2,Table1[],3,0),IF($B105=2,VLOOKUP(F$2,Table1[],4,0),IF($B105=3,VLOOKUP(F$2,Table1[],5,0),IF($B105=4,VLOOKUP(F$2,Table1[],5,0),0))))","v":800000}]
[2127,1,{"$f":"IF($B106=1,VLOOKUP(C$2,Table1[],3,0),IF($B106=2,VLOOKUP(C$2,Table1[],4,0),IF($B106=3,VLOOKUP(C$2,Table1[],5,0),IF($B106=4,VLOOKUP(C$2,Table1[],5,0),0))))","v":2000000},{"$f":"IF($B106=1,VLOOKUP(D$2,Table1[],3,0),IF($B106=2,VLOOKUP(D$2,Table1[],4,0),IF($B106=3,VLOOKUP(D$2,Table1[],5,0),IF($B106=4,VLOOKUP(D$2,Table1[],5,0),0))))","v":2000000},{"$f":"IF($B106=1,VLOOKUP(E$2,Table1[],3,0),IF($B106=2,VLOOKUP(E$2,Table1[],4,0),IF($B106=3,VLOOKUP(E$2,Table1[],5,0),IF($B106=4,VLOOKUP(E$2,Table1[],5,0),0))))","v":1500000},{"$f":"IF($B106=1,VLOOKUP(F$2,Table1[],3,0),IF($B106=2,VLOOKUP(F$2,Table1[],4,0),IF($B106=3,VLOOKUP(F$2,Table1[],5,0),IF($B106=4,VLOOKUP(F$2,Table1[],5,0),0))))","v":800000}]
[2128,1,{"$f":"IF($B107=1,VLOOKUP(C$2,Table1[],3,0),IF($B107=2,VLOOKUP(C$2,Table1[],4,0),IF($B107=3,VLOOKUP(C$2,Table1[],5,0),IF($B107=4,VLOOKUP(C$2,Table1[],5,0),0))))","v":2000000},{"$f":"IF($B107=1,VLOOKUP(D$2,Table1[],3,0),IF($B107=2,VLOOKUP(D$2,Table1[],4,0),IF($B107=3,VLOOKUP(D$2,Table1[],5,0),IF($B107=4,VLOOKUP(D$2,Table1[],5,0),0))))","v":2000000},{"$f":"IF($B107=1,VLOOKUP(E$2,Table1[],3,0),IF($B107=2,VLOOKUP(E$2,Table1[],4,0),IF($B107=3,VLOOKUP(E$2,Table1[],5,0),IF($B107=4,VLOOKUP(E$2,Table1[],5,0),0))))","v":1500000},{"$f":"IF($B107=1,VLOOKUP(F$2,Table1[],3,0),IF($B107=2,VLOOKUP(F$2,Table1[],4,0),IF($B107=3,VLOOKUP(F$2,Table1[],5,0),IF($B107=4,VLOOKUP(F$2,Table1[],5,0),0))))","v":800000}]
[2130,1,{"$f":"IF($B108=1,VLOOKUP(C$2,Table1[],3,0),IF($B108=2,VLOOKUP(C$2,Table1[],4,0),IF($B108=3,VLOOKUP(C$2,Table1[],5,0),IF($B108=4,VLOOKUP(C$2,Table1[],5,0),0))))","v":2000000},{"$f":"IF($B108=1,VLOOKUP(D$2,Table1[],3,0),IF($B108=2,VLOOKUP(D$2,Table1[],4,0),IF($B108=3,VLOOKUP(D$2,Table1[],5,0),IF($B108=4,VLOOKUP(D$2,Table1[],5,0),0))))","v":2000000},{"$f":"IF($B108=1,VLOOKUP(E$2,Table1[],3,0),IF($B108=2,VLOOKUP(E$2,Table1[],4,0),IF($B108=3,VLOOKUP(E$2,Table1[],5,0),IF($B108=4,VLOOKUP(E$2,Table1[],5,0),0))))","v":1500000},{"$f":"IF($B108=1,VLOOKUP(F$2,Table1[],3,0),IF($B108=2,VLOOKUP(F$2,Table1[],4,0),IF($B108=3,VLOOKUP(F$2,Table1[],5,0),IF($B108=4,VLOOKUP(F$2,Table1[],5,0),0))))","v":800000}]
[2131,1,{"$f":"IF($B109=1,VLOOKUP(C$2,Table1[],3,0),IF($B109=2,VLOOKUP(C$2,Table1[],4,0),IF($B109=3,VLOOKUP(C$2,Table1[],5,0),IF($B109=4,VLOOKUP(C$2,Table1[],5,0),0))))","v":2000000},{"$f":"IF($B109=1,VLOOKUP(D$2,Table1[],3,0),IF($B109=2,VLOOKUP(D$2,Table1[],4,0),IF($B109=3,VLOOKUP(D$2,Table1[],5,0),IF($B109=4,VLOOKUP(D$2,Table1[],5,0),0))))","v":2000000},{"$f":"IF($B109=1,VLOOKUP(E$2,Table1[],3,0),IF($B109=2,VLOOKUP(E$2,Table1[],4,0),IF($B109=3,VLOOKUP(E$2,Table1[],5,0),IF($B109=4,VLOOKUP(E$2,Table1[],5,0),0))))","v":1500000},{"$f":"IF($B109=1,VLOOKUP(F$2,Table1[],3,0),IF($B109=2,VLOOKUP(F$2,Table1[],4,0),IF($B109=3,VLOOKUP(F$2,Table1[],5,0),IF($B109=4,VLOOKUP(F$2,Table1[],5,0),0))))","v":800000}]
[2132,1,{"$f":"IF($B110=1,VLOOKUP(C$2,Table1[],3,0),IF($B110=2,VLOOKUP(C$2,Table1[],4,0),IF($B110=3,VLOOKUP(C$2,Table1[],5,0),IF($B110=4,VLOOKUP(C$2,Table1[],5,0),0))))","v":2000000},{"$f":"IF($B110=1,VLOOKUP(D$2,Table1[],3,0),IF($B110=2,VLOOKUP(D$2,Table1[],4,0),IF($B110=3,VLOOKUP(D$2,Table1[],5,0),IF($B110=4,VLOOKUP(D$2,Table1[],5,0),0))))","v":2000000},{"$f":"IF($B110=1,VLOOKUP(E$2,Table1[],3,0),IF($B110=2,VLOOKUP(E$2,Table1[],4,0),IF($B110=3,VLOOKUP(E$2,Table1[],5,0),IF($B110=4,VLOOKUP(E$2,Table1[],5,0),0))))","v":1500000},{"$f":"IF($B110=1,VLOOKUP(F$2,Table1[],3,0),IF($B110=2,VLOOKUP(F$2,Table1[],4,0),IF($B110=3,VLOOKUP(F$2,Table1[],5,0),IF($B110=4,VLOOKUP(F$2,Table1[],5,0),0))))","v":800000}]
[2133,1,{"$f":"IF($B111=1,VLOOKUP(C$2,Table1[],3,0),IF($B111=2,VLOOKUP(C$2,Table1[],4,0),IF($B111=3,VLOOKUP(C$2,Table1[],5,0),IF($B111=4,VLOOKUP(C$2,Table1[],5,0),0))))","v":2000000},{"$f":"IF($B111=1,VLOOKUP(D$2,Table1[],3,0),IF($B111=2,VLOOKUP(D$2,Table1[],4,0),IF($B111=3,VLOOKUP(D$2,Table1[],5,0),IF($B111=4,VLOOKUP(D$2,Table1[],5,0),0))))","v":2000000},{"$f":"IF($B111=1,VLOOKUP(E$2,Table1[],3,0),IF($B111=2,VLOOKUP(E$2,Table1[],4,0),IF($B111=3,VLOOKUP(E$2,Table1[],5,0),IF($B111=4,VLOOKUP(E$2,Table1[],5,0),0))))","v":1500000},{"$f":"IF($B111=1,VLOOKUP(F$2,Table1[],3,0),IF($B111=2,VLOOKUP(F$2,Table1[],4,0),IF($B111=3,VLOOKUP(F$2,Table1[],5,0),IF($B111=4,VLOOKUP(F$2,Table1[],5,0),0))))","v":800000}]
[2134,1,{"$f":"IF($B112=1,VLOOKUP(C$2,Table1[],3,0),IF($B112=2,VLOOKUP(C$2,Table1[],4,0),IF($B112=3,VLOOKUP(C$2,Table1[],5,0),IF($B112=4,VLOOKUP(C$2,Table1[],5,0),0))))","v":2000000},{"$f":"IF($B112=1,VLOOKUP(D$2,Table1[],3,0),IF($B112=2,VLOOKUP(D$2,Table1[],4,0),IF($B112=3,VLOOKUP(D$2,Table1[],5,0),IF($B112=4,VLOOKUP(D$2,Table1[],5,0),0))))","v":2000000},{"$f":"IF($B112=1,VLOOKUP(E$2,Table1[],3,0),IF($B112=2,VLOOKUP(E$2,Table1[],4,0),IF($B112=3,VLOOKUP(E$2,Table1[],5,0),IF($B112=4,VLOOKUP(E$2,Table1[],5,0),0))))","v":1500000},{"$f":"IF($B112=1,VLOOKUP(F$2,Table1[],3,0),IF($B112=2,VLOOKUP(F$2,Table1[],4,0),IF($B112=3,VLOOKUP(F$2,Table1[],5,0),IF($B112=4,VLOOKUP(F$2,Table1[],5,0),0))))","v":800000}]
[2135,1,{"$f":"IF($B113=1,VLOOKUP(C$2,Table1[],3,0),IF($B113=2,VLOOKUP(C$2,Table1[],4,0),IF($B113=3,VLOOKUP(C$2,Table1[],5,0),IF($B113=4,VLOOKUP(C$2,Table1[],5,0),0))))","v":2000000},{"$f":"IF($B113=1,VLOOKUP(D$2,Table1[],3,0),IF($B113=2,VLOOKUP(D$2,Table1[],4,0),IF($B113=3,VLOOKUP(D$2,Table1[],5,0),IF($B113=4,VLOOKUP(D$2,Table1[],5,0),0))))","v":2000000},{"$f":"IF($B113=1,VLOOKUP(E$2,Table1[],3,0),IF($B113=2,VLOOKUP(E$2,Table1[],4,0),IF($B113=3,VLOOKUP(E$2,Table1[],5,0),IF($B113=4,VLOOKUP(E$2,Table1[],5,0),0))))","v":1500000},{"$f":"IF($B113=1,VLOOKUP(F$2,Table1[],3,0),IF($B113=2,VLOOKUP(F$2,Table1[],4,0),IF($B113=3,VLOOKUP(F$2,Table1[],5,0),IF($B113=4,VLOOKUP(F$2,Table1[],5,0),0))))","v":800000}]
[2136,1,{"$f":"IF($B114=1,VLOOKUP(C$2,Table1[],3,0),IF($B114=2,VLOOKUP(C$2,Table1[],4,0),IF($B114=3,VLOOKUP(C$2,Table1[],5,0),IF($B114=4,VLOOKUP(C$2,Table1[],5,0),0))))","v":2000000},{"$f":"IF($B114=1,VLOOKUP(D$2,Table1[],3,0),IF($B114=2,VLOOKUP(D$2,Table1[],4,0),IF($B114=3,VLOOKUP(D$2,Table1[],5,0),IF($B114=4,VLOOKUP(D$2,Table1[],5,0),0))))","v":2000000},{"$f":"IF($B114=1,VLOOKUP(E$2,Table1[],3,0),IF($B114=2,VLOOKUP(E$2,Table1[],4,0),IF($B114=3,VLOOKUP(E$2,Table1[],5,0),IF($B114=4,VLOOKUP(E$2,Table1[],5,0),0))))","v":1500000},{"$f":"IF($B114=1,VLOOKUP(F$2,Table1[],3,0),IF($B114=2,VLOOKUP(F$2,Table1[],4,0),IF($B114=3,VLOOKUP(F$2,Table1[],5,0),IF($B114=4,VLOOKUP(F$2,Table1[],5,0),0))))","v":800000}]
[2137,1,{"$f":"IF($B115=1,VLOOKUP(C$2,Table1[],3,0),IF($B115=2,VLOOKUP(C$2,Table1[],4,0),IF($B115=3,VLOOKUP(C$2,Table1[],5,0),IF($B115=4,VLOOKUP(C$2,Table1[],5,0),0))))","v":2000000},{"$f":"IF($B115=1,VLOOKUP(D$2,Table1[],3,0),IF($B115=2,VLOOKUP(D$2,Table1[],4,0),IF($B115=3,VLOOKUP(D$2,Table1[],5,0),IF($B115=4,VLOOKUP(D$2,Table1[],5,0),0))))","v":2000000},{"$f":"IF($B115=1,VLOOKUP(E$2,Table1[],3,0),IF($B115=2,VLOOKUP(E$2,Table1[],4,0),IF($B115=3,VLOOKUP(E$2,Table1[],5,0),IF($B115=4,VLOOKUP(E$2,Table1[],5,0),0))))","v":1500000},{"$f":"IF($B115=1,VLOOKUP(F$2,Table1[],3,0),IF($B115=2,VLOOKUP(F$2,Table1[],4,0),IF($B115=3,VLOOKUP(F$2,Table1[],5,0),IF($B115=4,VLOOKUP(F$2,Table1[],5,0),0))))","v":800000}]
[2138,1,{"$f":"IF($B116=1,VLOOKUP(C$2,Table1[],3,0),IF($B116=2,VLOOKUP(C$2,Table1[],4,0),IF($B116=3,VLOOKUP(C$2,Table1[],5,0),IF($B116=4,VLOOKUP(C$2,Table1[],5,0),0))))","v":2000000},{"$f":"IF($B116=1,VLOOKUP(D$2,Table1[],3,0),IF($B116=2,VLOOKUP(D$2,Table1[],4,0),IF($B116=3,VLOOKUP(D$2,Table1[],5,0),IF($B116=4,VLOOKUP(D$2,Table1[],5,0),0))))","v":2000000},{"$f":"IF($B116=1,VLOOKUP(E$2,Table1[],3,0),IF($B116=2,VLOOKUP(E$2,Table1[],4,0),IF($B116=3,VLOOKUP(E$2,Table1[],5,0),IF($B116=4,VLOOKUP(E$2,Table1[],5,0),0))))","v":1500000},{"$f":"IF($B116=1,VLOOKUP(F$2,Table1[],3,0),IF($B116=2,VLOOKUP(F$2,Table1[],4,0),IF($B116=3,VLOOKUP(F$2,Table1[],5,0),IF($B116=4,VLOOKUP(F$2,Table1[],5,0),0))))","v":800000}]
[2140,1,{"$f":"IF($B117=1,VLOOKUP(C$2,Table1[],3,0),IF($B117=2,VLOOKUP(C$2,Table1[],4,0),IF($B117=3,VLOOKUP(C$2,Table1[],5,0),IF($B117=4,VLOOKUP(C$2,Table1[],5,0),0))))","v":2000000},{"$f":"IF($B117=1,VLOOKUP(D$2,Table1[],3,0),IF($B117=2,VLOOKUP(D$2,Table1[],4,0),IF($B117=3,VLOOKUP(D$2,Table1[],5,0),IF($B117=4,VLOOKUP(D$2,Table1[],5,0),0))))","v":2000000},{"$f":"IF($B117=1,VLOOKUP(E$2,Table1[],3,0),IF($B117=2,VLOOKUP(E$2,Table1[],4,0),IF($B117=3,VLOOKUP(E$2,Table1[],5,0),IF($B117=4,VLOOKUP(E$2,Table1[],5,0),0))))","v":1500000},{"$f":"IF($B117=1,VLOOKUP(F$2,Table1[],3,0),IF($B117=2,VLOOKUP(F$2,Table1[],4,0),IF($B117=3,VLOOKUP(F$2,Table1[],5,0),IF($B117=4,VLOOKUP(F$2,Table1[],5,0),0))))","v":800000}]
[2141,1,{"$f":"IF($B118=1,VLOOKUP(C$2,Table1[],3,0),IF($B118=2,VLOOKUP(C$2,Table1[],4,0),IF($B118=3,VLOOKUP(C$2,Table1[],5,0),IF($B118=4,VLOOKUP(C$2,Table1[],5,0),0))))","v":2000000},{"$f":"IF($B118=1,VLOOKUP(D$2,Table1[],3,0),IF($B118=2,VLOOKUP(D$2,Table1[],4,0),IF($B118=3,VLOOKUP(D$2,Table1[],5,0),IF($B118=4,VLOOKUP(D$2,Table1[],5,0),0))))","v":2000000},{"$f":"IF($B118=1,VLOOKUP(E$2,Table1[],3,0),IF($B118=2,VLOOKUP(E$2,Table1[],4,0),IF($B118=3,VLOOKUP(E$2,Table1[],5,0),IF($B118=4,VLOOKUP(E$2,Table1[],5,0),0))))","v":1500000},{"$f":"IF($B118=1,VLOOKUP(F$2,Table1[],3,0),IF($B118=2,VLOOKUP(F$2,Table1[],4,0),IF($B118=3,VLOOKUP(F$2,Table1[],5,0),IF($B118=4,VLOOKUP(F$2,Table1[],5,0),0))))","v":800000}]
[2142,1,{"$f":"IF($B119=1,VLOOKUP(C$2,Table1[],3,0),IF($B119=2,VLOOKUP(C$2,Table1[],4,0),IF($B119=3,VLOOKUP(C$2,Table1[],5,0),IF($B119=4,VLOOKUP(C$2,Table1[],5,0),0))))","v":2000000},{"$f":"IF($B119=1,VLOOKUP(D$2,Table1[],3,0),IF($B119=2,VLOOKUP(D$2,Table1[],4,0),IF($B119=3,VLOOKUP(D$2,Table1[],5,0),IF($B119=4,VLOOKUP(D$2,Table1[],5,0),0))))","v":2000000},{"$f":"IF($B119=1,VLOOKUP(E$2,Table1[],3,0),IF($B119=2,VLOOKUP(E$2,Table1[],4,0),IF($B119=3,VLOOKUP(E$2,Table1[],5,0),IF($B119=4,VLOOKUP(E$2,Table1[],5,0),0))))","v":1500000},{"$f":"IF($B119=1,VLOOKUP(F$2,Table1[],3,0),IF($B119=2,VLOOKUP(F$2,Table1[],4,0),IF($B119=3,VLOOKUP(F$2,Table1[],5,0),IF($B119=4,VLOOKUP(F$2,Table1[],5,0),0))))","v":800000}]
[2143,1,{"$f":"IF($B120=1,VLOOKUP(C$2,Table1[],3,0),IF($B120=2,VLOOKUP(C$2,Table1[],4,0),IF($B120=3,VLOOKUP(C$2,Table1[],5,0),IF($B120=4,VLOOKUP(C$2,Table1[],5,0),0))))","v":2000000},{"$f":"IF($B120=1,VLOOKUP(D$2,Table1[],3,0),IF($B120=2,VLOOKUP(D$2,Table1[],4,0),IF($B120=3,VLOOKUP(D$2,Table1[],5,0),IF($B120=4,VLOOKUP(D$2,Table1[],5,0),0))))","v":2000000},{"$f":"IF($B120=1,VLOOKUP(E$2,Table1[],3,0),IF($B120=2,VLOOKUP(E$2,Table1[],4,0),IF($B120=3,VLOOKUP(E$2,Table1[],5,0),IF($B120=4,VLOOKUP(E$2,Table1[],5,0),0))))","v":1500000},{"$f":"IF($B120=1,VLOOKUP(F$2,Table1[],3,0),IF($B120=2,VLOOKUP(F$2,Table1[],4,0),IF($B120=3,VLOOKUP(F$2,Table1[],5,0),IF($B120=4,VLOOKUP(F$2,Table1[],5,0),0))))","v":800000}]
[2144,1,{"$f":"IF($B121=1,VLOOKUP(C$2,Table1[],3,0),IF($B121=2,VLOOKUP(C$2,Table1[],4,0),IF($B121=3,VLOOKUP(C$2,Table1[],5,0),IF($B121=4,VLOOKUP(C$2,Table1[],5,0),0))))","v":2000000},{"$f":"IF($B121=1,VLOOKUP(D$2,Table1[],3,0),IF($B121=2,VLOOKUP(D$2,Table1[],4,0),IF($B121=3,VLOOKUP(D$2,Table1[],5,0),IF($B121=4,VLOOKUP(D$2,Table1[],5,0),0))))","v":2000000},{"$f":"IF($B121=1,VLOOKUP(E$2,Table1[],3,0),IF($B121=2,VLOOKUP(E$2,Table1[],4,0),IF($B121=3,VLOOKUP(E$2,Table1[],5,0),IF($B121=4,VLOOKUP(E$2,Table1[],5,0),0))))","v":1500000},{"$f":"IF($B121=1,VLOOKUP(F$2,Table1[],3,0),IF($B121=2,VLOOKUP(F$2,Table1[],4,0),IF($B121=3,VLOOKUP(F$2,Table1[],5,0),IF($B121=4,VLOOKUP(F$2,Table1[],5,0),0))))","v":800000}]
[2145,1,{"$f":"IF($B122=1,VLOOKUP(C$2,Table1[],3,0),IF($B122=2,VLOOKUP(C$2,Table1[],4,0),IF($B122=3,VLOOKUP(C$2,Table1[],5,0),IF($B122=4,VLOOKUP(C$2,Table1[],5,0),0))))","v":2000000},{"$f":"IF($B122=1,VLOOKUP(D$2,Table1[],3,0),IF($B122=2,VLOOKUP(D$2,Table1[],4,0),IF($B122=3,VLOOKUP(D$2,Table1[],5,0),IF($B122=4,VLOOKUP(D$2,Table1[],5,0),0))))","v":2000000},{"$f":"IF($B122=1,VLOOKUP(E$2,Table1[],3,0),IF($B122=2,VLOOKUP(E$2,Table1[],4,0),IF($B122=3,VLOOKUP(E$2,Table1[],5,0),IF($B122=4,VLOOKUP(E$2,Table1[],5,0),0))))","v":1500000},{"$f":"IF($B122=1,VLOOKUP(F$2,Table1[],3,0),IF($B122=2,VLOOKUP(F$2,Table1[],4,0),IF($B122=3,VLOOKUP(F$2,Table1[],5,0),IF($B122=4,VLOOKUP(F$2,Table1[],5,0),0))))","v":800000}]
[2146,1,{"$f":"IF($B123=1,VLOOKUP(C$2,Table1[],3,0),IF($B123=2,VLOOKUP(C$2,Table1[],4,0),IF($B123=3,VLOOKUP(C$2,Table1[],5,0),IF($B123=4,VLOOKUP(C$2,Table1[],5,0),0))))","v":2000000},{"$f":"IF($B123=1,VLOOKUP(D$2,Table1[],3,0),IF($B123=2,VLOOKUP(D$2,Table1[],4,0),IF($B123=3,VLOOKUP(D$2,Table1[],5,0),IF($B123=4,VLOOKUP(D$2,Table1[],5,0),0))))","v":2000000},{"$f":"IF($B123=1,VLOOKUP(E$2,Table1[],3,0),IF($B123=2,VLOOKUP(E$2,Table1[],4,0),IF($B123=3,VLOOKUP(E$2,Table1[],5,0),IF($B123=4,VLOOKUP(E$2,Table1[],5,0),0))))","v":1500000},{"$f":"IF($B123=1,VLOOKUP(F$2,Table1[],3,0),IF($B123=2,VLOOKUP(F$2,Table1[],4,0),IF($B123=3,VLOOKUP(F$2,Table1[],5,0),IF($B123=4,VLOOKUP(F$2,Table1[],5,0),0))))","v":800000}]
[2147,1,{"$f":"IF($B124=1,VLOOKUP(C$2,Table1[],3,0),IF($B124=2,VLOOKUP(C$2,Table1[],4,0),IF($B124=3,VLOOKUP(C$2,Table1[],5,0),IF($B124=4,VLOOKUP(C$2,Table1[],5,0),0))))","v":2000000},{"$f":"IF($B124=1,VLOOKUP(D$2,Table1[],3,0),IF($B124=2,VLOOKUP(D$2,Table1[],4,0),IF($B124=3,VLOOKUP(D$2,Table1[],5,0),IF($B124=4,VLOOKUP(D$2,Table1[],5,0),0))))","v":2000000},{"$f":"IF($B124=1,VLOOKUP(E$2,Table1[],3,0),IF($B124=2,VLOOKUP(E$2,Table1[],4,0),IF($B124=3,VLOOKUP(E$2,Table1[],5,0),IF($B124=4,VLOOKUP(E$2,Table1[],5,0),0))))","v":1500000},{"$f":"IF($B124=1,VLOOKUP(F$2,Table1[],3,0),IF($B124=2,VLOOKUP(F$2,Table1[],4,0),IF($B124=3,VLOOKUP(F$2,Table1[],5,0),IF($B124=4,VLOOKUP(F$2,Table1[],5,0),0))))","v":800000}]
[2148,1,{"$f":"IF($B125=1,VLOOKUP(C$2,Table1[],3,0),IF($B125=2,VLOOKUP(C$2,Table1[],4,0),IF($B125=3,VLOOKUP(C$2,Table1[],5,0),IF($B125=4,VLOOKUP(C$2,Table1[],5,0),0))))","v":2000000},{"$f":"IF($B125=1,VLOOKUP(D$2,Table1[],3,0),IF($B125=2,VLOOKUP(D$2,Table1[],4,0),IF($B125=3,VLOOKUP(D$2,Table1[],5,0),IF($B125=4,VLOOKUP(D$2,Table1[],5,0),0))))","v":2000000},{"$f":"IF($B125=1,VLOOKUP(E$2,Table1[],3,0),IF($B125=2,VLOOKUP(E$2,Table1[],4,0),IF($B125=3,VLOOKUP(E$2,Table1[],5,0),IF($B125=4,VLOOKUP(E$2,Table1[],5,0),0))))","v":1500000},{"$f":"IF($B125=1,VLOOKUP(F$2,Table1[],3,0),IF($B125=2,VLOOKUP(F$2,Table1[],4,0),IF($B125=3,VLOOKUP(F$2,Table1[],5,0),IF($B125=4,VLOOKUP(F$2,Table1[],5,0),0))))","v":800000}]
[2150,1,{"$f":"IF($B126=1,VLOOKUP(C$2,Table1[],3,0),IF($B126=2,VLOOKUP(C$2,Table1[],4,0),IF($B126=3,VLOOKUP(C$2,Table1[],5,0),IF($B126=4,VLOOKUP(C$2,Table1[],5,0),0))))","v":2000000},{"$f":"IF($B126=1,VLOOKUP(D$2,Table1[],3,0),IF($B126=2,VLOOKUP(D$2,Table1[],4,0),IF($B126=3,VLOOKUP(D$2,Table1[],5,0),IF($B126=4,VLOOKUP(D$2,Table1[],5,0),0))))","v":2000000},{"$f":"IF($B126=1,VLOOKUP(E$2,Table1[],3,0),IF($B126=2,VLOOKUP(E$2,Table1[],4,0),IF($B126=3,VLOOKUP(E$2,Table1[],5,0),IF($B126=4,VLOOKUP(E$2,Table1[],5,0),0))))","v":1500000},{"$f":"IF($B126=1,VLOOKUP(F$2,Table1[],3,0),IF($B126=2,VLOOKUP(F$2,Table1[],4,0),IF($B126=3,VLOOKUP(F$2,Table1[],5,0),IF($B126=4,VLOOKUP(F$2,Table1[],5,0),0))))","v":800000}]
[2151,1,{"$f":"IF($B127=1,VLOOKUP(C$2,Table1[],3,0),IF($B127=2,VLOOKUP(C$2,Table1[],4,0),IF($B127=3,VLOOKUP(C$2,Table1[],5,0),IF($B127=4,VLOOKUP(C$2,Table1[],5,0),0))))","v":2000000},{"$f":"IF($B127=1,VLOOKUP(D$2,Table1[],3,0),IF($B127=2,VLOOKUP(D$2,Table1[],4,0),IF($B127=3,VLOOKUP(D$2,Table1[],5,0),IF($B127=4,VLOOKUP(D$2,Table1[],5,0),0))))","v":2000000},{"$f":"IF($B127=1,VLOOKUP(E$2,Table1[],3,0),IF($B127=2,VLOOKUP(E$2,Table1[],4,0),IF($B127=3,VLOOKUP(E$2,Table1[],5,0),IF($B127=4,VLOOKUP(E$2,Table1[],5,0),0))))","v":1500000},{"$f":"IF($B127=1,VLOOKUP(F$2,Table1[],3,0),IF($B127=2,VLOOKUP(F$2,Table1[],4,0),IF($B127=3,VLOOKUP(F$2,Table1[],5,0),IF($B127=4,VLOOKUP(F$2,Table1[],5,0),0))))","v":800000}]
[2152,1,{"$f":"IF($B128=1,VLOOKUP(C$2,Table1[],3,0),IF($B128=2,VLOOKUP(C$2,Table1[],4,0),IF($B128=3,VLOOKUP(C$2,Table1[],5,0),IF($B128=4,VLOOKUP(C$2,Table1[],5,0),0))))","v":2000000},{"$f":"IF($B128=1,VLOOKUP(D$2,Table1[],3,0),IF($B128=2,VLOOKUP(D$2,Table1[],4,0),IF($B128=3,VLOOKUP(D$2,Table1[],5,0),IF($B128=4,VLOOKUP(D$2,Table1[],5,0),0))))","v":2000000},{"$f":"IF($B128=1,VLOOKUP(E$2,Table1[],3,0),IF($B128=2,VLOOKUP(E$2,Table1[],4,0),IF($B128=3,VLOOKUP(E$2,Table1[],5,0),IF($B128=4,VLOOKUP(E$2,Table1[],5,0),0))))","v":1500000},{"$f":"IF($B128=1,VLOOKUP(F$2,Table1[],3,0),IF($B128=2,VLOOKUP(F$2,Table1[],4,0),IF($B128=3,VLOOKUP(F$2,Table1[],5,0),IF($B128=4,VLOOKUP(F$2,Table1[],5,0),0))))","v":800000}]
[2153,1,{"$f":"IF($B129=1,VLOOKUP(C$2,Table1[],3,0),IF($B129=2,VLOOKUP(C$2,Table1[],4,0),IF($B129=3,VLOOKUP(C$2,Table1[],5,0),IF($B129=4,VLOOKUP(C$2,Table1[],5,0),0))))","v":2000000},{"$f":"IF($B129=1,VLOOKUP(D$2,Table1[],3,0),IF($B129=2,VLOOKUP(D$2,Table1[],4,0),IF($B129=3,VLOOKUP(D$2,Table1[],5,0),IF($B129=4,VLOOKUP(D$2,Table1[],5,0),0))))","v":2000000},{"$f":"IF($B129=1,VLOOKUP(E$2,Table1[],3,0),IF($B129=2,VLOOKUP(E$2,Table1[],4,0),IF($B129=3,VLOOKUP(E$2,Table1[],5,0),IF($B129=4,VLOOKUP(E$2,Table1[],5,0),0))))","v":1500000},{"$f":"IF($B129=1,VLOOKUP(F$2,Table1[],3,0),IF($B129=2,VLOOKUP(F$2,Table1[],4,0),IF($B129=3,VLOOKUP(F$2,Table1[],5,0),IF($B129=4,VLOOKUP(F$2,Table1[],5,0),0))))","v":800000}]
[2154,1,{"$f":"IF($B130=1,VLOOKUP(C$2,Table1[],3,0),IF($B130=2,VLOOKUP(C$2,Table1[],4,0),IF($B130=3,VLOOKUP(C$2,Table1[],5,0),IF($B130=4,VLOOKUP(C$2,Table1[],5,0),0))))","v":2000000},{"$f":"IF($B130=1,VLOOKUP(D$2,Table1[],3,0),IF($B130=2,VLOOKUP(D$2,Table1[],4,0),IF($B130=3,VLOOKUP(D$2,Table1[],5,0),IF($B130=4,VLOOKUP(D$2,Table1[],5,0),0))))","v":2000000},{"$f":"IF($B130=1,VLOOKUP(E$2,Table1[],3,0),IF($B130=2,VLOOKUP(E$2,Table1[],4,0),IF($B130=3,VLOOKUP(E$2,Table1[],5,0),IF($B130=4,VLOOKUP(E$2,Table1[],5,0),0))))","v":1500000},{"$f":"IF($B130=1,VLOOKUP(F$2,Table1[],3,0),IF($B130=2,VLOOKUP(F$2,Table1[],4,0),IF($B130=3,VLOOKUP(F$2,Table1[],5,0),IF($B130=4,VLOOKUP(F$2,Table1[],5,0),0))))","v":800000}]
[2155,1,{"$f":"IF($B131=1,VLOOKUP(C$2,Table1[],3,0),IF($B131=2,VLOOKUP(C$2,Table1[],4,0),IF($B131=3,VLOOKUP(C$2,Table1[],5,0),IF($B131=4,VLOOKUP(C$2,Table1[],5,0),0))))","v":2000000},{"$f":"IF($B131=1,VLOOKUP(D$2,Table1[],3,0),IF($B131=2,VLOOKUP(D$2,Table1[],4,0),IF($B131=3,VLOOKUP(D$2,Table1[],5,0),IF($B131=4,VLOOKUP(D$2,Table1[],5,0),0))))","v":2000000},{"$f":"IF($B131=1,VLOOKUP(E$2,Table1[],3,0),IF($B131=2,VLOOKUP(E$2,Table1[],4,0),IF($B131=3,VLOOKUP(E$2,Table1[],5,0),IF($B131=4,VLOOKUP(E$2,Table1[],5,0),0))))","v":1500000},{"$f":"IF($B131=1,VLOOKUP(F$2,Table1[],3,0),IF($B131=2,VLOOKUP(F$2,Table1[],4,0),IF($B131=3,VLOOKUP(F$2,Table1[],5,0),IF($B131=4,VLOOKUP(F$2,Table1[],5,0),0))))","v":800000}]
[2156,1,{"$f":"IF($B132=1,VLOOKUP(C$2,Table1[],3,0),IF($B132=2,VLOOKUP(C$2,Table1[],4,0),IF($B132=3,VLOOKUP(C$2,Table1[],5,0),IF($B132=4,VLOOKUP(C$2,Table1[],5,0),0))))","v":2000000},{"$f":"IF($B132=1,VLOOKUP(D$2,Table1[],3,0),IF($B132=2,VLOOKUP(D$2,Table1[],4,0),IF($B132=3,VLOOKUP(D$2,Table1[],5,0),IF($B132=4,VLOOKUP(D$2,Table1[],5,0),0))))","v":2000000},{"$f":"IF($B132=1,VLOOKUP(E$2,Table1[],3,0),IF($B132=2,VLOOKUP(E$2,Table1[],4,0),IF($B132=3,VLOOKUP(E$2,Table1[],5,0),IF($B132=4,VLOOKUP(E$2,Table1[],5,0),0))))","v":1500000},{"$f":"IF($B132=1,VLOOKUP(F$2,Table1[],3,0),IF($B132=2,VLOOKUP(F$2,Table1[],4,0),IF($B132=3,VLOOKUP(F$2,Table1[],5,0),IF($B132=4,VLOOKUP(F$2,Table1[],5,0),0))))","v":800000}]
[2157,1,{"$f":"IF($B133=1,VLOOKUP(C$2,Table1[],3,0),IF($B133=2,VLOOKUP(C$2,Table1[],4,0),IF($B133=3,VLOOKUP(C$2,Table1[],5,0),IF($B133=4,VLOOKUP(C$2,Table1[],5,0),0))))","v":2000000},{"$f":"IF($B133=1,VLOOKUP(D$2,Table1[],3,0),IF($B133=2,VLOOKUP(D$2,Table1[],4,0),IF($B133=3,VLOOKUP(D$2,Table1[],5,0),IF($B133=4,VLOOKUP(D$2,Table1[],5,0),0))))","v":2000000},{"$f":"IF($B133=1,VLOOKUP(E$2,Table1[],3,0),IF($B133=2,VLOOKUP(E$2,Table1[],4,0),IF($B133=3,VLOOKUP(E$2,Table1[],5,0),IF($B133=4,VLOOKUP(E$2,Table1[],5,0),0))))","v":1500000},{"$f":"IF($B133=1,VLOOKUP(F$2,Table1[],3,0),IF($B133=2,VLOOKUP(F$2,Table1[],4,0),IF($B133=3,VLOOKUP(F$2,Table1[],5,0),IF($B133=4,VLOOKUP(F$2,Table1[],5,0),0))))","v":800000}]
[2158,1,{"$f":"IF($B134=1,VLOOKUP(C$2,Table1[],3,0),IF($B134=2,VLOOKUP(C$2,Table1[],4,0),IF($B134=3,VLOOKUP(C$2,Table1[],5,0),IF($B134=4,VLOOKUP(C$2,Table1[],5,0),0))))","v":2000000},{"$f":"IF($B134=1,VLOOKUP(D$2,Table1[],3,0),IF($B134=2,VLOOKUP(D$2,Table1[],4,0),IF($B134=3,VLOOKUP(D$2,Table1[],5,0),IF($B134=4,VLOOKUP(D$2,Table1[],5,0),0))))","v":2000000},{"$f":"IF($B134=1,VLOOKUP(E$2,Table1[],3,0),IF($B134=2,VLOOKUP(E$2,Table1[],4,0),IF($B134=3,VLOOKUP(E$2,Table1[],5,0),IF($B134=4,VLOOKUP(E$2,Table1[],5,0),0))))","v":1500000},{"$f":"IF($B134=1,VLOOKUP(F$2,Table1[],3,0),IF($B134=2,VLOOKUP(F$2,Table1[],4,0),IF($B134=3,VLOOKUP(F$2,Table1[],5,0),IF($B134=4,VLOOKUP(F$2,Table1[],5,0),0))))","v":800000}]
[2159,1,{"$f":"IF($B135=1,VLOOKUP(C$2,Table1[],3,0),IF($B135=2,VLOOKUP(C$2,Table1[],4,0),IF($B135=3,VLOOKUP(C$2,Table1[],5,0),IF($B135=4,VLOOKUP(C$2,Table1[],5,0),0))))","v":2000000},{"$f":"IF($B135=1,VLOOKUP(D$2,Table1[],3,0),IF($B135=2,VLOOKUP(D$2,Table1[],4,0),IF($B135=3,VLOOKUP(D$2,Table1[],5,0),IF($B135=4,VLOOKUP(D$2,Table1[],5,0),0))))","v":2000000},{"$f":"IF($B135=1,VLOOKUP(E$2,Table1[],3,0),IF($B135=2,VLOOKUP(E$2,Table1[],4,0),IF($B135=3,VLOOKUP(E$2,Table1[],5,0),IF($B135=4,VLOOKUP(E$2,Table1[],5,0),0))))","v":1500000},{"$f":"IF($B135=1,VLOOKUP(F$2,Table1[],3,0),IF($B135=2,VLOOKUP(F$2,Table1[],4,0),IF($B135=3,VLOOKUP(F$2,Table1[],5,0),IF($B135=4,VLOOKUP(F$2,Table1[],5,0),0))))","v":800000}]
[2160,1,{"$f":"IF($B136=1,VLOOKUP(C$2,Table1[],3,0),IF($B136=2,VLOOKUP(C$2,Table1[],4,0),IF($B136=3,VLOOKUP(C$2,Table1[],5,0),IF($B136=4,VLOOKUP(C$2,Table1[],5,0),0))))","v":2000000},{"$f":"IF($B136=1,VLOOKUP(D$2,Table1[],3,0),IF($B136=2,VLOOKUP(D$2,Table1[],4,0),IF($B136=3,VLOOKUP(D$2,Table1[],5,0),IF($B136=4,VLOOKUP(D$2,Table1[],5,0),0))))","v":2000000},{"$f":"IF($B136=1,VLOOKUP(E$2,Table1[],3,0),IF($B136=2,VLOOKUP(E$2,Table1[],4,0),IF($B136=3,VLOOKUP(E$2,Table1[],5,0),IF($B136=4,VLOOKUP(E$2,Table1[],5,0),0))))","v":1500000},{"$f":"IF($B136=1,VLOOKUP(F$2,Table1[],3,0),IF($B136=2,VLOOKUP(F$2,Table1[],4,0),IF($B136=3,VLOOKUP(F$2,Table1[],5,0),IF($B136=4,VLOOKUP(F$2,Table1[],5,0),0))))","v":800000}]
[2161,1,{"$f":"IF($B137=1,VLOOKUP(C$2,Table1[],3,0),IF($B137=2,VLOOKUP(C$2,Table1[],4,0),IF($B137=3,VLOOKUP(C$2,Table1[],5,0),IF($B137=4,VLOOKUP(C$2,Table1[],5,0),0))))","v":2000000},{"$f":"IF($B137=1,VLOOKUP(D$2,Table1[],3,0),IF($B137=2,VLOOKUP(D$2,Table1[],4,0),IF($B137=3,VLOOKUP(D$2,Table1[],5,0),IF($B137=4,VLOOKUP(D$2,Table1[],5,0),0))))","v":2000000},{"$f":"IF($B137=1,VLOOKUP(E$2,Table1[],3,0),IF($B137=2,VLOOKUP(E$2,Table1[],4,0),IF($B137=3,VLOOKUP(E$2,Table1[],5,0),IF($B137=4,VLOOKUP(E$2,Table1[],5,0),0))))","v":1500000},{"$f":"IF($B137=1,VLOOKUP(F$2,Table1[],3,0),IF($B137=2,VLOOKUP(F$2,Table1[],4,0),IF($B137=3,VLOOKUP(F$2,Table1[],5,0),IF($B137=4,VLOOKUP(F$2,Table1[],5,0),0))))","v":800000}]
[2162,1,{"$f":"IF($B138=1,VLOOKUP(C$2,Table1[],3,0),IF($B138=2,VLOOKUP(C$2,Table1[],4,0),IF($B138=3,VLOOKUP(C$2,Table1[],5,0),IF($B138=4,VLOOKUP(C$2,Table1[],5,0),0))))","v":2000000},{"$f":"IF($B138=1,VLOOKUP(D$2,Table1[],3,0),IF($B138=2,VLOOKUP(D$2,Table1[],4,0),IF($B138=3,VLOOKUP(D$2,Table1[],5,0),IF($B138=4,VLOOKUP(D$2,Table1[],5,0),0))))","v":2000000},{"$f":"IF($B138=1,VLOOKUP(E$2,Table1[],3,0),IF($B138=2,VLOOKUP(E$2,Table1[],4,0),IF($B138=3,VLOOKUP(E$2,Table1[],5,0),IF($B138=4,VLOOKUP(E$2,Table1[],5,0),0))))","v":1500000},{"$f":"IF($B138=1,VLOOKUP(F$2,Table1[],3,0),IF($B138=2,VLOOKUP(F$2,Table1[],4,0),IF($B138=3,VLOOKUP(F$2,Table1[],5,0),IF($B138=4,VLOOKUP(F$2,Table1[],5,0),0))))","v":800000}]
[2163,1,{"$f":"IF($B139=1,VLOOKUP(C$2,Table1[],3,0),IF($B139=2,VLOOKUP(C$2,Table1[],4,0),IF($B139=3,VLOOKUP(C$2,Table1[],5,0),IF($B139=4,VLOOKUP(C$2,Table1[],5,0),0))))","v":2000000},{"$f":"IF($B139=1,VLOOKUP(D$2,Table1[],3,0),IF($B139=2,VLOOKUP(D$2,Table1[],4,0),IF($B139=3,VLOOKUP(D$2,Table1[],5,0),IF($B139=4,VLOOKUP(D$2,Table1[],5,0),0))))","v":2000000},{"$f":"IF($B139=1,VLOOKUP(E$2,Table1[],3,0),IF($B139=2,VLOOKUP(E$2,Table1[],4,0),IF($B139=3,VLOOKUP(E$2,Table1[],5,0),IF($B139=4,VLOOKUP(E$2,Table1[],5,0),0))))","v":1500000},{"$f":"IF($B139=1,VLOOKUP(F$2,Table1[],3,0),IF($B139=2,VLOOKUP(F$2,Table1[],4,0),IF($B139=3,VLOOKUP(F$2,Table1[],5,0),IF($B139=4,VLOOKUP(F$2,Table1[],5,0),0))))","v":800000}]
[2164,1,{"$f":"IF($B140=1,VLOOKUP(C$2,Table1[],3,0),IF($B140=2,VLOOKUP(C$2,Table1[],4,0),IF($B140=3,VLOOKUP(C$2,Table1[],5,0),IF($B140=4,VLOOKUP(C$2,Table1[],5,0),0))))","v":2000000},{"$f":"IF($B140=1,VLOOKUP(D$2,Table1[],3,0),IF($B140=2,VLOOKUP(D$2,Table1[],4,0),IF($B140=3,VLOOKUP(D$2,Table1[],5,0),IF($B140=4,VLOOKUP(D$2,Table1[],5,0),0))))","v":2000000},{"$f":"IF($B140=1,VLOOKUP(E$2,Table1[],3,0),IF($B140=2,VLOOKUP(E$2,Table1[],4,0),IF($B140=3,VLOOKUP(E$2,Table1[],5,0),IF($B140=4,VLOOKUP(E$2,Table1[],5,0),0))))","v":1500000},{"$f":"IF($B140=1,VLOOKUP(F$2,Table1[],3,0),IF($B140=2,VLOOKUP(F$2,Table1[],4,0),IF($B140=3,VLOOKUP(F$2,Table1[],5,0),IF($B140=4,VLOOKUP(F$2,Table1[],5,0),0))))","v":800000}]
[2165,1,{"$f":"IF($B141=1,VLOOKUP(C$2,Table1[],3,0),IF($B141=2,VLOOKUP(C$2,Table1[],4,0),IF($B141=3,VLOOKUP(C$2,Table1[],5,0),IF($B141=4,VLOOKUP(C$2,Table1[],5,0),0))))","v":2000000},{"$f":"IF($B141=1,VLOOKUP(D$2,Table1[],3,0),IF($B141=2,VLOOKUP(D$2,Table1[],4,0),IF($B141=3,VLOOKUP(D$2,Table1[],5,0),IF($B141=4,VLOOKUP(D$2,Table1[],5,0),0))))","v":2000000},{"$f":"IF($B141=1,VLOOKUP(E$2,Table1[],3,0),IF($B141=2,VLOOKUP(E$2,Table1[],4,0),IF($B141=3,VLOOKUP(E$2,Table1[],5,0),IF($B141=4,VLOOKUP(E$2,Table1[],5,0),0))))","v":1500000},{"$f":"IF($B141=1,VLOOKUP(F$2,Table1[],3,0),IF($B141=2,VLOOKUP(F$2,Table1[],4,0),IF($B141=3,VLOOKUP(F$2,Table1[],5,0),IF($B141=4,VLOOKUP(F$2,Table1[],5,0),0))))","v":800000}]
[2166,1,{"$f":"IF($B142=1,VLOOKUP(C$2,Table1[],3,0),IF($B142=2,VLOOKUP(C$2,Table1[],4,0),IF($B142=3,VLOOKUP(C$2,Table1[],5,0),IF($B142=4,VLOOKUP(C$2,Table1[],5,0),0))))","v":2000000},{"$f":"IF($B142=1,VLOOKUP(D$2,Table1[],3,0),IF($B142=2,VLOOKUP(D$2,Table1[],4,0),IF($B142=3,VLOOKUP(D$2,Table1[],5,0),IF($B142=4,VLOOKUP(D$2,Table1[],5,0),0))))","v":2000000},{"$f":"IF($B142=1,VLOOKUP(E$2,Table1[],3,0),IF($B142=2,VLOOKUP(E$2,Table1[],4,0),IF($B142=3,VLOOKUP(E$2,Table1[],5,0),IF($B142=4,VLOOKUP(E$2,Table1[],5,0),0))))","v":1500000},{"$f":"IF($B142=1,VLOOKUP(F$2,Table1[],3,0),IF($B142=2,VLOOKUP(F$2,Table1[],4,0),IF($B142=3,VLOOKUP(F$2,Table1[],5,0),IF($B142=4,VLOOKUP(F$2,Table1[],5,0),0))))","v":800000}]
[2167,1,{"$f":"IF($B143=1,VLOOKUP(C$2,Table1[],3,0),IF($B143=2,VLOOKUP(C$2,Table1[],4,0),IF($B143=3,VLOOKUP(C$2,Table1[],5,0),IF($B143=4,VLOOKUP(C$2,Table1[],5,0),0))))","v":2000000},{"$f":"IF($B143=1,VLOOKUP(D$2,Table1[],3,0),IF($B143=2,VLOOKUP(D$2,Table1[],4,0),IF($B143=3,VLOOKUP(D$2,Table1[],5,0),IF($B143=4,VLOOKUP(D$2,Table1[],5,0),0))))","v":2000000},{"$f":"IF($B143=1,VLOOKUP(E$2,Table1[],3,0),IF($B143=2,VLOOKUP(E$2,Table1[],4,0),IF($B143=3,VLOOKUP(E$2,Table1[],5,0),IF($B143=4,VLOOKUP(E$2,Table1[],5,0),0))))","v":1500000},{"$f":"IF($B143=1,VLOOKUP(F$2,Table1[],3,0),IF($B143=2,VLOOKUP(F$2,Table1[],4,0),IF($B143=3,VLOOKUP(F$2,Table1[],5,0),IF($B143=4,VLOOKUP(F$2,Table1[],5,0),0))))","v":800000}]
[2168,1,{"$f":"IF($B144=1,VLOOKUP(C$2,Table1[],3,0),IF($B144=2,VLOOKUP(C$2,Table1[],4,0),IF($B144=3,VLOOKUP(C$2,Table1[],5,0),IF($B144=4,VLOOKUP(C$2,Table1[],5,0),0))))","v":2000000},{"$f":"IF($B144=1,VLOOKUP(D$2,Table1[],3,0),IF($B144=2,VLOOKUP(D$2,Table1[],4,0),IF($B144=3,VLOOKUP(D$2,Table1[],5,0),IF($B144=4,VLOOKUP(D$2,Table1[],5,0),0))))","v":2000000},{"$f":"IF($B144=1,VLOOKUP(E$2,Table1[],3,0),IF($B144=2,VLOOKUP(E$2,Table1[],4,0),IF($B144=3,VLOOKUP(E$2,Table1[],5,0),IF($B144=4,VLOOKUP(E$2,Table1[],5,0),0))))","v":1500000},{"$f":"IF($B144=1,VLOOKUP(F$2,Table1[],3,0),IF($B144=2,VLOOKUP(F$2,Table1[],4,0),IF($B144=3,VLOOKUP(F$2,Table1[],5,0),IF($B144=4,VLOOKUP(F$2,Table1[],5,0),0))))","v":800000}]
[2170,1,{"$f":"IF($B145=1,VLOOKUP(C$2,Table1[],3,0),IF($B145=2,VLOOKUP(C$2,Table1[],4,0),IF($B145=3,VLOOKUP(C$2,Table1[],5,0),IF($B145=4,VLOOKUP(C$2,Table1[],5,0),0))))","v":2000000},{"$f":"IF($B145=1,VLOOKUP(D$2,Table1[],3,0),IF($B145=2,VLOOKUP(D$2,Table1[],4,0),IF($B145=3,VLOOKUP(D$2,Table1[],5,0),IF($B145=4,VLOOKUP(D$2,Table1[],5,0),0))))","v":2000000},{"$f":"IF($B145=1,VLOOKUP(E$2,Table1[],3,0),IF($B145=2,VLOOKUP(E$2,Table1[],4,0),IF($B145=3,VLOOKUP(E$2,Table1[],5,0),IF($B145=4,VLOOKUP(E$2,Table1[],5,0),0))))","v":1500000},{"$f":"IF($B145=1,VLOOKUP(F$2,Table1[],3,0),IF($B145=2,VLOOKUP(F$2,Table1[],4,0),IF($B145=3,VLOOKUP(F$2,Table1[],5,0),IF($B145=4,VLOOKUP(F$2,Table1[],5,0),0))))","v":800000}]
[2171,1,{"$f":"IF($B146=1,VLOOKUP(C$2,Table1[],3,0),IF($B146=2,VLOOKUP(C$2,Table1[],4,0),IF($B146=3,VLOOKUP(C$2,Table1[],5,0),IF($B146=4,VLOOKUP(C$2,Table1[],5,0),0))))","v":2000000},{"$f":"IF($B146=1,VLOOKUP(D$2,Table1[],3,0),IF($B146=2,VLOOKUP(D$2,Table1[],4,0),IF($B146=3,VLOOKUP(D$2,Table1[],5,0),IF($B146=4,VLOOKUP(D$2,Table1[],5,0),0))))","v":2000000},{"$f":"IF($B146=1,VLOOKUP(E$2,Table1[],3,0),IF($B146=2,VLOOKUP(E$2,Table1[],4,0),IF($B146=3,VLOOKUP(E$2,Table1[],5,0),IF($B146=4,VLOOKUP(E$2,Table1[],5,0),0))))","v":1500000},{"$f":"IF($B146=1,VLOOKUP(F$2,Table1[],3,0),IF($B146=2,VLOOKUP(F$2,Table1[],4,0),IF($B146=3,VLOOKUP(F$2,Table1[],5,0),IF($B146=4,VLOOKUP(F$2,Table1[],5,0),0))))","v":800000}]
[2172,1,{"$f":"IF($B147=1,VLOOKUP(C$2,Table1[],3,0),IF($B147=2,VLOOKUP(C$2,Table1[],4,0),IF($B147=3,VLOOKUP(C$2,Table1[],5,0),IF($B147=4,VLOOKUP(C$2,Table1[],5,0),0))))","v":2000000},{"$f":"IF($B147=1,VLOOKUP(D$2,Table1[],3,0),IF($B147=2,VLOOKUP(D$2,Table1[],4,0),IF($B147=3,VLOOKUP(D$2,Table1[],5,0),IF($B147=4,VLOOKUP(D$2,Table1[],5,0),0))))","v":2000000},{"$f":"IF($B147=1,VLOOKUP(E$2,Table1[],3,0),IF($B147=2,VLOOKUP(E$2,Table1[],4,0),IF($B147=3,VLOOKUP(E$2,Table1[],5,0),IF($B147=4,VLOOKUP(E$2,Table1[],5,0),0))))","v":1500000},{"$f":"IF($B147=1,VLOOKUP(F$2,Table1[],3,0),IF($B147=2,VLOOKUP(F$2,Table1[],4,0),IF($B147=3,VLOOKUP(F$2,Table1[],5,0),IF($B147=4,VLOOKUP(F$2,Table1[],5,0),0))))","v":800000}]
[2173,1,{"$f":"IF($B148=1,VLOOKUP(C$2,Table1[],3,0),IF($B148=2,VLOOKUP(C$2,Table1[],4,0),IF($B148=3,VLOOKUP(C$2,Table1[],5,0),IF($B148=4,VLOOKUP(C$2,Table1[],5,0),0))))","v":2000000},{"$f":"IF($B148=1,VLOOKUP(D$2,Table1[],3,0),IF($B148=2,VLOOKUP(D$2,Table1[],4,0),IF($B148=3,VLOOKUP(D$2,Table1[],5,0),IF($B148=4,VLOOKUP(D$2,Table1[],5,0),0))))","v":2000000},{"$f":"IF($B148=1,VLOOKUP(E$2,Table1[],3,0),IF($B148=2,VLOOKUP(E$2,Table1[],4,0),IF($B148=3,VLOOKUP(E$2,Table1[],5,0),IF($B148=4,VLOOKUP(E$2,Table1[],5,0),0))))","v":1500000},{"$f":"IF($B148=1,VLOOKUP(F$2,Table1[],3,0),IF($B148=2,VLOOKUP(F$2,Table1[],4,0),IF($B148=3,VLOOKUP(F$2,Table1[],5,0),IF($B148=4,VLOOKUP(F$2,Table1[],5,0),0))))","v":800000}]
[2174,1,{"$f":"IF($B149=1,VLOOKUP(C$2,Table1[],3,0),IF($B149=2,VLOOKUP(C$2,Table1[],4,0),IF($B149=3,VLOOKUP(C$2,Table1[],5,0),IF($B149=4,VLOOKUP(C$2,Table1[],5,0),0))))","v":2000000},{"$f":"IF($B149=1,VLOOKUP(D$2,Table1[],3,0),IF($B149=2,VLOOKUP(D$2,Table1[],4,0),IF($B149=3,VLOOKUP(D$2,Table1[],5,0),IF($B149=4,VLOOKUP(D$2,Table1[],5,0),0))))","v":2000000},{"$f":"IF($B149=1,VLOOKUP(E$2,Table1[],3,0),IF($B149=2,VLOOKUP(E$2,Table1[],4,0),IF($B149=3,VLOOKUP(E$2,Table1[],5,0),IF($B149=4,VLOOKUP(E$2,Table1[],5,0),0))))","v":1500000},{"$f":"IF($B149=1,VLOOKUP(F$2,Table1[],3,0),IF($B149=2,VLOOKUP(F$2,Table1[],4,0),IF($B149=3,VLOOKUP(F$2,Table1[],5,0),IF($B149=4,VLOOKUP(F$2,Table1[],5,0),0))))","v":800000}]
[2175,1,{"$f":"IF($B150=1,VLOOKUP(C$2,Table1[],3,0),IF($B150=2,VLOOKUP(C$2,Table1[],4,0),IF($B150=3,VLOOKUP(C$2,Table1[],5,0),IF($B150=4,VLOOKUP(C$2,Table1[],5,0),0))))","v":2000000},{"$f":"IF($B150=1,VLOOKUP(D$2,Table1[],3,0),IF($B150=2,VLOOKUP(D$2,Table1[],4,0),IF($B150=3,VLOOKUP(D$2,Table1[],5,0),IF($B150=4,VLOOKUP(D$2,Table1[],5,0),0))))","v":2000000},{"$f":"IF($B150=1,VLOOKUP(E$2,Table1[],3,0),IF($B150=2,VLOOKUP(E$2,Table1[],4,0),IF($B150=3,VLOOKUP(E$2,Table1[],5,0),IF($B150=4,VLOOKUP(E$2,Table1[],5,0),0))))","v":1500000},{"$f":"IF($B150=1,VLOOKUP(F$2,Table1[],3,0),IF($B150=2,VLOOKUP(F$2,Table1[],4,0),IF($B150=3,VLOOKUP(F$2,Table1[],5,0),IF($B150=4,VLOOKUP(F$2,Table1[],5,0),0))))","v":800000}]
[2176,1,{"$f":"IF($B151=1,VLOOKUP(C$2,Table1[],3,0),IF($B151=2,VLOOKUP(C$2,Table1[],4,0),IF($B151=3,VLOOKUP(C$2,Table1[],5,0),IF($B151=4,VLOOKUP(C$2,Table1[],5,0),0))))","v":2000000},{"$f":"IF($B151=1,VLOOKUP(D$2,Table1[],3,0),IF($B151=2,VLOOKUP(D$2,Table1[],4,0),IF($B151=3,VLOOKUP(D$2,Table1[],5,0),IF($B151=4,VLOOKUP(D$2,Table1[],5,0),0))))","v":2000000},{"$f":"IF($B151=1,VLOOKUP(E$2,Table1[],3,0),IF($B151=2,VLOOKUP(E$2,Table1[],4,0),IF($B151=3,VLOOKUP(E$2,Table1[],5,0),IF($B151=4,VLOOKUP(E$2,Table1[],5,0),0))))","v":1500000},{"$f":"IF($B151=1,VLOOKUP(F$2,Table1[],3,0),IF($B151=2,VLOOKUP(F$2,Table1[],4,0),IF($B151=3,VLOOKUP(F$2,Table1[],5,0),IF($B151=4,VLOOKUP(F$2,Table1[],5,0),0))))","v":800000}]
[2177,1,{"$f":"IF($B152=1,VLOOKUP(C$2,Table1[],3,0),IF($B152=2,VLOOKUP(C$2,Table1[],4,0),IF($B152=3,VLOOKUP(C$2,Table1[],5,0),IF($B152=4,VLOOKUP(C$2,Table1[],5,0),0))))","v":2000000},{"$f":"IF($B152=1,VLOOKUP(D$2,Table1[],3,0),IF($B152=2,VLOOKUP(D$2,Table1[],4,0),IF($B152=3,VLOOKUP(D$2,Table1[],5,0),IF($B152=4,VLOOKUP(D$2,Table1[],5,0),0))))","v":2000000},{"$f":"IF($B152=1,VLOOKUP(E$2,Table1[],3,0),IF($B152=2,VLOOKUP(E$2,Table1[],4,0),IF($B152=3,VLOOKUP(E$2,Table1[],5,0),IF($B152=4,VLOOKUP(E$2,Table1[],5,0),0))))","v":1500000},{"$f":"IF($B152=1,VLOOKUP(F$2,Table1[],3,0),IF($B152=2,VLOOKUP(F$2,Table1[],4,0),IF($B152=3,VLOOKUP(F$2,Table1[],5,0),IF($B152=4,VLOOKUP(F$2,Table1[],5,0),0))))","v":800000}]
[2178,1,{"$f":"IF($B153=1,VLOOKUP(C$2,Table1[],3,0),IF($B153=2,VLOOKUP(C$2,Table1[],4,0),IF($B153=3,VLOOKUP(C$2,Table1[],5,0),IF($B153=4,VLOOKUP(C$2,Table1[],5,0),0))))","v":2000000},{"$f":"IF($B153=1,VLOOKUP(D$2,Table1[],3,0),IF($B153=2,VLOOKUP(D$2,Table1[],4,0),IF($B153=3,VLOOKUP(D$2,Table1[],5,0),IF($B153=4,VLOOKUP(D$2,Table1[],5,0),0))))","v":2000000},{"$f":"IF($B153=1,VLOOKUP(E$2,Table1[],3,0),IF($B153=2,VLOOKUP(E$2,Table1[],4,0),IF($B153=3,VLOOKUP(E$2,Table1[],5,0),IF($B153=4,VLOOKUP(E$2,Table1[],5,0),0))))","v":1500000},{"$f":"IF($B153=1,VLOOKUP(F$2,Table1[],3,0),IF($B153=2,VLOOKUP(F$2,Table1[],4,0),IF($B153=3,VLOOKUP(F$2,Table1[],5,0),IF($B153=4,VLOOKUP(F$2,Table1[],5,0),0))))","v":800000}]
[2179,1,{"$f":"IF($B154=1,VLOOKUP(C$2,Table1[],3,0),IF($B154=2,VLOOKUP(C$2,Table1[],4,0),IF($B154=3,VLOOKUP(C$2,Table1[],5,0),IF($B154=4,VLOOKUP(C$2,Table1[],5,0),0))))","v":2000000},{"$f":"IF($B154=1,VLOOKUP(D$2,Table1[],3,0),IF($B154=2,VLOOKUP(D$2,Table1[],4,0),IF($B154=3,VLOOKUP(D$2,Table1[],5,0),IF($B154=4,VLOOKUP(D$2,Table1[],5,0),0))))","v":2000000},{"$f":"IF($B154=1,VLOOKUP(E$2,Table1[],3,0),IF($B154=2,VLOOKUP(E$2,Table1[],4,0),IF($B154=3,VLOOKUP(E$2,Table1[],5,0),IF($B154=4,VLOOKUP(E$2,Table1[],5,0),0))))","v":1500000},{"$f":"IF($B154=1,VLOOKUP(F$2,Table1[],3,0),IF($B154=2,VLOOKUP(F$2,Table1[],4,0),IF($B154=3,VLOOKUP(F$2,Table1[],5,0),IF($B154=4,VLOOKUP(F$2,Table1[],5,0),0))))","v":800000}]
[2190,1,{"$f":"IF($B155=1,VLOOKUP(C$2,Table1[],3,0),IF($B155=2,VLOOKUP(C$2,Table1[],4,0),IF($B155=3,VLOOKUP(C$2,Table1[],5,0),IF($B155=4,VLOOKUP(C$2,Table1[],5,0),0))))","v":2000000},{"$f":"IF($B155=1,VLOOKUP(D$2,Table1[],3,0),IF($B155=2,VLOOKUP(D$2,Table1[],4,0),IF($B155=3,VLOOKUP(D$2,Table1[],5,0),IF($B155=4,VLOOKUP(D$2,Table1[],5,0),0))))","v":2000000},{"$f":"IF($B155=1,VLOOKUP(E$2,Table1[],3,0),IF($B155=2,VLOOKUP(E$2,Table1[],4,0),IF($B155=3,VLOOKUP(E$2,Table1[],5,0),IF($B155=4,VLOOKUP(E$2,Table1[],5,0),0))))","v":1500000},{"$f":"IF($B155=1,VLOOKUP(F$2,Table1[],3,0),IF($B155=2,VLOOKUP(F$2,Table1[],4,0),IF($B155=3,VLOOKUP(F$2,Table1[],5,0),IF($B155=4,VLOOKUP(F$2,Table1[],5,0),0))))","v":800000}]
[2191,1,{"$f":"IF($B156=1,VLOOKUP(C$2,Table1[],3,0),IF($B156=2,VLOOKUP(C$2,Table1[],4,0),IF($B156=3,VLOOKUP(C$2,Table1[],5,0),IF($B156=4,VLOOKUP(C$2,Table1[],5,0),0))))","v":2000000},{"$f":"IF($B156=1,VLOOKUP(D$2,Table1[],3,0),IF($B156=2,VLOOKUP(D$2,Table1[],4,0),IF($B156=3,VLOOKUP(D$2,Table1[],5,0),IF($B156=4,VLOOKUP(D$2,Table1[],5,0),0))))","v":2000000},{"$f":"IF($B156=1,VLOOKUP(E$2,Table1[],3,0),IF($B156=2,VLOOKUP(E$2,Table1[],4,0),IF($B156=3,VLOOKUP(E$2,Table1[],5,0),IF($B156=4,VLOOKUP(E$2,Table1[],5,0),0))))","v":1500000},{"$f":"IF($B156=1,VLOOKUP(F$2,Table1[],3,0),IF($B156=2,VLOOKUP(F$2,Table1[],4,0),IF($B156=3,VLOOKUP(F$2,Table1[],5,0),IF($B156=4,VLOOKUP(F$2,Table1[],5,0),0))))","v":800000}]
[2192,1,{"$f":"IF($B157=1,VLOOKUP(C$2,Table1[],3,0),IF($B157=2,VLOOKUP(C$2,Table1[],4,0),IF($B157=3,VLOOKUP(C$2,Table1[],5,0),IF($B157=4,VLOOKUP(C$2,Table1[],5,0),0))))","v":2000000},{"$f":"IF($B157=1,VLOOKUP(D$2,Table1[],3,0),IF($B157=2,VLOOKUP(D$2,Table1[],4,0),IF($B157=3,VLOOKUP(D$2,Table1[],5,0),IF($B157=4,VLOOKUP(D$2,Table1[],5,0),0))))","v":2000000},{"$f":"IF($B157=1,VLOOKUP(E$2,Table1[],3,0),IF($B157=2,VLOOKUP(E$2,Table1[],4,0),IF($B157=3,VLOOKUP(E$2,Table1[],5,0),IF($B157=4,VLOOKUP(E$2,Table1[],5,0),0))))","v":1500000},{"$f":"IF($B157=1,VLOOKUP(F$2,Table1[],3,0),IF($B157=2,VLOOKUP(F$2,Table1[],4,0),IF($B157=3,VLOOKUP(F$2,Table1[],5,0),IF($B157=4,VLOOKUP(F$2,Table1[],5,0),0))))","v":800000}]
[2193,1,{"$f":"IF($B158=1,VLOOKUP(C$2,Table1[],3,0),IF($B158=2,VLOOKUP(C$2,Table1[],4,0),IF($B158=3,VLOOKUP(C$2,Table1[],5,0),IF($B158=4,VLOOKUP(C$2,Table1[],5,0),0))))","v":2000000},{"$f":"IF($B158=1,VLOOKUP(D$2,Table1[],3,0),IF($B158=2,VLOOKUP(D$2,Table1[],4,0),IF($B158=3,VLOOKUP(D$2,Table1[],5,0),IF($B158=4,VLOOKUP(D$2,Table1[],5,0),0))))","v":2000000},{"$f":"IF($B158=1,VLOOKUP(E$2,Table1[],3,0),IF($B158=2,VLOOKUP(E$2,Table1[],4,0),IF($B158=3,VLOOKUP(E$2,Table1[],5,0),IF($B158=4,VLOOKUP(E$2,Table1[],5,0),0))))","v":1500000},{"$f":"IF($B158=1,VLOOKUP(F$2,Table1[],3,0),IF($B158=2,VLOOKUP(F$2,Table1[],4,0),IF($B158=3,VLOOKUP(F$2,Table1[],5,0),IF($B158=4,VLOOKUP(F$2,Table1[],5,0),0))))","v":800000}]
[2194,1,{"$f":"IF($B159=1,VLOOKUP(C$2,Table1[],3,0),IF($B159=2,VLOOKUP(C$2,Table1[],4,0),IF($B159=3,VLOOKUP(C$2,Table1[],5,0),IF($B159=4,VLOOKUP(C$2,Table1[],5,0),0))))","v":2000000},{"$f":"IF($B159=1,VLOOKUP(D$2,Table1[],3,0),IF($B159=2,VLOOKUP(D$2,Table1[],4,0),IF($B159=3,VLOOKUP(D$2,Table1[],5,0),IF($B159=4,VLOOKUP(D$2,Table1[],5,0),0))))","v":2000000},{"$f":"IF($B159=1,VLOOKUP(E$2,Table1[],3,0),IF($B159=2,VLOOKUP(E$2,Table1[],4,0),IF($B159=3,VLOOKUP(E$2,Table1[],5,0),IF($B159=4,VLOOKUP(E$2,Table1[],5,0),0))))","v":1500000},{"$f":"IF($B159=1,VLOOKUP(F$2,Table1[],3,0),IF($B159=2,VLOOKUP(F$2,Table1[],4,0),IF($B159=3,VLOOKUP(F$2,Table1[],5,0),IF($B159=4,VLOOKUP(F$2,Table1[],5,0),0))))","v":800000}]
[2195,1,{"$f":"IF($B160=1,VLOOKUP(C$2,Table1[],3,0),IF($B160=2,VLOOKUP(C$2,Table1[],4,0),IF($B160=3,VLOOKUP(C$2,Table1[],5,0),IF($B160=4,VLOOKUP(C$2,Table1[],5,0),0))))","v":2000000},{"$f":"IF($B160=1,VLOOKUP(D$2,Table1[],3,0),IF($B160=2,VLOOKUP(D$2,Table1[],4,0),IF($B160=3,VLOOKUP(D$2,Table1[],5,0),IF($B160=4,VLOOKUP(D$2,Table1[],5,0),0))))","v":2000000},{"$f":"IF($B160=1,VLOOKUP(E$2,Table1[],3,0),IF($B160=2,VLOOKUP(E$2,Table1[],4,0),IF($B160=3,VLOOKUP(E$2,Table1[],5,0),IF($B160=4,VLOOKUP(E$2,Table1[],5,0),0))))","v":1500000},{"$f":"IF($B160=1,VLOOKUP(F$2,Table1[],3,0),IF($B160=2,VLOOKUP(F$2,Table1[],4,0),IF($B160=3,VLOOKUP(F$2,Table1[],5,0),IF($B160=4,VLOOKUP(F$2,Table1[],5,0),0))))","v":800000}]
[2196,1,{"$f":"IF($B161=1,VLOOKUP(C$2,Table1[],3,0),IF($B161=2,VLOOKUP(C$2,Table1[],4,0),IF($B161=3,VLOOKUP(C$2,Table1[],5,0),IF($B161=4,VLOOKUP(C$2,Table1[],5,0),0))))","v":2000000},{"$f":"IF($B161=1,VLOOKUP(D$2,Table1[],3,0),IF($B161=2,VLOOKUP(D$2,Table1[],4,0),IF($B161=3,VLOOKUP(D$2,Table1[],5,0),IF($B161=4,VLOOKUP(D$2,Table1[],5,0),0))))","v":2000000},{"$f":"IF($B161=1,VLOOKUP(E$2,Table1[],3,0),IF($B161=2,VLOOKUP(E$2,Table1[],4,0),IF($B161=3,VLOOKUP(E$2,Table1[],5,0),IF($B161=4,VLOOKUP(E$2,Table1[],5,0),0))))","v":1500000},{"$f":"IF($B161=1,VLOOKUP(F$2,Table1[],3,0),IF($B161=2,VLOOKUP(F$2,Table1[],4,0),IF($B161=3,VLOOKUP(F$2,Table1[],5,0),IF($B161=4,VLOOKUP(F$2,Table1[],5,0),0))))","v":800000}]
[2197,1,{"$f":"IF($B162=1,VLOOKUP(C$2,Table1[],3,0),IF($B162=2,VLOOKUP(C$2,Table1[],4,0),IF($B162=3,VLOOKUP(C$2,Table1[],5,0),IF($B162=4,VLOOKUP(C$2,Table1[],5,0),0))))","v":2000000},{"$f":"IF($B162=1,VLOOKUP(D$2,Table1[],3,0),IF($B162=2,VLOOKUP(D$2,Table1[],4,0),IF($B162=3,VLOOKUP(D$2,Table1[],5,0),IF($B162=4,VLOOKUP(D$2,Table1[],5,0),0))))","v":2000000},{"$f":"IF($B162=1,VLOOKUP(E$2,Table1[],3,0),IF($B162=2,VLOOKUP(E$2,Table1[],4,0),IF($B162=3,VLOOKUP(E$2,Table1[],5,0),IF($B162=4,VLOOKUP(E$2,Table1[],5,0),0))))","v":1500000},{"$f":"IF($B162=1,VLOOKUP(F$2,Table1[],3,0),IF($B162=2,VLOOKUP(F$2,Table1[],4,0),IF($B162=3,VLOOKUP(F$2,Table1[],5,0),IF($B162=4,VLOOKUP(F$2,Table1[],5,0),0))))","v":800000}]
[2198,1,{"$f":"IF($B163=1,VLOOKUP(C$2,Table1[],3,0),IF($B163=2,VLOOKUP(C$2,Table1[],4,0),IF($B163=3,VLOOKUP(C$2,Table1[],5,0),IF($B163=4,VLOOKUP(C$2,Table1[],5,0),0))))","v":2000000},{"$f":"IF($B163=1,VLOOKUP(D$2,Table1[],3,0),IF($B163=2,VLOOKUP(D$2,Table1[],4,0),IF($B163=3,VLOOKUP(D$2,Table1[],5,0),IF($B163=4,VLOOKUP(D$2,Table1[],5,0),0))))","v":2000000},{"$f":"IF($B163=1,VLOOKUP(E$2,Table1[],3,0),IF($B163=2,VLOOKUP(E$2,Table1[],4,0),IF($B163=3,VLOOKUP(E$2,Table1[],5,0),IF($B163=4,VLOOKUP(E$2,Table1[],5,0),0))))","v":1500000},{"$f":"IF($B163=1,VLOOKUP(F$2,Table1[],3,0),IF($B163=2,VLOOKUP(F$2,Table1[],4,0),IF($B163=3,VLOOKUP(F$2,Table1[],5,0),IF($B163=4,VLOOKUP(F$2,Table1[],5,0),0))))","v":800000}]
[2199,1,{"$f":"IF($B164=1,VLOOKUP(C$2,Table1[],3,0),IF($B164=2,VLOOKUP(C$2,Table1[],4,0),IF($B164=3,VLOOKUP(C$2,Table1[],5,0),IF($B164=4,VLOOKUP(C$2,Table1[],5,0),0))))","v":2000000},{"$f":"IF($B164=1,VLOOKUP(D$2,Table1[],3,0),IF($B164=2,VLOOKUP(D$2,Table1[],4,0),IF($B164=3,VLOOKUP(D$2,Table1[],5,0),IF($B164=4,VLOOKUP(D$2,Table1[],5,0),0))))","v":2000000},{"$f":"IF($B164=1,VLOOKUP(E$2,Table1[],3,0),IF($B164=2,VLOOKUP(E$2,Table1[],4,0),IF($B164=3,VLOOKUP(E$2,Table1[],5,0),IF($B164=4,VLOOKUP(E$2,Table1[],5,0),0))))","v":1500000},{"$f":"IF($B164=1,VLOOKUP(F$2,Table1[],3,0),IF($B164=2,VLOOKUP(F$2,Table1[],4,0),IF($B164=3,VLOOKUP(F$2,Table1[],5,0),IF($B164=4,VLOOKUP(F$2,Table1[],5,0),0))))","v":800000}]
[2200,1,{"$f":"IF($B165=1,VLOOKUP(C$2,Table1[],3,0),IF($B165=2,VLOOKUP(C$2,Table1[],4,0),IF($B165=3,VLOOKUP(C$2,Table1[],5,0),IF($B165=4,VLOOKUP(C$2,Table1[],5,0),0))))","v":2000000},{"$f":"IF($B165=1,VLOOKUP(D$2,Table1[],3,0),IF($B165=2,VLOOKUP(D$2,Table1[],4,0),IF($B165=3,VLOOKUP(D$2,Table1[],5,0),IF($B165=4,VLOOKUP(D$2,Table1[],5,0),0))))","v":2000000},{"$f":"IF($B165=1,VLOOKUP(E$2,Table1[],3,0),IF($B165=2,VLOOKUP(E$2,Table1[],4,0),IF($B165=3,VLOOKUP(E$2,Table1[],5,0),IF($B165=4,VLOOKUP(E$2,Table1[],5,0),0))))","v":1500000},{"$f":"IF($B165=1,VLOOKUP(F$2,Table1[],3,0),IF($B165=2,VLOOKUP(F$2,Table1[],4,0),IF($B165=3,VLOOKUP(F$2,Table1[],5,0),IF($B165=4,VLOOKUP(F$2,Table1[],5,0),0))))","v":800000}]
[2203,1,{"$f":"IF($B166=1,VLOOKUP(C$2,Table1[],3,0),IF($B166=2,VLOOKUP(C$2,Table1[],4,0),IF($B166=3,VLOOKUP(C$2,Table1[],5,0),IF($B166=4,VLOOKUP(C$2,Table1[],5,0),0))))","v":2000000},{"$f":"IF($B166=1,VLOOKUP(D$2,Table1[],3,0),IF($B166=2,VLOOKUP(D$2,Table1[],4,0),IF($B166=3,VLOOKUP(D$2,Table1[],5,0),IF($B166=4,VLOOKUP(D$2,Table1[],5,0),0))))","v":2000000},{"$f":"IF($B166=1,VLOOKUP(E$2,Table1[],3,0),IF($B166=2,VLOOKUP(E$2,Table1[],4,0),IF($B166=3,VLOOKUP(E$2,Table1[],5,0),IF($B166=4,VLOOKUP(E$2,Table1[],5,0),0))))","v":1500000},{"$f":"IF($B166=1,VLOOKUP(F$2,Table1[],3,0),IF($B166=2,VLOOKUP(F$2,Table1[],4,0),IF($B166=3,VLOOKUP(F$2,Table1[],5,0),IF($B166=4,VLOOKUP(F$2,Table1[],5,0),0))))","v":800000}]
[2204,1,{"$f":"IF($B167=1,VLOOKUP(C$2,Table1[],3,0),IF($B167=2,VLOOKUP(C$2,Table1[],4,0),IF($B167=3,VLOOKUP(C$2,Table1[],5,0),IF($B167=4,VLOOKUP(C$2,Table1[],5,0),0))))","v":2000000},{"$f":"IF($B167=1,VLOOKUP(D$2,Table1[],3,0),IF($B167=2,VLOOKUP(D$2,Table1[],4,0),IF($B167=3,VLOOKUP(D$2,Table1[],5,0),IF($B167=4,VLOOKUP(D$2,Table1[],5,0),0))))","v":2000000},{"$f":"IF($B167=1,VLOOKUP(E$2,Table1[],3,0),IF($B167=2,VLOOKUP(E$2,Table1[],4,0),IF($B167=3,VLOOKUP(E$2,Table1[],5,0),IF($B167=4,VLOOKUP(E$2,Table1[],5,0),0))))","v":1500000},{"$f":"IF($B167=1,VLOOKUP(F$2,Table1[],3,0),IF($B167=2,VLOOKUP(F$2,Table1[],4,0),IF($B167=3,VLOOKUP(F$2,Table1[],5,0),IF($B167=4,VLOOKUP(F$2,Table1[],5,0),0))))","v":800000}]
[2205,1,{"$f":"IF($B168=1,VLOOKUP(C$2,Table1[],3,0),IF($B168=2,VLOOKUP(C$2,Table1[],4,0),IF($B168=3,VLOOKUP(C$2,Table1[],5,0),IF($B168=4,VLOOKUP(C$2,Table1[],5,0),0))))","v":2000000},{"$f":"IF($B168=1,VLOOKUP(D$2,Table1[],3,0),IF($B168=2,VLOOKUP(D$2,Table1[],4,0),IF($B168=3,VLOOKUP(D$2,Table1[],5,0),IF($B168=4,VLOOKUP(D$2,Table1[],5,0),0))))","v":2000000},{"$f":"IF($B168=1,VLOOKUP(E$2,Table1[],3,0),IF($B168=2,VLOOKUP(E$2,Table1[],4,0),IF($B168=3,VLOOKUP(E$2,Table1[],5,0),IF($B168=4,VLOOKUP(E$2,Table1[],5,0),0))))","v":1500000},{"$f":"IF($B168=1,VLOOKUP(F$2,Table1[],3,0),IF($B168=2,VLOOKUP(F$2,Table1[],4,0),IF($B168=3,VLOOKUP(F$2,Table1[],5,0),IF($B168=4,VLOOKUP(F$2,Table1[],5,0),0))))","v":800000}]
[2206,1,{"$f":"IF($B169=1,VLOOKUP(C$2,Table1[],3,0),IF($B169=2,VLOOKUP(C$2,Table1[],4,0),IF($B169=3,VLOOKUP(C$2,Table1[],5,0),IF($B169=4,VLOOKUP(C$2,Table1[],5,0),0))))","v":2000000},{"$f":"IF($B169=1,VLOOKUP(D$2,Table1[],3,0),IF($B169=2,VLOOKUP(D$2,Table1[],4,0),IF($B169=3,VLOOKUP(D$2,Table1[],5,0),IF($B169=4,VLOOKUP(D$2,Table1[],5,0),0))))","v":2000000},{"$f":"IF($B169=1,VLOOKUP(E$2,Table1[],3,0),IF($B169=2,VLOOKUP(E$2,Table1[],4,0),IF($B169=3,VLOOKUP(E$2,Table1[],5,0),IF($B169=4,VLOOKUP(E$2,Table1[],5,0),0))))","v":1500000},{"$f":"IF($B169=1,VLOOKUP(F$2,Table1[],3,0),IF($B169=2,VLOOKUP(F$2,Table1[],4,0),IF($B169=3,VLOOKUP(F$2,Table1[],5,0),IF($B169=4,VLOOKUP(F$2,Table1[],5,0),0))))","v":800000}]
[2207,1,{"$f":"IF($B170=1,VLOOKUP(C$2,Table1[],3,0),IF($B170=2,VLOOKUP(C$2,Table1[],4,0),IF($B170=3,VLOOKUP(C$2,Table1[],5,0),IF($B170=4,VLOOKUP(C$2,Table1[],5,0),0))))","v":2000000},{"$f":"IF($B170=1,VLOOKUP(D$2,Table1[],3,0),IF($B170=2,VLOOKUP(D$2,Table1[],4,0),IF($B170=3,VLOOKUP(D$2,Table1[],5,0),IF($B170=4,VLOOKUP(D$2,Table1[],5,0),0))))","v":2000000},{"$f":"IF($B170=1,VLOOKUP(E$2,Table1[],3,0),IF($B170=2,VLOOKUP(E$2,Table1[],4,0),IF($B170=3,VLOOKUP(E$2,Table1[],5,0),IF($B170=4,VLOOKUP(E$2,Table1[],5,0),0))))","v":1500000},{"$f":"IF($B170=1,VLOOKUP(F$2,Table1[],3,0),IF($B170=2,VLOOKUP(F$2,Table1[],4,0),IF($B170=3,VLOOKUP(F$2,Table1[],5,0),IF($B170=4,VLOOKUP(F$2,Table1[],5,0),0))))","v":800000}]
[2208,1,{"$f":"IF($B171=1,VLOOKUP(C$2,Table1[],3,0),IF($B171=2,VLOOKUP(C$2,Table1[],4,0),IF($B171=3,VLOOKUP(C$2,Table1[],5,0),IF($B171=4,VLOOKUP(C$2,Table1[],5,0),0))))","v":2000000},{"$f":"IF($B171=1,VLOOKUP(D$2,Table1[],3,0),IF($B171=2,VLOOKUP(D$2,Table1[],4,0),IF($B171=3,VLOOKUP(D$2,Table1[],5,0),IF($B171=4,VLOOKUP(D$2,Table1[],5,0),0))))","v":2000000},{"$f":"IF($B171=1,VLOOKUP(E$2,Table1[],3,0),IF($B171=2,VLOOKUP(E$2,Table1[],4,0),IF($B171=3,VLOOKUP(E$2,Table1[],5,0),IF($B171=4,VLOOKUP(E$2,Table1[],5,0),0))))","v":1500000},{"$f":"IF($B171=1,VLOOKUP(F$2,Table1[],3,0),IF($B171=2,VLOOKUP(F$2,Table1[],4,0),IF($B171=3,VLOOKUP(F$2,Table1[],5,0),IF($B171=4,VLOOKUP(F$2,Table1[],5,0),0))))","v":800000}]
[2209,1,{"$f":"IF($B172=1,VLOOKUP(C$2,Table1[],3,0),IF($B172=2,VLOOKUP(C$2,Table1[],4,0),IF($B172=3,VLOOKUP(C$2,Table1[],5,0),IF($B172=4,VLOOKUP(C$2,Table1[],5,0),0))))","v":2000000},{"$f":"IF($B172=1,VLOOKUP(D$2,Table1[],3,0),IF($B172=2,VLOOKUP(D$2,Table1[],4,0),IF($B172=3,VLOOKUP(D$2,Table1[],5,0),IF($B172=4,VLOOKUP(D$2,Table1[],5,0),0))))","v":2000000},{"$f":"IF($B172=1,VLOOKUP(E$2,Table1[],3,0),IF($B172=2,VLOOKUP(E$2,Table1[],4,0),IF($B172=3,VLOOKUP(E$2,Table1[],5,0),IF($B172=4,VLOOKUP(E$2,Table1[],5,0),0))))","v":1500000},{"$f":"IF($B172=1,VLOOKUP(F$2,Table1[],3,0),IF($B172=2,VLOOKUP(F$2,Table1[],4,0),IF($B172=3,VLOOKUP(F$2,Table1[],5,0),IF($B172=4,VLOOKUP(F$2,Table1[],5,0),0))))","v":800000}]
[2210,1,{"$f":"IF($B173=1,VLOOKUP(C$2,Table1[],3,0),IF($B173=2,VLOOKUP(C$2,Table1[],4,0),IF($B173=3,VLOOKUP(C$2,Table1[],5,0),IF($B173=4,VLOOKUP(C$2,Table1[],5,0),0))))","v":2000000},{"$f":"IF($B173=1,VLOOKUP(D$2,Table1[],3,0),IF($B173=2,VLOOKUP(D$2,Table1[],4,0),IF($B173=3,VLOOKUP(D$2,Table1[],5,0),IF($B173=4,VLOOKUP(D$2,Table1[],5,0),0))))","v":2000000},{"$f":"IF($B173=1,VLOOKUP(E$2,Table1[],3,0),IF($B173=2,VLOOKUP(E$2,Table1[],4,0),IF($B173=3,VLOOKUP(E$2,Table1[],5,0),IF($B173=4,VLOOKUP(E$2,Table1[],5,0),0))))","v":1500000},{"$f":"IF($B173=1,VLOOKUP(F$2,Table1[],3,0),IF($B173=2,VLOOKUP(F$2,Table1[],4,0),IF($B173=3,VLOOKUP(F$2,Table1[],5,0),IF($B173=4,VLOOKUP(F$2,Table1[],5,0),0))))","v":800000}]
[2211,1,{"$f":"IF($B174=1,VLOOKUP(C$2,Table1[],3,0),IF($B174=2,VLOOKUP(C$2,Table1[],4,0),IF($B174=3,VLOOKUP(C$2,Table1[],5,0),IF($B174=4,VLOOKUP(C$2,Table1[],5,0),0))))","v":2000000},{"$f":"IF($B174=1,VLOOKUP(D$2,Table1[],3,0),IF($B174=2,VLOOKUP(D$2,Table1[],4,0),IF($B174=3,VLOOKUP(D$2,Table1[],5,0),IF($B174=4,VLOOKUP(D$2,Table1[],5,0),0))))","v":2000000},{"$f":"IF($B174=1,VLOOKUP(E$2,Table1[],3,0),IF($B174=2,VLOOKUP(E$2,Table1[],4,0),IF($B174=3,VLOOKUP(E$2,Table1[],5,0),IF($B174=4,VLOOKUP(E$2,Table1[],5,0),0))))","v":1500000},{"$f":"IF($B174=1,VLOOKUP(F$2,Table1[],3,0),IF($B174=2,VLOOKUP(F$2,Table1[],4,0),IF($B174=3,VLOOKUP(F$2,Table1[],5,0),IF($B174=4,VLOOKUP(F$2,Table1[],5,0),0))))","v":800000}]
[2212,1,{"$f":"IF($B175=1,VLOOKUP(C$2,Table1[],3,0),IF($B175=2,VLOOKUP(C$2,Table1[],4,0),IF($B175=3,VLOOKUP(C$2,Table1[],5,0),IF($B175=4,VLOOKUP(C$2,Table1[],5,0),0))))","v":2000000},{"$f":"IF($B175=1,VLOOKUP(D$2,Table1[],3,0),IF($B175=2,VLOOKUP(D$2,Table1[],4,0),IF($B175=3,VLOOKUP(D$2,Table1[],5,0),IF($B175=4,VLOOKUP(D$2,Table1[],5,0),0))))","v":2000000},{"$f":"IF($B175=1,VLOOKUP(E$2,Table1[],3,0),IF($B175=2,VLOOKUP(E$2,Table1[],4,0),IF($B175=3,VLOOKUP(E$2,Table1[],5,0),IF($B175=4,VLOOKUP(E$2,Table1[],5,0),0))))","v":1500000},{"$f":"IF($B175=1,VLOOKUP(F$2,Table1[],3,0),IF($B175=2,VLOOKUP(F$2,Table1[],4,0),IF($B175=3,VLOOKUP(F$2,Table1[],5,0),IF($B175=4,VLOOKUP(F$2,Table1[],5,0),0))))","v":800000}]
[2213,1,{"$f":"IF($B176=1,VLOOKUP(C$2,Table1[],3,0),IF($B176=2,VLOOKUP(C$2,Table1[],4,0),IF($B176=3,VLOOKUP(C$2,Table1[],5,0),IF($B176=4,VLOOKUP(C$2,Table1[],5,0),0))))","v":2000000},{"$f":"IF($B176=1,VLOOKUP(D$2,Table1[],3,0),IF($B176=2,VLOOKUP(D$2,Table1[],4,0),IF($B176=3,VLOOKUP(D$2,Table1[],5,0),IF($B176=4,VLOOKUP(D$2,Table1[],5,0),0))))","v":2000000},{"$f":"IF($B176=1,VLOOKUP(E$2,Table1[],3,0),IF($B176=2,VLOOKUP(E$2,Table1[],4,0),IF($B176=3,VLOOKUP(E$2,Table1[],5,0),IF($B176=4,VLOOKUP(E$2,Table1[],5,0),0))))","v":1500000},{"$f":"IF($B176=1,VLOOKUP(F$2,Table1[],3,0),IF($B176=2,VLOOKUP(F$2,Table1[],4,0),IF($B176=3,VLOOKUP(F$2,Table1[],5,0),IF($B176=4,VLOOKUP(F$2,Table1[],5,0),0))))","v":800000}]
[2214,1,{"$f":"IF($B177=1,VLOOKUP(C$2,Table1[],3,0),IF($B177=2,VLOOKUP(C$2,Table1[],4,0),IF($B177=3,VLOOKUP(C$2,Table1[],5,0),IF($B177=4,VLOOKUP(C$2,Table1[],5,0),0))))","v":2000000},{"$f":"IF($B177=1,VLOOKUP(D$2,Table1[],3,0),IF($B177=2,VLOOKUP(D$2,Table1[],4,0),IF($B177=3,VLOOKUP(D$2,Table1[],5,0),IF($B177=4,VLOOKUP(D$2,Table1[],5,0),0))))","v":2000000},{"$f":"IF($B177=1,VLOOKUP(E$2,Table1[],3,0),IF($B177=2,VLOOKUP(E$2,Table1[],4,0),IF($B177=3,VLOOKUP(E$2,Table1[],5,0),IF($B177=4,VLOOKUP(E$2,Table1[],5,0),0))))","v":1500000},{"$f":"IF($B177=1,VLOOKUP(F$2,Table1[],3,0),IF($B177=2,VLOOKUP(F$2,Table1[],4,0),IF($B177=3,VLOOKUP(F$2,Table1[],5,0),IF($B177=4,VLOOKUP(F$2,Table1[],5,0),0))))","v":800000}]
[2216,1,{"$f":"IF($B178=1,VLOOKUP(C$2,Table1[],3,0),IF($B178=2,VLOOKUP(C$2,Table1[],4,0),IF($B178=3,VLOOKUP(C$2,Table1[],5,0),IF($B178=4,VLOOKUP(C$2,Table1[],5,0),0))))","v":2000000},{"$f":"IF($B178=1,VLOOKUP(D$2,Table1[],3,0),IF($B178=2,VLOOKUP(D$2,Table1[],4,0),IF($B178=3,VLOOKUP(D$2,Table1[],5,0),IF($B178=4,VLOOKUP(D$2,Table1[],5,0),0))))","v":2000000},{"$f":"IF($B178=1,VLOOKUP(E$2,Table1[],3,0),IF($B178=2,VLOOKUP(E$2,Table1[],4,0),IF($B178=3,VLOOKUP(E$2,Table1[],5,0),IF($B178=4,VLOOKUP(E$2,Table1[],5,0),0))))","v":1500000},{"$f":"IF($B178=1,VLOOKUP(F$2,Table1[],3,0),IF($B178=2,VLOOKUP(F$2,Table1[],4,0),IF($B178=3,VLOOKUP(F$2,Table1[],5,0),IF($B178=4,VLOOKUP(F$2,Table1[],5,0),0))))","v":800000}]
[2217,1,{"$f":"IF($B179=1,VLOOKUP(C$2,Table1[],3,0),IF($B179=2,VLOOKUP(C$2,Table1[],4,0),IF($B179=3,VLOOKUP(C$2,Table1[],5,0),IF($B179=4,VLOOKUP(C$2,Table1[],5,0),0))))","v":2000000},{"$f":"IF($B179=1,VLOOKUP(D$2,Table1[],3,0),IF($B179=2,VLOOKUP(D$2,Table1[],4,0),IF($B179=3,VLOOKUP(D$2,Table1[],5,0),IF($B179=4,VLOOKUP(D$2,Table1[],5,0),0))))","v":2000000},{"$f":"IF($B179=1,VLOOKUP(E$2,Table1[],3,0),IF($B179=2,VLOOKUP(E$2,Table1[],4,0),IF($B179=3,VLOOKUP(E$2,Table1[],5,0),IF($B179=4,VLOOKUP(E$2,Table1[],5,0),0))))","v":1500000},{"$f":"IF($B179=1,VLOOKUP(F$2,Table1[],3,0),IF($B179=2,VLOOKUP(F$2,Table1[],4,0),IF($B179=3,VLOOKUP(F$2,Table1[],5,0),IF($B179=4,VLOOKUP(F$2,Table1[],5,0),0))))","v":800000}]
[2218,1,{"$f":"IF($B180=1,VLOOKUP(C$2,Table1[],3,0),IF($B180=2,VLOOKUP(C$2,Table1[],4,0),IF($B180=3,VLOOKUP(C$2,Table1[],5,0),IF($B180=4,VLOOKUP(C$2,Table1[],5,0),0))))","v":2000000},{"$f":"IF($B180=1,VLOOKUP(D$2,Table1[],3,0),IF($B180=2,VLOOKUP(D$2,Table1[],4,0),IF($B180=3,VLOOKUP(D$2,Table1[],5,0),IF($B180=4,VLOOKUP(D$2,Table1[],5,0),0))))","v":2000000},{"$f":"IF($B180=1,VLOOKUP(E$2,Table1[],3,0),IF($B180=2,VLOOKUP(E$2,Table1[],4,0),IF($B180=3,VLOOKUP(E$2,Table1[],5,0),IF($B180=4,VLOOKUP(E$2,Table1[],5,0),0))))","v":1500000},{"$f":"IF($B180=1,VLOOKUP(F$2,Table1[],3,0),IF($B180=2,VLOOKUP(F$2,Table1[],4,0),IF($B180=3,VLOOKUP(F$2,Table1[],5,0),IF($B180=4,VLOOKUP(F$2,Table1[],5,0),0))))","v":800000}]
[2219,1,{"$f":"IF($B181=1,VLOOKUP(C$2,Table1[],3,0),IF($B181=2,VLOOKUP(C$2,Table1[],4,0),IF($B181=3,VLOOKUP(C$2,Table1[],5,0),IF($B181=4,VLOOKUP(C$2,Table1[],5,0),0))))","v":2000000},{"$f":"IF($B181=1,VLOOKUP(D$2,Table1[],3,0),IF($B181=2,VLOOKUP(D$2,Table1[],4,0),IF($B181=3,VLOOKUP(D$2,Table1[],5,0),IF($B181=4,VLOOKUP(D$2,Table1[],5,0),0))))","v":2000000},{"$f":"IF($B181=1,VLOOKUP(E$2,Table1[],3,0),IF($B181=2,VLOOKUP(E$2,Table1[],4,0),IF($B181=3,VLOOKUP(E$2,Table1[],5,0),IF($B181=4,VLOOKUP(E$2,Table1[],5,0),0))))","v":1500000},{"$f":"IF($B181=1,VLOOKUP(F$2,Table1[],3,0),IF($B181=2,VLOOKUP(F$2,Table1[],4,0),IF($B181=3,VLOOKUP(F$2,Table1[],5,0),IF($B181=4,VLOOKUP(F$2,Table1[],5,0),0))))","v":800000}]
[2220,1,{"$f":"IF($B182=1,VLOOKUP(C$2,Table1[],3,0),IF($B182=2,VLOOKUP(C$2,Table1[],4,0),IF($B182=3,VLOOKUP(C$2,Table1[],5,0),IF($B182=4,VLOOKUP(C$2,Table1[],5,0),0))))","v":2000000},{"$f":"IF($B182=1,VLOOKUP(D$2,Table1[],3,0),IF($B182=2,VLOOKUP(D$2,Table1[],4,0),IF($B182=3,VLOOKUP(D$2,Table1[],5,0),IF($B182=4,VLOOKUP(D$2,Table1[],5,0),0))))","v":2000000},{"$f":"IF($B182=1,VLOOKUP(E$2,Table1[],3,0),IF($B182=2,VLOOKUP(E$2,Table1[],4,0),IF($B182=3,VLOOKUP(E$2,Table1[],5,0),IF($B182=4,VLOOKUP(E$2,Table1[],5,0),0))))","v":1500000},{"$f":"IF($B182=1,VLOOKUP(F$2,Table1[],3,0),IF($B182=2,VLOOKUP(F$2,Table1[],4,0),IF($B182=3,VLOOKUP(F$2,Table1[],5,0),IF($B182=4,VLOOKUP(F$2,Table1[],5,0),0))))","v":800000}]
[2221,1,{"$f":"IF($B183=1,VLOOKUP(C$2,Table1[],3,0),IF($B183=2,VLOOKUP(C$2,Table1[],4,0),IF($B183=3,VLOOKUP(C$2,Table1[],5,0),IF($B183=4,VLOOKUP(C$2,Table1[],5,0),0))))","v":2000000},{"$f":"IF($B183=1,VLOOKUP(D$2,Table1[],3,0),IF($B183=2,VLOOKUP(D$2,Table1[],4,0),IF($B183=3,VLOOKUP(D$2,Table1[],5,0),IF($B183=4,VLOOKUP(D$2,Table1[],5,0),0))))","v":2000000},{"$f":"IF($B183=1,VLOOKUP(E$2,Table1[],3,0),IF($B183=2,VLOOKUP(E$2,Table1[],4,0),IF($B183=3,VLOOKUP(E$2,Table1[],5,0),IF($B183=4,VLOOKUP(E$2,Table1[],5,0),0))))","v":1500000},{"$f":"IF($B183=1,VLOOKUP(F$2,Table1[],3,0),IF($B183=2,VLOOKUP(F$2,Table1[],4,0),IF($B183=3,VLOOKUP(F$2,Table1[],5,0),IF($B183=4,VLOOKUP(F$2,Table1[],5,0),0))))","v":800000}]
[2222,1,{"$f":"IF($B184=1,VLOOKUP(C$2,Table1[],3,0),IF($B184=2,VLOOKUP(C$2,Table1[],4,0),IF($B184=3,VLOOKUP(C$2,Table1[],5,0),IF($B184=4,VLOOKUP(C$2,Table1[],5,0),0))))","v":2000000},{"$f":"IF($B184=1,VLOOKUP(D$2,Table1[],3,0),IF($B184=2,VLOOKUP(D$2,Table1[],4,0),IF($B184=3,VLOOKUP(D$2,Table1[],5,0),IF($B184=4,VLOOKUP(D$2,Table1[],5,0),0))))","v":2000000},{"$f":"IF($B184=1,VLOOKUP(E$2,Table1[],3,0),IF($B184=2,VLOOKUP(E$2,Table1[],4,0),IF($B184=3,VLOOKUP(E$2,Table1[],5,0),IF($B184=4,VLOOKUP(E$2,Table1[],5,0),0))))","v":1500000},{"$f":"IF($B184=1,VLOOKUP(F$2,Table1[],3,0),IF($B184=2,VLOOKUP(F$2,Table1[],4,0),IF($B184=3,VLOOKUP(F$2,Table1[],5,0),IF($B184=4,VLOOKUP(F$2,Table1[],5,0),0))))","v":800000}]
[2223,1,{"$f":"IF($B185=1,VLOOKUP(C$2,Table1[],3,0),IF($B185=2,VLOOKUP(C$2,Table1[],4,0),IF($B185=3,VLOOKUP(C$2,Table1[],5,0),IF($B185=4,VLOOKUP(C$2,Table1[],5,0),0))))","v":2000000},{"$f":"IF($B185=1,VLOOKUP(D$2,Table1[],3,0),IF($B185=2,VLOOKUP(D$2,Table1[],4,0),IF($B185=3,VLOOKUP(D$2,Table1[],5,0),IF($B185=4,VLOOKUP(D$2,Table1[],5,0),0))))","v":2000000},{"$f":"IF($B185=1,VLOOKUP(E$2,Table1[],3,0),IF($B185=2,VLOOKUP(E$2,Table1[],4,0),IF($B185=3,VLOOKUP(E$2,Table1[],5,0),IF($B185=4,VLOOKUP(E$2,Table1[],5,0),0))))","v":1500000},{"$f":"IF($B185=1,VLOOKUP(F$2,Table1[],3,0),IF($B185=2,VLOOKUP(F$2,Table1[],4,0),IF($B185=3,VLOOKUP(F$2,Table1[],5,0),IF($B185=4,VLOOKUP(F$2,Table1[],5,0),0))))","v":800000}]
[2224,1,{"$f":"IF($B186=1,VLOOKUP(C$2,Table1[],3,0),IF($B186=2,VLOOKUP(C$2,Table1[],4,0),IF($B186=3,VLOOKUP(C$2,Table1[],5,0),IF($B186=4,VLOOKUP(C$2,Table1[],5,0),0))))","v":2000000},{"$f":"IF($B186=1,VLOOKUP(D$2,Table1[],3,0),IF($B186=2,VLOOKUP(D$2,Table1[],4,0),IF($B186=3,VLOOKUP(D$2,Table1[],5,0),IF($B186=4,VLOOKUP(D$2,Table1[],5,0),0))))","v":2000000},{"$f":"IF($B186=1,VLOOKUP(E$2,Table1[],3,0),IF($B186=2,VLOOKUP(E$2,Table1[],4,0),IF($B186=3,VLOOKUP(E$2,Table1[],5,0),IF($B186=4,VLOOKUP(E$2,Table1[],5,0),0))))","v":1500000},{"$f":"IF($B186=1,VLOOKUP(F$2,Table1[],3,0),IF($B186=2,VLOOKUP(F$2,Table1[],4,0),IF($B186=3,VLOOKUP(F$2,Table1[],5,0),IF($B186=4,VLOOKUP(F$2,Table1[],5,0),0))))","v":800000}]
[2225,1,{"$f":"IF($B187=1,VLOOKUP(C$2,Table1[],3,0),IF($B187=2,VLOOKUP(C$2,Table1[],4,0),IF($B187=3,VLOOKUP(C$2,Table1[],5,0),IF($B187=4,VLOOKUP(C$2,Table1[],5,0),0))))","v":2000000},{"$f":"IF($B187=1,VLOOKUP(D$2,Table1[],3,0),IF($B187=2,VLOOKUP(D$2,Table1[],4,0),IF($B187=3,VLOOKUP(D$2,Table1[],5,0),IF($B187=4,VLOOKUP(D$2,Table1[],5,0),0))))","v":2000000},{"$f":"IF($B187=1,VLOOKUP(E$2,Table1[],3,0),IF($B187=2,VLOOKUP(E$2,Table1[],4,0),IF($B187=3,VLOOKUP(E$2,Table1[],5,0),IF($B187=4,VLOOKUP(E$2,Table1[],5,0),0))))","v":1500000},{"$f":"IF($B187=1,VLOOKUP(F$2,Table1[],3,0),IF($B187=2,VLOOKUP(F$2,Table1[],4,0),IF($B187=3,VLOOKUP(F$2,Table1[],5,0),IF($B187=4,VLOOKUP(F$2,Table1[],5,0),0))))","v":800000}]
[2226,1,{"$f":"IF($B188=1,VLOOKUP(C$2,Table1[],3,0),IF($B188=2,VLOOKUP(C$2,Table1[],4,0),IF($B188=3,VLOOKUP(C$2,Table1[],5,0),IF($B188=4,VLOOKUP(C$2,Table1[],5,0),0))))","v":2000000},{"$f":"IF($B188=1,VLOOKUP(D$2,Table1[],3,0),IF($B188=2,VLOOKUP(D$2,Table1[],4,0),IF($B188=3,VLOOKUP(D$2,Table1[],5,0),IF($B188=4,VLOOKUP(D$2,Table1[],5,0),0))))","v":2000000},{"$f":"IF($B188=1,VLOOKUP(E$2,Table1[],3,0),IF($B188=2,VLOOKUP(E$2,Table1[],4,0),IF($B188=3,VLOOKUP(E$2,Table1[],5,0),IF($B188=4,VLOOKUP(E$2,Table1[],5,0),0))))","v":1500000},{"$f":"IF($B188=1,VLOOKUP(F$2,Table1[],3,0),IF($B188=2,VLOOKUP(F$2,Table1[],4,0),IF($B188=3,VLOOKUP(F$2,Table1[],5,0),IF($B188=4,VLOOKUP(F$2,Table1[],5,0),0))))","v":800000}]
[2227,1,{"$f":"IF($B189=1,VLOOKUP(C$2,Table1[],3,0),IF($B189=2,VLOOKUP(C$2,Table1[],4,0),IF($B189=3,VLOOKUP(C$2,Table1[],5,0),IF($B189=4,VLOOKUP(C$2,Table1[],5,0),0))))","v":2000000},{"$f":"IF($B189=1,VLOOKUP(D$2,Table1[],3,0),IF($B189=2,VLOOKUP(D$2,Table1[],4,0),IF($B189=3,VLOOKUP(D$2,Table1[],5,0),IF($B189=4,VLOOKUP(D$2,Table1[],5,0),0))))","v":2000000},{"$f":"IF($B189=1,VLOOKUP(E$2,Table1[],3,0),IF($B189=2,VLOOKUP(E$2,Table1[],4,0),IF($B189=3,VLOOKUP(E$2,Table1[],5,0),IF($B189=4,VLOOKUP(E$2,Table1[],5,0),0))))","v":1500000},{"$f":"IF($B189=1,VLOOKUP(F$2,Table1[],3,0),IF($B189=2,VLOOKUP(F$2,Table1[],4,0),IF($B189=3,VLOOKUP(F$2,Table1[],5,0),IF($B189=4,VLOOKUP(F$2,Table1[],5,0),0))))","v":800000}]
[2228,1,{"$f":"IF($B190=1,VLOOKUP(C$2,Table1[],3,0),IF($B190=2,VLOOKUP(C$2,Table1[],4,0),IF($B190=3,VLOOKUP(C$2,Table1[],5,0),IF($B190=4,VLOOKUP(C$2,Table1[],5,0),0))))","v":2000000},{"$f":"IF($B190=1,VLOOKUP(D$2,Table1[],3,0),IF($B190=2,VLOOKUP(D$2,Table1[],4,0),IF($B190=3,VLOOKUP(D$2,Table1[],5,0),IF($B190=4,VLOOKUP(D$2,Table1[],5,0),0))))","v":2000000},{"$f":"IF($B190=1,VLOOKUP(E$2,Table1[],3,0),IF($B190=2,VLOOKUP(E$2,Table1[],4,0),IF($B190=3,VLOOKUP(E$2,Table1[],5,0),IF($B190=4,VLOOKUP(E$2,Table1[],5,0),0))))","v":1500000},{"$f":"IF($B190=1,VLOOKUP(F$2,Table1[],3,0),IF($B190=2,VLOOKUP(F$2,Table1[],4,0),IF($B190=3,VLOOKUP(F$2,Table1[],5,0),IF($B190=4,VLOOKUP(F$2,Table1[],5,0),0))))","v":800000}]
[2229,1,{"$f":"IF($B191=1,VLOOKUP(C$2,Table1[],3,0),IF($B191=2,VLOOKUP(C$2,Table1[],4,0),IF($B191=3,VLOOKUP(C$2,Table1[],5,0),IF($B191=4,VLOOKUP(C$2,Table1[],5,0),0))))","v":2000000},{"$f":"IF($B191=1,VLOOKUP(D$2,Table1[],3,0),IF($B191=2,VLOOKUP(D$2,Table1[],4,0),IF($B191=3,VLOOKUP(D$2,Table1[],5,0),IF($B191=4,VLOOKUP(D$2,Table1[],5,0),0))))","v":2000000},{"$f":"IF($B191=1,VLOOKUP(E$2,Table1[],3,0),IF($B191=2,VLOOKUP(E$2,Table1[],4,0),IF($B191=3,VLOOKUP(E$2,Table1[],5,0),IF($B191=4,VLOOKUP(E$2,Table1[],5,0),0))))","v":1500000},{"$f":"IF($B191=1,VLOOKUP(F$2,Table1[],3,0),IF($B191=2,VLOOKUP(F$2,Table1[],4,0),IF($B191=3,VLOOKUP(F$2,Table1[],5,0),IF($B191=4,VLOOKUP(F$2,Table1[],5,0),0))))","v":800000}]
[2230,1,{"$f":"IF($B192=1,VLOOKUP(C$2,Table1[],3,0),IF($B192=2,VLOOKUP(C$2,Table1[],4,0),IF($B192=3,VLOOKUP(C$2,Table1[],5,0),IF($B192=4,VLOOKUP(C$2,Table1[],5,0),0))))","v":2000000},{"$f":"IF($B192=1,VLOOKUP(D$2,Table1[],3,0),IF($B192=2,VLOOKUP(D$2,Table1[],4,0),IF($B192=3,VLOOKUP(D$2,Table1[],5,0),IF($B192=4,VLOOKUP(D$2,Table1[],5,0),0))))","v":2000000},{"$f":"IF($B192=1,VLOOKUP(E$2,Table1[],3,0),IF($B192=2,VLOOKUP(E$2,Table1[],4,0),IF($B192=3,VLOOKUP(E$2,Table1[],5,0),IF($B192=4,VLOOKUP(E$2,Table1[],5,0),0))))","v":1500000},{"$f":"IF($B192=1,VLOOKUP(F$2,Table1[],3,0),IF($B192=2,VLOOKUP(F$2,Table1[],4,0),IF($B192=3,VLOOKUP(F$2,Table1[],5,0),IF($B192=4,VLOOKUP(F$2,Table1[],5,0),0))))","v":800000}]
[2231,1,{"$f":"IF($B193=1,VLOOKUP(C$2,Table1[],3,0),IF($B193=2,VLOOKUP(C$2,Table1[],4,0),IF($B193=3,VLOOKUP(C$2,Table1[],5,0),IF($B193=4,VLOOKUP(C$2,Table1[],5,0),0))))","v":2000000},{"$f":"IF($B193=1,VLOOKUP(D$2,Table1[],3,0),IF($B193=2,VLOOKUP(D$2,Table1[],4,0),IF($B193=3,VLOOKUP(D$2,Table1[],5,0),IF($B193=4,VLOOKUP(D$2,Table1[],5,0),0))))","v":2000000},{"$f":"IF($B193=1,VLOOKUP(E$2,Table1[],3,0),IF($B193=2,VLOOKUP(E$2,Table1[],4,0),IF($B193=3,VLOOKUP(E$2,Table1[],5,0),IF($B193=4,VLOOKUP(E$2,Table1[],5,0),0))))","v":1500000},{"$f":"IF($B193=1,VLOOKUP(F$2,Table1[],3,0),IF($B193=2,VLOOKUP(F$2,Table1[],4,0),IF($B193=3,VLOOKUP(F$2,Table1[],5,0),IF($B193=4,VLOOKUP(F$2,Table1[],5,0),0))))","v":800000}]
[2232,1,{"$f":"IF($B194=1,VLOOKUP(C$2,Table1[],3,0),IF($B194=2,VLOOKUP(C$2,Table1[],4,0),IF($B194=3,VLOOKUP(C$2,Table1[],5,0),IF($B194=4,VLOOKUP(C$2,Table1[],5,0),0))))","v":2000000},{"$f":"IF($B194=1,VLOOKUP(D$2,Table1[],3,0),IF($B194=2,VLOOKUP(D$2,Table1[],4,0),IF($B194=3,VLOOKUP(D$2,Table1[],5,0),IF($B194=4,VLOOKUP(D$2,Table1[],5,0),0))))","v":2000000},{"$f":"IF($B194=1,VLOOKUP(E$2,Table1[],3,0),IF($B194=2,VLOOKUP(E$2,Table1[],4,0),IF($B194=3,VLOOKUP(E$2,Table1[],5,0),IF($B194=4,VLOOKUP(E$2,Table1[],5,0),0))))","v":1500000},{"$f":"IF($B194=1,VLOOKUP(F$2,Table1[],3,0),IF($B194=2,VLOOKUP(F$2,Table1[],4,0),IF($B194=3,VLOOKUP(F$2,Table1[],5,0),IF($B194=4,VLOOKUP(F$2,Table1[],5,0),0))))","v":800000}]
[2233,1,{"$f":"IF($B195=1,VLOOKUP(C$2,Table1[],3,0),IF($B195=2,VLOOKUP(C$2,Table1[],4,0),IF($B195=3,VLOOKUP(C$2,Table1[],5,0),IF($B195=4,VLOOKUP(C$2,Table1[],5,0),0))))","v":2000000},{"$f":"IF($B195=1,VLOOKUP(D$2,Table1[],3,0),IF($B195=2,VLOOKUP(D$2,Table1[],4,0),IF($B195=3,VLOOKUP(D$2,Table1[],5,0),IF($B195=4,VLOOKUP(D$2,Table1[],5,0),0))))","v":2000000},{"$f":"IF($B195=1,VLOOKUP(E$2,Table1[],3,0),IF($B195=2,VLOOKUP(E$2,Table1[],4,0),IF($B195=3,VLOOKUP(E$2,Table1[],5,0),IF($B195=4,VLOOKUP(E$2,Table1[],5,0),0))))","v":1500000},{"$f":"IF($B195=1,VLOOKUP(F$2,Table1[],3,0),IF($B195=2,VLOOKUP(F$2,Table1[],4,0),IF($B195=3,VLOOKUP(F$2,Table1[],5,0),IF($B195=4,VLOOKUP(F$2,Table1[],5,0),0))))","v":800000}]
[2234,1,{"$f":"IF($B196=1,VLOOKUP(C$2,Table1[],3,0),IF($B196=2,VLOOKUP(C$2,Table1[],4,0),IF($B196=3,VLOOKUP(C$2,Table1[],5,0),IF($B196=4,VLOOKUP(C$2,Table1[],5,0),0))))","v":2000000},{"$f":"IF($B196=1,VLOOKUP(D$2,Table1[],3,0),IF($B196=2,VLOOKUP(D$2,Table1[],4,0),IF($B196=3,VLOOKUP(D$2,Table1[],5,0),IF($B196=4,VLOOKUP(D$2,Table1[],5,0),0))))","v":2000000},{"$f":"IF($B196=1,VLOOKUP(E$2,Table1[],3,0),IF($B196=2,VLOOKUP(E$2,Table1[],4,0),IF($B196=3,VLOOKUP(E$2,Table1[],5,0),IF($B196=4,VLOOKUP(E$2,Table1[],5,0),0))))","v":1500000},{"$f":"IF($B196=1,VLOOKUP(F$2,Table1[],3,0),IF($B196=2,VLOOKUP(F$2,Table1[],4,0),IF($B196=3,VLOOKUP(F$2,Table1[],5,0),IF($B196=4,VLOOKUP(F$2,Table1[],5,0),0))))","v":800000}]
[2250,1,{"$f":"IF($B197=1,VLOOKUP(C$2,Table1[],3,0),IF($B197=2,VLOOKUP(C$2,Table1[],4,0),IF($B197=3,VLOOKUP(C$2,Table1[],5,0),IF($B197=4,VLOOKUP(C$2,Table1[],5,0),0))))","v":2000000},{"$f":"IF($B197=1,VLOOKUP(D$2,Table1[],3,0),IF($B197=2,VLOOKUP(D$2,Table1[],4,0),IF($B197=3,VLOOKUP(D$2,Table1[],5,0),IF($B197=4,VLOOKUP(D$2,Table1[],5,0),0))))","v":2000000},{"$f":"IF($B197=1,VLOOKUP(E$2,Table1[],3,0),IF($B197=2,VLOOKUP(E$2,Table1[],4,0),IF($B197=3,VLOOKUP(E$2,Table1[],5,0),IF($B197=4,VLOOKUP(E$2,Table1[],5,0),0))))","v":1500000},{"$f":"IF($B197=1,VLOOKUP(F$2,Table1[],3,0),IF($B197=2,VLOOKUP(F$2,Table1[],4,0),IF($B197=3,VLOOKUP(F$2,Table1[],5,0),IF($B197=4,VLOOKUP(F$2,Table1[],5,0),0))))","v":800000}]
[2251,1,{"$f":"IF($B198=1,VLOOKUP(C$2,Table1[],3,0),IF($B198=2,VLOOKUP(C$2,Table1[],4,0),IF($B198=3,VLOOKUP(C$2,Table1[],5,0),IF($B198=4,VLOOKUP(C$2,Table1[],5,0),0))))","v":2000000},{"$f":"IF($B198=1,VLOOKUP(D$2,Table1[],3,0),IF($B198=2,VLOOKUP(D$2,Table1[],4,0),IF($B198=3,VLOOKUP(D$2,Table1[],5,0),IF($B198=4,VLOOKUP(D$2,Table1[],5,0),0))))","v":2000000},{"$f":"IF($B198=1,VLOOKUP(E$2,Table1[],3,0),IF($B198=2,VLOOKUP(E$2,Table1[],4,0),IF($B198=3,VLOOKUP(E$2,Table1[],5,0),IF($B198=4,VLOOKUP(E$2,Table1[],5,0),0))))","v":1500000},{"$f":"IF($B198=1,VLOOKUP(F$2,Table1[],3,0),IF($B198=2,VLOOKUP(F$2,Table1[],4,0),IF($B198=3,VLOOKUP(F$2,Table1[],5,0),IF($B198=4,VLOOKUP(F$2,Table1[],5,0),0))))","v":800000}]
[2256,1,{"$f":"IF($B199=1,VLOOKUP(C$2,Table1[],3,0),IF($B199=2,VLOOKUP(C$2,Table1[],4,0),IF($B199=3,VLOOKUP(C$2,Table1[],5,0),IF($B199=4,VLOOKUP(C$2,Table1[],5,0),0))))","v":2000000},{"$f":"IF($B199=1,VLOOKUP(D$2,Table1[],3,0),IF($B199=2,VLOOKUP(D$2,Table1[],4,0),IF($B199=3,VLOOKUP(D$2,Table1[],5,0),IF($B199=4,VLOOKUP(D$2,Table1[],5,0),0))))","v":2000000},{"$f":"IF($B199=1,VLOOKUP(E$2,Table1[],3,0),IF($B199=2,VLOOKUP(E$2,Table1[],4,0),IF($B199=3,VLOOKUP(E$2,Table1[],5,0),IF($B199=4,VLOOKUP(E$2,Table1[],5,0),0))))","v":1500000},{"$f":"IF($B199=1,VLOOKUP(F$2,Table1[],3,0),IF($B199=2,VLOOKUP(F$2,Table1[],4,0),IF($B199=3,VLOOKUP(F$2,Table1[],5,0),IF($B199=4,VLOOKUP(F$2,Table1[],5,0),0))))","v":800000}]
[2257,1,{"$f":"IF($B200=1,VLOOKUP(C$2,Table1[],3,0),IF($B200=2,VLOOKUP(C$2,Table1[],4,0),IF($B200=3,VLOOKUP(C$2,Table1[],5,0),IF($B200=4,VLOOKUP(C$2,Table1[],5,0),0))))","v":2000000},{"$f":"IF($B200=1,VLOOKUP(D$2,Table1[],3,0),IF($B200=2,VLOOKUP(D$2,Table1[],4,0),IF($B200=3,VLOOKUP(D$2,Table1[],5,0),IF($B200=4,VLOOKUP(D$2,Table1[],5,0),0))))","v":2000000},{"$f":"IF($B200=1,VLOOKUP(E$2,Table1[],3,0),IF($B200=2,VLOOKUP(E$2,Table1[],4,0),IF($B200=3,VLOOKUP(E$2,Table1[],5,0),IF($B200=4,VLOOKUP(E$2,Table1[],5,0),0))))","v":1500000},{"$f":"IF($B200=1,VLOOKUP(F$2,Table1[],3,0),IF($B200=2,VLOOKUP(F$2,Table1[],4,0),IF($B200=3,VLOOKUP(F$2,Table1[],5,0),IF($B200=4,VLOOKUP(F$2,Table1[],5,0),0))))","v":800000}]
[2258,1,{"$f":"IF($B201=1,VLOOKUP(C$2,Table1[],3,0),IF($B201=2,VLOOKUP(C$2,Table1[],4,0),IF($B201=3,VLOOKUP(C$2,Table1[],5,0),IF($B201=4,VLOOKUP(C$2,Table1[],5,0),0))))","v":2000000},{"$f":"IF($B201=1,VLOOKUP(D$2,Table1[],3,0),IF($B201=2,VLOOKUP(D$2,Table1[],4,0),IF($B201=3,VLOOKUP(D$2,Table1[],5,0),IF($B201=4,VLOOKUP(D$2,Table1[],5,0),0))))","v":2000000},{"$f":"IF($B201=1,VLOOKUP(E$2,Table1[],3,0),IF($B201=2,VLOOKUP(E$2,Table1[],4,0),IF($B201=3,VLOOKUP(E$2,Table1[],5,0),IF($B201=4,VLOOKUP(E$2,Table1[],5,0),0))))","v":1500000},{"$f":"IF($B201=1,VLOOKUP(F$2,Table1[],3,0),IF($B201=2,VLOOKUP(F$2,Table1[],4,0),IF($B201=3,VLOOKUP(F$2,Table1[],5,0),IF($B201=4,VLOOKUP(F$2,Table1[],5,0),0))))","v":800000}]
[2259,1,{"$f":"IF($B202=1,VLOOKUP(C$2,Table1[],3,0),IF($B202=2,VLOOKUP(C$2,Table1[],4,0),IF($B202=3,VLOOKUP(C$2,Table1[],5,0),IF($B202=4,VLOOKUP(C$2,Table1[],5,0),0))))","v":2000000},{"$f":"IF($B202=1,VLOOKUP(D$2,Table1[],3,0),IF($B202=2,VLOOKUP(D$2,Table1[],4,0),IF($B202=3,VLOOKUP(D$2,Table1[],5,0),IF($B202=4,VLOOKUP(D$2,Table1[],5,0),0))))","v":2000000},{"$f":"IF($B202=1,VLOOKUP(E$2,Table1[],3,0),IF($B202=2,VLOOKUP(E$2,Table1[],4,0),IF($B202=3,VLOOKUP(E$2,Table1[],5,0),IF($B202=4,VLOOKUP(E$2,Table1[],5,0),0))))","v":1500000},{"$f":"IF($B202=1,VLOOKUP(F$2,Table1[],3,0),IF($B202=2,VLOOKUP(F$2,Table1[],4,0),IF($B202=3,VLOOKUP(F$2,Table1[],5,0),IF($B202=4,VLOOKUP(F$2,Table1[],5,0),0))))","v":800000}]
[2260,1,{"$f":"IF($B203=1,VLOOKUP(C$2,Table1[],3,0),IF($B203=2,VLOOKUP(C$2,Table1[],4,0),IF($B203=3,VLOOKUP(C$2,Table1[],5,0),IF($B203=4,VLOOKUP(C$2,Table1[],5,0),0))))","v":2000000},{"$f":"IF($B203=1,VLOOKUP(D$2,Table1[],3,0),IF($B203=2,VLOOKUP(D$2,Table1[],4,0),IF($B203=3,VLOOKUP(D$2,Table1[],5,0),IF($B203=4,VLOOKUP(D$2,Table1[],5,0),0))))","v":2000000},{"$f":"IF($B203=1,VLOOKUP(E$2,Table1[],3,0),IF($B203=2,VLOOKUP(E$2,Table1[],4,0),IF($B203=3,VLOOKUP(E$2,Table1[],5,0),IF($B203=4,VLOOKUP(E$2,Table1[],5,0),0))))","v":1500000},{"$f":"IF($B203=1,VLOOKUP(F$2,Table1[],3,0),IF($B203=2,VLOOKUP(F$2,Table1[],4,0),IF($B203=3,VLOOKUP(F$2,Table1[],5,0),IF($B203=4,VLOOKUP(F$2,Table1[],5,0),0))))","v":800000}]
[2261,1,{"$f":"IF($B204=1,VLOOKUP(C$2,Table1[],3,0),IF($B204=2,VLOOKUP(C$2,Table1[],4,0),IF($B204=3,VLOOKUP(C$2,Table1[],5,0),IF($B204=4,VLOOKUP(C$2,Table1[],5,0),0))))","v":2000000},{"$f":"IF($B204=1,VLOOKUP(D$2,Table1[],3,0),IF($B204=2,VLOOKUP(D$2,Table1[],4,0),IF($B204=3,VLOOKUP(D$2,Table1[],5,0),IF($B204=4,VLOOKUP(D$2,Table1[],5,0),0))))","v":2000000},{"$f":"IF($B204=1,VLOOKUP(E$2,Table1[],3,0),IF($B204=2,VLOOKUP(E$2,Table1[],4,0),IF($B204=3,VLOOKUP(E$2,Table1[],5,0),IF($B204=4,VLOOKUP(E$2,Table1[],5,0),0))))","v":1500000},{"$f":"IF($B204=1,VLOOKUP(F$2,Table1[],3,0),IF($B204=2,VLOOKUP(F$2,Table1[],4,0),IF($B204=3,VLOOKUP(F$2,Table1[],5,0),IF($B204=4,VLOOKUP(F$2,Table1[],5,0),0))))","v":800000}]
[2262,1,{"$f":"IF($B205=1,VLOOKUP(C$2,Table1[],3,0),IF($B205=2,VLOOKUP(C$2,Table1[],4,0),IF($B205=3,VLOOKUP(C$2,Table1[],5,0),IF($B205=4,VLOOKUP(C$2,Table1[],5,0),0))))","v":2000000},{"$f":"IF($B205=1,VLOOKUP(D$2,Table1[],3,0),IF($B205=2,VLOOKUP(D$2,Table1[],4,0),IF($B205=3,VLOOKUP(D$2,Table1[],5,0),IF($B205=4,VLOOKUP(D$2,Table1[],5,0),0))))","v":2000000},{"$f":"IF($B205=1,VLOOKUP(E$2,Table1[],3,0),IF($B205=2,VLOOKUP(E$2,Table1[],4,0),IF($B205=3,VLOOKUP(E$2,Table1[],5,0),IF($B205=4,VLOOKUP(E$2,Table1[],5,0),0))))","v":1500000},{"$f":"IF($B205=1,VLOOKUP(F$2,Table1[],3,0),IF($B205=2,VLOOKUP(F$2,Table1[],4,0),IF($B205=3,VLOOKUP(F$2,Table1[],5,0),IF($B205=4,VLOOKUP(F$2,Table1[],5,0),0))))","v":800000}]
[2263,1,{"$f":"IF($B206=1,VLOOKUP(C$2,Table1[],3,0),IF($B206=2,VLOOKUP(C$2,Table1[],4,0),IF($B206=3,VLOOKUP(C$2,Table1[],5,0),IF($B206=4,VLOOKUP(C$2,Table1[],5,0),0))))","v":2000000},{"$f":"IF($B206=1,VLOOKUP(D$2,Table1[],3,0),IF($B206=2,VLOOKUP(D$2,Table1[],4,0),IF($B206=3,VLOOKUP(D$2,Table1[],5,0),IF($B206=4,VLOOKUP(D$2,Table1[],5,0),0))))","v":2000000},{"$f":"IF($B206=1,VLOOKUP(E$2,Table1[],3,0),IF($B206=2,VLOOKUP(E$2,Table1[],4,0),IF($B206=3,VLOOKUP(E$2,Table1[],5,0),IF($B206=4,VLOOKUP(E$2,Table1[],5,0),0))))","v":1500000},{"$f":"IF($B206=1,VLOOKUP(F$2,Table1[],3,0),IF($B206=2,VLOOKUP(F$2,Table1[],4,0),IF($B206=3,VLOOKUP(F$2,Table1[],5,0),IF($B206=4,VLOOKUP(F$2,Table1[],5,0),0))))","v":800000}]
[2264,1,{"$f":"IF($B207=1,VLOOKUP(C$2,Table1[],3,0),IF($B207=2,VLOOKUP(C$2,Table1[],4,0),IF($B207=3,VLOOKUP(C$2,Table1[],5,0),IF($B207=4,VLOOKUP(C$2,Table1[],5,0),0))))","v":2000000},{"$f":"IF($B207=1,VLOOKUP(D$2,Table1[],3,0),IF($B207=2,VLOOKUP(D$2,Table1[],4,0),IF($B207=3,VLOOKUP(D$2,Table1[],5,0),IF($B207=4,VLOOKUP(D$2,Table1[],5,0),0))))","v":2000000},{"$f":"IF($B207=1,VLOOKUP(E$2,Table1[],3,0),IF($B207=2,VLOOKUP(E$2,Table1[],4,0),IF($B207=3,VLOOKUP(E$2,Table1[],5,0),IF($B207=4,VLOOKUP(E$2,Table1[],5,0),0))))","v":1500000},{"$f":"IF($B207=1,VLOOKUP(F$2,Table1[],3,0),IF($B207=2,VLOOKUP(F$2,Table1[],4,0),IF($B207=3,VLOOKUP(F$2,Table1[],5,0),IF($B207=4,VLOOKUP(F$2,Table1[],5,0),0))))","v":800000}]
[2265,1,{"$f":"IF($B208=1,VLOOKUP(C$2,Table1[],3,0),IF($B208=2,VLOOKUP(C$2,Table1[],4,0),IF($B208=3,VLOOKUP(C$2,Table1[],5,0),IF($B208=4,VLOOKUP(C$2,Table1[],5,0),0))))","v":2000000},{"$f":"IF($B208=1,VLOOKUP(D$2,Table1[],3,0),IF($B208=2,VLOOKUP(D$2,Table1[],4,0),IF($B208=3,VLOOKUP(D$2,Table1[],5,0),IF($B208=4,VLOOKUP(D$2,Table1[],5,0),0))))","v":2000000},{"$f":"IF($B208=1,VLOOKUP(E$2,Table1[],3,0),IF($B208=2,VLOOKUP(E$2,Table1[],4,0),IF($B208=3,VLOOKUP(E$2,Table1[],5,0),IF($B208=4,VLOOKUP(E$2,Table1[],5,0),0))))","v":1500000},{"$f":"IF($B208=1,VLOOKUP(F$2,Table1[],3,0),IF($B208=2,VLOOKUP(F$2,Table1[],4,0),IF($B208=3,VLOOKUP(F$2,Table1[],5,0),IF($B208=4,VLOOKUP(F$2,Table1[],5,0),0))))","v":800000}]
[2267,1,{"$f":"IF($B209=1,VLOOKUP(C$2,Table1[],3,0),IF($B209=2,VLOOKUP(C$2,Table1[],4,0),IF($B209=3,VLOOKUP(C$2,Table1[],5,0),IF($B209=4,VLOOKUP(C$2,Table1[],5,0),0))))","v":2000000},{"$f":"IF($B209=1,VLOOKUP(D$2,Table1[],3,0),IF($B209=2,VLOOKUP(D$2,Table1[],4,0),IF($B209=3,VLOOKUP(D$2,Table1[],5,0),IF($B209=4,VLOOKUP(D$2,Table1[],5,0),0))))","v":2000000},{"$f":"IF($B209=1,VLOOKUP(E$2,Table1[],3,0),IF($B209=2,VLOOKUP(E$2,Table1[],4,0),IF($B209=3,VLOOKUP(E$2,Table1[],5,0),IF($B209=4,VLOOKUP(E$2,Table1[],5,0),0))))","v":1500000},{"$f":"IF($B209=1,VLOOKUP(F$2,Table1[],3,0),IF($B209=2,VLOOKUP(F$2,Table1[],4,0),IF($B209=3,VLOOKUP(F$2,Table1[],5,0),IF($B209=4,VLOOKUP(F$2,Table1[],5,0),0))))","v":800000}]
[2278,1,{"$f":"IF($B210=1,VLOOKUP(C$2,Table1[],3,0),IF($B210=2,VLOOKUP(C$2,Table1[],4,0),IF($B210=3,VLOOKUP(C$2,Table1[],5,0),IF($B210=4,VLOOKUP(C$2,Table1[],5,0),0))))","v":2000000},{"$f":"IF($B210=1,VLOOKUP(D$2,Table1[],3,0),IF($B210=2,VLOOKUP(D$2,Table1[],4,0),IF($B210=3,VLOOKUP(D$2,Table1[],5,0),IF($B210=4,VLOOKUP(D$2,Table1[],5,0),0))))","v":2000000},{"$f":"IF($B210=1,VLOOKUP(E$2,Table1[],3,0),IF($B210=2,VLOOKUP(E$2,Table1[],4,0),IF($B210=3,VLOOKUP(E$2,Table1[],5,0),IF($B210=4,VLOOKUP(E$2,Table1[],5,0),0))))","v":1500000},{"$f":"IF($B210=1,VLOOKUP(F$2,Table1[],3,0),IF($B210=2,VLOOKUP(F$2,Table1[],4,0),IF($B210=3,VLOOKUP(F$2,Table1[],5,0),IF($B210=4,VLOOKUP(F$2,Table1[],5,0),0))))","v":800000}]
[2280,1,{"$f":"IF($B211=1,VLOOKUP(C$2,Table1[],3,0),IF($B211=2,VLOOKUP(C$2,Table1[],4,0),IF($B211=3,VLOOKUP(C$2,Table1[],5,0),IF($B211=4,VLOOKUP(C$2,Table1[],5,0),0))))","v":2000000},{"$f":"IF($B211=1,VLOOKUP(D$2,Table1[],3,0),IF($B211=2,VLOOKUP(D$2,Table1[],4,0),IF($B211=3,VLOOKUP(D$2,Table1[],5,0),IF($B211=4,VLOOKUP(D$2,Table1[],5,0),0))))","v":2000000},{"$f":"IF($B211=1,VLOOKUP(E$2,Table1[],3,0),IF($B211=2,VLOOKUP(E$2,Table1[],4,0),IF($B211=3,VLOOKUP(E$2,Table1[],5,0),IF($B211=4,VLOOKUP(E$2,Table1[],5,0),0))))","v":1500000},{"$f":"IF($B211=1,VLOOKUP(F$2,Table1[],3,0),IF($B211=2,VLOOKUP(F$2,Table1[],4,0),IF($B211=3,VLOOKUP(F$2,Table1[],5,0),IF($B211=4,VLOOKUP(F$2,Table1[],5,0),0))))","v":800000}]
[2281,1,{"$f":"IF($B212=1,VLOOKUP(C$2,Table1[],3,0),IF($B212=2,VLOOKUP(C$2,Table1[],4,0),IF($B212=3,VLOOKUP(C$2,Table1[],5,0),IF($B212=4,VLOOKUP(C$2,Table1[],5,0),0))))","v":2000000},{"$f":"IF($B212=1,VLOOKUP(D$2,Table1[],3,0),IF($B212=2,VLOOKUP(D$2,Table1[],4,0),IF($B212=3,VLOOKUP(D$2,Table1[],5,0),IF($B212=4,VLOOKUP(D$2,Table1[],5,0),0))))","v":2000000},{"$f":"IF($B212=1,VLOOKUP(E$2,Table1[],3,0),IF($B212=2,VLOOKUP(E$2,Table1[],4,0),IF($B212=3,VLOOKUP(E$2,Table1[],5,0),IF($B212=4,VLOOKUP(E$2,Table1[],5,0),0))))","v":1500000},{"$f":"IF($B212=1,VLOOKUP(F$2,Table1[],3,0),IF($B212=2,VLOOKUP(F$2,Table1[],4,0),IF($B212=3,VLOOKUP(F$2,Table1[],5,0),IF($B212=4,VLOOKUP(F$2,Table1[],5,0),0))))","v":800000}]
[2282,1,{"$f":"IF($B213=1,VLOOKUP(C$2,Table1[],3,0),IF($B213=2,VLOOKUP(C$2,Table1[],4,0),IF($B213=3,VLOOKUP(C$2,Table1[],5,0),IF($B213=4,VLOOKUP(C$2,Table1[],5,0),0))))","v":2000000},{"$f":"IF($B213=1,VLOOKUP(D$2,Table1[],3,0),IF($B213=2,VLOOKUP(D$2,Table1[],4,0),IF($B213=3,VLOOKUP(D$2,Table1[],5,0),IF($B213=4,VLOOKUP(D$2,Table1[],5,0),0))))","v":2000000},{"$f":"IF($B213=1,VLOOKUP(E$2,Table1[],3,0),IF($B213=2,VLOOKUP(E$2,Table1[],4,0),IF($B213=3,VLOOKUP(E$2,Table1[],5,0),IF($B213=4,VLOOKUP(E$2,Table1[],5,0),0))))","v":1500000},{"$f":"IF($B213=1,VLOOKUP(F$2,Table1[],3,0),IF($B213=2,VLOOKUP(F$2,Table1[],4,0),IF($B213=3,VLOOKUP(F$2,Table1[],5,0),IF($B213=4,VLOOKUP(F$2,Table1[],5,0),0))))","v":800000}]
[2283,1,{"$f":"IF($B214=1,VLOOKUP(C$2,Table1[],3,0),IF($B214=2,VLOOKUP(C$2,Table1[],4,0),IF($B214=3,VLOOKUP(C$2,Table1[],5,0),IF($B214=4,VLOOKUP(C$2,Table1[],5,0),0))))","v":2000000},{"$f":"IF($B214=1,VLOOKUP(D$2,Table1[],3,0),IF($B214=2,VLOOKUP(D$2,Table1[],4,0),IF($B214=3,VLOOKUP(D$2,Table1[],5,0),IF($B214=4,VLOOKUP(D$2,Table1[],5,0),0))))","v":2000000},{"$f":"IF($B214=1,VLOOKUP(E$2,Table1[],3,0),IF($B214=2,VLOOKUP(E$2,Table1[],4,0),IF($B214=3,VLOOKUP(E$2,Table1[],5,0),IF($B214=4,VLOOKUP(E$2,Table1[],5,0),0))))","v":1500000},{"$f":"IF($B214=1,VLOOKUP(F$2,Table1[],3,0),IF($B214=2,VLOOKUP(F$2,Table1[],4,0),IF($B214=3,VLOOKUP(F$2,Table1[],5,0),IF($B214=4,VLOOKUP(F$2,Table1[],5,0),0))))","v":800000}]
[2284,1,{"$f":"IF($B215=1,VLOOKUP(C$2,Table1[],3,0),IF($B215=2,VLOOKUP(C$2,Table1[],4,0),IF($B215=3,VLOOKUP(C$2,Table1[],5,0),IF($B215=4,VLOOKUP(C$2,Table1[],5,0),0))))","v":2000000},{"$f":"IF($B215=1,VLOOKUP(D$2,Table1[],3,0),IF($B215=2,VLOOKUP(D$2,Table1[],4,0),IF($B215=3,VLOOKUP(D$2,Table1[],5,0),IF($B215=4,VLOOKUP(D$2,Table1[],5,0),0))))","v":2000000},{"$f":"IF($B215=1,VLOOKUP(E$2,Table1[],3,0),IF($B215=2,VLOOKUP(E$2,Table1[],4,0),IF($B215=3,VLOOKUP(E$2,Table1[],5,0),IF($B215=4,VLOOKUP(E$2,Table1[],5,0),0))))","v":1500000},{"$f":"IF($B215=1,VLOOKUP(F$2,Table1[],3,0),IF($B215=2,VLOOKUP(F$2,Table1[],4,0),IF($B215=3,VLOOKUP(F$2,Table1[],5,0),IF($B215=4,VLOOKUP(F$2,Table1[],5,0),0))))","v":800000}]
[2285,1,{"$f":"IF($B216=1,VLOOKUP(C$2,Table1[],3,0),IF($B216=2,VLOOKUP(C$2,Table1[],4,0),IF($B216=3,VLOOKUP(C$2,Table1[],5,0),IF($B216=4,VLOOKUP(C$2,Table1[],5,0),0))))","v":2000000},{"$f":"IF($B216=1,VLOOKUP(D$2,Table1[],3,0),IF($B216=2,VLOOKUP(D$2,Table1[],4,0),IF($B216=3,VLOOKUP(D$2,Table1[],5,0),IF($B216=4,VLOOKUP(D$2,Table1[],5,0),0))))","v":2000000},{"$f":"IF($B216=1,VLOOKUP(E$2,Table1[],3,0),IF($B216=2,VLOOKUP(E$2,Table1[],4,0),IF($B216=3,VLOOKUP(E$2,Table1[],5,0),IF($B216=4,VLOOKUP(E$2,Table1[],5,0),0))))","v":1500000},{"$f":"IF($B216=1,VLOOKUP(F$2,Table1[],3,0),IF($B216=2,VLOOKUP(F$2,Table1[],4,0),IF($B216=3,VLOOKUP(F$2,Table1[],5,0),IF($B216=4,VLOOKUP(F$2,Table1[],5,0),0))))","v":800000}]
[2286,1,{"$f":"IF($B217=1,VLOOKUP(C$2,Table1[],3,0),IF($B217=2,VLOOKUP(C$2,Table1[],4,0),IF($B217=3,VLOOKUP(C$2,Table1[],5,0),IF($B217=4,VLOOKUP(C$2,Table1[],5,0),0))))","v":2000000},{"$f":"IF($B217=1,VLOOKUP(D$2,Table1[],3,0),IF($B217=2,VLOOKUP(D$2,Table1[],4,0),IF($B217=3,VLOOKUP(D$2,Table1[],5,0),IF($B217=4,VLOOKUP(D$2,Table1[],5,0),0))))","v":2000000},{"$f":"IF($B217=1,VLOOKUP(E$2,Table1[],3,0),IF($B217=2,VLOOKUP(E$2,Table1[],4,0),IF($B217=3,VLOOKUP(E$2,Table1[],5,0),IF($B217=4,VLOOKUP(E$2,Table1[],5,0),0))))","v":1500000},{"$f":"IF($B217=1,VLOOKUP(F$2,Table1[],3,0),IF($B217=2,VLOOKUP(F$2,Table1[],4,0),IF($B217=3,VLOOKUP(F$2,Table1[],5,0),IF($B217=4,VLOOKUP(F$2,Table1[],5,0),0))))","v":800000}]
[2287,1,{"$f":"IF($B218=1,VLOOKUP(C$2,Table1[],3,0),IF($B218=2,VLOOKUP(C$2,Table1[],4,0),IF($B218=3,VLOOKUP(C$2,Table1[],5,0),IF($B218=4,VLOOKUP(C$2,Table1[],5,0),0))))","v":2000000},{"$f":"IF($B218=1,VLOOKUP(D$2,Table1[],3,0),IF($B218=2,VLOOKUP(D$2,Table1[],4,0),IF($B218=3,VLOOKUP(D$2,Table1[],5,0),IF($B218=4,VLOOKUP(D$2,Table1[],5,0),0))))","v":2000000},{"$f":"IF($B218=1,VLOOKUP(E$2,Table1[],3,0),IF($B218=2,VLOOKUP(E$2,Table1[],4,0),IF($B218=3,VLOOKUP(E$2,Table1[],5,0),IF($B218=4,VLOOKUP(E$2,Table1[],5,0),0))))","v":1500000},{"$f":"IF($B218=1,VLOOKUP(F$2,Table1[],3,0),IF($B218=2,VLOOKUP(F$2,Table1[],4,0),IF($B218=3,VLOOKUP(F$2,Table1[],5,0),IF($B218=4,VLOOKUP(F$2,Table1[],5,0),0))))","v":800000}]
[2289,1,{"$f":"IF($B219=1,VLOOKUP(C$2,Table1[],3,0),IF($B219=2,VLOOKUP(C$2,Table1[],4,0),IF($B219=3,VLOOKUP(C$2,Table1[],5,0),IF($B219=4,VLOOKUP(C$2,Table1[],5,0),0))))","v":2000000},{"$f":"IF($B219=1,VLOOKUP(D$2,Table1[],3,0),IF($B219=2,VLOOKUP(D$2,Table1[],4,0),IF($B219=3,VLOOKUP(D$2,Table1[],5,0),IF($B219=4,VLOOKUP(D$2,Table1[],5,0),0))))","v":2000000},{"$f":"IF($B219=1,VLOOKUP(E$2,Table1[],3,0),IF($B219=2,VLOOKUP(E$2,Table1[],4,0),IF($B219=3,VLOOKUP(E$2,Table1[],5,0),IF($B219=4,VLOOKUP(E$2,Table1[],5,0),0))))","v":1500000},{"$f":"IF($B219=1,VLOOKUP(F$2,Table1[],3,0),IF($B219=2,VLOOKUP(F$2,Table1[],4,0),IF($B219=3,VLOOKUP(F$2,Table1[],5,0),IF($B219=4,VLOOKUP(F$2,Table1[],5,0),0))))","v":800000}]
[2290,1,{"$f":"IF($B220=1,VLOOKUP(C$2,Table1[],3,0),IF($B220=2,VLOOKUP(C$2,Table1[],4,0),IF($B220=3,VLOOKUP(C$2,Table1[],5,0),IF($B220=4,VLOOKUP(C$2,Table1[],5,0),0))))","v":2000000},{"$f":"IF($B220=1,VLOOKUP(D$2,Table1[],3,0),IF($B220=2,VLOOKUP(D$2,Table1[],4,0),IF($B220=3,VLOOKUP(D$2,Table1[],5,0),IF($B220=4,VLOOKUP(D$2,Table1[],5,0),0))))","v":2000000},{"$f":"IF($B220=1,VLOOKUP(E$2,Table1[],3,0),IF($B220=2,VLOOKUP(E$2,Table1[],4,0),IF($B220=3,VLOOKUP(E$2,Table1[],5,0),IF($B220=4,VLOOKUP(E$2,Table1[],5,0),0))))","v":1500000},{"$f":"IF($B220=1,VLOOKUP(F$2,Table1[],3,0),IF($B220=2,VLOOKUP(F$2,Table1[],4,0),IF($B220=3,VLOOKUP(F$2,Table1[],5,0),IF($B220=4,VLOOKUP(F$2,Table1[],5,0),0))))","v":800000}]
[2291,1,{"$f":"IF($B221=1,VLOOKUP(C$2,Table1[],3,0),IF($B221=2,VLOOKUP(C$2,Table1[],4,0),IF($B221=3,VLOOKUP(C$2,Table1[],5,0),IF($B221=4,VLOOKUP(C$2,Table1[],5,0),0))))","v":2000000},{"$f":"IF($B221=1,VLOOKUP(D$2,Table1[],3,0),IF($B221=2,VLOOKUP(D$2,Table1[],4,0),IF($B221=3,VLOOKUP(D$2,Table1[],5,0),IF($B221=4,VLOOKUP(D$2,Table1[],5,0),0))))","v":2000000},{"$f":"IF($B221=1,VLOOKUP(E$2,Table1[],3,0),IF($B221=2,VLOOKUP(E$2,Table1[],4,0),IF($B221=3,VLOOKUP(E$2,Table1[],5,0),IF($B221=4,VLOOKUP(E$2,Table1[],5,0),0))))","v":1500000},{"$f":"IF($B221=1,VLOOKUP(F$2,Table1[],3,0),IF($B221=2,VLOOKUP(F$2,Table1[],4,0),IF($B221=3,VLOOKUP(F$2,Table1[],5,0),IF($B221=4,VLOOKUP(F$2,Table1[],5,0),0))))","v":800000}]
[2292,1,{"$f":"IF($B222=1,VLOOKUP(C$2,Table1[],3,0),IF($B222=2,VLOOKUP(C$2,Table1[],4,0),IF($B222=3,VLOOKUP(C$2,Table1[],5,0),IF($B222=4,VLOOKUP(C$2,Table1[],5,0),0))))","v":2000000},{"$f":"IF($B222=1,VLOOKUP(D$2,Table1[],3,0),IF($B222=2,VLOOKUP(D$2,Table1[],4,0),IF($B222=3,VLOOKUP(D$2,Table1[],5,0),IF($B222=4,VLOOKUP(D$2,Table1[],5,0),0))))","v":2000000},{"$f":"IF($B222=1,VLOOKUP(E$2,Table1[],3,0),IF($B222=2,VLOOKUP(E$2,Table1[],4,0),IF($B222=3,VLOOKUP(E$2,Table1[],5,0),IF($B222=4,VLOOKUP(E$2,Table1[],5,0),0))))","v":1500000},{"$f":"IF($B222=1,VLOOKUP(F$2,Table1[],3,0),IF($B222=2,VLOOKUP(F$2,Table1[],4,0),IF($B222=3,VLOOKUP(F$2,Table1[],5,0),IF($B222=4,VLOOKUP(F$2,Table1[],5,0),0))))","v":800000}]
[2293,1,{"$f":"IF($B223=1,VLOOKUP(C$2,Table1[],3,0),IF($B223=2,VLOOKUP(C$2,Table1[],4,0),IF($B223=3,VLOOKUP(C$2,Table1[],5,0),IF($B223=4,VLOOKUP(C$2,Table1[],5,0),0))))","v":2000000},{"$f":"IF($B223=1,VLOOKUP(D$2,Table1[],3,0),IF($B223=2,VLOOKUP(D$2,Table1[],4,0),IF($B223=3,VLOOKUP(D$2,Table1[],5,0),IF($B223=4,VLOOKUP(D$2,Table1[],5,0),0))))","v":2000000},{"$f":"IF($B223=1,VLOOKUP(E$2,Table1[],3,0),IF($B223=2,VLOOKUP(E$2,Table1[],4,0),IF($B223=3,VLOOKUP(E$2,Table1[],5,0),IF($B223=4,VLOOKUP(E$2,Table1[],5,0),0))))","v":1500000},{"$f":"IF($B223=1,VLOOKUP(F$2,Table1[],3,0),IF($B223=2,VLOOKUP(F$2,Table1[],4,0),IF($B223=3,VLOOKUP(F$2,Table1[],5,0),IF($B223=4,VLOOKUP(F$2,Table1[],5,0),0))))","v":800000}]
[2294,1,{"$f":"IF($B224=1,VLOOKUP(C$2,Table1[],3,0),IF($B224=2,VLOOKUP(C$2,Table1[],4,0),IF($B224=3,VLOOKUP(C$2,Table1[],5,0),IF($B224=4,VLOOKUP(C$2,Table1[],5,0),0))))","v":2000000},{"$f":"IF($B224=1,VLOOKUP(D$2,Table1[],3,0),IF($B224=2,VLOOKUP(D$2,Table1[],4,0),IF($B224=3,VLOOKUP(D$2,Table1[],5,0),IF($B224=4,VLOOKUP(D$2,Table1[],5,0),0))))","v":2000000},{"$f":"IF($B224=1,VLOOKUP(E$2,Table1[],3,0),IF($B224=2,VLOOKUP(E$2,Table1[],4,0),IF($B224=3,VLOOKUP(E$2,Table1[],5,0),IF($B224=4,VLOOKUP(E$2,Table1[],5,0),0))))","v":1500000},{"$f":"IF($B224=1,VLOOKUP(F$2,Table1[],3,0),IF($B224=2,VLOOKUP(F$2,Table1[],4,0),IF($B224=3,VLOOKUP(F$2,Table1[],5,0),IF($B224=4,VLOOKUP(F$2,Table1[],5,0),0))))","v":800000}]
[2295,1,{"$f":"IF($B225=1,VLOOKUP(C$2,Table1[],3,0),IF($B225=2,VLOOKUP(C$2,Table1[],4,0),IF($B225=3,VLOOKUP(C$2,Table1[],5,0),IF($B225=4,VLOOKUP(C$2,Table1[],5,0),0))))","v":2000000},{"$f":"IF($B225=1,VLOOKUP(D$2,Table1[],3,0),IF($B225=2,VLOOKUP(D$2,Table1[],4,0),IF($B225=3,VLOOKUP(D$2,Table1[],5,0),IF($B225=4,VLOOKUP(D$2,Table1[],5,0),0))))","v":2000000},{"$f":"IF($B225=1,VLOOKUP(E$2,Table1[],3,0),IF($B225=2,VLOOKUP(E$2,Table1[],4,0),IF($B225=3,VLOOKUP(E$2,Table1[],5,0),IF($B225=4,VLOOKUP(E$2,Table1[],5,0),0))))","v":1500000},{"$f":"IF($B225=1,VLOOKUP(F$2,Table1[],3,0),IF($B225=2,VLOOKUP(F$2,Table1[],4,0),IF($B225=3,VLOOKUP(F$2,Table1[],5,0),IF($B225=4,VLOOKUP(F$2,Table1[],5,0),0))))","v":800000}]
[2296,1,{"$f":"IF($B226=1,VLOOKUP(C$2,Table1[],3,0),IF($B226=2,VLOOKUP(C$2,Table1[],4,0),IF($B226=3,VLOOKUP(C$2,Table1[],5,0),IF($B226=4,VLOOKUP(C$2,Table1[],5,0),0))))","v":2000000},{"$f":"IF($B226=1,VLOOKUP(D$2,Table1[],3,0),IF($B226=2,VLOOKUP(D$2,Table1[],4,0),IF($B226=3,VLOOKUP(D$2,Table1[],5,0),IF($B226=4,VLOOKUP(D$2,Table1[],5,0),0))))","v":2000000},{"$f":"IF($B226=1,VLOOKUP(E$2,Table1[],3,0),IF($B226=2,VLOOKUP(E$2,Table1[],4,0),IF($B226=3,VLOOKUP(E$2,Table1[],5,0),IF($B226=4,VLOOKUP(E$2,Table1[],5,0),0))))","v":1500000},{"$f":"IF($B226=1,VLOOKUP(F$2,Table1[],3,0),IF($B226=2,VLOOKUP(F$2,Table1[],4,0),IF($B226=3,VLOOKUP(F$2,Table1[],5,0),IF($B226=4,VLOOKUP(F$2,Table1[],5,0),0))))","v":800000}]
[2297,1,{"$f":"IF($B227=1,VLOOKUP(C$2,Table1[],3,0),IF($B227=2,VLOOKUP(C$2,Table1[],4,0),IF($B227=3,VLOOKUP(C$2,Table1[],5,0),IF($B227=4,VLOOKUP(C$2,Table1[],5,0),0))))","v":2000000},{"$f":"IF($B227=1,VLOOKUP(D$2,Table1[],3,0),IF($B227=2,VLOOKUP(D$2,Table1[],4,0),IF($B227=3,VLOOKUP(D$2,Table1[],5,0),IF($B227=4,VLOOKUP(D$2,Table1[],5,0),0))))","v":2000000},{"$f":"IF($B227=1,VLOOKUP(E$2,Table1[],3,0),IF($B227=2,VLOOKUP(E$2,Table1[],4,0),IF($B227=3,VLOOKUP(E$2,Table1[],5,0),IF($B227=4,VLOOKUP(E$2,Table1[],5,0),0))))","v":1500000},{"$f":"IF($B227=1,VLOOKUP(F$2,Table1[],3,0),IF($B227=2,VLOOKUP(F$2,Table1[],4,0),IF($B227=3,VLOOKUP(F$2,Table1[],5,0),IF($B227=4,VLOOKUP(F$2,Table1[],5,0),0))))","v":800000}]
[2298,1,{"$f":"IF($B228=1,VLOOKUP(C$2,Table1[],3,0),IF($B228=2,VLOOKUP(C$2,Table1[],4,0),IF($B228=3,VLOOKUP(C$2,Table1[],5,0),IF($B228=4,VLOOKUP(C$2,Table1[],5,0),0))))","v":2000000},{"$f":"IF($B228=1,VLOOKUP(D$2,Table1[],3,0),IF($B228=2,VLOOKUP(D$2,Table1[],4,0),IF($B228=3,VLOOKUP(D$2,Table1[],5,0),IF($B228=4,VLOOKUP(D$2,Table1[],5,0),0))))","v":2000000},{"$f":"IF($B228=1,VLOOKUP(E$2,Table1[],3,0),IF($B228=2,VLOOKUP(E$2,Table1[],4,0),IF($B228=3,VLOOKUP(E$2,Table1[],5,0),IF($B228=4,VLOOKUP(E$2,Table1[],5,0),0))))","v":1500000},{"$f":"IF($B228=1,VLOOKUP(F$2,Table1[],3,0),IF($B228=2,VLOOKUP(F$2,Table1[],4,0),IF($B228=3,VLOOKUP(F$2,Table1[],5,0),IF($B228=4,VLOOKUP(F$2,Table1[],5,0),0))))","v":800000}]
[2299,1,{"$f":"IF($B229=1,VLOOKUP(C$2,Table1[],3,0),IF($B229=2,VLOOKUP(C$2,Table1[],4,0),IF($B229=3,VLOOKUP(C$2,Table1[],5,0),IF($B229=4,VLOOKUP(C$2,Table1[],5,0),0))))","v":2000000},{"$f":"IF($B229=1,VLOOKUP(D$2,Table1[],3,0),IF($B229=2,VLOOKUP(D$2,Table1[],4,0),IF($B229=3,VLOOKUP(D$2,Table1[],5,0),IF($B229=4,VLOOKUP(D$2,Table1[],5,0),0))))","v":2000000},{"$f":"IF($B229=1,VLOOKUP(E$2,Table1[],3,0),IF($B229=2,VLOOKUP(E$2,Table1[],4,0),IF($B229=3,VLOOKUP(E$2,Table1[],5,0),IF($B229=4,VLOOKUP(E$2,Table1[],5,0),0))))","v":1500000},{"$f":"IF($B229=1,VLOOKUP(F$2,Table1[],3,0),IF($B229=2,VLOOKUP(F$2,Table1[],4,0),IF($B229=3,VLOOKUP(F$2,Table1[],5,0),IF($B229=4,VLOOKUP(F$2,Table1[],5,0),0))))","v":800000}]
[2300,1,{"$f":"IF($B230=1,VLOOKUP(C$2,Table1[],3,0),IF($B230=2,VLOOKUP(C$2,Table1[],4,0),IF($B230=3,VLOOKUP(C$2,Table1[],5,0),IF($B230=4,VLOOKUP(C$2,Table1[],5,0),0))))","v":2000000},{"$f":"IF($B230=1,VLOOKUP(D$2,Table1[],3,0),IF($B230=2,VLOOKUP(D$2,Table1[],4,0),IF($B230=3,VLOOKUP(D$2,Table1[],5,0),IF($B230=4,VLOOKUP(D$2,Table1[],5,0),0))))","v":2000000},{"$f":"IF($B230=1,VLOOKUP(E$2,Table1[],3,0),IF($B230=2,VLOOKUP(E$2,Table1[],4,0),IF($B230=3,VLOOKUP(E$2,Table1[],5,0),IF($B230=4,VLOOKUP(E$2,Table1[],5,0),0))))","v":1500000},{"$f":"IF($B230=1,VLOOKUP(F$2,Table1[],3,0),IF($B230=2,VLOOKUP(F$2,Table1[],4,0),IF($B230=3,VLOOKUP(F$2,Table1[],5,0),IF($B230=4,VLOOKUP(F$2,Table1[],5,0),0))))","v":800000}]
[2302,1,{"$f":"IF($B231=1,VLOOKUP(C$2,Table1[],3,0),IF($B231=2,VLOOKUP(C$2,Table1[],4,0),IF($B231=3,VLOOKUP(C$2,Table1[],5,0),IF($B231=4,VLOOKUP(C$2,Table1[],5,0),0))))","v":2000000},{"$f":"IF($B231=1,VLOOKUP(D$2,Table1[],3,0),IF($B231=2,VLOOKUP(D$2,Table1[],4,0),IF($B231=3,VLOOKUP(D$2,Table1[],5,0),IF($B231=4,VLOOKUP(D$2,Table1[],5,0),0))))","v":2000000},{"$f":"IF($B231=1,VLOOKUP(E$2,Table1[],3,0),IF($B231=2,VLOOKUP(E$2,Table1[],4,0),IF($B231=3,VLOOKUP(E$2,Table1[],5,0),IF($B231=4,VLOOKUP(E$2,Table1[],5,0),0))))","v":1500000},{"$f":"IF($B231=1,VLOOKUP(F$2,Table1[],3,0),IF($B231=2,VLOOKUP(F$2,Table1[],4,0),IF($B231=3,VLOOKUP(F$2,Table1[],5,0),IF($B231=4,VLOOKUP(F$2,Table1[],5,0),0))))","v":800000}]
[2303,1,{"$f":"IF($B232=1,VLOOKUP(C$2,Table1[],3,0),IF($B232=2,VLOOKUP(C$2,Table1[],4,0),IF($B232=3,VLOOKUP(C$2,Table1[],5,0),IF($B232=4,VLOOKUP(C$2,Table1[],5,0),0))))","v":2000000},{"$f":"IF($B232=1,VLOOKUP(D$2,Table1[],3,0),IF($B232=2,VLOOKUP(D$2,Table1[],4,0),IF($B232=3,VLOOKUP(D$2,Table1[],5,0),IF($B232=4,VLOOKUP(D$2,Table1[],5,0),0))))","v":2000000},{"$f":"IF($B232=1,VLOOKUP(E$2,Table1[],3,0),IF($B232=2,VLOOKUP(E$2,Table1[],4,0),IF($B232=3,VLOOKUP(E$2,Table1[],5,0),IF($B232=4,VLOOKUP(E$2,Table1[],5,0),0))))","v":1500000},{"$f":"IF($B232=1,VLOOKUP(F$2,Table1[],3,0),IF($B232=2,VLOOKUP(F$2,Table1[],4,0),IF($B232=3,VLOOKUP(F$2,Table1[],5,0),IF($B232=4,VLOOKUP(F$2,Table1[],5,0),0))))","v":800000}]
[2304,1,{"$f":"IF($B233=1,VLOOKUP(C$2,Table1[],3,0),IF($B233=2,VLOOKUP(C$2,Table1[],4,0),IF($B233=3,VLOOKUP(C$2,Table1[],5,0),IF($B233=4,VLOOKUP(C$2,Table1[],5,0),0))))","v":2000000},{"$f":"IF($B233=1,VLOOKUP(D$2,Table1[],3,0),IF($B233=2,VLOOKUP(D$2,Table1[],4,0),IF($B233=3,VLOOKUP(D$2,Table1[],5,0),IF($B233=4,VLOOKUP(D$2,Table1[],5,0),0))))","v":2000000},{"$f":"IF($B233=1,VLOOKUP(E$2,Table1[],3,0),IF($B233=2,VLOOKUP(E$2,Table1[],4,0),IF($B233=3,VLOOKUP(E$2,Table1[],5,0),IF($B233=4,VLOOKUP(E$2,Table1[],5,0),0))))","v":1500000},{"$f":"IF($B233=1,VLOOKUP(F$2,Table1[],3,0),IF($B233=2,VLOOKUP(F$2,Table1[],4,0),IF($B233=3,VLOOKUP(F$2,Table1[],5,0),IF($B233=4,VLOOKUP(F$2,Table1[],5,0),0))))","v":800000}]
[2305,1,{"$f":"IF($B234=1,VLOOKUP(C$2,Table1[],3,0),IF($B234=2,VLOOKUP(C$2,Table1[],4,0),IF($B234=3,VLOOKUP(C$2,Table1[],5,0),IF($B234=4,VLOOKUP(C$2,Table1[],5,0),0))))","v":2000000},{"$f":"IF($B234=1,VLOOKUP(D$2,Table1[],3,0),IF($B234=2,VLOOKUP(D$2,Table1[],4,0),IF($B234=3,VLOOKUP(D$2,Table1[],5,0),IF($B234=4,VLOOKUP(D$2,Table1[],5,0),0))))","v":2000000},{"$f":"IF($B234=1,VLOOKUP(E$2,Table1[],3,0),IF($B234=2,VLOOKUP(E$2,Table1[],4,0),IF($B234=3,VLOOKUP(E$2,Table1[],5,0),IF($B234=4,VLOOKUP(E$2,Table1[],5,0),0))))","v":1500000},{"$f":"IF($B234=1,VLOOKUP(F$2,Table1[],3,0),IF($B234=2,VLOOKUP(F$2,Table1[],4,0),IF($B234=3,VLOOKUP(F$2,Table1[],5,0),IF($B234=4,VLOOKUP(F$2,Table1[],5,0),0))))","v":800000}]
[2306,1,{"$f":"IF($B235=1,VLOOKUP(C$2,Table1[],3,0),IF($B235=2,VLOOKUP(C$2,Table1[],4,0),IF($B235=3,VLOOKUP(C$2,Table1[],5,0),IF($B235=4,VLOOKUP(C$2,Table1[],5,0),0))))","v":2000000},{"$f":"IF($B235=1,VLOOKUP(D$2,Table1[],3,0),IF($B235=2,VLOOKUP(D$2,Table1[],4,0),IF($B235=3,VLOOKUP(D$2,Table1[],5,0),IF($B235=4,VLOOKUP(D$2,Table1[],5,0),0))))","v":2000000},{"$f":"IF($B235=1,VLOOKUP(E$2,Table1[],3,0),IF($B235=2,VLOOKUP(E$2,Table1[],4,0),IF($B235=3,VLOOKUP(E$2,Table1[],5,0),IF($B235=4,VLOOKUP(E$2,Table1[],5,0),0))))","v":1500000},{"$f":"IF($B235=1,VLOOKUP(F$2,Table1[],3,0),IF($B235=2,VLOOKUP(F$2,Table1[],4,0),IF($B235=3,VLOOKUP(F$2,Table1[],5,0),IF($B235=4,VLOOKUP(F$2,Table1[],5,0),0))))","v":800000}]
[2307,1,{"$f":"IF($B236=1,VLOOKUP(C$2,Table1[],3,0),IF($B236=2,VLOOKUP(C$2,Table1[],4,0),IF($B236=3,VLOOKUP(C$2,Table1[],5,0),IF($B236=4,VLOOKUP(C$2,Table1[],5,0),0))))","v":2000000},{"$f":"IF($B236=1,VLOOKUP(D$2,Table1[],3,0),IF($B236=2,VLOOKUP(D$2,Table1[],4,0),IF($B236=3,VLOOKUP(D$2,Table1[],5,0),IF($B236=4,VLOOKUP(D$2,Table1[],5,0),0))))","v":2000000},{"$f":"IF($B236=1,VLOOKUP(E$2,Table1[],3,0),IF($B236=2,VLOOKUP(E$2,Table1[],4,0),IF($B236=3,VLOOKUP(E$2,Table1[],5,0),IF($B236=4,VLOOKUP(E$2,Table1[],5,0),0))))","v":1500000},{"$f":"IF($B236=1,VLOOKUP(F$2,Table1[],3,0),IF($B236=2,VLOOKUP(F$2,Table1[],4,0),IF($B236=3,VLOOKUP(F$2,Table1[],5,0),IF($B236=4,VLOOKUP(F$2,Table1[],5,0),0))))","v":800000}]
[2308,1,{"$f":"IF($B237=1,VLOOKUP(C$2,Table1[],3,0),IF($B237=2,VLOOKUP(C$2,Table1[],4,0),IF($B237=3,VLOOKUP(C$2,Table1[],5,0),IF($B237=4,VLOOKUP(C$2,Table1[],5,0),0))))","v":2000000},{"$f":"IF($B237=1,VLOOKUP(D$2,Table1[],3,0),IF($B237=2,VLOOKUP(D$2,Table1[],4,0),IF($B237=3,VLOOKUP(D$2,Table1[],5,0),IF($B237=4,VLOOKUP(D$2,Table1[],5,0),0))))","v":2000000},{"$f":"IF($B237=1,VLOOKUP(E$2,Table1[],3,0),IF($B237=2,VLOOKUP(E$2,Table1[],4,0),IF($B237=3,VLOOKUP(E$2,Table1[],5,0),IF($B237=4,VLOOKUP(E$2,Table1[],5,0),0))))","v":1500000},{"$f":"IF($B237=1,VLOOKUP(F$2,Table1[],3,0),IF($B237=2,VLOOKUP(F$2,Table1[],4,0),IF($B237=3,VLOOKUP(F$2,Table1[],5,0),IF($B237=4,VLOOKUP(F$2,Table1[],5,0),0))))","v":800000}]
[2311,4,{"$f":"IF($B238=1,VLOOKUP(C$2,Table1[],3,0),IF($B238=2,VLOOKUP(C$2,Table1[],4,0),IF($B238=3,VLOOKUP(C$2,Table1[],5,0),IF($B238=4,VLOOKUP(C$2,Table1[],5,0),0))))","v":500000},{"$f":"IF($B238=1,VLOOKUP(D$2,Table1[],3,0),IF($B238=2,VLOOKUP(D$2,Table1[],4,0),IF($B238=3,VLOOKUP(D$2,Table1[],5,0),IF($B238=4,VLOOKUP(D$2,Table1[],5,0),0))))","v":400000},{"$f":"IF($B238=1,VLOOKUP(E$2,Table1[],3,0),IF($B238=2,VLOOKUP(E$2,Table1[],4,0),IF($B238=3,VLOOKUP(E$2,Table1[],5,0),IF($B238=4,VLOOKUP(E$2,Table1[],5,0),0))))","v":"N/A"},{"$f":"IF($B238=1,VLOOKUP(F$2,Table1[],3,0),IF($B238=2,VLOOKUP(F$2,Table1[],4,0),IF($B238=3,VLOOKUP(F$2,Table1[],5,0),IF($B238=4,VLOOKUP(F$2,Table1[],5,0),0))))","v":"N/A"}]
[2315,1,{"$f":"IF($B239=1,VLOOKUP(C$2,Table1[],3,0),IF($B239=2,VLOOKUP(C$2,Table1[],4,0),IF($B239=3,VLOOKUP(C$2,Table1[],5,0),IF($B239=4,VLOOKUP(C$2,Table1[],5,0),0))))","v":2000000},{"$f":"IF($B239=1,VLOOKUP(D$2,Table1[],3,0),IF($B239=2,VLOOKUP(D$2,Table1[],4,0),IF($B239=3,VLOOKUP(D$2,Table1[],5,0),IF($B239=4,VLOOKUP(D$2,Table1[],5,0),0))))","v":2000000},{"$f":"IF($B239=1,VLOOKUP(E$2,Table1[],3,0),IF($B239=2,VLOOKUP(E$2,Table1[],4,0),IF($B239=3,VLOOKUP(E$2,Table1[],5,0),IF($B239=4,VLOOKUP(E$2,Table1[],5,0),0))))","v":1500000},{"$f":"IF($B239=1,VLOOKUP(F$2,Table1[],3,0),IF($B239=2,VLOOKUP(F$2,Table1[],4,0),IF($B239=3,VLOOKUP(F$2,Table1[],5,0),IF($B239=4,VLOOKUP(F$2,Table1[],5,0),0))))","v":800000}]
[2316,1,{"$f":"IF($B240=1,VLOOKUP(C$2,Table1[],3,0),IF($B240=2,VLOOKUP(C$2,Table1[],4,0),IF($B240=3,VLOOKUP(C$2,Table1[],5,0),IF($B240=4,VLOOKUP(C$2,Table1[],5,0),0))))","v":2000000},{"$f":"IF($B240=1,VLOOKUP(D$2,Table1[],3,0),IF($B240=2,VLOOKUP(D$2,Table1[],4,0),IF($B240=3,VLOOKUP(D$2,Table1[],5,0),IF($B240=4,VLOOKUP(D$2,Table1[],5,0),0))))","v":2000000},{"$f":"IF($B240=1,VLOOKUP(E$2,Table1[],3,0),IF($B240=2,VLOOKUP(E$2,Table1[],4,0),IF($B240=3,VLOOKUP(E$2,Table1[],5,0),IF($B240=4,VLOOKUP(E$2,Table1[],5,0),0))))","v":1500000},{"$f":"IF($B240=1,VLOOKUP(F$2,Table1[],3,0),IF($B240=2,VLOOKUP(F$2,Table1[],4,0),IF($B240=3,VLOOKUP(F$2,Table1[],5,0),IF($B240=4,VLOOKUP(F$2,Table1[],5,0),0))))","v":800000}]
[2317,1,{"$f":"IF($B241=1,VLOOKUP(C$2,Table1[],3,0),IF($B241=2,VLOOKUP(C$2,Table1[],4,0),IF($B241=3,VLOOKUP(C$2,Table1[],5,0),IF($B241=4,VLOOKUP(C$2,Table1[],5,0),0))))","v":2000000},{"$f":"IF($B241=1,VLOOKUP(D$2,Table1[],3,0),IF($B241=2,VLOOKUP(D$2,Table1[],4,0),IF($B241=3,VLOOKUP(D$2,Table1[],5,0),IF($B241=4,VLOOKUP(D$2,Table1[],5,0),0))))","v":2000000},{"$f":"IF($B241=1,VLOOKUP(E$2,Table1[],3,0),IF($B241=2,VLOOKUP(E$2,Table1[],4,0),IF($B241=3,VLOOKUP(E$2,Table1[],5,0),IF($B241=4,VLOOKUP(E$2,Table1[],5,0),0))))","v":1500000},{"$f":"IF($B241=1,VLOOKUP(F$2,Table1[],3,0),IF($B241=2,VLOOKUP(F$2,Table1[],4,0),IF($B241=3,VLOOKUP(F$2,Table1[],5,0),IF($B241=4,VLOOKUP(F$2,Table1[],5,0),0))))","v":800000}]
[2318,1,{"$f":"IF($B242=1,VLOOKUP(C$2,Table1[],3,0),IF($B242=2,VLOOKUP(C$2,Table1[],4,0),IF($B242=3,VLOOKUP(C$2,Table1[],5,0),IF($B242=4,VLOOKUP(C$2,Table1[],5,0),0))))","v":2000000},{"$f":"IF($B242=1,VLOOKUP(D$2,Table1[],3,0),IF($B242=2,VLOOKUP(D$2,Table1[],4,0),IF($B242=3,VLOOKUP(D$2,Table1[],5,0),IF($B242=4,VLOOKUP(D$2,Table1[],5,0),0))))","v":2000000},{"$f":"IF($B242=1,VLOOKUP(E$2,Table1[],3,0),IF($B242=2,VLOOKUP(E$2,Table1[],4,0),IF($B242=3,VLOOKUP(E$2,Table1[],5,0),IF($B242=4,VLOOKUP(E$2,Table1[],5,0),0))))","v":1500000},{"$f":"IF($B242=1,VLOOKUP(F$2,Table1[],3,0),IF($B242=2,VLOOKUP(F$2,Table1[],4,0),IF($B242=3,VLOOKUP(F$2,Table1[],5,0),IF($B242=4,VLOOKUP(F$2,Table1[],5,0),0))))","v":800000}]
[2319,1,{"$f":"IF($B243=1,VLOOKUP(C$2,Table1[],3,0),IF($B243=2,VLOOKUP(C$2,Table1[],4,0),IF($B243=3,VLOOKUP(C$2,Table1[],5,0),IF($B243=4,VLOOKUP(C$2,Table1[],5,0),0))))","v":2000000},{"$f":"IF($B243=1,VLOOKUP(D$2,Table1[],3,0),IF($B243=2,VLOOKUP(D$2,Table1[],4,0),IF($B243=3,VLOOKUP(D$2,Table1[],5,0),IF($B243=4,VLOOKUP(D$2,Table1[],5,0),0))))","v":2000000},{"$f":"IF($B243=1,VLOOKUP(E$2,Table1[],3,0),IF($B243=2,VLOOKUP(E$2,Table1[],4,0),IF($B243=3,VLOOKUP(E$2,Table1[],5,0),IF($B243=4,VLOOKUP(E$2,Table1[],5,0),0))))","v":1500000},{"$f":"IF($B243=1,VLOOKUP(F$2,Table1[],3,0),IF($B243=2,VLOOKUP(F$2,Table1[],4,0),IF($B243=3,VLOOKUP(F$2,Table1[],5,0),IF($B243=4,VLOOKUP(F$2,Table1[],5,0),0))))","v":800000}]
[2320,1,{"$f":"IF($B244=1,VLOOKUP(C$2,Table1[],3,0),IF($B244=2,VLOOKUP(C$2,Table1[],4,0),IF($B244=3,VLOOKUP(C$2,Table1[],5,0),IF($B244=4,VLOOKUP(C$2,Table1[],5,0),0))))","v":2000000},{"$f":"IF($B244=1,VLOOKUP(D$2,Table1[],3,0),IF($B244=2,VLOOKUP(D$2,Table1[],4,0),IF($B244=3,VLOOKUP(D$2,Table1[],5,0),IF($B244=4,VLOOKUP(D$2,Table1[],5,0),0))))","v":2000000},{"$f":"IF($B244=1,VLOOKUP(E$2,Table1[],3,0),IF($B244=2,VLOOKUP(E$2,Table1[],4,0),IF($B244=3,VLOOKUP(E$2,Table1[],5,0),IF($B244=4,VLOOKUP(E$2,Table1[],5,0),0))))","v":1500000},{"$f":"IF($B244=1,VLOOKUP(F$2,Table1[],3,0),IF($B244=2,VLOOKUP(F$2,Table1[],4,0),IF($B244=3,VLOOKUP(F$2,Table1[],5,0),IF($B244=4,VLOOKUP(F$2,Table1[],5,0),0))))","v":800000}]
[2321,1,{"$f":"IF($B245=1,VLOOKUP(C$2,Table1[],3,0),IF($B245=2,VLOOKUP(C$2,Table1[],4,0),IF($B245=3,VLOOKUP(C$2,Table1[],5,0),IF($B245=4,VLOOKUP(C$2,Table1[],5,0),0))))","v":2000000},{"$f":"IF($B245=1,VLOOKUP(D$2,Table1[],3,0),IF($B245=2,VLOOKUP(D$2,Table1[],4,0),IF($B245=3,VLOOKUP(D$2,Table1[],5,0),IF($B245=4,VLOOKUP(D$2,Table1[],5,0),0))))","v":2000000},{"$f":"IF($B245=1,VLOOKUP(E$2,Table1[],3,0),IF($B245=2,VLOOKUP(E$2,Table1[],4,0),IF($B245=3,VLOOKUP(E$2,Table1[],5,0),IF($B245=4,VLOOKUP(E$2,Table1[],5,0),0))))","v":1500000},{"$f":"IF($B245=1,VLOOKUP(F$2,Table1[],3,0),IF($B245=2,VLOOKUP(F$2,Table1[],4,0),IF($B245=3,VLOOKUP(F$2,Table1[],5,0),IF($B245=4,VLOOKUP(F$2,Table1[],5,0),0))))","v":800000}]
[2322,1,{"$f":"IF($B246=1,VLOOKUP(C$2,Table1[],3,0),IF($B246=2,VLOOKUP(C$2,Table1[],4,0),IF($B246=3,VLOOKUP(C$2,Table1[],5,0),IF($B246=4,VLOOKUP(C$2,Table1[],5,0),0))))","v":2000000},{"$f":"IF($B246=1,VLOOKUP(D$2,Table1[],3,0),IF($B246=2,VLOOKUP(D$2,Table1[],4,0),IF($B246=3,VLOOKUP(D$2,Table1[],5,0),IF($B246=4,VLOOKUP(D$2,Table1[],5,0),0))))","v":2000000},{"$f":"IF($B246=1,VLOOKUP(E$2,Table1[],3,0),IF($B246=2,VLOOKUP(E$2,Table1[],4,0),IF($B246=3,VLOOKUP(E$2,Table1[],5,0),IF($B246=4,VLOOKUP(E$2,Table1[],5,0),0))))","v":1500000},{"$f":"IF($B246=1,VLOOKUP(F$2,Table1[],3,0),IF($B246=2,VLOOKUP(F$2,Table1[],4,0),IF($B246=3,VLOOKUP(F$2,Table1[],5,0),IF($B246=4,VLOOKUP(F$2,Table1[],5,0),0))))","v":800000}]
[2323,1,{"$f":"IF($B247=1,VLOOKUP(C$2,Table1[],3,0),IF($B247=2,VLOOKUP(C$2,Table1[],4,0),IF($B247=3,VLOOKUP(C$2,Table1[],5,0),IF($B247=4,VLOOKUP(C$2,Table1[],5,0),0))))","v":2000000},{"$f":"IF($B247=1,VLOOKUP(D$2,Table1[],3,0),IF($B247=2,VLOOKUP(D$2,Table1[],4,0),IF($B247=3,VLOOKUP(D$2,Table1[],5,0),IF($B247=4,VLOOKUP(D$2,Table1[],5,0),0))))","v":2000000},{"$f":"IF($B247=1,VLOOKUP(E$2,Table1[],3,0),IF($B247=2,VLOOKUP(E$2,Table1[],4,0),IF($B247=3,VLOOKUP(E$2,Table1[],5,0),IF($B247=4,VLOOKUP(E$2,Table1[],5,0),0))))","v":1500000},{"$f":"IF($B247=1,VLOOKUP(F$2,Table1[],3,0),IF($B247=2,VLOOKUP(F$2,Table1[],4,0),IF($B247=3,VLOOKUP(F$2,Table1[],5,0),IF($B247=4,VLOOKUP(F$2,Table1[],5,0),0))))","v":800000}]
[2324,1,{"$f":"IF($B248=1,VLOOKUP(C$2,Table1[],3,0),IF($B248=2,VLOOKUP(C$2,Table1[],4,0),IF($B248=3,VLOOKUP(C$2,Table1[],5,0),IF($B248=4,VLOOKUP(C$2,Table1[],5,0),0))))","v":2000000},{"$f":"IF($B248=1,VLOOKUP(D$2,Table1[],3,0),IF($B248=2,VLOOKUP(D$2,Table1[],4,0),IF($B248=3,VLOOKUP(D$2,Table1[],5,0),IF($B248=4,VLOOKUP(D$2,Table1[],5,0),0))))","v":2000000},{"$f":"IF($B248=1,VLOOKUP(E$2,Table1[],3,0),IF($B248=2,VLOOKUP(E$2,Table1[],4,0),IF($B248=3,VLOOKUP(E$2,Table1[],5,0),IF($B248=4,VLOOKUP(E$2,Table1[],5,0),0))))","v":1500000},{"$f":"IF($B248=1,VLOOKUP(F$2,Table1[],3,0),IF($B248=2,VLOOKUP(F$2,Table1[],4,0),IF($B248=3,VLOOKUP(F$2,Table1[],5,0),IF($B248=4,VLOOKUP(F$2,Table1[],5,0),0))))","v":800000}]
[2325,2,{"$f":"IF($B249=1,VLOOKUP(C$2,Table1[],3,0),IF($B249=2,VLOOKUP(C$2,Table1[],4,0),IF($B249=3,VLOOKUP(C$2,Table1[],5,0),IF($B249=4,VLOOKUP(C$2,Table1[],5,0),0))))","v":1000000},{"$f":"IF($B249=1,VLOOKUP(D$2,Table1[],3,0),IF($B249=2,VLOOKUP(D$2,Table1[],4,0),IF($B249=3,VLOOKUP(D$2,Table1[],5,0),IF($B249=4,VLOOKUP(D$2,Table1[],5,0),0))))","v":1000000},{"$f":"IF($B249=1,VLOOKUP(E$2,Table1[],3,0),IF($B249=2,VLOOKUP(E$2,Table1[],4,0),IF($B249=3,VLOOKUP(E$2,Table1[],5,0),IF($B249=4,VLOOKUP(E$2,Table1[],5,0),0))))","v":750000},{"$f":"IF($B249=1,VLOOKUP(F$2,Table1[],3,0),IF($B249=2,VLOOKUP(F$2,Table1[],4,0),IF($B249=3,VLOOKUP(F$2,Table1[],5,0),IF($B249=4,VLOOKUP(F$2,Table1[],5,0),0))))","v":500000}]
[2326,2,{"$f":"IF($B250=1,VLOOKUP(C$2,Table1[],3,0),IF($B250=2,VLOOKUP(C$2,Table1[],4,0),IF($B250=3,VLOOKUP(C$2,Table1[],5,0),IF($B250=4,VLOOKUP(C$2,Table1[],5,0),0))))","v":1000000},{"$f":"IF($B250=1,VLOOKUP(D$2,Table1[],3,0),IF($B250=2,VLOOKUP(D$2,Table1[],4,0),IF($B250=3,VLOOKUP(D$2,Table1[],5,0),IF($B250=4,VLOOKUP(D$2,Table1[],5,0),0))))","v":1000000},{"$f":"IF($B250=1,VLOOKUP(E$2,Table1[],3,0),IF($B250=2,VLOOKUP(E$2,Table1[],4,0),IF($B250=3,VLOOKUP(E$2,Table1[],5,0),IF($B250=4,VLOOKUP(E$2,Table1[],5,0),0))))","v":750000},{"$f":"IF($B250=1,VLOOKUP(F$2,Table1[],3,0),IF($B250=2,VLOOKUP(F$2,Table1[],4,0),IF($B250=3,VLOOKUP(F$2,Table1[],5,0),IF($B250=4,VLOOKUP(F$2,Table1[],5,0),0))))","v":500000}]
[2327,1,{"$f":"IF($B251=1,VLOOKUP(C$2,Table1[],3,0),IF($B251=2,VLOOKUP(C$2,Table1[],4,0),IF($B251=3,VLOOKUP(C$2,Table1[],5,0),IF($B251=4,VLOOKUP(C$2,Table1[],5,0),0))))","v":2000000},{"$f":"IF($B251=1,VLOOKUP(D$2,Table1[],3,0),IF($B251=2,VLOOKUP(D$2,Table1[],4,0),IF($B251=3,VLOOKUP(D$2,Table1[],5,0),IF($B251=4,VLOOKUP(D$2,Table1[],5,0),0))))","v":2000000},{"$f":"IF($B251=1,VLOOKUP(E$2,Table1[],3,0),IF($B251=2,VLOOKUP(E$2,Table1[],4,0),IF($B251=3,VLOOKUP(E$2,Table1[],5,0),IF($B251=4,VLOOKUP(E$2,Table1[],5,0),0))))","v":1500000},{"$f":"IF($B251=1,VLOOKUP(F$2,Table1[],3,0),IF($B251=2,VLOOKUP(F$2,Table1[],4,0),IF($B251=3,VLOOKUP(F$2,Table1[],5,0),IF($B251=4,VLOOKUP(F$2,Table1[],5,0),0))))","v":800000}]
[2328,4,{"$f":"IF($B252=1,VLOOKUP(C$2,Table1[],3,0),IF($B252=2,VLOOKUP(C$2,Table1[],4,0),IF($B252=3,VLOOKUP(C$2,Table1[],5,0),IF($B252=4,VLOOKUP(C$2,Table1[],5,0),0))))","v":500000},{"$f":"IF($B252=1,VLOOKUP(D$2,Table1[],3,0),IF($B252=2,VLOOKUP(D$2,Table1[],4,0),IF($B252=3,VLOOKUP(D$2,Table1[],5,0),IF($B252=4,VLOOKUP(D$2,Table1[],5,0),0))))","v":400000},{"$f":"IF($B252=1,VLOOKUP(E$2,Table1[],3,0),IF($B252=2,VLOOKUP(E$2,Table1[],4,0),IF($B252=3,VLOOKUP(E$2,Table1[],5,0),IF($B252=4,VLOOKUP(E$2,Table1[],5,0),0))))","v":"N/A"},{"$f":"IF($B252=1,VLOOKUP(F$2,Table1[],3,0),IF($B252=2,VLOOKUP(F$2,Table1[],4,0),IF($B252=3,VLOOKUP(F$2,Table1[],5,0),IF($B252=4,VLOOKUP(F$2,Table1[],5,0),0))))","v":"N/A"}]
[2330,2,{"$f":"IF($B253=1,VLOOKUP(C$2,Table1[],3,0),IF($B253=2,VLOOKUP(C$2,Table1[],4,0),IF($B253=3,VLOOKUP(C$2,Table1[],5,0),IF($B253=4,VLOOKUP(C$2,Table1[],5,0),0))))","v":1000000},{"$f":"IF($B253=1,VLOOKUP(D$2,Table1[],3,0),IF($B253=2,VLOOKUP(D$2,Table1[],4,0),IF($B253=3,VLOOKUP(D$2,Table1[],5,0),IF($B253=4,VLOOKUP(D$2,Table1[],5,0),0))))","v":1000000},{"$f":"IF($B253=1,VLOOKUP(E$2,Table1[],3,0),IF($B253=2,VLOOKUP(E$2,Table1[],4,0),IF($B253=3,VLOOKUP(E$2,Table1[],5,0),IF($B253=4,VLOOKUP(E$2,Table1[],5,0),0))))","v":750000},{"$f":"IF($B253=1,VLOOKUP(F$2,Table1[],3,0),IF($B253=2,VLOOKUP(F$2,Table1[],4,0),IF($B253=3,VLOOKUP(F$2,Table1[],5,0),IF($B253=4,VLOOKUP(F$2,Table1[],5,0),0))))","v":500000}]
[2333,4,{"$f":"IF($B254=1,VLOOKUP(C$2,Table1[],3,0),IF($B254=2,VLOOKUP(C$2,Table1[],4,0),IF($B254=3,VLOOKUP(C$2,Table1[],5,0),IF($B254=4,VLOOKUP(C$2,Table1[],5,0),0))))","v":500000},{"$f":"IF($B254=1,VLOOKUP(D$2,Table1[],3,0),IF($B254=2,VLOOKUP(D$2,Table1[],4,0),IF($B254=3,VLOOKUP(D$2,Table1[],5,0),IF($B254=4,VLOOKUP(D$2,Table1[],5,0),0))))","v":400000},{"$f":"IF($B254=1,VLOOKUP(E$2,Table1[],3,0),IF($B254=2,VLOOKUP(E$2,Table1[],4,0),IF($B254=3,VLOOKUP(E$2,Table1[],5,0),IF($B254=4,VLOOKUP(E$2,Table1[],5,0),0))))","v":"N/A"},{"$f":"IF($B254=1,VLOOKUP(F$2,Table1[],3,0),IF($B254=2,VLOOKUP(F$2,Table1[],4,0),IF($B254=3,VLOOKUP(F$2,Table1[],5,0),IF($B254=4,VLOOKUP(F$2,Table1[],5,0),0))))","v":"N/A"}]
[2334,2,{"$f":"IF($B255=1,VLOOKUP(C$2,Table1[],3,0),IF($B255=2,VLOOKUP(C$2,Table1[],4,0),IF($B255=3,VLOOKUP(C$2,Table1[],5,0),IF($B255=4,VLOOKUP(C$2,Table1[],5,0),0))))","v":1000000},{"$f":"IF($B255=1,VLOOKUP(D$2,Table1[],3,0),IF($B255=2,VLOOKUP(D$2,Table1[],4,0),IF($B255=3,VLOOKUP(D$2,Table1[],5,0),IF($B255=4,VLOOKUP(D$2,Table1[],5,0),0))))","v":1000000},{"$f":"IF($B255=1,VLOOKUP(E$2,Table1[],3,0),IF($B255=2,VLOOKUP(E$2,Table1[],4,0),IF($B255=3,VLOOKUP(E$2,Table1[],5,0),IF($B255=4,VLOOKUP(E$2,Table1[],5,0),0))))","v":750000},{"$f":"IF($B255=1,VLOOKUP(F$2,Table1[],3,0),IF($B255=2,VLOOKUP(F$2,Table1[],4,0),IF($B255=3,VLOOKUP(F$2,Table1[],5,0),IF($B255=4,VLOOKUP(F$2,Table1[],5,0),0))))","v":500000}]
[2335,2,{"$f":"IF($B256=1,VLOOKUP(C$2,Table1[],3,0),IF($B256=2,VLOOKUP(C$2,Table1[],4,0),IF($B256=3,VLOOKUP(C$2,Table1[],5,0),IF($B256=4,VLOOKUP(C$2,Table1[],5,0),0))))","v":1000000},{"$f":"IF($B256=1,VLOOKUP(D$2,Table1[],3,0),IF($B256=2,VLOOKUP(D$2,Table1[],4,0),IF($B256=3,VLOOKUP(D$2,Table1[],5,0),IF($B256=4,VLOOKUP(D$2,Table1[],5,0),0))))","v":1000000},{"$f":"IF($B256=1,VLOOKUP(E$2,Table1[],3,0),IF($B256=2,VLOOKUP(E$2,Table1[],4,0),IF($B256=3,VLOOKUP(E$2,Table1[],5,0),IF($B256=4,VLOOKUP(E$2,Table1[],5,0),0))))","v":750000},{"$f":"IF($B256=1,VLOOKUP(F$2,Table1[],3,0),IF($B256=2,VLOOKUP(F$2,Table1[],4,0),IF($B256=3,VLOOKUP(F$2,Table1[],5,0),IF($B256=4,VLOOKUP(F$2,Table1[],5,0),0))))","v":500000}]
[2340,1,{"$f":"IF($B257=1,VLOOKUP(C$2,Table1[],3,0),IF($B257=2,VLOOKUP(C$2,Table1[],4,0),IF($B257=3,VLOOKUP(C$2,Table1[],5,0),IF($B257=4,VLOOKUP(C$2,Table1[],5,0),0))))","v":2000000},{"$f":"IF($B257=1,VLOOKUP(D$2,Table1[],3,0),IF($B257=2,VLOOKUP(D$2,Table1[],4,0),IF($B257=3,VLOOKUP(D$2,Table1[],5,0),IF($B257=4,VLOOKUP(D$2,Table1[],5,0),0))))","v":2000000},{"$f":"IF($B257=1,VLOOKUP(E$2,Table1[],3,0),IF($B257=2,VLOOKUP(E$2,Table1[],4,0),IF($B257=3,VLOOKUP(E$2,Table1[],5,0),IF($B257=4,VLOOKUP(E$2,Table1[],5,0),0))))","v":1500000},{"$f":"IF($B257=1,VLOOKUP(F$2,Table1[],3,0),IF($B257=2,VLOOKUP(F$2,Table1[],4,0),IF($B257=3,VLOOKUP(F$2,Table1[],5,0),IF($B257=4,VLOOKUP(F$2,Table1[],5,0),0))))","v":800000}]
[2350,2,{"$f":"IF($B258=1,VLOOKUP(C$2,Table1[],3,0),IF($B258=2,VLOOKUP(C$2,Table1[],4,0),IF($B258=3,VLOOKUP(C$2,Table1[],5,0),IF($B258=4,VLOOKUP(C$2,Table1[],5,0),0))))","v":1000000},{"$f":"IF($B258=1,VLOOKUP(D$2,Table1[],3,0),IF($B258=2,VLOOKUP(D$2,Table1[],4,0),IF($B258=3,VLOOKUP(D$2,Table1[],5,0),IF($B258=4,VLOOKUP(D$2,Table1[],5,0),0))))","v":1000000},{"$f":"IF($B258=1,VLOOKUP(E$2,Table1[],3,0),IF($B258=2,VLOOKUP(E$2,Table1[],4,0),IF($B258=3,VLOOKUP(E$2,Table1[],5,0),IF($B258=4,VLOOKUP(E$2,Table1[],5,0),0))))","v":750000},{"$f":"IF($B258=1,VLOOKUP(F$2,Table1[],3,0),IF($B258=2,VLOOKUP(F$2,Table1[],4,0),IF($B258=3,VLOOKUP(F$2,Table1[],5,0),IF($B258=4,VLOOKUP(F$2,Table1[],5,0),0))))","v":500000}]
[2354,4,{"$f":"IF($B259=1,VLOOKUP(C$2,Table1[],3,0),IF($B259=2,VLOOKUP(C$2,Table1[],4,0),IF($B259=3,VLOOKUP(C$2,Table1[],5,0),IF($B259=4,VLOOKUP(C$2,Table1[],5,0),0))))","v":500000},{"$f":"IF($B259=1,VLOOKUP(D$2,Table1[],3,0),IF($B259=2,VLOOKUP(D$2,Table1[],4,0),IF($B259=3,VLOOKUP(D$2,Table1[],5,0),IF($B259=4,VLOOKUP(D$2,Table1[],5,0),0))))","v":400000},{"$f":"IF($B259=1,VLOOKUP(E$2,Table1[],3,0),IF($B259=2,VLOOKUP(E$2,Table1[],4,0),IF($B259=3,VLOOKUP(E$2,Table1[],5,0),IF($B259=4,VLOOKUP(E$2,Table1[],5,0),0))))","v":"N/A"},{"$f":"IF($B259=1,VLOOKUP(F$2,Table1[],3,0),IF($B259=2,VLOOKUP(F$2,Table1[],4,0),IF($B259=3,VLOOKUP(F$2,Table1[],5,0),IF($B259=4,VLOOKUP(F$2,Table1[],5,0),0))))","v":"N/A"}]
[2360,3,{"$f":"IF($B260=1,VLOOKUP(C$2,Table1[],3,0),IF($B260=2,VLOOKUP(C$2,Table1[],4,0),IF($B260=3,VLOOKUP(C$2,Table1[],5,0),IF($B260=4,VLOOKUP(C$2,Table1[],5,0),0))))","v":500000},{"$f":"IF($B260=1,VLOOKUP(D$2,Table1[],3,0),IF($B260=2,VLOOKUP(D$2,Table1[],4,0),IF($B260=3,VLOOKUP(D$2,Table1[],5,0),IF($B260=4,VLOOKUP(D$2,Table1[],5,0),0))))","v":400000},{"$f":"IF($B260=1,VLOOKUP(E$2,Table1[],3,0),IF($B260=2,VLOOKUP(E$2,Table1[],4,0),IF($B260=3,VLOOKUP(E$2,Table1[],5,0),IF($B260=4,VLOOKUP(E$2,Table1[],5,0),0))))","v":"N/A"},{"$f":"IF($B260=1,VLOOKUP(F$2,Table1[],3,0),IF($B260=2,VLOOKUP(F$2,Table1[],4,0),IF($B260=3,VLOOKUP(F$2,Table1[],5,0),IF($B260=4,VLOOKUP(F$2,Table1[],5,0),0))))","v":"N/A"}]
[2361,4,{"$f":"IF($B261=1,VLOOKUP(C$2,Table1[],3,0),IF($B261=2,VLOOKUP(C$2,Table1[],4,0),IF($B261=3,VLOOKUP(C$2,Table1[],5,0),IF($B261=4,VLOOKUP(C$2,Table1[],5,0),0))))","v":500000},{"$f":"IF($B261=1,VLOOKUP(D$2,Table1[],3,0),IF($B261=2,VLOOKUP(D$2,Table1[],4,0),IF($B261=3,VLOOKUP(D$2,Table1[],5,0),IF($B261=4,VLOOKUP(D$2,Table1[],5,0),0))))","v":400000},{"$f":"IF($B261=1,VLOOKUP(E$2,Table1[],3,0),IF($B261=2,VLOOKUP(E$2,Table1[],4,0),IF($B261=3,VLOOKUP(E$2,Table1[],5,0),IF($B261=4,VLOOKUP(E$2,Table1[],5,0),0))))","v":"N/A"},{"$f":"IF($B261=1,VLOOKUP(F$2,Table1[],3,0),IF($B261=2,VLOOKUP(F$2,Table1[],4,0),IF($B261=3,VLOOKUP(F$2,Table1[],5,0),IF($B261=4,VLOOKUP(F$2,Table1[],5,0),0))))","v":"N/A"}]
[2380,3,{"$f":"IF($B262=1,VLOOKUP(C$2,Table1[],3,0),IF($B262=2,VLOOKUP(C$2,Table1[],4,0),IF($B262=3,VLOOKUP(C$2,Table1[],5,0),IF($B262=4,VLOOKUP(C$2,Table1[],5,0),0))))","v":500000},{"$f":"IF($B262=1,VLOOKUP(D$2,Table1[],3,0),IF($B262=2,VLOOKUP(D$2,Table1[],4,0),IF($B262=3,VLOOKUP(D$2,Table1[],5,0),IF($B262=4,VLOOKUP(D$2,Table1[],5,0),0))))","v":400000},{"$f":"IF($B262=1,VLOOKUP(E$2,Table1[],3,0),IF($B262=2,VLOOKUP(E$2,Table1[],4,0),IF($B262=3,VLOOKUP(E$2,Table1[],5,0),IF($B262=4,VLOOKUP(E$2,Table1[],5,0),0))))","v":"N/A"},{"$f":"IF($B262=1,VLOOKUP(F$2,Table1[],3,0),IF($B262=2,VLOOKUP(F$2,Table1[],4,0),IF($B262=3,VLOOKUP(F$2,Table1[],5,0),IF($B262=4,VLOOKUP(F$2,Table1[],5,0),0))))","v":"N/A"}]
[2400,4,{"$f":"IF($B263=1,VLOOKUP(C$2,Table1[],3,0),IF($B263=2,VLOOKUP(C$2,Table1[],4,0),IF($B263=3,VLOOKUP(C$2,Table1[],5,0),IF($B263=4,VLOOKUP(C$2,Table1[],5,0),0))))","v":500000},{"$f":"IF($B263=1,VLOOKUP(D$2,Table1[],3,0),IF($B263=2,VLOOKUP(D$2,Table1[],4,0),IF($B263=3,VLOOKUP(D$2,Table1[],5,0),IF($B263=4,VLOOKUP(D$2,Table1[],5,0),0))))","v":400000},{"$f":"IF($B263=1,VLOOKUP(E$2,Table1[],3,0),IF($B263=2,VLOOKUP(E$2,Table1[],4,0),IF($B263=3,VLOOKUP(E$2,Table1[],5,0),IF($B263=4,VLOOKUP(E$2,Table1[],5,0),0))))","v":"N/A"},{"$f":"IF($B263=1,VLOOKUP(F$2,Table1[],3,0),IF($B263=2,VLOOKUP(F$2,Table1[],4,0),IF($B263=3,VLOOKUP(F$2,Table1[],5,0),IF($B263=4,VLOOKUP(F$2,Table1[],5,0),0))))","v":"N/A"}]
[2424,4,{"$f":"IF($B264=1,VLOOKUP(C$2,Table1[],3,0),IF($B264=2,VLOOKUP(C$2,Table1[],4,0),IF($B264=3,VLOOKUP(C$2,Table1[],5,0),IF($B264=4,VLOOKUP(C$2,Table1[],5,0),0))))","v":500000},{"$f":"IF($B264=1,VLOOKUP(D$2,Table1[],3,0),IF($B264=2,VLOOKUP(D$2,Table1[],4,0),IF($B264=3,VLOOKUP(D$2,Table1[],5,0),IF($B264=4,VLOOKUP(D$2,Table1[],5,0),0))))","v":400000},{"$f":"IF($B264=1,VLOOKUP(E$2,Table1[],3,0),IF($B264=2,VLOOKUP(E$2,Table1[],4,0),IF($B264=3,VLOOKUP(E$2,Table1[],5,0),IF($B264=4,VLOOKUP(E$2,Table1[],5,0),0))))","v":"N/A"},{"$f":"IF($B264=1,VLOOKUP(F$2,Table1[],3,0),IF($B264=2,VLOOKUP(F$2,Table1[],4,0),IF($B264=3,VLOOKUP(F$2,Table1[],5,0),IF($B264=4,VLOOKUP(F$2,Table1[],5,0),0))))","v":"N/A"}]
[2427,2,{"$f":"IF($B265=1,VLOOKUP(C$2,Table1[],3,0),IF($B265=2,VLOOKUP(C$2,Table1[],4,0),IF($B265=3,VLOOKUP(C$2,Table1[],5,0),IF($B265=4,VLOOKUP(C$2,Table1[],5,0),0))))","v":1000000},{"$f":"IF($B265=1,VLOOKUP(D$2,Table1[],3,0),IF($B265=2,VLOOKUP(D$2,Table1[],4,0),IF($B265=3,VLOOKUP(D$2,Table1[],5,0),IF($B265=4,VLOOKUP(D$2,Table1[],5,0),0))))","v":1000000},{"$f":"IF($B265=1,VLOOKUP(E$2,Table1[],3,0),IF($B265=2,VLOOKUP(E$2,Table1[],4,0),IF($B265=3,VLOOKUP(E$2,Table1[],5,0),IF($B265=4,VLOOKUP(E$2,Table1[],5,0),0))))","v":750000},{"$f":"IF($B265=1,VLOOKUP(F$2,Table1[],3,0),IF($B265=2,VLOOKUP(F$2,Table1[],4,0),IF($B265=3,VLOOKUP(F$2,Table1[],5,0),IF($B265=4,VLOOKUP(F$2,Table1[],5,0),0))))","v":500000}]
[2428,2,{"$f":"IF($B266=1,VLOOKUP(C$2,Table1[],3,0),IF($B266=2,VLOOKUP(C$2,Table1[],4,0),IF($B266=3,VLOOKUP(C$2,Table1[],5,0),IF($B266=4,VLOOKUP(C$2,Table1[],5,0),0))))","v":1000000},{"$f":"IF($B266=1,VLOOKUP(D$2,Table1[],3,0),IF($B266=2,VLOOKUP(D$2,Table1[],4,0),IF($B266=3,VLOOKUP(D$2,Table1[],5,0),IF($B266=4,VLOOKUP(D$2,Table1[],5,0),0))))","v":1000000},{"$f":"IF($B266=1,VLOOKUP(E$2,Table1[],3,0),IF($B266=2,VLOOKUP(E$2,Table1[],4,0),IF($B266=3,VLOOKUP(E$2,Table1[],5,0),IF($B266=4,VLOOKUP(E$2,Table1[],5,0),0))))","v":750000},{"$f":"IF($B266=1,VLOOKUP(F$2,Table1[],3,0),IF($B266=2,VLOOKUP(F$2,Table1[],4,0),IF($B266=3,VLOOKUP(F$2,Table1[],5,0),IF($B266=4,VLOOKUP(F$2,Table1[],5,0),0))))","v":500000}]
[2429,2,{"$f":"IF($B267=1,VLOOKUP(C$2,Table1[],3,0),IF($B267=2,VLOOKUP(C$2,Table1[],4,0),IF($B267=3,VLOOKUP(C$2,Table1[],5,0),IF($B267=4,VLOOKUP(C$2,Table1[],5,0),0))))","v":1000000},{"$f":"IF($B267=1,VLOOKUP(D$2,Table1[],3,0),IF($B267=2,VLOOKUP(D$2,Table1[],4,0),IF($B267=3,VLOOKUP(D$2,Table1[],5,0),IF($B267=4,VLOOKUP(D$2,Table1[],5,0),0))))","v":1000000},{"$f":"IF($B267=1,VLOOKUP(E$2,Table1[],3,0),IF($B267=2,VLOOKUP(E$2,Table1[],4,0),IF($B267=3,VLOOKUP(E$2,Table1[],5,0),IF($B267=4,VLOOKUP(E$2,Table1[],5,0),0))))","v":750000},{"$f":"IF($B267=1,VLOOKUP(F$2,Table1[],3,0),IF($B267=2,VLOOKUP(F$2,Table1[],4,0),IF($B267=3,VLOOKUP(F$2,Table1[],5,0),IF($B267=4,VLOOKUP(F$2,Table1[],5,0),0))))","v":500000}]
[2430,2,{"$f":"IF($B268=1,VLOOKUP(C$2,Table1[],3,0),IF($B268=2,VLOOKUP(C$2,Table1[],4,0),IF($B268=3,VLOOKUP(C$2,Table1[],5,0),IF($B268=4,VLOOKUP(C$2,Table1[],5,0),0))))","v":1000000},{"$f":"IF($B268=1,VLOOKUP(D$2,Table1[],3,0),IF($B268=2,VLOOKUP(D$2,Table1[],4,0),IF($B268=3,VLOOKUP(D$2,Table1[],5,0),IF($B268=4,VLOOKUP(D$2,Table1[],5,0),0))))","v":1000000},{"$f":"IF($B268=1,VLOOKUP(E$2,Table1[],3,0),IF($B268=2,VLOOKUP(E$2,Table1[],4,0),IF($B268=3,VLOOKUP(E$2,Table1[],5,0),IF($B268=4,VLOOKUP(E$2,Table1[],5,0),0))))","v":750000},{"$f":"IF($B268=1,VLOOKUP(F$2,Table1[],3,0),IF($B268=2,VLOOKUP(F$2,Table1[],4,0),IF($B268=3,VLOOKUP(F$2,Table1[],5,0),IF($B268=4,VLOOKUP(F$2,Table1[],5,0),0))))","v":500000}]
[2431,2,{"$f":"IF($B269=1,VLOOKUP(C$2,Table1[],3,0),IF($B269=2,VLOOKUP(C$2,Table1[],4,0),IF($B269=3,VLOOKUP(C$2,Table1[],5,0),IF($B269=4,VLOOKUP(C$2,Table1[],5,0),0))))","v":1000000},{"$f":"IF($B269=1,VLOOKUP(D$2,Table1[],3,0),IF($B269=2,VLOOKUP(D$2,Table1[],4,0),IF($B269=3,VLOOKUP(D$2,Table1[],5,0),IF($B269=4,VLOOKUP(D$2,Table1[],5,0),0))))","v":1000000},{"$f":"IF($B269=1,VLOOKUP(E$2,Table1[],3,0),IF($B269=2,VLOOKUP(E$2,Table1[],4,0),IF($B269=3,VLOOKUP(E$2,Table1[],5,0),IF($B269=4,VLOOKUP(E$2,Table1[],5,0),0))))","v":750000},{"$f":"IF($B269=1,VLOOKUP(F$2,Table1[],3,0),IF($B269=2,VLOOKUP(F$2,Table1[],4,0),IF($B269=3,VLOOKUP(F$2,Table1[],5,0),IF($B269=4,VLOOKUP(F$2,Table1[],5,0),0))))","v":500000}]
[2440,2,{"$f":"IF($B270=1,VLOOKUP(C$2,Table1[],3,0),IF($B270=2,VLOOKUP(C$2,Table1[],4,0),IF($B270=3,VLOOKUP(C$2,Table1[],5,0),IF($B270=4,VLOOKUP(C$2,Table1[],5,0),0))))","v":1000000},{"$f":"IF($B270=1,VLOOKUP(D$2,Table1[],3,0),IF($B270=2,VLOOKUP(D$2,Table1[],4,0),IF($B270=3,VLOOKUP(D$2,Table1[],5,0),IF($B270=4,VLOOKUP(D$2,Table1[],5,0),0))))","v":1000000},{"$f":"IF($B270=1,VLOOKUP(E$2,Table1[],3,0),IF($B270=2,VLOOKUP(E$2,Table1[],4,0),IF($B270=3,VLOOKUP(E$2,Table1[],5,0),IF($B270=4,VLOOKUP(E$2,Table1[],5,0),0))))","v":750000},{"$f":"IF($B270=1,VLOOKUP(F$2,Table1[],3,0),IF($B270=2,VLOOKUP(F$2,Table1[],4,0),IF($B270=3,VLOOKUP(F$2,Table1[],5,0),IF($B270=4,VLOOKUP(F$2,Table1[],5,0),0))))","v":500000}]
[2443,2,{"$f":"IF($B271=1,VLOOKUP(C$2,Table1[],3,0),IF($B271=2,VLOOKUP(C$2,Table1[],4,0),IF($B271=3,VLOOKUP(C$2,Table1[],5,0),IF($B271=4,VLOOKUP(C$2,Table1[],5,0),0))))","v":1000000},{"$f":"IF($B271=1,VLOOKUP(D$2,Table1[],3,0),IF($B271=2,VLOOKUP(D$2,Table1[],4,0),IF($B271=3,VLOOKUP(D$2,Table1[],5,0),IF($B271=4,VLOOKUP(D$2,Table1[],5,0),0))))","v":1000000},{"$f":"IF($B271=1,VLOOKUP(E$2,Table1[],3,0),IF($B271=2,VLOOKUP(E$2,Table1[],4,0),IF($B271=3,VLOOKUP(E$2,Table1[],5,0),IF($B271=4,VLOOKUP(E$2,Table1[],5,0),0))))","v":750000},{"$f":"IF($B271=1,VLOOKUP(F$2,Table1[],3,0),IF($B271=2,VLOOKUP(F$2,Table1[],4,0),IF($B271=3,VLOOKUP(F$2,Table1[],5,0),IF($B271=4,VLOOKUP(F$2,Table1[],5,0),0))))","v":500000}]
[2444,1,{"$f":"IF($B272=1,VLOOKUP(C$2,Table1[],3,0),IF($B272=2,VLOOKUP(C$2,Table1[],4,0),IF($B272=3,VLOOKUP(C$2,Table1[],5,0),IF($B272=4,VLOOKUP(C$2,Table1[],5,0),0))))","v":2000000},{"$f":"IF($B272=1,VLOOKUP(D$2,Table1[],3,0),IF($B272=2,VLOOKUP(D$2,Table1[],4,0),IF($B272=3,VLOOKUP(D$2,Table1[],5,0),IF($B272=4,VLOOKUP(D$2,Table1[],5,0),0))))","v":2000000},{"$f":"IF($B272=1,VLOOKUP(E$2,Table1[],3,0),IF($B272=2,VLOOKUP(E$2,Table1[],4,0),IF($B272=3,VLOOKUP(E$2,Table1[],5,0),IF($B272=4,VLOOKUP(E$2,Table1[],5,0),0))))","v":1500000},{"$f":"IF($B272=1,VLOOKUP(F$2,Table1[],3,0),IF($B272=2,VLOOKUP(F$2,Table1[],4,0),IF($B272=3,VLOOKUP(F$2,Table1[],5,0),IF($B272=4,VLOOKUP(F$2,Table1[],5,0),0))))","v":800000}]
[2445,2,{"$f":"IF($B273=1,VLOOKUP(C$2,Table1[],3,0),IF($B273=2,VLOOKUP(C$2,Table1[],4,0),IF($B273=3,VLOOKUP(C$2,Table1[],5,0),IF($B273=4,VLOOKUP(C$2,Table1[],5,0),0))))","v":1000000},{"$f":"IF($B273=1,VLOOKUP(D$2,Table1[],3,0),IF($B273=2,VLOOKUP(D$2,Table1[],4,0),IF($B273=3,VLOOKUP(D$2,Table1[],5,0),IF($B273=4,VLOOKUP(D$2,Table1[],5,0),0))))","v":1000000},{"$f":"IF($B273=1,VLOOKUP(E$2,Table1[],3,0),IF($B273=2,VLOOKUP(E$2,Table1[],4,0),IF($B273=3,VLOOKUP(E$2,Table1[],5,0),IF($B273=4,VLOOKUP(E$2,Table1[],5,0),0))))","v":750000},{"$f":"IF($B273=1,VLOOKUP(F$2,Table1[],3,0),IF($B273=2,VLOOKUP(F$2,Table1[],4,0),IF($B273=3,VLOOKUP(F$2,Table1[],5,0),IF($B273=4,VLOOKUP(F$2,Table1[],5,0),0))))","v":500000}]
[2446,2,{"$f":"IF($B274=1,VLOOKUP(C$2,Table1[],3,0),IF($B274=2,VLOOKUP(C$2,Table1[],4,0),IF($B274=3,VLOOKUP(C$2,Table1[],5,0),IF($B274=4,VLOOKUP(C$2,Table1[],5,0),0))))","v":1000000},{"$f":"IF($B274=1,VLOOKUP(D$2,Table1[],3,0),IF($B274=2,VLOOKUP(D$2,Table1[],4,0),IF($B274=3,VLOOKUP(D$2,Table1[],5,0),IF($B274=4,VLOOKUP(D$2,Table1[],5,0),0))))","v":1000000},{"$f":"IF($B274=1,VLOOKUP(E$2,Table1[],3,0),IF($B274=2,VLOOKUP(E$2,Table1[],4,0),IF($B274=3,VLOOKUP(E$2,Table1[],5,0),IF($B274=4,VLOOKUP(E$2,Table1[],5,0),0))))","v":750000},{"$f":"IF($B274=1,VLOOKUP(F$2,Table1[],3,0),IF($B274=2,VLOOKUP(F$2,Table1[],4,0),IF($B274=3,VLOOKUP(F$2,Table1[],5,0),IF($B274=4,VLOOKUP(F$2,Table1[],5,0),0))))","v":500000}]
[2447,2,{"$f":"IF($B275=1,VLOOKUP(C$2,Table1[],3,0),IF($B275=2,VLOOKUP(C$2,Table1[],4,0),IF($B275=3,VLOOKUP(C$2,Table1[],5,0),IF($B275=4,VLOOKUP(C$2,Table1[],5,0),0))))","v":1000000},{"$f":"IF($B275=1,VLOOKUP(D$2,Table1[],3,0),IF($B275=2,VLOOKUP(D$2,Table1[],4,0),IF($B275=3,VLOOKUP(D$2,Table1[],5,0),IF($B275=4,VLOOKUP(D$2,Table1[],5,0),0))))","v":1000000},{"$f":"IF($B275=1,VLOOKUP(E$2,Table1[],3,0),IF($B275=2,VLOOKUP(E$2,Table1[],4,0),IF($B275=3,VLOOKUP(E$2,Table1[],5,0),IF($B275=4,VLOOKUP(E$2,Table1[],5,0),0))))","v":750000},{"$f":"IF($B275=1,VLOOKUP(F$2,Table1[],3,0),IF($B275=2,VLOOKUP(F$2,Table1[],4,0),IF($B275=3,VLOOKUP(F$2,Table1[],5,0),IF($B275=4,VLOOKUP(F$2,Table1[],5,0),0))))","v":500000}]
[2448,2,{"$f":"IF($B276=1,VLOOKUP(C$2,Table1[],3,0),IF($B276=2,VLOOKUP(C$2,Table1[],4,0),IF($B276=3,VLOOKUP(C$2,Table1[],5,0),IF($B276=4,VLOOKUP(C$2,Table1[],5,0),0))))","v":1000000},{"$f":"IF($B276=1,VLOOKUP(D$2,Table1[],3,0),IF($B276=2,VLOOKUP(D$2,Table1[],4,0),IF($B276=3,VLOOKUP(D$2,Table1[],5,0),IF($B276=4,VLOOKUP(D$2,Table1[],5,0),0))))","v":1000000},{"$f":"IF($B276=1,VLOOKUP(E$2,Table1[],3,0),IF($B276=2,VLOOKUP(E$2,Table1[],4,0),IF($B276=3,VLOOKUP(E$2,Table1[],5,0),IF($B276=4,VLOOKUP(E$2,Table1[],5,0),0))))","v":750000},{"$f":"IF($B276=1,VLOOKUP(F$2,Table1[],3,0),IF($B276=2,VLOOKUP(F$2,Table1[],4,0),IF($B276=3,VLOOKUP(F$2,Table1[],5,0),IF($B276=4,VLOOKUP(F$2,Table1[],5,0),0))))","v":500000}]
[2450,1,{"$f":"IF($B277=1,VLOOKUP(C$2,Table1[],3,0),IF($B277=2,VLOOKUP(C$2,Table1[],4,0),IF($B277=3,VLOOKUP(C$2,Table1[],5,0),IF($B277=4,VLOOKUP(C$2,Table1[],5,0),0))))","v":2000000},{"$f":"IF($B277=1,VLOOKUP(D$2,Table1[],3,0),IF($B277=2,VLOOKUP(D$2,Table1[],4,0),IF($B277=3,VLOOKUP(D$2,Table1[],5,0),IF($B277=4,VLOOKUP(D$2,Table1[],5,0),0))))","v":2000000},{"$f":"IF($B277=1,VLOOKUP(E$2,Table1[],3,0),IF($B277=2,VLOOKUP(E$2,Table1[],4,0),IF($B277=3,VLOOKUP(E$2,Table1[],5,0),IF($B277=4,VLOOKUP(E$2,Table1[],5,0),0))))","v":1500000},{"$f":"IF($B277=1,VLOOKUP(F$2,Table1[],3,0),IF($B277=2,VLOOKUP(F$2,Table1[],4,0),IF($B277=3,VLOOKUP(F$2,Table1[],5,0),IF($B277=4,VLOOKUP(F$2,Table1[],5,0),0))))","v":800000}]
[2452,1,{"$f":"IF($B278=1,VLOOKUP(C$2,Table1[],3,0),IF($B278=2,VLOOKUP(C$2,Table1[],4,0),IF($B278=3,VLOOKUP(C$2,Table1[],5,0),IF($B278=4,VLOOKUP(C$2,Table1[],5,0),0))))","v":2000000},{"$f":"IF($B278=1,VLOOKUP(D$2,Table1[],3,0),IF($B278=2,VLOOKUP(D$2,Table1[],4,0),IF($B278=3,VLOOKUP(D$2,Table1[],5,0),IF($B278=4,VLOOKUP(D$2,Table1[],5,0),0))))","v":2000000},{"$f":"IF($B278=1,VLOOKUP(E$2,Table1[],3,0),IF($B278=2,VLOOKUP(E$2,Table1[],4,0),IF($B278=3,VLOOKUP(E$2,Table1[],5,0),IF($B278=4,VLOOKUP(E$2,Table1[],5,0),0))))","v":1500000},{"$f":"IF($B278=1,VLOOKUP(F$2,Table1[],3,0),IF($B278=2,VLOOKUP(F$2,Table1[],4,0),IF($B278=3,VLOOKUP(F$2,Table1[],5,0),IF($B278=4,VLOOKUP(F$2,Table1[],5,0),0))))","v":800000}]
[2454,3,{"$f":"IF($B279=1,VLOOKUP(C$2,Table1[],3,0),IF($B279=2,VLOOKUP(C$2,Table1[],4,0),IF($B279=3,VLOOKUP(C$2,Table1[],5,0),IF($B279=4,VLOOKUP(C$2,Table1[],5,0),0))))","v":500000},{"$f":"IF($B279=1,VLOOKUP(D$2,Table1[],3,0),IF($B279=2,VLOOKUP(D$2,Table1[],4,0),IF($B279=3,VLOOKUP(D$2,Table1[],5,0),IF($B279=4,VLOOKUP(D$2,Table1[],5,0),0))))","v":400000},{"$f":"IF($B279=1,VLOOKUP(E$2,Table1[],3,0),IF($B279=2,VLOOKUP(E$2,Table1[],4,0),IF($B279=3,VLOOKUP(E$2,Table1[],5,0),IF($B279=4,VLOOKUP(E$2,Table1[],5,0),0))))","v":"N/A"},{"$f":"IF($B279=1,VLOOKUP(F$2,Table1[],3,0),IF($B279=2,VLOOKUP(F$2,Table1[],4,0),IF($B279=3,VLOOKUP(F$2,Table1[],5,0),IF($B279=4,VLOOKUP(F$2,Table1[],5,0),0))))","v":"N/A"}]
[2455,3,{"$f":"IF($B280=1,VLOOKUP(C$2,Table1[],3,0),IF($B280=2,VLOOKUP(C$2,Table1[],4,0),IF($B280=3,VLOOKUP(C$2,Table1[],5,0),IF($B280=4,VLOOKUP(C$2,Table1[],5,0),0))))","v":500000},{"$f":"IF($B280=1,VLOOKUP(D$2,Table1[],3,0),IF($B280=2,VLOOKUP(D$2,Table1[],4,0),IF($B280=3,VLOOKUP(D$2,Table1[],5,0),IF($B280=4,VLOOKUP(D$2,Table1[],5,0),0))))","v":400000},{"$f":"IF($B280=1,VLOOKUP(E$2,Table1[],3,0),IF($B280=2,VLOOKUP(E$2,Table1[],4,0),IF($B280=3,VLOOKUP(E$2,Table1[],5,0),IF($B280=4,VLOOKUP(E$2,Table1[],5,0),0))))","v":"N/A"},{"$f":"IF($B280=1,VLOOKUP(F$2,Table1[],3,0),IF($B280=2,VLOOKUP(F$2,Table1[],4,0),IF($B280=3,VLOOKUP(F$2,Table1[],5,0),IF($B280=4,VLOOKUP(F$2,Table1[],5,0),0))))","v":"N/A"}]
[2456,2,{"$f":"IF($B281=1,VLOOKUP(C$2,Table1[],3,0),IF($B281=2,VLOOKUP(C$2,Table1[],4,0),IF($B281=3,VLOOKUP(C$2,Table1[],5,0),IF($B281=4,VLOOKUP(C$2,Table1[],5,0),0))))","v":1000000},{"$f":"IF($B281=1,VLOOKUP(D$2,Table1[],3,0),IF($B281=2,VLOOKUP(D$2,Table1[],4,0),IF($B281=3,VLOOKUP(D$2,Table1[],5,0),IF($B281=4,VLOOKUP(D$2,Table1[],5,0),0))))","v":1000000},{"$f":"IF($B281=1,VLOOKUP(E$2,Table1[],3,0),IF($B281=2,VLOOKUP(E$2,Table1[],4,0),IF($B281=3,VLOOKUP(E$2,Table1[],5,0),IF($B281=4,VLOOKUP(E$2,Table1[],5,0),0))))","v":750000},{"$f":"IF($B281=1,VLOOKUP(F$2,Table1[],3,0),IF($B281=2,VLOOKUP(F$2,Table1[],4,0),IF($B281=3,VLOOKUP(F$2,Table1[],5,0),IF($B281=4,VLOOKUP(F$2,Table1[],5,0),0))))","v":500000}]
[2460,2,{"$f":"IF($B282=1,VLOOKUP(C$2,Table1[],3,0),IF($B282=2,VLOOKUP(C$2,Table1[],4,0),IF($B282=3,VLOOKUP(C$2,Table1[],5,0),IF($B282=4,VLOOKUP(C$2,Table1[],5,0),0))))","v":1000000},{"$f":"IF($B282=1,VLOOKUP(D$2,Table1[],3,0),IF($B282=2,VLOOKUP(D$2,Table1[],4,0),IF($B282=3,VLOOKUP(D$2,Table1[],5,0),IF($B282=4,VLOOKUP(D$2,Table1[],5,0),0))))","v":1000000},{"$f":"IF($B282=1,VLOOKUP(E$2,Table1[],3,0),IF($B282=2,VLOOKUP(E$2,Table1[],4,0),IF($B282=3,VLOOKUP(E$2,Table1[],5,0),IF($B282=4,VLOOKUP(E$2,Table1[],5,0),0))))","v":750000},{"$f":"IF($B282=1,VLOOKUP(F$2,Table1[],3,0),IF($B282=2,VLOOKUP(F$2,Table1[],4,0),IF($B282=3,VLOOKUP(F$2,Table1[],5,0),IF($B282=4,VLOOKUP(F$2,Table1[],5,0),0))))","v":500000}]
[2463,3,{"$f":"IF($B283=1,VLOOKUP(C$2,Table1[],3,0),IF($B283=2,VLOOKUP(C$2,Table1[],4,0),IF($B283=3,VLOOKUP(C$2,Table1[],5,0),IF($B283=4,VLOOKUP(C$2,Table1[],5,0),0))))","v":500000},{"$f":"IF($B283=1,VLOOKUP(D$2,Table1[],3,0),IF($B283=2,VLOOKUP(D$2,Table1[],4,0),IF($B283=3,VLOOKUP(D$2,Table1[],5,0),IF($B283=4,VLOOKUP(D$2,Table1[],5,0),0))))","v":400000},{"$f":"IF($B283=1,VLOOKUP(E$2,Table1[],3,0),IF($B283=2,VLOOKUP(E$2,Table1[],4,0),IF($B283=3,VLOOKUP(E$2,Table1[],5,0),IF($B283=4,VLOOKUP(E$2,Table1[],5,0),0))))","v":"N/A"},{"$f":"IF($B283=1,VLOOKUP(F$2,Table1[],3,0),IF($B283=2,VLOOKUP(F$2,Table1[],4,0),IF($B283=3,VLOOKUP(F$2,Table1[],5,0),IF($B283=4,VLOOKUP(F$2,Table1[],5,0),0))))","v":"N/A"}]
[2464,2,{"$f":"IF($B284=1,VLOOKUP(C$2,Table1[],3,0),IF($B284=2,VLOOKUP(C$2,Table1[],4,0),IF($B284=3,VLOOKUP(C$2,Table1[],5,0),IF($B284=4,VLOOKUP(C$2,Table1[],5,0),0))))","v":1000000},{"$f":"IF($B284=1,VLOOKUP(D$2,Table1[],3,0),IF($B284=2,VLOOKUP(D$2,Table1[],4,0),IF($B284=3,VLOOKUP(D$2,Table1[],5,0),IF($B284=4,VLOOKUP(D$2,Table1[],5,0),0))))","v":1000000},{"$f":"IF($B284=1,VLOOKUP(E$2,Table1[],3,0),IF($B284=2,VLOOKUP(E$2,Table1[],4,0),IF($B284=3,VLOOKUP(E$2,Table1[],5,0),IF($B284=4,VLOOKUP(E$2,Table1[],5,0),0))))","v":750000},{"$f":"IF($B284=1,VLOOKUP(F$2,Table1[],3,0),IF($B284=2,VLOOKUP(F$2,Table1[],4,0),IF($B284=3,VLOOKUP(F$2,Table1[],5,0),IF($B284=4,VLOOKUP(F$2,Table1[],5,0),0))))","v":500000}]
[2466,3,{"$f":"IF($B285=1,VLOOKUP(C$2,Table1[],3,0),IF($B285=2,VLOOKUP(C$2,Table1[],4,0),IF($B285=3,VLOOKUP(C$2,Table1[],5,0),IF($B285=4,VLOOKUP(C$2,Table1[],5,0),0))))","v":500000},{"$f":"IF($B285=1,VLOOKUP(D$2,Table1[],3,0),IF($B285=2,VLOOKUP(D$2,Table1[],4,0),IF($B285=3,VLOOKUP(D$2,Table1[],5,0),IF($B285=4,VLOOKUP(D$2,Table1[],5,0),0))))","v":400000},{"$f":"IF($B285=1,VLOOKUP(E$2,Table1[],3,0),IF($B285=2,VLOOKUP(E$2,Table1[],4,0),IF($B285=3,VLOOKUP(E$2,Table1[],5,0),IF($B285=4,VLOOKUP(E$2,Table1[],5,0),0))))","v":"N/A"},{"$f":"IF($B285=1,VLOOKUP(F$2,Table1[],3,0),IF($B285=2,VLOOKUP(F$2,Table1[],4,0),IF($B285=3,VLOOKUP(F$2,Table1[],5,0),IF($B285=4,VLOOKUP(F$2,Table1[],5,0),0))))","v":"N/A"}]
[2470,2,{"$f":"IF($B286=1,VLOOKUP(C$2,Table1[],3,0),IF($B286=2,VLOOKUP(C$2,Table1[],4,0),IF($B286=3,VLOOKUP(C$2,Table1[],5,0),IF($B286=4,VLOOKUP(C$2,Table1[],5,0),0))))","v":1000000},{"$f":"IF($B286=1,VLOOKUP(D$2,Table1[],3,0),IF($B286=2,VLOOKUP(D$2,Table1[],4,0),IF($B286=3,VLOOKUP(D$2,Table1[],5,0),IF($B286=4,VLOOKUP(D$2,Table1[],5,0),0))))","v":1000000},{"$f":"IF($B286=1,VLOOKUP(E$2,Table1[],3,0),IF($B286=2,VLOOKUP(E$2,Table1[],4,0),IF($B286=3,VLOOKUP(E$2,Table1[],5,0),IF($B286=4,VLOOKUP(E$2,Table1[],5,0),0))))","v":750000},{"$f":"IF($B286=1,VLOOKUP(F$2,Table1[],3,0),IF($B286=2,VLOOKUP(F$2,Table1[],4,0),IF($B286=3,VLOOKUP(F$2,Table1[],5,0),IF($B286=4,VLOOKUP(F$2,Table1[],5,0),0))))","v":500000}]
[2477,1,{"$f":"IF($B287=1,VLOOKUP(C$2,Table1[],3,0),IF($B287=2,VLOOKUP(C$2,Table1[],4,0),IF($B287=3,VLOOKUP(C$2,Table1[],5,0),IF($B287=4,VLOOKUP(C$2,Table1[],5,0),0))))","v":2000000},{"$f":"IF($B287=1,VLOOKUP(D$2,Table1[],3,0),IF($B287=2,VLOOKUP(D$2,Table1[],4,0),IF($B287=3,VLOOKUP(D$2,Table1[],5,0),IF($B287=4,VLOOKUP(D$2,Table1[],5,0),0))))","v":2000000},{"$f":"IF($B287=1,VLOOKUP(E$2,Table1[],3,0),IF($B287=2,VLOOKUP(E$2,Table1[],4,0),IF($B287=3,VLOOKUP(E$2,Table1[],5,0),IF($B287=4,VLOOKUP(E$2,Table1[],5,0),0))))","v":1500000},{"$f":"IF($B287=1,VLOOKUP(F$2,Table1[],3,0),IF($B287=2,VLOOKUP(F$2,Table1[],4,0),IF($B287=3,VLOOKUP(F$2,Table1[],5,0),IF($B287=4,VLOOKUP(F$2,Table1[],5,0),0))))","v":800000}]
[2478,1,{"$f":"IF($B288=1,VLOOKUP(C$2,Table1[],3,0),IF($B288=2,VLOOKUP(C$2,Table1[],4,0),IF($B288=3,VLOOKUP(C$2,Table1[],5,0),IF($B288=4,VLOOKUP(C$2,Table1[],5,0),0))))","v":2000000},{"$f":"IF($B288=1,VLOOKUP(D$2,Table1[],3,0),IF($B288=2,VLOOKUP(D$2,Table1[],4,0),IF($B288=3,VLOOKUP(D$2,Table1[],5,0),IF($B288=4,VLOOKUP(D$2,Table1[],5,0),0))))","v":2000000},{"$f":"IF($B288=1,VLOOKUP(E$2,Table1[],3,0),IF($B288=2,VLOOKUP(E$2,Table1[],4,0),IF($B288=3,VLOOKUP(E$2,Table1[],5,0),IF($B288=4,VLOOKUP(E$2,Table1[],5,0),0))))","v":1500000},{"$f":"IF($B288=1,VLOOKUP(F$2,Table1[],3,0),IF($B288=2,VLOOKUP(F$2,Table1[],4,0),IF($B288=3,VLOOKUP(F$2,Table1[],5,0),IF($B288=4,VLOOKUP(F$2,Table1[],5,0),0))))","v":800000}]
[2479,1,{"$f":"IF($B289=1,VLOOKUP(C$2,Table1[],3,0),IF($B289=2,VLOOKUP(C$2,Table1[],4,0),IF($B289=3,VLOOKUP(C$2,Table1[],5,0),IF($B289=4,VLOOKUP(C$2,Table1[],5,0),0))))","v":2000000},{"$f":"IF($B289=1,VLOOKUP(D$2,Table1[],3,0),IF($B289=2,VLOOKUP(D$2,Table1[],4,0),IF($B289=3,VLOOKUP(D$2,Table1[],5,0),IF($B289=4,VLOOKUP(D$2,Table1[],5,0),0))))","v":2000000},{"$f":"IF($B289=1,VLOOKUP(E$2,Table1[],3,0),IF($B289=2,VLOOKUP(E$2,Table1[],4,0),IF($B289=3,VLOOKUP(E$2,Table1[],5,0),IF($B289=4,VLOOKUP(E$2,Table1[],5,0),0))))","v":1500000},{"$f":"IF($B289=1,VLOOKUP(F$2,Table1[],3,0),IF($B289=2,VLOOKUP(F$2,Table1[],4,0),IF($B289=3,VLOOKUP(F$2,Table1[],5,0),IF($B289=4,VLOOKUP(F$2,Table1[],5,0),0))))","v":800000}]
[2480,1,{"$f":"IF($B290=1,VLOOKUP(C$2,Table1[],3,0),IF($B290=2,VLOOKUP(C$2,Table1[],4,0),IF($B290=3,VLOOKUP(C$2,Table1[],5,0),IF($B290=4,VLOOKUP(C$2,Table1[],5,0),0))))","v":2000000},{"$f":"IF($B290=1,VLOOKUP(D$2,Table1[],3,0),IF($B290=2,VLOOKUP(D$2,Table1[],4,0),IF($B290=3,VLOOKUP(D$2,Table1[],5,0),IF($B290=4,VLOOKUP(D$2,Table1[],5,0),0))))","v":2000000},{"$f":"IF($B290=1,VLOOKUP(E$2,Table1[],3,0),IF($B290=2,VLOOKUP(E$2,Table1[],4,0),IF($B290=3,VLOOKUP(E$2,Table1[],5,0),IF($B290=4,VLOOKUP(E$2,Table1[],5,0),0))))","v":1500000},{"$f":"IF($B290=1,VLOOKUP(F$2,Table1[],3,0),IF($B290=2,VLOOKUP(F$2,Table1[],4,0),IF($B290=3,VLOOKUP(F$2,Table1[],5,0),IF($B290=4,VLOOKUP(F$2,Table1[],5,0),0))))","v":800000}]
[2481,1,{"$f":"IF($B291=1,VLOOKUP(C$2,Table1[],3,0),IF($B291=2,VLOOKUP(C$2,Table1[],4,0),IF($B291=3,VLOOKUP(C$2,Table1[],5,0),IF($B291=4,VLOOKUP(C$2,Table1[],5,0),0))))","v":2000000},{"$f":"IF($B291=1,VLOOKUP(D$2,Table1[],3,0),IF($B291=2,VLOOKUP(D$2,Table1[],4,0),IF($B291=3,VLOOKUP(D$2,Table1[],5,0),IF($B291=4,VLOOKUP(D$2,Table1[],5,0),0))))","v":2000000},{"$f":"IF($B291=1,VLOOKUP(E$2,Table1[],3,0),IF($B291=2,VLOOKUP(E$2,Table1[],4,0),IF($B291=3,VLOOKUP(E$2,Table1[],5,0),IF($B291=4,VLOOKUP(E$2,Table1[],5,0),0))))","v":1500000},{"$f":"IF($B291=1,VLOOKUP(F$2,Table1[],3,0),IF($B291=2,VLOOKUP(F$2,Table1[],4,0),IF($B291=3,VLOOKUP(F$2,Table1[],5,0),IF($B291=4,VLOOKUP(F$2,Table1[],5,0),0))))","v":800000}]
[2482,1,{"$f":"IF($B292=1,VLOOKUP(C$2,Table1[],3,0),IF($B292=2,VLOOKUP(C$2,Table1[],4,0),IF($B292=3,VLOOKUP(C$2,Table1[],5,0),IF($B292=4,VLOOKUP(C$2,Table1[],5,0),0))))","v":2000000},{"$f":"IF($B292=1,VLOOKUP(D$2,Table1[],3,0),IF($B292=2,VLOOKUP(D$2,Table1[],4,0),IF($B292=3,VLOOKUP(D$2,Table1[],5,0),IF($B292=4,VLOOKUP(D$2,Table1[],5,0),0))))","v":2000000},{"$f":"IF($B292=1,VLOOKUP(E$2,Table1[],3,0),IF($B292=2,VLOOKUP(E$2,Table1[],4,0),IF($B292=3,VLOOKUP(E$2,Table1[],5,0),IF($B292=4,VLOOKUP(E$2,Table1[],5,0),0))))","v":1500000},{"$f":"IF($B292=1,VLOOKUP(F$2,Table1[],3,0),IF($B292=2,VLOOKUP(F$2,Table1[],4,0),IF($B292=3,VLOOKUP(F$2,Table1[],5,0),IF($B292=4,VLOOKUP(F$2,Table1[],5,0),0))))","v":800000}]
[2483,1,{"$f":"IF($B293=1,VLOOKUP(C$2,Table1[],3,0),IF($B293=2,VLOOKUP(C$2,Table1[],4,0),IF($B293=3,VLOOKUP(C$2,Table1[],5,0),IF($B293=4,VLOOKUP(C$2,Table1[],5,0),0))))","v":2000000},{"$f":"IF($B293=1,VLOOKUP(D$2,Table1[],3,0),IF($B293=2,VLOOKUP(D$2,Table1[],4,0),IF($B293=3,VLOOKUP(D$2,Table1[],5,0),IF($B293=4,VLOOKUP(D$2,Table1[],5,0),0))))","v":2000000},{"$f":"IF($B293=1,VLOOKUP(E$2,Table1[],3,0),IF($B293=2,VLOOKUP(E$2,Table1[],4,0),IF($B293=3,VLOOKUP(E$2,Table1[],5,0),IF($B293=4,VLOOKUP(E$2,Table1[],5,0),0))))","v":1500000},{"$f":"IF($B293=1,VLOOKUP(F$2,Table1[],3,0),IF($B293=2,VLOOKUP(F$2,Table1[],4,0),IF($B293=3,VLOOKUP(F$2,Table1[],5,0),IF($B293=4,VLOOKUP(F$2,Table1[],5,0),0))))","v":800000}]
[2484,1,{"$f":"IF($B294=1,VLOOKUP(C$2,Table1[],3,0),IF($B294=2,VLOOKUP(C$2,Table1[],4,0),IF($B294=3,VLOOKUP(C$2,Table1[],5,0),IF($B294=4,VLOOKUP(C$2,Table1[],5,0),0))))","v":2000000},{"$f":"IF($B294=1,VLOOKUP(D$2,Table1[],3,0),IF($B294=2,VLOOKUP(D$2,Table1[],4,0),IF($B294=3,VLOOKUP(D$2,Table1[],5,0),IF($B294=4,VLOOKUP(D$2,Table1[],5,0),0))))","v":2000000},{"$f":"IF($B294=1,VLOOKUP(E$2,Table1[],3,0),IF($B294=2,VLOOKUP(E$2,Table1[],4,0),IF($B294=3,VLOOKUP(E$2,Table1[],5,0),IF($B294=4,VLOOKUP(E$2,Table1[],5,0),0))))","v":1500000},{"$f":"IF($B294=1,VLOOKUP(F$2,Table1[],3,0),IF($B294=2,VLOOKUP(F$2,Table1[],4,0),IF($B294=3,VLOOKUP(F$2,Table1[],5,0),IF($B294=4,VLOOKUP(F$2,Table1[],5,0),0))))","v":800000}]
[2485,1,{"$f":"IF($B295=1,VLOOKUP(C$2,Table1[],3,0),IF($B295=2,VLOOKUP(C$2,Table1[],4,0),IF($B295=3,VLOOKUP(C$2,Table1[],5,0),IF($B295=4,VLOOKUP(C$2,Table1[],5,0),0))))","v":2000000},{"$f":"IF($B295=1,VLOOKUP(D$2,Table1[],3,0),IF($B295=2,VLOOKUP(D$2,Table1[],4,0),IF($B295=3,VLOOKUP(D$2,Table1[],5,0),IF($B295=4,VLOOKUP(D$2,Table1[],5,0),0))))","v":2000000},{"$f":"IF($B295=1,VLOOKUP(E$2,Table1[],3,0),IF($B295=2,VLOOKUP(E$2,Table1[],4,0),IF($B295=3,VLOOKUP(E$2,Table1[],5,0),IF($B295=4,VLOOKUP(E$2,Table1[],5,0),0))))","v":1500000},{"$f":"IF($B295=1,VLOOKUP(F$2,Table1[],3,0),IF($B295=2,VLOOKUP(F$2,Table1[],4,0),IF($B295=3,VLOOKUP(F$2,Table1[],5,0),IF($B295=4,VLOOKUP(F$2,Table1[],5,0),0))))","v":800000}]
[2486,1,{"$f":"IF($B296=1,VLOOKUP(C$2,Table1[],3,0),IF($B296=2,VLOOKUP(C$2,Table1[],4,0),IF($B296=3,VLOOKUP(C$2,Table1[],5,0),IF($B296=4,VLOOKUP(C$2,Table1[],5,0),0))))","v":2000000},{"$f":"IF($B296=1,VLOOKUP(D$2,Table1[],3,0),IF($B296=2,VLOOKUP(D$2,Table1[],4,0),IF($B296=3,VLOOKUP(D$2,Table1[],5,0),IF($B296=4,VLOOKUP(D$2,Table1[],5,0),0))))","v":2000000},{"$f":"IF($B296=1,VLOOKUP(E$2,Table1[],3,0),IF($B296=2,VLOOKUP(E$2,Table1[],4,0),IF($B296=3,VLOOKUP(E$2,Table1[],5,0),IF($B296=4,VLOOKUP(E$2,Table1[],5,0),0))))","v":1500000},{"$f":"IF($B296=1,VLOOKUP(F$2,Table1[],3,0),IF($B296=2,VLOOKUP(F$2,Table1[],4,0),IF($B296=3,VLOOKUP(F$2,Table1[],5,0),IF($B296=4,VLOOKUP(F$2,Table1[],5,0),0))))","v":800000}]
[2487,1,{"$f":"IF($B297=1,VLOOKUP(C$2,Table1[],3,0),IF($B297=2,VLOOKUP(C$2,Table1[],4,0),IF($B297=3,VLOOKUP(C$2,Table1[],5,0),IF($B297=4,VLOOKUP(C$2,Table1[],5,0),0))))","v":2000000},{"$f":"IF($B297=1,VLOOKUP(D$2,Table1[],3,0),IF($B297=2,VLOOKUP(D$2,Table1[],4,0),IF($B297=3,VLOOKUP(D$2,Table1[],5,0),IF($B297=4,VLOOKUP(D$2,Table1[],5,0),0))))","v":2000000},{"$f":"IF($B297=1,VLOOKUP(E$2,Table1[],3,0),IF($B297=2,VLOOKUP(E$2,Table1[],4,0),IF($B297=3,VLOOKUP(E$2,Table1[],5,0),IF($B297=4,VLOOKUP(E$2,Table1[],5,0),0))))","v":1500000},{"$f":"IF($B297=1,VLOOKUP(F$2,Table1[],3,0),IF($B297=2,VLOOKUP(F$2,Table1[],4,0),IF($B297=3,VLOOKUP(F$2,Table1[],5,0),IF($B297=4,VLOOKUP(F$2,Table1[],5,0),0))))","v":800000}]
[2488,1,{"$f":"IF($B298=1,VLOOKUP(C$2,Table1[],3,0),IF($B298=2,VLOOKUP(C$2,Table1[],4,0),IF($B298=3,VLOOKUP(C$2,Table1[],5,0),IF($B298=4,VLOOKUP(C$2,Table1[],5,0),0))))","v":2000000},{"$f":"IF($B298=1,VLOOKUP(D$2,Table1[],3,0),IF($B298=2,VLOOKUP(D$2,Table1[],4,0),IF($B298=3,VLOOKUP(D$2,Table1[],5,0),IF($B298=4,VLOOKUP(D$2,Table1[],5,0),0))))","v":2000000},{"$f":"IF($B298=1,VLOOKUP(E$2,Table1[],3,0),IF($B298=2,VLOOKUP(E$2,Table1[],4,0),IF($B298=3,VLOOKUP(E$2,Table1[],5,0),IF($B298=4,VLOOKUP(E$2,Table1[],5,0),0))))","v":1500000},{"$f":"IF($B298=1,VLOOKUP(F$2,Table1[],3,0),IF($B298=2,VLOOKUP(F$2,Table1[],4,0),IF($B298=3,VLOOKUP(F$2,Table1[],5,0),IF($B298=4,VLOOKUP(F$2,Table1[],5,0),0))))","v":800000}]
[2489,1,{"$f":"IF($B299=1,VLOOKUP(C$2,Table1[],3,0),IF($B299=2,VLOOKUP(C$2,Table1[],4,0),IF($B299=3,VLOOKUP(C$2,Table1[],5,0),IF($B299=4,VLOOKUP(C$2,Table1[],5,0),0))))","v":2000000},{"$f":"IF($B299=1,VLOOKUP(D$2,Table1[],3,0),IF($B299=2,VLOOKUP(D$2,Table1[],4,0),IF($B299=3,VLOOKUP(D$2,Table1[],5,0),IF($B299=4,VLOOKUP(D$2,Table1[],5,0),0))))","v":2000000},{"$f":"IF($B299=1,VLOOKUP(E$2,Table1[],3,0),IF($B299=2,VLOOKUP(E$2,Table1[],4,0),IF($B299=3,VLOOKUP(E$2,Table1[],5,0),IF($B299=4,VLOOKUP(E$2,Table1[],5,0),0))))","v":1500000},{"$f":"IF($B299=1,VLOOKUP(F$2,Table1[],3,0),IF($B299=2,VLOOKUP(F$2,Table1[],4,0),IF($B299=3,VLOOKUP(F$2,Table1[],5,0),IF($B299=4,VLOOKUP(F$2,Table1[],5,0),0))))","v":800000}]
[2567,1,{"$f":"IF($B300=1,VLOOKUP(C$2,Table1[],3,0),IF($B300=2,VLOOKUP(C$2,Table1[],4,0),IF($B300=3,VLOOKUP(C$2,Table1[],5,0),IF($B300=4,VLOOKUP(C$2,Table1[],5,0),0))))","v":2000000},{"$f":"IF($B300=1,VLOOKUP(D$2,Table1[],3,0),IF($B300=2,VLOOKUP(D$2,Table1[],4,0),IF($B300=3,VLOOKUP(D$2,Table1[],5,0),IF($B300=4,VLOOKUP(D$2,Table1[],5,0),0))))","v":2000000},{"$f":"IF($B300=1,VLOOKUP(E$2,Table1[],3,0),IF($B300=2,VLOOKUP(E$2,Table1[],4,0),IF($B300=3,VLOOKUP(E$2,Table1[],5,0),IF($B300=4,VLOOKUP(E$2,Table1[],5,0),0))))","v":1500000},{"$f":"IF($B300=1,VLOOKUP(F$2,Table1[],3,0),IF($B300=2,VLOOKUP(F$2,Table1[],4,0),IF($B300=3,VLOOKUP(F$2,Table1[],5,0),IF($B300=4,VLOOKUP(F$2,Table1[],5,0),0))))","v":800000}]
[2568,1,{"$f":"IF($B301=1,VLOOKUP(C$2,Table1[],3,0),IF($B301=2,VLOOKUP(C$2,Table1[],4,0),IF($B301=3,VLOOKUP(C$2,Table1[],5,0),IF($B301=4,VLOOKUP(C$2,Table1[],5,0),0))))","v":2000000},{"$f":"IF($B301=1,VLOOKUP(D$2,Table1[],3,0),IF($B301=2,VLOOKUP(D$2,Table1[],4,0),IF($B301=3,VLOOKUP(D$2,Table1[],5,0),IF($B301=4,VLOOKUP(D$2,Table1[],5,0),0))))","v":2000000},{"$f":"IF($B301=1,VLOOKUP(E$2,Table1[],3,0),IF($B301=2,VLOOKUP(E$2,Table1[],4,0),IF($B301=3,VLOOKUP(E$2,Table1[],5,0),IF($B301=4,VLOOKUP(E$2,Table1[],5,0),0))))","v":1500000},{"$f":"IF($B301=1,VLOOKUP(F$2,Table1[],3,0),IF($B301=2,VLOOKUP(F$2,Table1[],4,0),IF($B301=3,VLOOKUP(F$2,Table1[],5,0),IF($B301=4,VLOOKUP(F$2,Table1[],5,0),0))))","v":800000}]
[2569,1,{"$f":"IF($B302=1,VLOOKUP(C$2,Table1[],3,0),IF($B302=2,VLOOKUP(C$2,Table1[],4,0),IF($B302=3,VLOOKUP(C$2,Table1[],5,0),IF($B302=4,VLOOKUP(C$2,Table1[],5,0),0))))","v":2000000},{"$f":"IF($B302=1,VLOOKUP(D$2,Table1[],3,0),IF($B302=2,VLOOKUP(D$2,Table1[],4,0),IF($B302=3,VLOOKUP(D$2,Table1[],5,0),IF($B302=4,VLOOKUP(D$2,Table1[],5,0),0))))","v":2000000},{"$f":"IF($B302=1,VLOOKUP(E$2,Table1[],3,0),IF($B302=2,VLOOKUP(E$2,Table1[],4,0),IF($B302=3,VLOOKUP(E$2,Table1[],5,0),IF($B302=4,VLOOKUP(E$2,Table1[],5,0),0))))","v":1500000},{"$f":"IF($B302=1,VLOOKUP(F$2,Table1[],3,0),IF($B302=2,VLOOKUP(F$2,Table1[],4,0),IF($B302=3,VLOOKUP(F$2,Table1[],5,0),IF($B302=4,VLOOKUP(F$2,Table1[],5,0),0))))","v":800000}]
[2570,1,{"$f":"IF($B303=1,VLOOKUP(C$2,Table1[],3,0),IF($B303=2,VLOOKUP(C$2,Table1[],4,0),IF($B303=3,VLOOKUP(C$2,Table1[],5,0),IF($B303=4,VLOOKUP(C$2,Table1[],5,0),0))))","v":2000000},{"$f":"IF($B303=1,VLOOKUP(D$2,Table1[],3,0),IF($B303=2,VLOOKUP(D$2,Table1[],4,0),IF($B303=3,VLOOKUP(D$2,Table1[],5,0),IF($B303=4,VLOOKUP(D$2,Table1[],5,0),0))))","v":2000000},{"$f":"IF($B303=1,VLOOKUP(E$2,Table1[],3,0),IF($B303=2,VLOOKUP(E$2,Table1[],4,0),IF($B303=3,VLOOKUP(E$2,Table1[],5,0),IF($B303=4,VLOOKUP(E$2,Table1[],5,0),0))))","v":1500000},{"$f":"IF($B303=1,VLOOKUP(F$2,Table1[],3,0),IF($B303=2,VLOOKUP(F$2,Table1[],4,0),IF($B303=3,VLOOKUP(F$2,Table1[],5,0),IF($B303=4,VLOOKUP(F$2,Table1[],5,0),0))))","v":800000}]
[2571,1,{"$f":"IF($B304=1,VLOOKUP(C$2,Table1[],3,0),IF($B304=2,VLOOKUP(C$2,Table1[],4,0),IF($B304=3,VLOOKUP(C$2,Table1[],5,0),IF($B304=4,VLOOKUP(C$2,Table1[],5,0),0))))","v":2000000},{"$f":"IF($B304=1,VLOOKUP(D$2,Table1[],3,0),IF($B304=2,VLOOKUP(D$2,Table1[],4,0),IF($B304=3,VLOOKUP(D$2,Table1[],5,0),IF($B304=4,VLOOKUP(D$2,Table1[],5,0),0))))","v":2000000},{"$f":"IF($B304=1,VLOOKUP(E$2,Table1[],3,0),IF($B304=2,VLOOKUP(E$2,Table1[],4,0),IF($B304=3,VLOOKUP(E$2,Table1[],5,0),IF($B304=4,VLOOKUP(E$2,Table1[],5,0),0))))","v":1500000},{"$f":"IF($B304=1,VLOOKUP(F$2,Table1[],3,0),IF($B304=2,VLOOKUP(F$2,Table1[],4,0),IF($B304=3,VLOOKUP(F$2,Table1[],5,0),IF($B304=4,VLOOKUP(F$2,Table1[],5,0),0))))","v":800000}]
[2572,1,{"$f":"IF($B305=1,VLOOKUP(C$2,Table1[],3,0),IF($B305=2,VLOOKUP(C$2,Table1[],4,0),IF($B305=3,VLOOKUP(C$2,Table1[],5,0),IF($B305=4,VLOOKUP(C$2,Table1[],5,0),0))))","v":2000000},{"$f":"IF($B305=1,VLOOKUP(D$2,Table1[],3,0),IF($B305=2,VLOOKUP(D$2,Table1[],4,0),IF($B305=3,VLOOKUP(D$2,Table1[],5,0),IF($B305=4,VLOOKUP(D$2,Table1[],5,0),0))))","v":2000000},{"$f":"IF($B305=1,VLOOKUP(E$2,Table1[],3,0),IF($B305=2,VLOOKUP(E$2,Table1[],4,0),IF($B305=3,VLOOKUP(E$2,Table1[],5,0),IF($B305=4,VLOOKUP(E$2,Table1[],5,0),0))))","v":1500000},{"$f":"IF($B305=1,VLOOKUP(F$2,Table1[],3,0),IF($B305=2,VLOOKUP(F$2,Table1[],4,0),IF($B305=3,VLOOKUP(F$2,Table1[],5,0),IF($B305=4,VLOOKUP(F$2,Table1[],5,0),0))))","v":800000}]
[2573,1,{"$f":"IF($B306=1,VLOOKUP(C$2,Table1[],3,0),IF($B306=2,VLOOKUP(C$2,Table1[],4,0),IF($B306=3,VLOOKUP(C$2,Table1[],5,0),IF($B306=4,VLOOKUP(C$2,Table1[],5,0),0))))","v":2000000},{"$f":"IF($B306=1,VLOOKUP(D$2,Table1[],3,0),IF($B306=2,VLOOKUP(D$2,Table1[],4,0),IF($B306=3,VLOOKUP(D$2,Table1[],5,0),IF($B306=4,VLOOKUP(D$2,Table1[],5,0),0))))","v":2000000},{"$f":"IF($B306=1,VLOOKUP(E$2,Table1[],3,0),IF($B306=2,VLOOKUP(E$2,Table1[],4,0),IF($B306=3,VLOOKUP(E$2,Table1[],5,0),IF($B306=4,VLOOKUP(E$2,Table1[],5,0),0))))","v":1500000},{"$f":"IF($B306=1,VLOOKUP(F$2,Table1[],3,0),IF($B306=2,VLOOKUP(F$2,Table1[],4,0),IF($B306=3,VLOOKUP(F$2,Table1[],5,0),IF($B306=4,VLOOKUP(F$2,Table1[],5,0),0))))","v":800000}]
[2574,1,{"$f":"IF($B307=1,VLOOKUP(C$2,Table1[],3,0),IF($B307=2,VLOOKUP(C$2,Table1[],4,0),IF($B307=3,VLOOKUP(C$2,Table1[],5,0),IF($B307=4,VLOOKUP(C$2,Table1[],5,0),0))))","v":2000000},{"$f":"IF($B307=1,VLOOKUP(D$2,Table1[],3,0),IF($B307=2,VLOOKUP(D$2,Table1[],4,0),IF($B307=3,VLOOKUP(D$2,Table1[],5,0),IF($B307=4,VLOOKUP(D$2,Table1[],5,0),0))))","v":2000000},{"$f":"IF($B307=1,VLOOKUP(E$2,Table1[],3,0),IF($B307=2,VLOOKUP(E$2,Table1[],4,0),IF($B307=3,VLOOKUP(E$2,Table1[],5,0),IF($B307=4,VLOOKUP(E$2,Table1[],5,0),0))))","v":1500000},{"$f":"IF($B307=1,VLOOKUP(F$2,Table1[],3,0),IF($B307=2,VLOOKUP(F$2,Table1[],4,0),IF($B307=3,VLOOKUP(F$2,Table1[],5,0),IF($B307=4,VLOOKUP(F$2,Table1[],5,0),0))))","v":800000}]
[2575,1,{"$f":"IF($B308=1,VLOOKUP(C$2,Table1[],3,0),IF($B308=2,VLOOKUP(C$2,Table1[],4,0),IF($B308=3,VLOOKUP(C$2,Table1[],5,0),IF($B308=4,VLOOKUP(C$2,Table1[],5,0),0))))","v":2000000},{"$f":"IF($B308=1,VLOOKUP(D$2,Table1[],3,0),IF($B308=2,VLOOKUP(D$2,Table1[],4,0),IF($B308=3,VLOOKUP(D$2,Table1[],5,0),IF($B308=4,VLOOKUP(D$2,Table1[],5,0),0))))","v":2000000},{"$f":"IF($B308=1,VLOOKUP(E$2,Table1[],3,0),IF($B308=2,VLOOKUP(E$2,Table1[],4,0),IF($B308=3,VLOOKUP(E$2,Table1[],5,0),IF($B308=4,VLOOKUP(E$2,Table1[],5,0),0))))","v":1500000},{"$f":"IF($B308=1,VLOOKUP(F$2,Table1[],3,0),IF($B308=2,VLOOKUP(F$2,Table1[],4,0),IF($B308=3,VLOOKUP(F$2,Table1[],5,0),IF($B308=4,VLOOKUP(F$2,Table1[],5,0),0))))","v":800000}]
[2576,1,{"$f":"IF($B309=1,VLOOKUP(C$2,Table1[],3,0),IF($B309=2,VLOOKUP(C$2,Table1[],4,0),IF($B309=3,VLOOKUP(C$2,Table1[],5,0),IF($B309=4,VLOOKUP(C$2,Table1[],5,0),0))))","v":2000000},{"$f":"IF($B309=1,VLOOKUP(D$2,Table1[],3,0),IF($B309=2,VLOOKUP(D$2,Table1[],4,0),IF($B309=3,VLOOKUP(D$2,Table1[],5,0),IF($B309=4,VLOOKUP(D$2,Table1[],5,0),0))))","v":2000000},{"$f":"IF($B309=1,VLOOKUP(E$2,Table1[],3,0),IF($B309=2,VLOOKUP(E$2,Table1[],4,0),IF($B309=3,VLOOKUP(E$2,Table1[],5,0),IF($B309=4,VLOOKUP(E$2,Table1[],5,0),0))))","v":1500000},{"$f":"IF($B309=1,VLOOKUP(F$2,Table1[],3,0),IF($B309=2,VLOOKUP(F$2,Table1[],4,0),IF($B309=3,VLOOKUP(F$2,Table1[],5,0),IF($B309=4,VLOOKUP(F$2,Table1[],5,0),0))))","v":800000}]
[2577,1,{"$f":"IF($B310=1,VLOOKUP(C$2,Table1[],3,0),IF($B310=2,VLOOKUP(C$2,Table1[],4,0),IF($B310=3,VLOOKUP(C$2,Table1[],5,0),IF($B310=4,VLOOKUP(C$2,Table1[],5,0),0))))","v":2000000},{"$f":"IF($B310=1,VLOOKUP(D$2,Table1[],3,0),IF($B310=2,VLOOKUP(D$2,Table1[],4,0),IF($B310=3,VLOOKUP(D$2,Table1[],5,0),IF($B310=4,VLOOKUP(D$2,Table1[],5,0),0))))","v":2000000},{"$f":"IF($B310=1,VLOOKUP(E$2,Table1[],3,0),IF($B310=2,VLOOKUP(E$2,Table1[],4,0),IF($B310=3,VLOOKUP(E$2,Table1[],5,0),IF($B310=4,VLOOKUP(E$2,Table1[],5,0),0))))","v":1500000},{"$f":"IF($B310=1,VLOOKUP(F$2,Table1[],3,0),IF($B310=2,VLOOKUP(F$2,Table1[],4,0),IF($B310=3,VLOOKUP(F$2,Table1[],5,0),IF($B310=4,VLOOKUP(F$2,Table1[],5,0),0))))","v":800000}]
[2578,1,{"$f":"IF($B311=1,VLOOKUP(C$2,Table1[],3,0),IF($B311=2,VLOOKUP(C$2,Table1[],4,0),IF($B311=3,VLOOKUP(C$2,Table1[],5,0),IF($B311=4,VLOOKUP(C$2,Table1[],5,0),0))))","v":2000000},{"$f":"IF($B311=1,VLOOKUP(D$2,Table1[],3,0),IF($B311=2,VLOOKUP(D$2,Table1[],4,0),IF($B311=3,VLOOKUP(D$2,Table1[],5,0),IF($B311=4,VLOOKUP(D$2,Table1[],5,0),0))))","v":2000000},{"$f":"IF($B311=1,VLOOKUP(E$2,Table1[],3,0),IF($B311=2,VLOOKUP(E$2,Table1[],4,0),IF($B311=3,VLOOKUP(E$2,Table1[],5,0),IF($B311=4,VLOOKUP(E$2,Table1[],5,0),0))))","v":1500000},{"$f":"IF($B311=1,VLOOKUP(F$2,Table1[],3,0),IF($B311=2,VLOOKUP(F$2,Table1[],4,0),IF($B311=3,VLOOKUP(F$2,Table1[],5,0),IF($B311=4,VLOOKUP(F$2,Table1[],5,0),0))))","v":800000}]
[2579,1,{"$f":"IF($B312=1,VLOOKUP(C$2,Table1[],3,0),IF($B312=2,VLOOKUP(C$2,Table1[],4,0),IF($B312=3,VLOOKUP(C$2,Table1[],5,0),IF($B312=4,VLOOKUP(C$2,Table1[],5,0),0))))","v":2000000},{"$f":"IF($B312=1,VLOOKUP(D$2,Table1[],3,0),IF($B312=2,VLOOKUP(D$2,Table1[],4,0),IF($B312=3,VLOOKUP(D$2,Table1[],5,0),IF($B312=4,VLOOKUP(D$2,Table1[],5,0),0))))","v":2000000},{"$f":"IF($B312=1,VLOOKUP(E$2,Table1[],3,0),IF($B312=2,VLOOKUP(E$2,Table1[],4,0),IF($B312=3,VLOOKUP(E$2,Table1[],5,0),IF($B312=4,VLOOKUP(E$2,Table1[],5,0),0))))","v":1500000},{"$f":"IF($B312=1,VLOOKUP(F$2,Table1[],3,0),IF($B312=2,VLOOKUP(F$2,Table1[],4,0),IF($B312=3,VLOOKUP(F$2,Table1[],5,0),IF($B312=4,VLOOKUP(F$2,Table1[],5,0),0))))","v":800000}]
[2580,2,{"$f":"IF($B313=1,VLOOKUP(C$2,Table1[],3,0),IF($B313=2,VLOOKUP(C$2,Table1[],4,0),IF($B313=3,VLOOKUP(C$2,Table1[],5,0),IF($B313=4,VLOOKUP(C$2,Table1[],5,0),0))))","v":1000000},{"$f":"IF($B313=1,VLOOKUP(D$2,Table1[],3,0),IF($B313=2,VLOOKUP(D$2,Table1[],4,0),IF($B313=3,VLOOKUP(D$2,Table1[],5,0),IF($B313=4,VLOOKUP(D$2,Table1[],5,0),0))))","v":1000000},{"$f":"IF($B313=1,VLOOKUP(E$2,Table1[],3,0),IF($B313=2,VLOOKUP(E$2,Table1[],4,0),IF($B313=3,VLOOKUP(E$2,Table1[],5,0),IF($B313=4,VLOOKUP(E$2,Table1[],5,0),0))))","v":750000},{"$f":"IF($B313=1,VLOOKUP(F$2,Table1[],3,0),IF($B313=2,VLOOKUP(F$2,Table1[],4,0),IF($B313=3,VLOOKUP(F$2,Table1[],5,0),IF($B313=4,VLOOKUP(F$2,Table1[],5,0),0))))","v":500000}]
[2582,2,{"$f":"IF($B314=1,VLOOKUP(C$2,Table1[],3,0),IF($B314=2,VLOOKUP(C$2,Table1[],4,0),IF($B314=3,VLOOKUP(C$2,Table1[],5,0),IF($B314=4,VLOOKUP(C$2,Table1[],5,0),0))))","v":1000000},{"$f":"IF($B314=1,VLOOKUP(D$2,Table1[],3,0),IF($B314=2,VLOOKUP(D$2,Table1[],4,0),IF($B314=3,VLOOKUP(D$2,Table1[],5,0),IF($B314=4,VLOOKUP(D$2,Table1[],5,0),0))))","v":1000000},{"$f":"IF($B314=1,VLOOKUP(E$2,Table1[],3,0),IF($B314=2,VLOOKUP(E$2,Table1[],4,0),IF($B314=3,VLOOKUP(E$2,Table1[],5,0),IF($B314=4,VLOOKUP(E$2,Table1[],5,0),0))))","v":750000},{"$f":"IF($B314=1,VLOOKUP(F$2,Table1[],3,0),IF($B314=2,VLOOKUP(F$2,Table1[],4,0),IF($B314=3,VLOOKUP(F$2,Table1[],5,0),IF($B314=4,VLOOKUP(F$2,Table1[],5,0),0))))","v":500000}]
[2583,3,{"$f":"IF($B315=1,VLOOKUP(C$2,Table1[],3,0),IF($B315=2,VLOOKUP(C$2,Table1[],4,0),IF($B315=3,VLOOKUP(C$2,Table1[],5,0),IF($B315=4,VLOOKUP(C$2,Table1[],5,0),0))))","v":500000},{"$f":"IF($B315=1,VLOOKUP(D$2,Table1[],3,0),IF($B315=2,VLOOKUP(D$2,Table1[],4,0),IF($B315=3,VLOOKUP(D$2,Table1[],5,0),IF($B315=4,VLOOKUP(D$2,Table1[],5,0),0))))","v":400000},{"$f":"IF($B315=1,VLOOKUP(E$2,Table1[],3,0),IF($B315=2,VLOOKUP(E$2,Table1[],4,0),IF($B315=3,VLOOKUP(E$2,Table1[],5,0),IF($B315=4,VLOOKUP(E$2,Table1[],5,0),0))))","v":"N/A"},{"$f":"IF($B315=1,VLOOKUP(F$2,Table1[],3,0),IF($B315=2,VLOOKUP(F$2,Table1[],4,0),IF($B315=3,VLOOKUP(F$2,Table1[],5,0),IF($B315=4,VLOOKUP(F$2,Table1[],5,0),0))))","v":"N/A"}]
[2594,3,{"$f":"IF($B316=1,VLOOKUP(C$2,Table1[],3,0),IF($B316=2,VLOOKUP(C$2,Table1[],4,0),IF($B316=3,VLOOKUP(C$2,Table1[],5,0),IF($B316=4,VLOOKUP(C$2,Table1[],5,0),0))))","v":500000},{"$f":"IF($B316=1,VLOOKUP(D$2,Table1[],3,0),IF($B316=2,VLOOKUP(D$2,Table1[],4,0),IF($B316=3,VLOOKUP(D$2,Table1[],5,0),IF($B316=4,VLOOKUP(D$2,Table1[],5,0),0))))","v":400000},{"$f":"IF($B316=1,VLOOKUP(E$2,Table1[],3,0),IF($B316=2,VLOOKUP(E$2,Table1[],4,0),IF($B316=3,VLOOKUP(E$2,Table1[],5,0),IF($B316=4,VLOOKUP(E$2,Table1[],5,0),0))))","v":"N/A"},{"$f":"IF($B316=1,VLOOKUP(F$2,Table1[],3,0),IF($B316=2,VLOOKUP(F$2,Table1[],4,0),IF($B316=3,VLOOKUP(F$2,Table1[],5,0),IF($B316=4,VLOOKUP(F$2,Table1[],5,0),0))))","v":"N/A"}]
[2600,1,{"$f":"IF($B317=1,VLOOKUP(C$2,Table1[],3,0),IF($B317=2,VLOOKUP(C$2,Table1[],4,0),IF($B317=3,VLOOKUP(C$2,Table1[],5,0),IF($B317=4,VLOOKUP(C$2,Table1[],5,0),0))))","v":2000000},{"$f":"IF($B317=1,VLOOKUP(D$2,Table1[],3,0),IF($B317=2,VLOOKUP(D$2,Table1[],4,0),IF($B317=3,VLOOKUP(D$2,Table1[],5,0),IF($B317=4,VLOOKUP(D$2,Table1[],5,0),0))))","v":2000000},{"$f":"IF($B317=1,VLOOKUP(E$2,Table1[],3,0),IF($B317=2,VLOOKUP(E$2,Table1[],4,0),IF($B317=3,VLOOKUP(E$2,Table1[],5,0),IF($B317=4,VLOOKUP(E$2,Table1[],5,0),0))))","v":1500000},{"$f":"IF($B317=1,VLOOKUP(F$2,Table1[],3,0),IF($B317=2,VLOOKUP(F$2,Table1[],4,0),IF($B317=3,VLOOKUP(F$2,Table1[],5,0),IF($B317=4,VLOOKUP(F$2,Table1[],5,0),0))))","v":800000}]
[2601,1,{"$f":"IF($B318=1,VLOOKUP(C$2,Table1[],3,0),IF($B318=2,VLOOKUP(C$2,Table1[],4,0),IF($B318=3,VLOOKUP(C$2,Table1[],5,0),IF($B318=4,VLOOKUP(C$2,Table1[],5,0),0))))","v":2000000},{"$f":"IF($B318=1,VLOOKUP(D$2,Table1[],3,0),IF($B318=2,VLOOKUP(D$2,Table1[],4,0),IF($B318=3,VLOOKUP(D$2,Table1[],5,0),IF($B318=4,VLOOKUP(D$2,Table1[],5,0),0))))","v":2000000},{"$f":"IF($B318=1,VLOOKUP(E$2,Table1[],3,0),IF($B318=2,VLOOKUP(E$2,Table1[],4,0),IF($B318=3,VLOOKUP(E$2,Table1[],5,0),IF($B318=4,VLOOKUP(E$2,Table1[],5,0),0))))","v":1500000},{"$f":"IF($B318=1,VLOOKUP(F$2,Table1[],3,0),IF($B318=2,VLOOKUP(F$2,Table1[],4,0),IF($B318=3,VLOOKUP(F$2,Table1[],5,0),IF($B318=4,VLOOKUP(F$2,Table1[],5,0),0))))","v":800000}]
[2602,1,{"$f":"IF($B319=1,VLOOKUP(C$2,Table1[],3,0),IF($B319=2,VLOOKUP(C$2,Table1[],4,0),IF($B319=3,VLOOKUP(C$2,Table1[],5,0),IF($B319=4,VLOOKUP(C$2,Table1[],5,0),0))))","v":2000000},{"$f":"IF($B319=1,VLOOKUP(D$2,Table1[],3,0),IF($B319=2,VLOOKUP(D$2,Table1[],4,0),IF($B319=3,VLOOKUP(D$2,Table1[],5,0),IF($B319=4,VLOOKUP(D$2,Table1[],5,0),0))))","v":2000000},{"$f":"IF($B319=1,VLOOKUP(E$2,Table1[],3,0),IF($B319=2,VLOOKUP(E$2,Table1[],4,0),IF($B319=3,VLOOKUP(E$2,Table1[],5,0),IF($B319=4,VLOOKUP(E$2,Table1[],5,0),0))))","v":1500000},{"$f":"IF($B319=1,VLOOKUP(F$2,Table1[],3,0),IF($B319=2,VLOOKUP(F$2,Table1[],4,0),IF($B319=3,VLOOKUP(F$2,Table1[],5,0),IF($B319=4,VLOOKUP(F$2,Table1[],5,0),0))))","v":800000}]
[2603,1,{"$f":"IF($B320=1,VLOOKUP(C$2,Table1[],3,0),IF($B320=2,VLOOKUP(C$2,Table1[],4,0),IF($B320=3,VLOOKUP(C$2,Table1[],5,0),IF($B320=4,VLOOKUP(C$2,Table1[],5,0),0))))","v":2000000},{"$f":"IF($B320=1,VLOOKUP(D$2,Table1[],3,0),IF($B320=2,VLOOKUP(D$2,Table1[],4,0),IF($B320=3,VLOOKUP(D$2,Table1[],5,0),IF($B320=4,VLOOKUP(D$2,Table1[],5,0),0))))","v":2000000},{"$f":"IF($B320=1,VLOOKUP(E$2,Table1[],3,0),IF($B320=2,VLOOKUP(E$2,Table1[],4,0),IF($B320=3,VLOOKUP(E$2,Table1[],5,0),IF($B320=4,VLOOKUP(E$2,Table1[],5,0),0))))","v":1500000},{"$f":"IF($B320=1,VLOOKUP(F$2,Table1[],3,0),IF($B320=2,VLOOKUP(F$2,Table1[],4,0),IF($B320=3,VLOOKUP(F$2,Table1[],5,0),IF($B320=4,VLOOKUP(F$2,Table1[],5,0),0))))","v":800000}]
[2604,1,{"$f":"IF($B321=1,VLOOKUP(C$2,Table1[],3,0),IF($B321=2,VLOOKUP(C$2,Table1[],4,0),IF($B321=3,VLOOKUP(C$2,Table1[],5,0),IF($B321=4,VLOOKUP(C$2,Table1[],5,0),0))))","v":2000000},{"$f":"IF($B321=1,VLOOKUP(D$2,Table1[],3,0),IF($B321=2,VLOOKUP(D$2,Table1[],4,0),IF($B321=3,VLOOKUP(D$2,Table1[],5,0),IF($B321=4,VLOOKUP(D$2,Table1[],5,0),0))))","v":2000000},{"$f":"IF($B321=1,VLOOKUP(E$2,Table1[],3,0),IF($B321=2,VLOOKUP(E$2,Table1[],4,0),IF($B321=3,VLOOKUP(E$2,Table1[],5,0),IF($B321=4,VLOOKUP(E$2,Table1[],5,0),0))))","v":1500000},{"$f":"IF($B321=1,VLOOKUP(F$2,Table1[],3,0),IF($B321=2,VLOOKUP(F$2,Table1[],4,0),IF($B321=3,VLOOKUP(F$2,Table1[],5,0),IF($B321=4,VLOOKUP(F$2,Table1[],5,0),0))))","v":800000}]
[2605,1,{"$f":"IF($B322=1,VLOOKUP(C$2,Table1[],3,0),IF($B322=2,VLOOKUP(C$2,Table1[],4,0),IF($B322=3,VLOOKUP(C$2,Table1[],5,0),IF($B322=4,VLOOKUP(C$2,Table1[],5,0),0))))","v":2000000},{"$f":"IF($B322=1,VLOOKUP(D$2,Table1[],3,0),IF($B322=2,VLOOKUP(D$2,Table1[],4,0),IF($B322=3,VLOOKUP(D$2,Table1[],5,0),IF($B322=4,VLOOKUP(D$2,Table1[],5,0),0))))","v":2000000},{"$f":"IF($B322=1,VLOOKUP(E$2,Table1[],3,0),IF($B322=2,VLOOKUP(E$2,Table1[],4,0),IF($B322=3,VLOOKUP(E$2,Table1[],5,0),IF($B322=4,VLOOKUP(E$2,Table1[],5,0),0))))","v":1500000},{"$f":"IF($B322=1,VLOOKUP(F$2,Table1[],3,0),IF($B322=2,VLOOKUP(F$2,Table1[],4,0),IF($B322=3,VLOOKUP(F$2,Table1[],5,0),IF($B322=4,VLOOKUP(F$2,Table1[],5,0),0))))","v":800000}]
[2606,1,{"$f":"IF($B323=1,VLOOKUP(C$2,Table1[],3,0),IF($B323=2,VLOOKUP(C$2,Table1[],4,0),IF($B323=3,VLOOKUP(C$2,Table1[],5,0),IF($B323=4,VLOOKUP(C$2,Table1[],5,0),0))))","v":2000000},{"$f":"IF($B323=1,VLOOKUP(D$2,Table1[],3,0),IF($B323=2,VLOOKUP(D$2,Table1[],4,0),IF($B323=3,VLOOKUP(D$2,Table1[],5,0),IF($B323=4,VLOOKUP(D$2,Table1[],5,0),0))))","v":2000000},{"$f":"IF($B323=1,VLOOKUP(E$2,Table1[],3,0),IF($B323=2,VLOOKUP(E$2,Table1[],4,0),IF($B323=3,VLOOKUP(E$2,Table1[],5,0),IF($B323=4,VLOOKUP(E$2,Table1[],5,0),0))))","v":1500000},{"$f":"IF($B323=1,VLOOKUP(F$2,Table1[],3,0),IF($B323=2,VLOOKUP(F$2,Table1[],4,0),IF($B323=3,VLOOKUP(F$2,Table1[],5,0),IF($B323=4,VLOOKUP(F$2,Table1[],5,0),0))))","v":800000}]
[2607,1,{"$f":"IF($B324=1,VLOOKUP(C$2,Table1[],3,0),IF($B324=2,VLOOKUP(C$2,Table1[],4,0),IF($B324=3,VLOOKUP(C$2,Table1[],5,0),IF($B324=4,VLOOKUP(C$2,Table1[],5,0),0))))","v":2000000},{"$f":"IF($B324=1,VLOOKUP(D$2,Table1[],3,0),IF($B324=2,VLOOKUP(D$2,Table1[],4,0),IF($B324=3,VLOOKUP(D$2,Table1[],5,0),IF($B324=4,VLOOKUP(D$2,Table1[],5,0),0))))","v":2000000},{"$f":"IF($B324=1,VLOOKUP(E$2,Table1[],3,0),IF($B324=2,VLOOKUP(E$2,Table1[],4,0),IF($B324=3,VLOOKUP(E$2,Table1[],5,0),IF($B324=4,VLOOKUP(E$2,Table1[],5,0),0))))","v":1500000},{"$f":"IF($B324=1,VLOOKUP(F$2,Table1[],3,0),IF($B324=2,VLOOKUP(F$2,Table1[],4,0),IF($B324=3,VLOOKUP(F$2,Table1[],5,0),IF($B324=4,VLOOKUP(F$2,Table1[],5,0),0))))","v":800000}]
[2609,1,{"$f":"IF($B325=1,VLOOKUP(C$2,Table1[],3,0),IF($B325=2,VLOOKUP(C$2,Table1[],4,0),IF($B325=3,VLOOKUP(C$2,Table1[],5,0),IF($B325=4,VLOOKUP(C$2,Table1[],5,0),0))))","v":2000000},{"$f":"IF($B325=1,VLOOKUP(D$2,Table1[],3,0),IF($B325=2,VLOOKUP(D$2,Table1[],4,0),IF($B325=3,VLOOKUP(D$2,Table1[],5,0),IF($B325=4,VLOOKUP(D$2,Table1[],5,0),0))))","v":2000000},{"$f":"IF($B325=1,VLOOKUP(E$2,Table1[],3,0),IF($B325=2,VLOOKUP(E$2,Table1[],4,0),IF($B325=3,VLOOKUP(E$2,Table1[],5,0),IF($B325=4,VLOOKUP(E$2,Table1[],5,0),0))))","v":1500000},{"$f":"IF($B325=1,VLOOKUP(F$2,Table1[],3,0),IF($B325=2,VLOOKUP(F$2,Table1[],4,0),IF($B325=3,VLOOKUP(F$2,Table1[],5,0),IF($B325=4,VLOOKUP(F$2,Table1[],5,0),0))))","v":800000}]
[2611,1,{"$f":"IF($B326=1,VLOOKUP(C$2,Table1[],3,0),IF($B326=2,VLOOKUP(C$2,Table1[],4,0),IF($B326=3,VLOOKUP(C$2,Table1[],5,0),IF($B326=4,VLOOKUP(C$2,Table1[],5,0),0))))","v":2000000},{"$f":"IF($B326=1,VLOOKUP(D$2,Table1[],3,0),IF($B326=2,VLOOKUP(D$2,Table1[],4,0),IF($B326=3,VLOOKUP(D$2,Table1[],5,0),IF($B326=4,VLOOKUP(D$2,Table1[],5,0),0))))","v":2000000},{"$f":"IF($B326=1,VLOOKUP(E$2,Table1[],3,0),IF($B326=2,VLOOKUP(E$2,Table1[],4,0),IF($B326=3,VLOOKUP(E$2,Table1[],5,0),IF($B326=4,VLOOKUP(E$2,Table1[],5,0),0))))","v":1500000},{"$f":"IF($B326=1,VLOOKUP(F$2,Table1[],3,0),IF($B326=2,VLOOKUP(F$2,Table1[],4,0),IF($B326=3,VLOOKUP(F$2,Table1[],5,0),IF($B326=4,VLOOKUP(F$2,Table1[],5,0),0))))","v":800000}]
[2611,1,{"$f":"IF($B327=1,VLOOKUP(C$2,Table1[],3,0),IF($B327=2,VLOOKUP(C$2,Table1[],4,0),IF($B327=3,VLOOKUP(C$2,Table1[],5,0),IF($B327=4,VLOOKUP(C$2,Table1[],5,0),0))))","v":2000000},{"$f":"IF($B327=1,VLOOKUP(D$2,Table1[],3,0),IF($B327=2,VLOOKUP(D$2,Table1[],4,0),IF($B327=3,VLOOKUP(D$2,Table1[],5,0),IF($B327=4,VLOOKUP(D$2,Table1[],5,0),0))))","v":2000000},{"$f":"IF($B327=1,VLOOKUP(E$2,Table1[],3,0),IF($B327=2,VLOOKUP(E$2,Table1[],4,0),IF($B327=3,VLOOKUP(E$2,Table1[],5,0),IF($B327=4,VLOOKUP(E$2,Table1[],5,0),0))))","v":1500000},{"$f":"IF($B327=1,VLOOKUP(F$2,Table1[],3,0),IF($B327=2,VLOOKUP(F$2,Table1[],4,0),IF($B327=3,VLOOKUP(F$2,Table1[],5,0),IF($B327=4,VLOOKUP(F$2,Table1[],5,0),0))))","v":800000}]
[2612,1,{"$f":"IF($B328=1,VLOOKUP(C$2,Table1[],3,0),IF($B328=2,VLOOKUP(C$2,Table1[],4,0),IF($B328=3,VLOOKUP(C$2,Table1[],5,0),IF($B328=4,VLOOKUP(C$2,Table1[],5,0),0))))","v":2000000},{"$f":"IF($B328=1,VLOOKUP(D$2,Table1[],3,0),IF($B328=2,VLOOKUP(D$2,Table1[],4,0),IF($B328=3,VLOOKUP(D$2,Table1[],5,0),IF($B328=4,VLOOKUP(D$2,Table1[],5,0),0))))","v":2000000},{"$f":"IF($B328=1,VLOOKUP(E$2,Table1[],3,0),IF($B328=2,VLOOKUP(E$2,Table1[],4,0),IF($B328=3,VLOOKUP(E$2,Table1[],5,0),IF($B328=4,VLOOKUP(E$2,Table1[],5,0),0))))","v":1500000},{"$f":"IF($B328=1,VLOOKUP(F$2,Table1[],3,0),IF($B328=2,VLOOKUP(F$2,Table1[],4,0),IF($B328=3,VLOOKUP(F$2,Table1[],5,0),IF($B328=4,VLOOKUP(F$2,Table1[],5,0),0))))","v":800000}]
[2614,1,{"$f":"IF($B329=1,VLOOKUP(C$2,Table1[],3,0),IF($B329=2,VLOOKUP(C$2,Table1[],4,0),IF($B329=3,VLOOKUP(C$2,Table1[],5,0),IF($B329=4,VLOOKUP(C$2,Table1[],5,0),0))))","v":2000000},{"$f":"IF($B329=1,VLOOKUP(D$2,Table1[],3,0),IF($B329=2,VLOOKUP(D$2,Table1[],4,0),IF($B329=3,VLOOKUP(D$2,Table1[],5,0),IF($B329=4,VLOOKUP(D$2,Table1[],5,0),0))))","v":2000000},{"$f":"IF($B329=1,VLOOKUP(E$2,Table1[],3,0),IF($B329=2,VLOOKUP(E$2,Table1[],4,0),IF($B329=3,VLOOKUP(E$2,Table1[],5,0),IF($B329=4,VLOOKUP(E$2,Table1[],5,0),0))))","v":1500000},{"$f":"IF($B329=1,VLOOKUP(F$2,Table1[],3,0),IF($B329=2,VLOOKUP(F$2,Table1[],4,0),IF($B329=3,VLOOKUP(F$2,Table1[],5,0),IF($B329=4,VLOOKUP(F$2,Table1[],5,0),0))))","v":800000}]
[2615,1,{"$f":"IF($B330=1,VLOOKUP(C$2,Table1[],3,0),IF($B330=2,VLOOKUP(C$2,Table1[],4,0),IF($B330=3,VLOOKUP(C$2,Table1[],5,0),IF($B330=4,VLOOKUP(C$2,Table1[],5,0),0))))","v":2000000},{"$f":"IF($B330=1,VLOOKUP(D$2,Table1[],3,0),IF($B330=2,VLOOKUP(D$2,Table1[],4,0),IF($B330=3,VLOOKUP(D$2,Table1[],5,0),IF($B330=4,VLOOKUP(D$2,Table1[],5,0),0))))","v":2000000},{"$f":"IF($B330=1,VLOOKUP(E$2,Table1[],3,0),IF($B330=2,VLOOKUP(E$2,Table1[],4,0),IF($B330=3,VLOOKUP(E$2,Table1[],5,0),IF($B330=4,VLOOKUP(E$2,Table1[],5,0),0))))","v":1500000},{"$f":"IF($B330=1,VLOOKUP(F$2,Table1[],3,0),IF($B330=2,VLOOKUP(F$2,Table1[],4,0),IF($B330=3,VLOOKUP(F$2,Table1[],5,0),IF($B330=4,VLOOKUP(F$2,Table1[],5,0),0))))","v":800000}]
[2617,1,{"$f":"IF($B331=1,VLOOKUP(C$2,Table1[],3,0),IF($B331=2,VLOOKUP(C$2,Table1[],4,0),IF($B331=3,VLOOKUP(C$2,Table1[],5,0),IF($B331=4,VLOOKUP(C$2,Table1[],5,0),0))))","v":2000000},{"$f":"IF($B331=1,VLOOKUP(D$2,Table1[],3,0),IF($B331=2,VLOOKUP(D$2,Table1[],4,0),IF($B331=3,VLOOKUP(D$2,Table1[],5,0),IF($B331=4,VLOOKUP(D$2,Table1[],5,0),0))))","v":2000000},{"$f":"IF($B331=1,VLOOKUP(E$2,Table1[],3,0),IF($B331=2,VLOOKUP(E$2,Table1[],4,0),IF($B331=3,VLOOKUP(E$2,Table1[],5,0),IF($B331=4,VLOOKUP(E$2,Table1[],5,0),0))))","v":1500000},{"$f":"IF($B331=1,VLOOKUP(F$2,Table1[],3,0),IF($B331=2,VLOOKUP(F$2,Table1[],4,0),IF($B331=3,VLOOKUP(F$2,Table1[],5,0),IF($B331=4,VLOOKUP(F$2,Table1[],5,0),0))))","v":800000}]
[2618,1,{"$f":"IF($B332=1,VLOOKUP(C$2,Table1[],3,0),IF($B332=2,VLOOKUP(C$2,Table1[],4,0),IF($B332=3,VLOOKUP(C$2,Table1[],5,0),IF($B332=4,VLOOKUP(C$2,Table1[],5,0),0))))","v":2000000},{"$f":"IF($B332=1,VLOOKUP(D$2,Table1[],3,0),IF($B332=2,VLOOKUP(D$2,Table1[],4,0),IF($B332=3,VLOOKUP(D$2,Table1[],5,0),IF($B332=4,VLOOKUP(D$2,Table1[],5,0),0))))","v":2000000},{"$f":"IF($B332=1,VLOOKUP(E$2,Table1[],3,0),IF($B332=2,VLOOKUP(E$2,Table1[],4,0),IF($B332=3,VLOOKUP(E$2,Table1[],5,0),IF($B332=4,VLOOKUP(E$2,Table1[],5,0),0))))","v":1500000},{"$f":"IF($B332=1,VLOOKUP(F$2,Table1[],3,0),IF($B332=2,VLOOKUP(F$2,Table1[],4,0),IF($B332=3,VLOOKUP(F$2,Table1[],5,0),IF($B332=4,VLOOKUP(F$2,Table1[],5,0),0))))","v":800000}]
[2618,1,{"$f":"IF($B333=1,VLOOKUP(C$2,Table1[],3,0),IF($B333=2,VLOOKUP(C$2,Table1[],4,0),IF($B333=3,VLOOKUP(C$2,Table1[],5,0),IF($B333=4,VLOOKUP(C$2,Table1[],5,0),0))))","v":2000000},{"$f":"IF($B333=1,VLOOKUP(D$2,Table1[],3,0),IF($B333=2,VLOOKUP(D$2,Table1[],4,0),IF($B333=3,VLOOKUP(D$2,Table1[],5,0),IF($B333=4,VLOOKUP(D$2,Table1[],5,0),0))))","v":2000000},{"$f":"IF($B333=1,VLOOKUP(E$2,Table1[],3,0),IF($B333=2,VLOOKUP(E$2,Table1[],4,0),IF($B333=3,VLOOKUP(E$2,Table1[],5,0),IF($B333=4,VLOOKUP(E$2,Table1[],5,0),0))))","v":1500000},{"$f":"IF($B333=1,VLOOKUP(F$2,Table1[],3,0),IF($B333=2,VLOOKUP(F$2,Table1[],4,0),IF($B333=3,VLOOKUP(F$2,Table1[],5,0),IF($B333=4,VLOOKUP(F$2,Table1[],5,0),0))))","v":800000}]
[2619,1,{"$f":"IF($B334=1,VLOOKUP(C$2,Table1[],3,0),IF($B334=2,VLOOKUP(C$2,Table1[],4,0),IF($B334=3,VLOOKUP(C$2,Table1[],5,0),IF($B334=4,VLOOKUP(C$2,Table1[],5,0),0))))","v":2000000},{"$f":"IF($B334=1,VLOOKUP(D$2,Table1[],3,0),IF($B334=2,VLOOKUP(D$2,Table1[],4,0),IF($B334=3,VLOOKUP(D$2,Table1[],5,0),IF($B334=4,VLOOKUP(D$2,Table1[],5,0),0))))","v":2000000},{"$f":"IF($B334=1,VLOOKUP(E$2,Table1[],3,0),IF($B334=2,VLOOKUP(E$2,Table1[],4,0),IF($B334=3,VLOOKUP(E$2,Table1[],5,0),IF($B334=4,VLOOKUP(E$2,Table1[],5,0),0))))","v":1500000},{"$f":"IF($B334=1,VLOOKUP(F$2,Table1[],3,0),IF($B334=2,VLOOKUP(F$2,Table1[],4,0),IF($B334=3,VLOOKUP(F$2,Table1[],5,0),IF($B334=4,VLOOKUP(F$2,Table1[],5,0),0))))","v":800000}]
[2620,1,{"$f":"IF($B335=1,VLOOKUP(C$2,Table1[],3,0),IF($B335=2,VLOOKUP(C$2,Table1[],4,0),IF($B335=3,VLOOKUP(C$2,Table1[],5,0),IF($B335=4,VLOOKUP(C$2,Table1[],5,0),0))))","v":2000000},{"$f":"IF($B335=1,VLOOKUP(D$2,Table1[],3,0),IF($B335=2,VLOOKUP(D$2,Table1[],4,0),IF($B335=3,VLOOKUP(D$2,Table1[],5,0),IF($B335=4,VLOOKUP(D$2,Table1[],5,0),0))))","v":2000000},{"$f":"IF($B335=1,VLOOKUP(E$2,Table1[],3,0),IF($B335=2,VLOOKUP(E$2,Table1[],4,0),IF($B335=3,VLOOKUP(E$2,Table1[],5,0),IF($B335=4,VLOOKUP(E$2,Table1[],5,0),0))))","v":1500000},{"$f":"IF($B335=1,VLOOKUP(F$2,Table1[],3,0),IF($B335=2,VLOOKUP(F$2,Table1[],4,0),IF($B335=3,VLOOKUP(F$2,Table1[],5,0),IF($B335=4,VLOOKUP(F$2,Table1[],5,0),0))))","v":800000}]
[2620,1,{"$f":"IF($B336=1,VLOOKUP(C$2,Table1[],3,0),IF($B336=2,VLOOKUP(C$2,Table1[],4,0),IF($B336=3,VLOOKUP(C$2,Table1[],5,0),IF($B336=4,VLOOKUP(C$2,Table1[],5,0),0))))","v":2000000},{"$f":"IF($B336=1,VLOOKUP(D$2,Table1[],3,0),IF($B336=2,VLOOKUP(D$2,Table1[],4,0),IF($B336=3,VLOOKUP(D$2,Table1[],5,0),IF($B336=4,VLOOKUP(D$2,Table1[],5,0),0))))","v":2000000},{"$f":"IF($B336=1,VLOOKUP(E$2,Table1[],3,0),IF($B336=2,VLOOKUP(E$2,Table1[],4,0),IF($B336=3,VLOOKUP(E$2,Table1[],5,0),IF($B336=4,VLOOKUP(E$2,Table1[],5,0),0))))","v":1500000},{"$f":"IF($B336=1,VLOOKUP(F$2,Table1[],3,0),IF($B336=2,VLOOKUP(F$2,Table1[],4,0),IF($B336=3,VLOOKUP(F$2,Table1[],5,0),IF($B336=4,VLOOKUP(F$2,Table1[],5,0),0))))","v":800000}]
[2621,1,{"$f":"IF($B337=1,VLOOKUP(C$2,Table1[],3,0),IF($B337=2,VLOOKUP(C$2,Table1[],4,0),IF($B337=3,VLOOKUP(C$2,Table1[],5,0),IF($B337=4,VLOOKUP(C$2,Table1[],5,0),0))))","v":2000000},{"$f":"IF($B337=1,VLOOKUP(D$2,Table1[],3,0),IF($B337=2,VLOOKUP(D$2,Table1[],4,0),IF($B337=3,VLOOKUP(D$2,Table1[],5,0),IF($B337=4,VLOOKUP(D$2,Table1[],5,0),0))))","v":2000000},{"$f":"IF($B337=1,VLOOKUP(E$2,Table1[],3,0),IF($B337=2,VLOOKUP(E$2,Table1[],4,0),IF($B337=3,VLOOKUP(E$2,Table1[],5,0),IF($B337=4,VLOOKUP(E$2,Table1[],5,0),0))))","v":1500000},{"$f":"IF($B337=1,VLOOKUP(F$2,Table1[],3,0),IF($B337=2,VLOOKUP(F$2,Table1[],4,0),IF($B337=3,VLOOKUP(F$2,Table1[],5,0),IF($B337=4,VLOOKUP(F$2,Table1[],5,0),0))))","v":800000}]
[2628,3,{"$f":"IF($B338=1,VLOOKUP(C$2,Table1[],3,0),IF($B338=2,VLOOKUP(C$2,Table1[],4,0),IF($B338=3,VLOOKUP(C$2,Table1[],5,0),IF($B338=4,VLOOKUP(C$2,Table1[],5,0),0))))","v":500000},{"$f":"IF($B338=1,VLOOKUP(D$2,Table1[],3,0),IF($B338=2,VLOOKUP(D$2,Table1[],4,0),IF($B338=3,VLOOKUP(D$2,Table1[],5,0),IF($B338=4,VLOOKUP(D$2,Table1[],5,0),0))))","v":400000},{"$f":"IF($B338=1,VLOOKUP(E$2,Table1[],3,0),IF($B338=2,VLOOKUP(E$2,Table1[],4,0),IF($B338=3,VLOOKUP(E$2,Table1[],5,0),IF($B338=4,VLOOKUP(E$2,Table1[],5,0),0))))","v":"N/A"},{"$f":"IF($B338=1,VLOOKUP(F$2,Table1[],3,0),IF($B338=2,VLOOKUP(F$2,Table1[],4,0),IF($B338=3,VLOOKUP(F$2,Table1[],5,0),IF($B338=4,VLOOKUP(F$2,Table1[],5,0),0))))","v":"N/A"}]
[2630,3,{"$f":"IF($B339=1,VLOOKUP(C$2,Table1[],3,0),IF($B339=2,VLOOKUP(C$2,Table1[],4,0),IF($B339=3,VLOOKUP(C$2,Table1[],5,0),IF($B339=4,VLOOKUP(C$2,Table1[],5,0),0))))","v":500000},{"$f":"IF($B339=1,VLOOKUP(D$2,Table1[],3,0),IF($B339=2,VLOOKUP(D$2,Table1[],4,0),IF($B339=3,VLOOKUP(D$2,Table1[],5,0),IF($B339=4,VLOOKUP(D$2,Table1[],5,0),0))))","v":400000},{"$f":"IF($B339=1,VLOOKUP(E$2,Table1[],3,0),IF($B339=2,VLOOKUP(E$2,Table1[],4,0),IF($B339=3,VLOOKUP(E$2,Table1[],5,0),IF($B339=4,VLOOKUP(E$2,Table1[],5,0),0))))","v":"N/A"},{"$f":"IF($B339=1,VLOOKUP(F$2,Table1[],3,0),IF($B339=2,VLOOKUP(F$2,Table1[],4,0),IF($B339=3,VLOOKUP(F$2,Table1[],5,0),IF($B339=4,VLOOKUP(F$2,Table1[],5,0),0))))","v":"N/A"}]
[2640,1,{"$f":"IF($B340=1,VLOOKUP(C$2,Table1[],3,0),IF($B340=2,VLOOKUP(C$2,Table1[],4,0),IF($B340=3,VLOOKUP(C$2,Table1[],5,0),IF($B340=4,VLOOKUP(C$2,Table1[],5,0),0))))","v":2000000},{"$f":"IF($B340=1,VLOOKUP(D$2,Table1[],3,0),IF($B340=2,VLOOKUP(D$2,Table1[],4,0),IF($B340=3,VLOOKUP(D$2,Table1[],5,0),IF($B340=4,VLOOKUP(D$2,Table1[],5,0),0))))","v":2000000},{"$f":"IF($B340=1,VLOOKUP(E$2,Table1[],3,0),IF($B340=2,VLOOKUP(E$2,Table1[],4,0),IF($B340=3,VLOOKUP(E$2,Table1[],5,0),IF($B340=4,VLOOKUP(E$2,Table1[],5,0),0))))","v":1500000},{"$f":"IF($B340=1,VLOOKUP(F$2,Table1[],3,0),IF($B340=2,VLOOKUP(F$2,Table1[],4,0),IF($B340=3,VLOOKUP(F$2,Table1[],5,0),IF($B340=4,VLOOKUP(F$2,Table1[],5,0),0))))","v":800000}]
[2641,1,{"$f":"IF($B341=1,VLOOKUP(C$2,Table1[],3,0),IF($B341=2,VLOOKUP(C$2,Table1[],4,0),IF($B341=3,VLOOKUP(C$2,Table1[],5,0),IF($B341=4,VLOOKUP(C$2,Table1[],5,0),0))))","v":2000000},{"$f":"IF($B341=1,VLOOKUP(D$2,Table1[],3,0),IF($B341=2,VLOOKUP(D$2,Table1[],4,0),IF($B341=3,VLOOKUP(D$2,Table1[],5,0),IF($B341=4,VLOOKUP(D$2,Table1[],5,0),0))))","v":2000000},{"$f":"IF($B341=1,VLOOKUP(E$2,Table1[],3,0),IF($B341=2,VLOOKUP(E$2,Table1[],4,0),IF($B341=3,VLOOKUP(E$2,Table1[],5,0),IF($B341=4,VLOOKUP(E$2,Table1[],5,0),0))))","v":1500000},{"$f":"IF($B341=1,VLOOKUP(F$2,Table1[],3,0),IF($B341=2,VLOOKUP(F$2,Table1[],4,0),IF($B341=3,VLOOKUP(F$2,Table1[],5,0),IF($B341=4,VLOOKUP(F$2,Table1[],5,0),0))))","v":800000}]
[2642,3,{"$f":"IF($B342=1,VLOOKUP(C$2,Table1[],3,0),IF($B342=2,VLOOKUP(C$2,Table1[],4,0),IF($B342=3,VLOOKUP(C$2,Table1[],5,0),IF($B342=4,VLOOKUP(C$2,Table1[],5,0),0))))","v":500000},{"$f":"IF($B342=1,VLOOKUP(D$2,Table1[],3,0),IF($B342=2,VLOOKUP(D$2,Table1[],4,0),IF($B342=3,VLOOKUP(D$2,Table1[],5,0),IF($B342=4,VLOOKUP(D$2,Table1[],5,0),0))))","v":400000},{"$f":"IF($B342=1,VLOOKUP(E$2,Table1[],3,0),IF($B342=2,VLOOKUP(E$2,Table1[],4,0),IF($B342=3,VLOOKUP(E$2,Table1[],5,0),IF($B342=4,VLOOKUP(E$2,Table1[],5,0),0))))","v":"N/A"},{"$f":"IF($B342=1,VLOOKUP(F$2,Table1[],3,0),IF($B342=2,VLOOKUP(F$2,Table1[],4,0),IF($B342=3,VLOOKUP(F$2,Table1[],5,0),IF($B342=4,VLOOKUP(F$2,Table1[],5,0),0))))","v":"N/A"}]
[2643,3,{"$f":"IF($B343=1,VLOOKUP(C$2,Table1[],3,0),IF($B343=2,VLOOKUP(C$2,Table1[],4,0),IF($B343=3,VLOOKUP(C$2,Table1[],5,0),IF($B343=4,VLOOKUP(C$2,Table1[],5,0),0))))","v":500000},{"$f":"IF($B343=1,VLOOKUP(D$2,Table1[],3,0),IF($B343=2,VLOOKUP(D$2,Table1[],4,0),IF($B343=3,VLOOKUP(D$2,Table1[],5,0),IF($B343=4,VLOOKUP(D$2,Table1[],5,0),0))))","v":400000},{"$f":"IF($B343=1,VLOOKUP(E$2,Table1[],3,0),IF($B343=2,VLOOKUP(E$2,Table1[],4,0),IF($B343=3,VLOOKUP(E$2,Table1[],5,0),IF($B343=4,VLOOKUP(E$2,Table1[],5,0),0))))","v":"N/A"},{"$f":"IF($B343=1,VLOOKUP(F$2,Table1[],3,0),IF($B343=2,VLOOKUP(F$2,Table1[],4,0),IF($B343=3,VLOOKUP(F$2,Table1[],5,0),IF($B343=4,VLOOKUP(F$2,Table1[],5,0),0))))","v":"N/A"}]
[2647,3,{"$f":"IF($B344=1,VLOOKUP(C$2,Table1[],3,0),IF($B344=2,VLOOKUP(C$2,Table1[],4,0),IF($B344=3,VLOOKUP(C$2,Table1[],5,0),IF($B344=4,VLOOKUP(C$2,Table1[],5,0),0))))","v":500000},{"$f":"IF($B344=1,VLOOKUP(D$2,Table1[],3,0),IF($B344=2,VLOOKUP(D$2,Table1[],4,0),IF($B344=3,VLOOKUP(D$2,Table1[],5,0),IF($B344=4,VLOOKUP(D$2,Table1[],5,0),0))))","v":400000},{"$f":"IF($B344=1,VLOOKUP(E$2,Table1[],3,0),IF($B344=2,VLOOKUP(E$2,Table1[],4,0),IF($B344=3,VLOOKUP(E$2,Table1[],5,0),IF($B344=4,VLOOKUP(E$2,Table1[],5,0),0))))","v":"N/A"},{"$f":"IF($B344=1,VLOOKUP(F$2,Table1[],3,0),IF($B344=2,VLOOKUP(F$2,Table1[],4,0),IF($B344=3,VLOOKUP(F$2,Table1[],5,0),IF($B344=4,VLOOKUP(F$2,Table1[],5,0),0))))","v":"N/A"}]
[2650,1,{"$f":"IF($B345=1,VLOOKUP(C$2,Table1[],3,0),IF($B345=2,VLOOKUP(C$2,Table1[],4,0),IF($B345=3,VLOOKUP(C$2,Table1[],5,0),IF($B345=4,VLOOKUP(C$2,Table1[],5,0),0))))","v":2000000},{"$f":"IF($B345=1,VLOOKUP(D$2,Table1[],3,0),IF($B345=2,VLOOKUP(D$2,Table1[],4,0),IF($B345=3,VLOOKUP(D$2,Table1[],5,0),IF($B345=4,VLOOKUP(D$2,Table1[],5,0),0))))","v":2000000},{"$f":"IF($B345=1,VLOOKUP(E$2,Table1[],3,0),IF($B345=2,VLOOKUP(E$2,Table1[],4,0),IF($B345=3,VLOOKUP(E$2,Table1[],5,0),IF($B345=4,VLOOKUP(E$2,Table1[],5,0),0))))","v":1500000},{"$f":"IF($B345=1,VLOOKUP(F$2,Table1[],3,0),IF($B345=2,VLOOKUP(F$2,Table1[],4,0),IF($B345=3,VLOOKUP(F$2,Table1[],5,0),IF($B345=4,VLOOKUP(F$2,Table1[],5,0),0))))","v":800000}]
[2651,1,{"$f":"IF($B346=1,VLOOKUP(C$2,Table1[],3,0),IF($B346=2,VLOOKUP(C$2,Table1[],4,0),IF($B346=3,VLOOKUP(C$2,Table1[],5,0),IF($B346=4,VLOOKUP(C$2,Table1[],5,0),0))))","v":2000000},{"$f":"IF($B346=1,VLOOKUP(D$2,Table1[],3,0),IF($B346=2,VLOOKUP(D$2,Table1[],4,0),IF($B346=3,VLOOKUP(D$2,Table1[],5,0),IF($B346=4,VLOOKUP(D$2,Table1[],5,0),0))))","v":2000000},{"$f":"IF($B346=1,VLOOKUP(E$2,Table1[],3,0),IF($B346=2,VLOOKUP(E$2,Table1[],4,0),IF($B346=3,VLOOKUP(E$2,Table1[],5,0),IF($B346=4,VLOOKUP(E$2,Table1[],5,0),0))))","v":1500000},{"$f":"IF($B346=1,VLOOKUP(F$2,Table1[],3,0),IF($B346=2,VLOOKUP(F$2,Table1[],4,0),IF($B346=3,VLOOKUP(F$2,Table1[],5,0),IF($B346=4,VLOOKUP(F$2,Table1[],5,0),0))))","v":800000}]
[2680,2,{"$f":"IF($B347=1,VLOOKUP(C$2,Table1[],3,0),IF($B347=2,VLOOKUP(C$2,Table1[],4,0),IF($B347=3,VLOOKUP(C$2,Table1[],5,0),IF($B347=4,VLOOKUP(C$2,Table1[],5,0),0))))","v":1000000},{"$f":"IF($B347=1,VLOOKUP(D$2,Table1[],3,0),IF($B347=2,VLOOKUP(D$2,Table1[],4,0),IF($B347=3,VLOOKUP(D$2,Table1[],5,0),IF($B347=4,VLOOKUP(D$2,Table1[],5,0),0))))","v":1000000},{"$f":"IF($B347=1,VLOOKUP(E$2,Table1[],3,0),IF($B347=2,VLOOKUP(E$2,Table1[],4,0),IF($B347=3,VLOOKUP(E$2,Table1[],5,0),IF($B347=4,VLOOKUP(E$2,Table1[],5,0),0))))","v":750000},{"$f":"IF($B347=1,VLOOKUP(F$2,Table1[],3,0),IF($B347=2,VLOOKUP(F$2,Table1[],4,0),IF($B347=3,VLOOKUP(F$2,Table1[],5,0),IF($B347=4,VLOOKUP(F$2,Table1[],5,0),0))))","v":500000}]
[2710,3,{"$f":"IF($B348=1,VLOOKUP(C$2,Table1[],3,0),IF($B348=2,VLOOKUP(C$2,Table1[],4,0),IF($B348=3,VLOOKUP(C$2,Table1[],5,0),IF($B348=4,VLOOKUP(C$2,Table1[],5,0),0))))","v":500000},{"$f":"IF($B348=1,VLOOKUP(D$2,Table1[],3,0),IF($B348=2,VLOOKUP(D$2,Table1[],4,0),IF($B348=3,VLOOKUP(D$2,Table1[],5,0),IF($B348=4,VLOOKUP(D$2,Table1[],5,0),0))))","v":400000},{"$f":"IF($B348=1,VLOOKUP(E$2,Table1[],3,0),IF($B348=2,VLOOKUP(E$2,Table1[],4,0),IF($B348=3,VLOOKUP(E$2,Table1[],5,0),IF($B348=4,VLOOKUP(E$2,Table1[],5,0),0))))","v":"N/A"},{"$f":"IF($B348=1,VLOOKUP(F$2,Table1[],3,0),IF($B348=2,VLOOKUP(F$2,Table1[],4,0),IF($B348=3,VLOOKUP(F$2,Table1[],5,0),IF($B348=4,VLOOKUP(F$2,Table1[],5,0),0))))","v":"N/A"}]
[2720,3,{"$f":"IF($B349=1,VLOOKUP(C$2,Table1[],3,0),IF($B349=2,VLOOKUP(C$2,Table1[],4,0),IF($B349=3,VLOOKUP(C$2,Table1[],5,0),IF($B349=4,VLOOKUP(C$2,Table1[],5,0),0))))","v":500000},{"$f":"IF($B349=1,VLOOKUP(D$2,Table1[],3,0),IF($B349=2,VLOOKUP(D$2,Table1[],4,0),IF($B349=3,VLOOKUP(D$2,Table1[],5,0),IF($B349=4,VLOOKUP(D$2,Table1[],5,0),0))))","v":400000},{"$f":"IF($B349=1,VLOOKUP(E$2,Table1[],3,0),IF($B349=2,VLOOKUP(E$2,Table1[],4,0),IF($B349=3,VLOOKUP(E$2,Table1[],5,0),IF($B349=4,VLOOKUP(E$2,Table1[],5,0),0))))","v":"N/A"},{"$f":"IF($B349=1,VLOOKUP(F$2,Table1[],3,0),IF($B349=2,VLOOKUP(F$2,Table1[],4,0),IF($B349=3,VLOOKUP(F$2,Table1[],5,0),IF($B349=4,VLOOKUP(F$2,Table1[],5,0),0))))","v":"N/A"}]
[2731,2,{"$f":"IF($B350=1,VLOOKUP(C$2,Table1[],3,0),IF($B350=2,VLOOKUP(C$2,Table1[],4,0),IF($B350=3,VLOOKUP(C$2,Table1[],5,0),IF($B350=4,VLOOKUP(C$2,Table1[],5,0),0))))","v":1000000},{"$f":"IF($B350=1,VLOOKUP(D$2,Table1[],3,0),IF($B350=2,VLOOKUP(D$2,Table1[],4,0),IF($B350=3,VLOOKUP(D$2,Table1[],5,0),IF($B350=4,VLOOKUP(D$2,Table1[],5,0),0))))","v":1000000},{"$f":"IF($B350=1,VLOOKUP(E$2,Table1[],3,0),IF($B350=2,VLOOKUP(E$2,Table1[],4,0),IF($B350=3,VLOOKUP(E$2,Table1[],5,0),IF($B350=4,VLOOKUP(E$2,Table1[],5,0),0))))","v":750000},{"$f":"IF($B350=1,VLOOKUP(F$2,Table1[],3,0),IF($B350=2,VLOOKUP(F$2,Table1[],4,0),IF($B350=3,VLOOKUP(F$2,Table1[],5,0),IF($B350=4,VLOOKUP(F$2,Table1[],5,0),0))))","v":500000}]
[2738,2,{"$f":"IF($B351=1,VLOOKUP(C$2,Table1[],3,0),IF($B351=2,VLOOKUP(C$2,Table1[],4,0),IF($B351=3,VLOOKUP(C$2,Table1[],5,0),IF($B351=4,VLOOKUP(C$2,Table1[],5,0),0))))","v":1000000},{"$f":"IF($B351=1,VLOOKUP(D$2,Table1[],3,0),IF($B351=2,VLOOKUP(D$2,Table1[],4,0),IF($B351=3,VLOOKUP(D$2,Table1[],5,0),IF($B351=4,VLOOKUP(D$2,Table1[],5,0),0))))","v":1000000},{"$f":"IF($B351=1,VLOOKUP(E$2,Table1[],3,0),IF($B351=2,VLOOKUP(E$2,Table1[],4,0),IF($B351=3,VLOOKUP(E$2,Table1[],5,0),IF($B351=4,VLOOKUP(E$2,Table1[],5,0),0))))","v":750000},{"$f":"IF($B351=1,VLOOKUP(F$2,Table1[],3,0),IF($B351=2,VLOOKUP(F$2,Table1[],4,0),IF($B351=3,VLOOKUP(F$2,Table1[],5,0),IF($B351=4,VLOOKUP(F$2,Table1[],5,0),0))))","v":500000}]
[2739,2,{"$f":"IF($B352=1,VLOOKUP(C$2,Table1[],3,0),IF($B352=2,VLOOKUP(C$2,Table1[],4,0),IF($B352=3,VLOOKUP(C$2,Table1[],5,0),IF($B352=4,VLOOKUP(C$2,Table1[],5,0),0))))","v":1000000},{"$f":"IF($B352=1,VLOOKUP(D$2,Table1[],3,0),IF($B352=2,VLOOKUP(D$2,Table1[],4,0),IF($B352=3,VLOOKUP(D$2,Table1[],5,0),IF($B352=4,VLOOKUP(D$2,Table1[],5,0),0))))","v":1000000},{"$f":"IF($B352=1,VLOOKUP(E$2,Table1[],3,0),IF($B352=2,VLOOKUP(E$2,Table1[],4,0),IF($B352=3,VLOOKUP(E$2,Table1[],5,0),IF($B352=4,VLOOKUP(E$2,Table1[],5,0),0))))","v":750000},{"$f":"IF($B352=1,VLOOKUP(F$2,Table1[],3,0),IF($B352=2,VLOOKUP(F$2,Table1[],4,0),IF($B352=3,VLOOKUP(F$2,Table1[],5,0),IF($B352=4,VLOOKUP(F$2,Table1[],5,0),0))))","v":500000}]
[2745,1,{"$f":"IF($B353=1,VLOOKUP(C$2,Table1[],3,0),IF($B353=2,VLOOKUP(C$2,Table1[],4,0),IF($B353=3,VLOOKUP(C$2,Table1[],5,0),IF($B353=4,VLOOKUP(C$2,Table1[],5,0),0))))","v":2000000},{"$f":"IF($B353=1,VLOOKUP(D$2,Table1[],3,0),IF($B353=2,VLOOKUP(D$2,Table1[],4,0),IF($B353=3,VLOOKUP(D$2,Table1[],5,0),IF($B353=4,VLOOKUP(D$2,Table1[],5,0),0))))","v":2000000},{"$f":"IF($B353=1,VLOOKUP(E$2,Table1[],3,0),IF($B353=2,VLOOKUP(E$2,Table1[],4,0),IF($B353=3,VLOOKUP(E$2,Table1[],5,0),IF($B353=4,VLOOKUP(E$2,Table1[],5,0),0))))","v":1500000},{"$f":"IF($B353=1,VLOOKUP(F$2,Table1[],3,0),IF($B353=2,VLOOKUP(F$2,Table1[],4,0),IF($B353=3,VLOOKUP(F$2,Table1[],5,0),IF($B353=4,VLOOKUP(F$2,Table1[],5,0),0))))","v":800000}]
[2747,1,{"$f":"IF($B354=1,VLOOKUP(C$2,Table1[],3,0),IF($B354=2,VLOOKUP(C$2,Table1[],4,0),IF($B354=3,VLOOKUP(C$2,Table1[],5,0),IF($B354=4,VLOOKUP(C$2,Table1[],5,0),0))))","v":2000000},{"$f":"IF($B354=1,VLOOKUP(D$2,Table1[],3,0),IF($B354=2,VLOOKUP(D$2,Table1[],4,0),IF($B354=3,VLOOKUP(D$2,Table1[],5,0),IF($B354=4,VLOOKUP(D$2,Table1[],5,0),0))))","v":2000000},{"$f":"IF($B354=1,VLOOKUP(E$2,Table1[],3,0),IF($B354=2,VLOOKUP(E$2,Table1[],4,0),IF($B354=3,VLOOKUP(E$2,Table1[],5,0),IF($B354=4,VLOOKUP(E$2,Table1[],5,0),0))))","v":1500000},{"$f":"IF($B354=1,VLOOKUP(F$2,Table1[],3,0),IF($B354=2,VLOOKUP(F$2,Table1[],4,0),IF($B354=3,VLOOKUP(F$2,Table1[],5,0),IF($B354=4,VLOOKUP(F$2,Table1[],5,0),0))))","v":800000}]
[2748,1,{"$f":"IF($B355=1,VLOOKUP(C$2,Table1[],3,0),IF($B355=2,VLOOKUP(C$2,Table1[],4,0),IF($B355=3,VLOOKUP(C$2,Table1[],5,0),IF($B355=4,VLOOKUP(C$2,Table1[],5,0),0))))","v":2000000},{"$f":"IF($B355=1,VLOOKUP(D$2,Table1[],3,0),IF($B355=2,VLOOKUP(D$2,Table1[],4,0),IF($B355=3,VLOOKUP(D$2,Table1[],5,0),IF($B355=4,VLOOKUP(D$2,Table1[],5,0),0))))","v":2000000},{"$f":"IF($B355=1,VLOOKUP(E$2,Table1[],3,0),IF($B355=2,VLOOKUP(E$2,Table1[],4,0),IF($B355=3,VLOOKUP(E$2,Table1[],5,0),IF($B355=4,VLOOKUP(E$2,Table1[],5,0),0))))","v":1500000},{"$f":"IF($B355=1,VLOOKUP(F$2,Table1[],3,0),IF($B355=2,VLOOKUP(F$2,Table1[],4,0),IF($B355=3,VLOOKUP(F$2,Table1[],5,0),IF($B355=4,VLOOKUP(F$2,Table1[],5,0),0))))","v":800000}]
[2749,1,{"$f":"IF($B356=1,VLOOKUP(C$2,Table1[],3,0),IF($B356=2,VLOOKUP(C$2,Table1[],4,0),IF($B356=3,VLOOKUP(C$2,Table1[],5,0),IF($B356=4,VLOOKUP(C$2,Table1[],5,0),0))))","v":2000000},{"$f":"IF($B356=1,VLOOKUP(D$2,Table1[],3,0),IF($B356=2,VLOOKUP(D$2,Table1[],4,0),IF($B356=3,VLOOKUP(D$2,Table1[],5,0),IF($B356=4,VLOOKUP(D$2,Table1[],5,0),0))))","v":2000000},{"$f":"IF($B356=1,VLOOKUP(E$2,Table1[],3,0),IF($B356=2,VLOOKUP(E$2,Table1[],4,0),IF($B356=3,VLOOKUP(E$2,Table1[],5,0),IF($B356=4,VLOOKUP(E$2,Table1[],5,0),0))))","v":1500000},{"$f":"IF($B356=1,VLOOKUP(F$2,Table1[],3,0),IF($B356=2,VLOOKUP(F$2,Table1[],4,0),IF($B356=3,VLOOKUP(F$2,Table1[],5,0),IF($B356=4,VLOOKUP(F$2,Table1[],5,0),0))))","v":800000}]
[2750,1,{"$f":"IF($B357=1,VLOOKUP(C$2,Table1[],3,0),IF($B357=2,VLOOKUP(C$2,Table1[],4,0),IF($B357=3,VLOOKUP(C$2,Table1[],5,0),IF($B357=4,VLOOKUP(C$2,Table1[],5,0),0))))","v":2000000},{"$f":"IF($B357=1,VLOOKUP(D$2,Table1[],3,0),IF($B357=2,VLOOKUP(D$2,Table1[],4,0),IF($B357=3,VLOOKUP(D$2,Table1[],5,0),IF($B357=4,VLOOKUP(D$2,Table1[],5,0),0))))","v":2000000},{"$f":"IF($B357=1,VLOOKUP(E$2,Table1[],3,0),IF($B357=2,VLOOKUP(E$2,Table1[],4,0),IF($B357=3,VLOOKUP(E$2,Table1[],5,0),IF($B357=4,VLOOKUP(E$2,Table1[],5,0),0))))","v":1500000},{"$f":"IF($B357=1,VLOOKUP(F$2,Table1[],3,0),IF($B357=2,VLOOKUP(F$2,Table1[],4,0),IF($B357=3,VLOOKUP(F$2,Table1[],5,0),IF($B357=4,VLOOKUP(F$2,Table1[],5,0),0))))","v":800000}]
[2752,1,{"$f":"IF($B358=1,VLOOKUP(C$2,Table1[],3,0),IF($B358=2,VLOOKUP(C$2,Table1[],4,0),IF($B358=3,VLOOKUP(C$2,Table1[],5,0),IF($B358=4,VLOOKUP(C$2,Table1[],5,0),0))))","v":2000000},{"$f":"IF($B358=1,VLOOKUP(D$2,Table1[],3,0),IF($B358=2,VLOOKUP(D$2,Table1[],4,0),IF($B358=3,VLOOKUP(D$2,Table1[],5,0),IF($B358=4,VLOOKUP(D$2,Table1[],5,0),0))))","v":2000000},{"$f":"IF($B358=1,VLOOKUP(E$2,Table1[],3,0),IF($B358=2,VLOOKUP(E$2,Table1[],4,0),IF($B358=3,VLOOKUP(E$2,Table1[],5,0),IF($B358=4,VLOOKUP(E$2,Table1[],5,0),0))))","v":1500000},{"$f":"IF($B358=1,VLOOKUP(F$2,Table1[],3,0),IF($B358=2,VLOOKUP(F$2,Table1[],4,0),IF($B358=3,VLOOKUP(F$2,Table1[],5,0),IF($B358=4,VLOOKUP(F$2,Table1[],5,0),0))))","v":800000}]
[2753,1,{"$f":"IF($B359=1,VLOOKUP(C$2,Table1[],3,0),IF($B359=2,VLOOKUP(C$2,Table1[],4,0),IF($B359=3,VLOOKUP(C$2,Table1[],5,0),IF($B359=4,VLOOKUP(C$2,Table1[],5,0),0))))","v":2000000},{"$f":"IF($B359=1,VLOOKUP(D$2,Table1[],3,0),IF($B359=2,VLOOKUP(D$2,Table1[],4,0),IF($B359=3,VLOOKUP(D$2,Table1[],5,0),IF($B359=4,VLOOKUP(D$2,Table1[],5,0),0))))","v":2000000},{"$f":"IF($B359=1,VLOOKUP(E$2,Table1[],3,0),IF($B359=2,VLOOKUP(E$2,Table1[],4,0),IF($B359=3,VLOOKUP(E$2,Table1[],5,0),IF($B359=4,VLOOKUP(E$2,Table1[],5,0),0))))","v":1500000},{"$f":"IF($B359=1,VLOOKUP(F$2,Table1[],3,0),IF($B359=2,VLOOKUP(F$2,Table1[],4,0),IF($B359=3,VLOOKUP(F$2,Table1[],5,0),IF($B359=4,VLOOKUP(F$2,Table1[],5,0),0))))","v":800000}]
[2754,1,{"$f":"IF($B360=1,VLOOKUP(C$2,Table1[],3,0),IF($B360=2,VLOOKUP(C$2,Table1[],4,0),IF($B360=3,VLOOKUP(C$2,Table1[],5,0),IF($B360=4,VLOOKUP(C$2,Table1[],5,0),0))))","v":2000000},{"$f":"IF($B360=1,VLOOKUP(D$2,Table1[],3,0),IF($B360=2,VLOOKUP(D$2,Table1[],4,0),IF($B360=3,VLOOKUP(D$2,Table1[],5,0),IF($B360=4,VLOOKUP(D$2,Table1[],5,0),0))))","v":2000000},{"$f":"IF($B360=1,VLOOKUP(E$2,Table1[],3,0),IF($B360=2,VLOOKUP(E$2,Table1[],4,0),IF($B360=3,VLOOKUP(E$2,Table1[],5,0),IF($B360=4,VLOOKUP(E$2,Table1[],5,0),0))))","v":1500000},{"$f":"IF($B360=1,VLOOKUP(F$2,Table1[],3,0),IF($B360=2,VLOOKUP(F$2,Table1[],4,0),IF($B360=3,VLOOKUP(F$2,Table1[],5,0),IF($B360=4,VLOOKUP(F$2,Table1[],5,0),0))))","v":800000}]
[2756,1,{"$f":"IF($B361=1,VLOOKUP(C$2,Table1[],3,0),IF($B361=2,VLOOKUP(C$2,Table1[],4,0),IF($B361=3,VLOOKUP(C$2,Table1[],5,0),IF($B361=4,VLOOKUP(C$2,Table1[],5,0),0))))","v":2000000},{"$f":"IF($B361=1,VLOOKUP(D$2,Table1[],3,0),IF($B361=2,VLOOKUP(D$2,Table1[],4,0),IF($B361=3,VLOOKUP(D$2,Table1[],5,0),IF($B361=4,VLOOKUP(D$2,Table1[],5,0),0))))","v":2000000},{"$f":"IF($B361=1,VLOOKUP(E$2,Table1[],3,0),IF($B361=2,VLOOKUP(E$2,Table1[],4,0),IF($B361=3,VLOOKUP(E$2,Table1[],5,0),IF($B361=4,VLOOKUP(E$2,Table1[],5,0),0))))","v":1500000},{"$f":"IF($B361=1,VLOOKUP(F$2,Table1[],3,0),IF($B361=2,VLOOKUP(F$2,Table1[],4,0),IF($B361=3,VLOOKUP(F$2,Table1[],5,0),IF($B361=4,VLOOKUP(F$2,Table1[],5,0),0))))","v":800000}]
[2757,1,{"$f":"IF($B362=1,VLOOKUP(C$2,Table1[],3,0),IF($B362=2,VLOOKUP(C$2,Table1[],4,0),IF($B362=3,VLOOKUP(C$2,Table1[],5,0),IF($B362=4,VLOOKUP(C$2,Table1[],5,0),0))))","v":2000000},{"$f":"IF($B362=1,VLOOKUP(D$2,Table1[],3,0),IF($B362=2,VLOOKUP(D$2,Table1[],4,0),IF($B362=3,VLOOKUP(D$2,Table1[],5,0),IF($B362=4,VLOOKUP(D$2,Table1[],5,0),0))))","v":2000000},{"$f":"IF($B362=1,VLOOKUP(E$2,Table1[],3,0),IF($B362=2,VLOOKUP(E$2,Table1[],4,0),IF($B362=3,VLOOKUP(E$2,Table1[],5,0),IF($B362=4,VLOOKUP(E$2,Table1[],5,0),0))))","v":1500000},{"$f":"IF($B362=1,VLOOKUP(F$2,Table1[],3,0),IF($B362=2,VLOOKUP(F$2,Table1[],4,0),IF($B362=3,VLOOKUP(F$2,Table1[],5,0),IF($B362=4,VLOOKUP(F$2,Table1[],5,0),0))))","v":800000}]
[2758,1,{"$f":"IF($B363=1,VLOOKUP(C$2,Table1[],3,0),IF($B363=2,VLOOKUP(C$2,Table1[],4,0),IF($B363=3,VLOOKUP(C$2,Table1[],5,0),IF($B363=4,VLOOKUP(C$2,Table1[],5,0),0))))","v":2000000},{"$f":"IF($B363=1,VLOOKUP(D$2,Table1[],3,0),IF($B363=2,VLOOKUP(D$2,Table1[],4,0),IF($B363=3,VLOOKUP(D$2,Table1[],5,0),IF($B363=4,VLOOKUP(D$2,Table1[],5,0),0))))","v":2000000},{"$f":"IF($B363=1,VLOOKUP(E$2,Table1[],3,0),IF($B363=2,VLOOKUP(E$2,Table1[],4,0),IF($B363=3,VLOOKUP(E$2,Table1[],5,0),IF($B363=4,VLOOKUP(E$2,Table1[],5,0),0))))","v":1500000},{"$f":"IF($B363=1,VLOOKUP(F$2,Table1[],3,0),IF($B363=2,VLOOKUP(F$2,Table1[],4,0),IF($B363=3,VLOOKUP(F$2,Table1[],5,0),IF($B363=4,VLOOKUP(F$2,Table1[],5,0),0))))","v":800000}]
[2759,1,{"$f":"IF($B364=1,VLOOKUP(C$2,Table1[],3,0),IF($B364=2,VLOOKUP(C$2,Table1[],4,0),IF($B364=3,VLOOKUP(C$2,Table1[],5,0),IF($B364=4,VLOOKUP(C$2,Table1[],5,0),0))))","v":2000000},{"$f":"IF($B364=1,VLOOKUP(D$2,Table1[],3,0),IF($B364=2,VLOOKUP(D$2,Table1[],4,0),IF($B364=3,VLOOKUP(D$2,Table1[],5,0),IF($B364=4,VLOOKUP(D$2,Table1[],5,0),0))))","v":2000000},{"$f":"IF($B364=1,VLOOKUP(E$2,Table1[],3,0),IF($B364=2,VLOOKUP(E$2,Table1[],4,0),IF($B364=3,VLOOKUP(E$2,Table1[],5,0),IF($B364=4,VLOOKUP(E$2,Table1[],5,0),0))))","v":1500000},{"$f":"IF($B364=1,VLOOKUP(F$2,Table1[],3,0),IF($B364=2,VLOOKUP(F$2,Table1[],4,0),IF($B364=3,VLOOKUP(F$2,Table1[],5,0),IF($B364=4,VLOOKUP(F$2,Table1[],5,0),0))))","v":800000}]
[2760,1,{"$f":"IF($B365=1,VLOOKUP(C$2,Table1[],3,0),IF($B365=2,VLOOKUP(C$2,Table1[],4,0),IF($B365=3,VLOOKUP(C$2,Table1[],5,0),IF($B365=4,VLOOKUP(C$2,Table1[],5,0),0))))","v":2000000},{"$f":"IF($B365=1,VLOOKUP(D$2,Table1[],3,0),IF($B365=2,VLOOKUP(D$2,Table1[],4,0),IF($B365=3,VLOOKUP(D$2,Table1[],5,0),IF($B365=4,VLOOKUP(D$2,Table1[],5,0),0))))","v":2000000},{"$f":"IF($B365=1,VLOOKUP(E$2,Table1[],3,0),IF($B365=2,VLOOKUP(E$2,Table1[],4,0),IF($B365=3,VLOOKUP(E$2,Table1[],5,0),IF($B365=4,VLOOKUP(E$2,Table1[],5,0),0))))","v":1500000},{"$f":"IF($B365=1,VLOOKUP(F$2,Table1[],3,0),IF($B365=2,VLOOKUP(F$2,Table1[],4,0),IF($B365=3,VLOOKUP(F$2,Table1[],5,0),IF($B365=4,VLOOKUP(F$2,Table1[],5,0),0))))","v":800000}]
[2761,1,{"$f":"IF($B366=1,VLOOKUP(C$2,Table1[],3,0),IF($B366=2,VLOOKUP(C$2,Table1[],4,0),IF($B366=3,VLOOKUP(C$2,Table1[],5,0),IF($B366=4,VLOOKUP(C$2,Table1[],5,0),0))))","v":2000000},{"$f":"IF($B366=1,VLOOKUP(D$2,Table1[],3,0),IF($B366=2,VLOOKUP(D$2,Table1[],4,0),IF($B366=3,VLOOKUP(D$2,Table1[],5,0),IF($B366=4,VLOOKUP(D$2,Table1[],5,0),0))))","v":2000000},{"$f":"IF($B366=1,VLOOKUP(E$2,Table1[],3,0),IF($B366=2,VLOOKUP(E$2,Table1[],4,0),IF($B366=3,VLOOKUP(E$2,Table1[],5,0),IF($B366=4,VLOOKUP(E$2,Table1[],5,0),0))))","v":1500000},{"$f":"IF($B366=1,VLOOKUP(F$2,Table1[],3,0),IF($B366=2,VLOOKUP(F$2,Table1[],4,0),IF($B366=3,VLOOKUP(F$2,Table1[],5,0),IF($B366=4,VLOOKUP(F$2,Table1[],5,0),0))))","v":800000}]
[2762,1,{"$f":"IF($B367=1,VLOOKUP(C$2,Table1[],3,0),IF($B367=2,VLOOKUP(C$2,Table1[],4,0),IF($B367=3,VLOOKUP(C$2,Table1[],5,0),IF($B367=4,VLOOKUP(C$2,Table1[],5,0),0))))","v":2000000},{"$f":"IF($B367=1,VLOOKUP(D$2,Table1[],3,0),IF($B367=2,VLOOKUP(D$2,Table1[],4,0),IF($B367=3,VLOOKUP(D$2,Table1[],5,0),IF($B367=4,VLOOKUP(D$2,Table1[],5,0),0))))","v":2000000},{"$f":"IF($B367=1,VLOOKUP(E$2,Table1[],3,0),IF($B367=2,VLOOKUP(E$2,Table1[],4,0),IF($B367=3,VLOOKUP(E$2,Table1[],5,0),IF($B367=4,VLOOKUP(E$2,Table1[],5,0),0))))","v":1500000},{"$f":"IF($B367=1,VLOOKUP(F$2,Table1[],3,0),IF($B367=2,VLOOKUP(F$2,Table1[],4,0),IF($B367=3,VLOOKUP(F$2,Table1[],5,0),IF($B367=4,VLOOKUP(F$2,Table1[],5,0),0))))","v":800000}]
[2763,1,{"$f":"IF($B368=1,VLOOKUP(C$2,Table1[],3,0),IF($B368=2,VLOOKUP(C$2,Table1[],4,0),IF($B368=3,VLOOKUP(C$2,Table1[],5,0),IF($B368=4,VLOOKUP(C$2,Table1[],5,0),0))))","v":2000000},{"$f":"IF($B368=1,VLOOKUP(D$2,Table1[],3,0),IF($B368=2,VLOOKUP(D$2,Table1[],4,0),IF($B368=3,VLOOKUP(D$2,Table1[],5,0),IF($B368=4,VLOOKUP(D$2,Table1[],5,0),0))))","v":2000000},{"$f":"IF($B368=1,VLOOKUP(E$2,Table1[],3,0),IF($B368=2,VLOOKUP(E$2,Table1[],4,0),IF($B368=3,VLOOKUP(E$2,Table1[],5,0),IF($B368=4,VLOOKUP(E$2,Table1[],5,0),0))))","v":1500000},{"$f":"IF($B368=1,VLOOKUP(F$2,Table1[],3,0),IF($B368=2,VLOOKUP(F$2,Table1[],4,0),IF($B368=3,VLOOKUP(F$2,Table1[],5,0),IF($B368=4,VLOOKUP(F$2,Table1[],5,0),0))))","v":800000}]
[2765,1,{"$f":"IF($B369=1,VLOOKUP(C$2,Table1[],3,0),IF($B369=2,VLOOKUP(C$2,Table1[],4,0),IF($B369=3,VLOOKUP(C$2,Table1[],5,0),IF($B369=4,VLOOKUP(C$2,Table1[],5,0),0))))","v":2000000},{"$f":"IF($B369=1,VLOOKUP(D$2,Table1[],3,0),IF($B369=2,VLOOKUP(D$2,Table1[],4,0),IF($B369=3,VLOOKUP(D$2,Table1[],5,0),IF($B369=4,VLOOKUP(D$2,Table1[],5,0),0))))","v":2000000},{"$f":"IF($B369=1,VLOOKUP(E$2,Table1[],3,0),IF($B369=2,VLOOKUP(E$2,Table1[],4,0),IF($B369=3,VLOOKUP(E$2,Table1[],5,0),IF($B369=4,VLOOKUP(E$2,Table1[],5,0),0))))","v":1500000},{"$f":"IF($B369=1,VLOOKUP(F$2,Table1[],3,0),IF($B369=2,VLOOKUP(F$2,Table1[],4,0),IF($B369=3,VLOOKUP(F$2,Table1[],5,0),IF($B369=4,VLOOKUP(F$2,Table1[],5,0),0))))","v":800000}]
[2766,1,{"$f":"IF($B370=1,VLOOKUP(C$2,Table1[],3,0),IF($B370=2,VLOOKUP(C$2,Table1[],4,0),IF($B370=3,VLOOKUP(C$2,Table1[],5,0),IF($B370=4,VLOOKUP(C$2,Table1[],5,0),0))))","v":2000000},{"$f":"IF($B370=1,VLOOKUP(D$2,Table1[],3,0),IF($B370=2,VLOOKUP(D$2,Table1[],4,0),IF($B370=3,VLOOKUP(D$2,Table1[],5,0),IF($B370=4,VLOOKUP(D$2,Table1[],5,0),0))))","v":2000000},{"$f":"IF($B370=1,VLOOKUP(E$2,Table1[],3,0),IF($B370=2,VLOOKUP(E$2,Table1[],4,0),IF($B370=3,VLOOKUP(E$2,Table1[],5,0),IF($B370=4,VLOOKUP(E$2,Table1[],5,0),0))))","v":1500000},{"$f":"IF($B370=1,VLOOKUP(F$2,Table1[],3,0),IF($B370=2,VLOOKUP(F$2,Table1[],4,0),IF($B370=3,VLOOKUP(F$2,Table1[],5,0),IF($B370=4,VLOOKUP(F$2,Table1[],5,0),0))))","v":800000}]
[2767,1,{"$f":"IF($B371=1,VLOOKUP(C$2,Table1[],3,0),IF($B371=2,VLOOKUP(C$2,Table1[],4,0),IF($B371=3,VLOOKUP(C$2,Table1[],5,0),IF($B371=4,VLOOKUP(C$2,Table1[],5,0),0))))","v":2000000},{"$f":"IF($B371=1,VLOOKUP(D$2,Table1[],3,0),IF($B371=2,VLOOKUP(D$2,Table1[],4,0),IF($B371=3,VLOOKUP(D$2,Table1[],5,0),IF($B371=4,VLOOKUP(D$2,Table1[],5,0),0))))","v":2000000},{"$f":"IF($B371=1,VLOOKUP(E$2,Table1[],3,0),IF($B371=2,VLOOKUP(E$2,Table1[],4,0),IF($B371=3,VLOOKUP(E$2,Table1[],5,0),IF($B371=4,VLOOKUP(E$2,Table1[],5,0),0))))","v":1500000},{"$f":"IF($B371=1,VLOOKUP(F$2,Table1[],3,0),IF($B371=2,VLOOKUP(F$2,Table1[],4,0),IF($B371=3,VLOOKUP(F$2,Table1[],5,0),IF($B371=4,VLOOKUP(F$2,Table1[],5,0),0))))","v":800000}]
[2768,1,{"$f":"IF($B372=1,VLOOKUP(C$2,Table1[],3,0),IF($B372=2,VLOOKUP(C$2,Table1[],4,0),IF($B372=3,VLOOKUP(C$2,Table1[],5,0),IF($B372=4,VLOOKUP(C$2,Table1[],5,0),0))))","v":2000000},{"$f":"IF($B372=1,VLOOKUP(D$2,Table1[],3,0),IF($B372=2,VLOOKUP(D$2,Table1[],4,0),IF($B372=3,VLOOKUP(D$2,Table1[],5,0),IF($B372=4,VLOOKUP(D$2,Table1[],5,0),0))))","v":2000000},{"$f":"IF($B372=1,VLOOKUP(E$2,Table1[],3,0),IF($B372=2,VLOOKUP(E$2,Table1[],4,0),IF($B372=3,VLOOKUP(E$2,Table1[],5,0),IF($B372=4,VLOOKUP(E$2,Table1[],5,0),0))))","v":1500000},{"$f":"IF($B372=1,VLOOKUP(F$2,Table1[],3,0),IF($B372=2,VLOOKUP(F$2,Table1[],4,0),IF($B372=3,VLOOKUP(F$2,Table1[],5,0),IF($B372=4,VLOOKUP(F$2,Table1[],5,0),0))))","v":800000}]
[2769,1,{"$f":"IF($B373=1,VLOOKUP(C$2,Table1[],3,0),IF($B373=2,VLOOKUP(C$2,Table1[],4,0),IF($B373=3,VLOOKUP(C$2,Table1[],5,0),IF($B373=4,VLOOKUP(C$2,Table1[],5,0),0))))","v":2000000},{"$f":"IF($B373=1,VLOOKUP(D$2,Table1[],3,0),IF($B373=2,VLOOKUP(D$2,Table1[],4,0),IF($B373=3,VLOOKUP(D$2,Table1[],5,0),IF($B373=4,VLOOKUP(D$2,Table1[],5,0),0))))","v":2000000},{"$f":"IF($B373=1,VLOOKUP(E$2,Table1[],3,0),IF($B373=2,VLOOKUP(E$2,Table1[],4,0),IF($B373=3,VLOOKUP(E$2,Table1[],5,0),IF($B373=4,VLOOKUP(E$2,Table1[],5,0),0))))","v":1500000},{"$f":"IF($B373=1,VLOOKUP(F$2,Table1[],3,0),IF($B373=2,VLOOKUP(F$2,Table1[],4,0),IF($B373=3,VLOOKUP(F$2,Table1[],5,0),IF($B373=4,VLOOKUP(F$2,Table1[],5,0),0))))","v":800000}]
[2770,1,{"$f":"IF($B374=1,VLOOKUP(C$2,Table1[],3,0),IF($B374=2,VLOOKUP(C$2,Table1[],4,0),IF($B374=3,VLOOKUP(C$2,Table1[],5,0),IF($B374=4,VLOOKUP(C$2,Table1[],5,0),0))))","v":2000000},{"$f":"IF($B374=1,VLOOKUP(D$2,Table1[],3,0),IF($B374=2,VLOOKUP(D$2,Table1[],4,0),IF($B374=3,VLOOKUP(D$2,Table1[],5,0),IF($B374=4,VLOOKUP(D$2,Table1[],5,0),0))))","v":2000000},{"$f":"IF($B374=1,VLOOKUP(E$2,Table1[],3,0),IF($B374=2,VLOOKUP(E$2,Table1[],4,0),IF($B374=3,VLOOKUP(E$2,Table1[],5,0),IF($B374=4,VLOOKUP(E$2,Table1[],5,0),0))))","v":1500000},{"$f":"IF($B374=1,VLOOKUP(F$2,Table1[],3,0),IF($B374=2,VLOOKUP(F$2,Table1[],4,0),IF($B374=3,VLOOKUP(F$2,Table1[],5,0),IF($B374=4,VLOOKUP(F$2,Table1[],5,0),0))))","v":800000}]
[2773,1,{"$f":"IF($B375=1,VLOOKUP(C$2,Table1[],3,0),IF($B375=2,VLOOKUP(C$2,Table1[],4,0),IF($B375=3,VLOOKUP(C$2,Table1[],5,0),IF($B375=4,VLOOKUP(C$2,Table1[],5,0),0))))","v":2000000},{"$f":"IF($B375=1,VLOOKUP(D$2,Table1[],3,0),IF($B375=2,VLOOKUP(D$2,Table1[],4,0),IF($B375=3,VLOOKUP(D$2,Table1[],5,0),IF($B375=4,VLOOKUP(D$2,Table1[],5,0),0))))","v":2000000},{"$f":"IF($B375=1,VLOOKUP(E$2,Table1[],3,0),IF($B375=2,VLOOKUP(E$2,Table1[],4,0),IF($B375=3,VLOOKUP(E$2,Table1[],5,0),IF($B375=4,VLOOKUP(E$2,Table1[],5,0),0))))","v":1500000},{"$f":"IF($B375=1,VLOOKUP(F$2,Table1[],3,0),IF($B375=2,VLOOKUP(F$2,Table1[],4,0),IF($B375=3,VLOOKUP(F$2,Table1[],5,0),IF($B375=4,VLOOKUP(F$2,Table1[],5,0),0))))","v":800000}]
[2774,1,{"$f":"IF($B376=1,VLOOKUP(C$2,Table1[],3,0),IF($B376=2,VLOOKUP(C$2,Table1[],4,0),IF($B376=3,VLOOKUP(C$2,Table1[],5,0),IF($B376=4,VLOOKUP(C$2,Table1[],5,0),0))))","v":2000000},{"$f":"IF($B376=1,VLOOKUP(D$2,Table1[],3,0),IF($B376=2,VLOOKUP(D$2,Table1[],4,0),IF($B376=3,VLOOKUP(D$2,Table1[],5,0),IF($B376=4,VLOOKUP(D$2,Table1[],5,0),0))))","v":2000000},{"$f":"IF($B376=1,VLOOKUP(E$2,Table1[],3,0),IF($B376=2,VLOOKUP(E$2,Table1[],4,0),IF($B376=3,VLOOKUP(E$2,Table1[],5,0),IF($B376=4,VLOOKUP(E$2,Table1[],5,0),0))))","v":1500000},{"$f":"IF($B376=1,VLOOKUP(F$2,Table1[],3,0),IF($B376=2,VLOOKUP(F$2,Table1[],4,0),IF($B376=3,VLOOKUP(F$2,Table1[],5,0),IF($B376=4,VLOOKUP(F$2,Table1[],5,0),0))))","v":800000}]
[2775,1,{"$f":"IF($B377=1,VLOOKUP(C$2,Table1[],3,0),IF($B377=2,VLOOKUP(C$2,Table1[],4,0),IF($B377=3,VLOOKUP(C$2,Table1[],5,0),IF($B377=4,VLOOKUP(C$2,Table1[],5,0),0))))","v":2000000},{"$f":"IF($B377=1,VLOOKUP(D$2,Table1[],3,0),IF($B377=2,VLOOKUP(D$2,Table1[],4,0),IF($B377=3,VLOOKUP(D$2,Table1[],5,0),IF($B377=4,VLOOKUP(D$2,Table1[],5,0),0))))","v":2000000},{"$f":"IF($B377=1,VLOOKUP(E$2,Table1[],3,0),IF($B377=2,VLOOKUP(E$2,Table1[],4,0),IF($B377=3,VLOOKUP(E$2,Table1[],5,0),IF($B377=4,VLOOKUP(E$2,Table1[],5,0),0))))","v":1500000},{"$f":"IF($B377=1,VLOOKUP(F$2,Table1[],3,0),IF($B377=2,VLOOKUP(F$2,Table1[],4,0),IF($B377=3,VLOOKUP(F$2,Table1[],5,0),IF($B377=4,VLOOKUP(F$2,Table1[],5,0),0))))","v":800000}]
[2776,1,{"$f":"IF($B378=1,VLOOKUP(C$2,Table1[],3,0),IF($B378=2,VLOOKUP(C$2,Table1[],4,0),IF($B378=3,VLOOKUP(C$2,Table1[],5,0),IF($B378=4,VLOOKUP(C$2,Table1[],5,0),0))))","v":2000000},{"$f":"IF($B378=1,VLOOKUP(D$2,Table1[],3,0),IF($B378=2,VLOOKUP(D$2,Table1[],4,0),IF($B378=3,VLOOKUP(D$2,Table1[],5,0),IF($B378=4,VLOOKUP(D$2,Table1[],5,0),0))))","v":2000000},{"$f":"IF($B378=1,VLOOKUP(E$2,Table1[],3,0),IF($B378=2,VLOOKUP(E$2,Table1[],4,0),IF($B378=3,VLOOKUP(E$2,Table1[],5,0),IF($B378=4,VLOOKUP(E$2,Table1[],5,0),0))))","v":1500000},{"$f":"IF($B378=1,VLOOKUP(F$2,Table1[],3,0),IF($B378=2,VLOOKUP(F$2,Table1[],4,0),IF($B378=3,VLOOKUP(F$2,Table1[],5,0),IF($B378=4,VLOOKUP(F$2,Table1[],5,0),0))))","v":800000}]
[2777,1,{"$f":"IF($B379=1,VLOOKUP(C$2,Table1[],3,0),IF($B379=2,VLOOKUP(C$2,Table1[],4,0),IF($B379=3,VLOOKUP(C$2,Table1[],5,0),IF($B379=4,VLOOKUP(C$2,Table1[],5,0),0))))","v":2000000},{"$f":"IF($B379=1,VLOOKUP(D$2,Table1[],3,0),IF($B379=2,VLOOKUP(D$2,Table1[],4,0),IF($B379=3,VLOOKUP(D$2,Table1[],5,0),IF($B379=4,VLOOKUP(D$2,Table1[],5,0),0))))","v":2000000},{"$f":"IF($B379=1,VLOOKUP(E$2,Table1[],3,0),IF($B379=2,VLOOKUP(E$2,Table1[],4,0),IF($B379=3,VLOOKUP(E$2,Table1[],5,0),IF($B379=4,VLOOKUP(E$2,Table1[],5,0),0))))","v":1500000},{"$f":"IF($B379=1,VLOOKUP(F$2,Table1[],3,0),IF($B379=2,VLOOKUP(F$2,Table1[],4,0),IF($B379=3,VLOOKUP(F$2,Table1[],5,0),IF($B379=4,VLOOKUP(F$2,Table1[],5,0),0))))","v":800000}]
[2778,1,{"$f":"IF($B380=1,VLOOKUP(C$2,Table1[],3,0),IF($B380=2,VLOOKUP(C$2,Table1[],4,0),IF($B380=3,VLOOKUP(C$2,Table1[],5,0),IF($B380=4,VLOOKUP(C$2,Table1[],5,0),0))))","v":2000000},{"$f":"IF($B380=1,VLOOKUP(D$2,Table1[],3,0),IF($B380=2,VLOOKUP(D$2,Table1[],4,0),IF($B380=3,VLOOKUP(D$2,Table1[],5,0),IF($B380=4,VLOOKUP(D$2,Table1[],5,0),0))))","v":2000000},{"$f":"IF($B380=1,VLOOKUP(E$2,Table1[],3,0),IF($B380=2,VLOOKUP(E$2,Table1[],4,0),IF($B380=3,VLOOKUP(E$2,Table1[],5,0),IF($B380=4,VLOOKUP(E$2,Table1[],5,0),0))))","v":1500000},{"$f":"IF($B380=1,VLOOKUP(F$2,Table1[],3,0),IF($B380=2,VLOOKUP(F$2,Table1[],4,0),IF($B380=3,VLOOKUP(F$2,Table1[],5,0),IF($B380=4,VLOOKUP(F$2,Table1[],5,0),0))))","v":800000}]
[2779,1,{"$f":"IF($B381=1,VLOOKUP(C$2,Table1[],3,0),IF($B381=2,VLOOKUP(C$2,Table1[],4,0),IF($B381=3,VLOOKUP(C$2,Table1[],5,0),IF($B381=4,VLOOKUP(C$2,Table1[],5,0),0))))","v":2000000},{"$f":"IF($B381=1,VLOOKUP(D$2,Table1[],3,0),IF($B381=2,VLOOKUP(D$2,Table1[],4,0),IF($B381=3,VLOOKUP(D$2,Table1[],5,0),IF($B381=4,VLOOKUP(D$2,Table1[],5,0),0))))","v":2000000},{"$f":"IF($B381=1,VLOOKUP(E$2,Table1[],3,0),IF($B381=2,VLOOKUP(E$2,Table1[],4,0),IF($B381=3,VLOOKUP(E$2,Table1[],5,0),IF($B381=4,VLOOKUP(E$2,Table1[],5,0),0))))","v":1500000},{"$f":"IF($B381=1,VLOOKUP(F$2,Table1[],3,0),IF($B381=2,VLOOKUP(F$2,Table1[],4,0),IF($B381=3,VLOOKUP(F$2,Table1[],5,0),IF($B381=4,VLOOKUP(F$2,Table1[],5,0),0))))","v":800000}]
[2780,1,{"$f":"IF($B382=1,VLOOKUP(C$2,Table1[],3,0),IF($B382=2,VLOOKUP(C$2,Table1[],4,0),IF($B382=3,VLOOKUP(C$2,Table1[],5,0),IF($B382=4,VLOOKUP(C$2,Table1[],5,0),0))))","v":2000000},{"$f":"IF($B382=1,VLOOKUP(D$2,Table1[],3,0),IF($B382=2,VLOOKUP(D$2,Table1[],4,0),IF($B382=3,VLOOKUP(D$2,Table1[],5,0),IF($B382=4,VLOOKUP(D$2,Table1[],5,0),0))))","v":2000000},{"$f":"IF($B382=1,VLOOKUP(E$2,Table1[],3,0),IF($B382=2,VLOOKUP(E$2,Table1[],4,0),IF($B382=3,VLOOKUP(E$2,Table1[],5,0),IF($B382=4,VLOOKUP(E$2,Table1[],5,0),0))))","v":1500000},{"$f":"IF($B382=1,VLOOKUP(F$2,Table1[],3,0),IF($B382=2,VLOOKUP(F$2,Table1[],4,0),IF($B382=3,VLOOKUP(F$2,Table1[],5,0),IF($B382=4,VLOOKUP(F$2,Table1[],5,0),0))))","v":800000}]
[2782,1,{"$f":"IF($B383=1,VLOOKUP(C$2,Table1[],3,0),IF($B383=2,VLOOKUP(C$2,Table1[],4,0),IF($B383=3,VLOOKUP(C$2,Table1[],5,0),IF($B383=4,VLOOKUP(C$2,Table1[],5,0),0))))","v":2000000},{"$f":"IF($B383=1,VLOOKUP(D$2,Table1[],3,0),IF($B383=2,VLOOKUP(D$2,Table1[],4,0),IF($B383=3,VLOOKUP(D$2,Table1[],5,0),IF($B383=4,VLOOKUP(D$2,Table1[],5,0),0))))","v":2000000},{"$f":"IF($B383=1,VLOOKUP(E$2,Table1[],3,0),IF($B383=2,VLOOKUP(E$2,Table1[],4,0),IF($B383=3,VLOOKUP(E$2,Table1[],5,0),IF($B383=4,VLOOKUP(E$2,Table1[],5,0),0))))","v":1500000},{"$f":"IF($B383=1,VLOOKUP(F$2,Table1[],3,0),IF($B383=2,VLOOKUP(F$2,Table1[],4,0),IF($B383=3,VLOOKUP(F$2,Table1[],5,0),IF($B383=4,VLOOKUP(F$2,Table1[],5,0),0))))","v":800000}]
[2783,1,{"$f":"IF($B384=1,VLOOKUP(C$2,Table1[],3,0),IF($B384=2,VLOOKUP(C$2,Table1[],4,0),IF($B384=3,VLOOKUP(C$2,Table1[],5,0),IF($B384=4,VLOOKUP(C$2,Table1[],5,0),0))))","v":2000000},{"$f":"IF($B384=1,VLOOKUP(D$2,Table1[],3,0),IF($B384=2,VLOOKUP(D$2,Table1[],4,0),IF($B384=3,VLOOKUP(D$2,Table1[],5,0),IF($B384=4,VLOOKUP(D$2,Table1[],5,0),0))))","v":2000000},{"$f":"IF($B384=1,VLOOKUP(E$2,Table1[],3,0),IF($B384=2,VLOOKUP(E$2,Table1[],4,0),IF($B384=3,VLOOKUP(E$2,Table1[],5,0),IF($B384=4,VLOOKUP(E$2,Table1[],5,0),0))))","v":1500000},{"$f":"IF($B384=1,VLOOKUP(F$2,Table1[],3,0),IF($B384=2,VLOOKUP(F$2,Table1[],4,0),IF($B384=3,VLOOKUP(F$2,Table1[],5,0),IF($B384=4,VLOOKUP(F$2,Table1[],5,0),0))))","v":800000}]
[2784,1,{"$f":"IF($B385=1,VLOOKUP(C$2,Table1[],3,0),IF($B385=2,VLOOKUP(C$2,Table1[],4,0),IF($B385=3,VLOOKUP(C$2,Table1[],5,0),IF($B385=4,VLOOKUP(C$2,Table1[],5,0),0))))","v":2000000},{"$f":"IF($B385=1,VLOOKUP(D$2,Table1[],3,0),IF($B385=2,VLOOKUP(D$2,Table1[],4,0),IF($B385=3,VLOOKUP(D$2,Table1[],5,0),IF($B385=4,VLOOKUP(D$2,Table1[],5,0),0))))","v":2000000},{"$f":"IF($B385=1,VLOOKUP(E$2,Table1[],3,0),IF($B385=2,VLOOKUP(E$2,Table1[],4,0),IF($B385=3,VLOOKUP(E$2,Table1[],5,0),IF($B385=4,VLOOKUP(E$2,Table1[],5,0),0))))","v":1500000},{"$f":"IF($B385=1,VLOOKUP(F$2,Table1[],3,0),IF($B385=2,VLOOKUP(F$2,Table1[],4,0),IF($B385=3,VLOOKUP(F$2,Table1[],5,0),IF($B385=4,VLOOKUP(F$2,Table1[],5,0),0))))","v":800000}]
[2785,1,{"$f":"IF($B386=1,VLOOKUP(C$2,Table1[],3,0),IF($B386=2,VLOOKUP(C$2,Table1[],4,0),IF($B386=3,VLOOKUP(C$2,Table1[],5,0),IF($B386=4,VLOOKUP(C$2,Table1[],5,0),0))))","v":2000000},{"$f":"IF($B386=1,VLOOKUP(D$2,Table1[],3,0),IF($B386=2,VLOOKUP(D$2,Table1[],4,0),IF($B386=3,VLOOKUP(D$2,Table1[],5,0),IF($B386=4,VLOOKUP(D$2,Table1[],5,0),0))))","v":2000000},{"$f":"IF($B386=1,VLOOKUP(E$2,Table1[],3,0),IF($B386=2,VLOOKUP(E$2,Table1[],4,0),IF($B386=3,VLOOKUP(E$2,Table1[],5,0),IF($B386=4,VLOOKUP(E$2,Table1[],5,0),0))))","v":1500000},{"$f":"IF($B386=1,VLOOKUP(F$2,Table1[],3,0),IF($B386=2,VLOOKUP(F$2,Table1[],4,0),IF($B386=3,VLOOKUP(F$2,Table1[],5,0),IF($B386=4,VLOOKUP(F$2,Table1[],5,0),0))))","v":800000}]
[2790,2,{"$f":"IF($B387=1,VLOOKUP(C$2,Table1[],3,0),IF($B387=2,VLOOKUP(C$2,Table1[],4,0),IF($B387=3,VLOOKUP(C$2,Table1[],5,0),IF($B387=4,VLOOKUP(C$2,Table1[],5,0),0))))","v":1000000},{"$f":"IF($B387=1,VLOOKUP(D$2,Table1[],3,0),IF($B387=2,VLOOKUP(D$2,Table1[],4,0),IF($B387=3,VLOOKUP(D$2,Table1[],5,0),IF($B387=4,VLOOKUP(D$2,Table1[],5,0),0))))","v":1000000},{"$f":"IF($B387=1,VLOOKUP(E$2,Table1[],3,0),IF($B387=2,VLOOKUP(E$2,Table1[],4,0),IF($B387=3,VLOOKUP(E$2,Table1[],5,0),IF($B387=4,VLOOKUP(E$2,Table1[],5,0),0))))","v":750000},{"$f":"IF($B387=1,VLOOKUP(F$2,Table1[],3,0),IF($B387=2,VLOOKUP(F$2,Table1[],4,0),IF($B387=3,VLOOKUP(F$2,Table1[],5,0),IF($B387=4,VLOOKUP(F$2,Table1[],5,0),0))))","v":500000}]
[2792,4,{"$f":"IF($B388=1,VLOOKUP(C$2,Table1[],3,0),IF($B388=2,VLOOKUP(C$2,Table1[],4,0),IF($B388=3,VLOOKUP(C$2,Table1[],5,0),IF($B388=4,VLOOKUP(C$2,Table1[],5,0),0))))","v":500000},{"$f":"IF($B388=1,VLOOKUP(D$2,Table1[],3,0),IF($B388=2,VLOOKUP(D$2,Table1[],4,0),IF($B388=3,VLOOKUP(D$2,Table1[],5,0),IF($B388=4,VLOOKUP(D$2,Table1[],5,0),0))))","v":400000},{"$f":"IF($B388=1,VLOOKUP(E$2,Table1[],3,0),IF($B388=2,VLOOKUP(E$2,Table1[],4,0),IF($B388=3,VLOOKUP(E$2,Table1[],5,0),IF($B388=4,VLOOKUP(E$2,Table1[],5,0),0))))","v":"N/A"},{"$f":"IF($B388=1,VLOOKUP(F$2,Table1[],3,0),IF($B388=2,VLOOKUP(F$2,Table1[],4,0),IF($B388=3,VLOOKUP(F$2,Table1[],5,0),IF($B388=4,VLOOKUP(F$2,Table1[],5,0),0))))","v":"N/A"}]
[2794,3,{"$f":"IF($B389=1,VLOOKUP(C$2,Table1[],3,0),IF($B389=2,VLOOKUP(C$2,Table1[],4,0),IF($B389=3,VLOOKUP(C$2,Table1[],5,0),IF($B389=4,VLOOKUP(C$2,Table1[],5,0),0))))","v":500000},{"$f":"IF($B389=1,VLOOKUP(D$2,Table1[],3,0),IF($B389=2,VLOOKUP(D$2,Table1[],4,0),IF($B389=3,VLOOKUP(D$2,Table1[],5,0),IF($B389=4,VLOOKUP(D$2,Table1[],5,0),0))))","v":400000},{"$f":"IF($B389=1,VLOOKUP(E$2,Table1[],3,0),IF($B389=2,VLOOKUP(E$2,Table1[],4,0),IF($B389=3,VLOOKUP(E$2,Table1[],5,0),IF($B389=4,VLOOKUP(E$2,Table1[],5,0),0))))","v":"N/A"},{"$f":"IF($B389=1,VLOOKUP(F$2,Table1[],3,0),IF($B389=2,VLOOKUP(F$2,Table1[],4,0),IF($B389=3,VLOOKUP(F$2,Table1[],5,0),IF($B389=4,VLOOKUP(F$2,Table1[],5,0),0))))","v":"N/A"}]
[2795,1,{"$f":"IF($B390=1,VLOOKUP(C$2,Table1[],3,0),IF($B390=2,VLOOKUP(C$2,Table1[],4,0),IF($B390=3,VLOOKUP(C$2,Table1[],5,0),IF($B390=4,VLOOKUP(C$2,Table1[],5,0),0))))","v":2000000},{"$f":"IF($B390=1,VLOOKUP(D$2,Table1[],3,0),IF($B390=2,VLOOKUP(D$2,Table1[],4,0),IF($B390=3,VLOOKUP(D$2,Table1[],5,0),IF($B390=4,VLOOKUP(D$2,Table1[],5,0),0))))","v":2000000},{"$f":"IF($B390=1,VLOOKUP(E$2,Table1[],3,0),IF($B390=2,VLOOKUP(E$2,Table1[],4,0),IF($B390=3,VLOOKUP(E$2,Table1[],5,0),IF($B390=4,VLOOKUP(E$2,Table1[],5,0),0))))","v":1500000},{"$f":"IF($B390=1,VLOOKUP(F$2,Table1[],3,0),IF($B390=2,VLOOKUP(F$2,Table1[],4,0),IF($B390=3,VLOOKUP(F$2,Table1[],5,0),IF($B390=4,VLOOKUP(F$2,Table1[],5,0),0))))","v":800000}]
[2800,2,{"$f":"IF($B391=1,VLOOKUP(C$2,Table1[],3,0),IF($B391=2,VLOOKUP(C$2,Table1[],4,0),IF($B391=3,VLOOKUP(C$2,Table1[],5,0),IF($B391=4,VLOOKUP(C$2,Table1[],5,0),0))))","v":1000000},{"$f":"IF($B391=1,VLOOKUP(D$2,Table1[],3,0),IF($B391=2,VLOOKUP(D$2,Table1[],4,0),IF($B391=3,VLOOKUP(D$2,Table1[],5,0),IF($B391=4,VLOOKUP(D$2,Table1[],5,0),0))))","v":1000000},{"$f":"IF($B391=1,VLOOKUP(E$2,Table1[],3,0),IF($B391=2,VLOOKUP(E$2,Table1[],4,0),IF($B391=3,VLOOKUP(E$2,Table1[],5,0),IF($B391=4,VLOOKUP(E$2,Table1[],5,0),0))))","v":750000},{"$f":"IF($B391=1,VLOOKUP(F$2,Table1[],3,0),IF($B391=2,VLOOKUP(F$2,Table1[],4,0),IF($B391=3,VLOOKUP(F$2,Table1[],5,0),IF($B391=4,VLOOKUP(F$2,Table1[],5,0),0))))","v":500000}]
[2830,1,{"$f":"IF($B392=1,VLOOKUP(C$2,Table1[],3,0),IF($B392=2,VLOOKUP(C$2,Table1[],4,0),IF($B392=3,VLOOKUP(C$2,Table1[],5,0),IF($B392=4,VLOOKUP(C$2,Table1[],5,0),0))))","v":2000000},{"$f":"IF($B392=1,VLOOKUP(D$2,Table1[],3,0),IF($B392=2,VLOOKUP(D$2,Table1[],4,0),IF($B392=3,VLOOKUP(D$2,Table1[],5,0),IF($B392=4,VLOOKUP(D$2,Table1[],5,0),0))))","v":2000000},{"$f":"IF($B392=1,VLOOKUP(E$2,Table1[],3,0),IF($B392=2,VLOOKUP(E$2,Table1[],4,0),IF($B392=3,VLOOKUP(E$2,Table1[],5,0),IF($B392=4,VLOOKUP(E$2,Table1[],5,0),0))))","v":1500000},{"$f":"IF($B392=1,VLOOKUP(F$2,Table1[],3,0),IF($B392=2,VLOOKUP(F$2,Table1[],4,0),IF($B392=3,VLOOKUP(F$2,Table1[],5,0),IF($B392=4,VLOOKUP(F$2,Table1[],5,0),0))))","v":800000}]
[2846,4,{"$f":"IF($B393=1,VLOOKUP(C$2,Table1[],3,0),IF($B393=2,VLOOKUP(C$2,Table1[],4,0),IF($B393=3,VLOOKUP(C$2,Table1[],5,0),IF($B393=4,VLOOKUP(C$2,Table1[],5,0),0))))","v":500000},{"$f":"IF($B393=1,VLOOKUP(D$2,Table1[],3,0),IF($B393=2,VLOOKUP(D$2,Table1[],4,0),IF($B393=3,VLOOKUP(D$2,Table1[],5,0),IF($B393=4,VLOOKUP(D$2,Table1[],5,0),0))))","v":400000},{"$f":"IF($B393=1,VLOOKUP(E$2,Table1[],3,0),IF($B393=2,VLOOKUP(E$2,Table1[],4,0),IF($B393=3,VLOOKUP(E$2,Table1[],5,0),IF($B393=4,VLOOKUP(E$2,Table1[],5,0),0))))","v":"N/A"},{"$f":"IF($B393=1,VLOOKUP(F$2,Table1[],3,0),IF($B393=2,VLOOKUP(F$2,Table1[],4,0),IF($B393=3,VLOOKUP(F$2,Table1[],5,0),IF($B393=4,VLOOKUP(F$2,Table1[],5,0),0))))","v":"N/A"}]
[2848,4,{"$f":"IF($B394=1,VLOOKUP(C$2,Table1[],3,0),IF($B394=2,VLOOKUP(C$2,Table1[],4,0),IF($B394=3,VLOOKUP(C$2,Table1[],5,0),IF($B394=4,VLOOKUP(C$2,Table1[],5,0),0))))","v":500000},{"$f":"IF($B394=1,VLOOKUP(D$2,Table1[],3,0),IF($B394=2,VLOOKUP(D$2,Table1[],4,0),IF($B394=3,VLOOKUP(D$2,Table1[],5,0),IF($B394=4,VLOOKUP(D$2,Table1[],5,0),0))))","v":400000},{"$f":"IF($B394=1,VLOOKUP(E$2,Table1[],3,0),IF($B394=2,VLOOKUP(E$2,Table1[],4,0),IF($B394=3,VLOOKUP(E$2,Table1[],5,0),IF($B394=4,VLOOKUP(E$2,Table1[],5,0),0))))","v":"N/A"},{"$f":"IF($B394=1,VLOOKUP(F$2,Table1[],3,0),IF($B394=2,VLOOKUP(F$2,Table1[],4,0),IF($B394=3,VLOOKUP(F$2,Table1[],5,0),IF($B394=4,VLOOKUP(F$2,Table1[],5,0),0))))","v":"N/A"}]
[2850,2,{"$f":"IF($B395=1,VLOOKUP(C$2,Table1[],3,0),IF($B395=2,VLOOKUP(C$2,Table1[],4,0),IF($B395=3,VLOOKUP(C$2,Table1[],5,0),IF($B395=4,VLOOKUP(C$2,Table1[],5,0),0))))","v":1000000},{"$f":"IF($B395=1,VLOOKUP(D$2,Table1[],3,0),IF($B395=2,VLOOKUP(D$2,Table1[],4,0),IF($B395=3,VLOOKUP(D$2,Table1[],5,0),IF($B395=4,VLOOKUP(D$2,Table1[],5,0),0))))","v":1000000},{"$f":"IF($B395=1,VLOOKUP(E$2,Table1[],3,0),IF($B395=2,VLOOKUP(E$2,Table1[],4,0),IF($B395=3,VLOOKUP(E$2,Table1[],5,0),IF($B395=4,VLOOKUP(E$2,Table1[],5,0),0))))","v":750000},{"$f":"IF($B395=1,VLOOKUP(F$2,Table1[],3,0),IF($B395=2,VLOOKUP(F$2,Table1[],4,0),IF($B395=3,VLOOKUP(F$2,Table1[],5,0),IF($B395=4,VLOOKUP(F$2,Table1[],5,0),0))))","v":500000}]
[2870,2,{"$f":"IF($B396=1,VLOOKUP(C$2,Table1[],3,0),IF($B396=2,VLOOKUP(C$2,Table1[],4,0),IF($B396=3,VLOOKUP(C$2,Table1[],5,0),IF($B396=4,VLOOKUP(C$2,Table1[],5,0),0))))","v":1000000},{"$f":"IF($B396=1,VLOOKUP(D$2,Table1[],3,0),IF($B396=2,VLOOKUP(D$2,Table1[],4,0),IF($B396=3,VLOOKUP(D$2,Table1[],5,0),IF($B396=4,VLOOKUP(D$2,Table1[],5,0),0))))","v":1000000},{"$f":"IF($B396=1,VLOOKUP(E$2,Table1[],3,0),IF($B396=2,VLOOKUP(E$2,Table1[],4,0),IF($B396=3,VLOOKUP(E$2,Table1[],5,0),IF($B396=4,VLOOKUP(E$2,Table1[],5,0),0))))","v":750000},{"$f":"IF($B396=1,VLOOKUP(F$2,Table1[],3,0),IF($B396=2,VLOOKUP(F$2,Table1[],4,0),IF($B396=3,VLOOKUP(F$2,Table1[],5,0),IF($B396=4,VLOOKUP(F$2,Table1[],5,0),0))))","v":500000}]
[2880,4,{"$f":"IF($B397=1,VLOOKUP(C$2,Table1[],3,0),IF($B397=2,VLOOKUP(C$2,Table1[],4,0),IF($B397=3,VLOOKUP(C$2,Table1[],5,0),IF($B397=4,VLOOKUP(C$2,Table1[],5,0),0))))","v":500000},{"$f":"IF($B397=1,VLOOKUP(D$2,Table1[],3,0),IF($B397=2,VLOOKUP(D$2,Table1[],4,0),IF($B397=3,VLOOKUP(D$2,Table1[],5,0),IF($B397=4,VLOOKUP(D$2,Table1[],5,0),0))))","v":400000},{"$f":"IF($B397=1,VLOOKUP(E$2,Table1[],3,0),IF($B397=2,VLOOKUP(E$2,Table1[],4,0),IF($B397=3,VLOOKUP(E$2,Table1[],5,0),IF($B397=4,VLOOKUP(E$2,Table1[],5,0),0))))","v":"N/A"},{"$f":"IF($B397=1,VLOOKUP(F$2,Table1[],3,0),IF($B397=2,VLOOKUP(F$2,Table1[],4,0),IF($B397=3,VLOOKUP(F$2,Table1[],5,0),IF($B397=4,VLOOKUP(F$2,Table1[],5,0),0))))","v":"N/A"}]
[2899,4,{"$f":"IF($B398=1,VLOOKUP(C$2,Table1[],3,0),IF($B398=2,VLOOKUP(C$2,Table1[],4,0),IF($B398=3,VLOOKUP(C$2,Table1[],5,0),IF($B398=4,VLOOKUP(C$2,Table1[],5,0),0))))","v":500000},{"$f":"IF($B398=1,VLOOKUP(D$2,Table1[],3,0),IF($B398=2,VLOOKUP(D$2,Table1[],4,0),IF($B398=3,VLOOKUP(D$2,Table1[],5,0),IF($B398=4,VLOOKUP(D$2,Table1[],5,0),0))))","v":400000},{"$f":"IF($B398=1,VLOOKUP(E$2,Table1[],3,0),IF($B398=2,VLOOKUP(E$2,Table1[],4,0),IF($B398=3,VLOOKUP(E$2,Table1[],5,0),IF($B398=4,VLOOKUP(E$2,Table1[],5,0),0))))","v":"N/A"},{"$f":"IF($B398=1,VLOOKUP(F$2,Table1[],3,0),IF($B398=2,VLOOKUP(F$2,Table1[],4,0),IF($B398=3,VLOOKUP(F$2,Table1[],5,0),IF($B398=4,VLOOKUP(F$2,Table1[],5,0),0))))","v":"N/A"}]
[2900,1,{"$f":"IF($B399=1,VLOOKUP(C$2,Table1[],3,0),IF($B399=2,VLOOKUP(C$2,Table1[],4,0),IF($B399=3,VLOOKUP(C$2,Table1[],5,0),IF($B399=4,VLOOKUP(C$2,Table1[],5,0),0))))","v":2000000},{"$f":"IF($B399=1,VLOOKUP(D$2,Table1[],3,0),IF($B399=2,VLOOKUP(D$2,Table1[],4,0),IF($B399=3,VLOOKUP(D$2,Table1[],5,0),IF($B399=4,VLOOKUP(D$2,Table1[],5,0),0))))","v":2000000},{"$f":"IF($B399=1,VLOOKUP(E$2,Table1[],3,0),IF($B399=2,VLOOKUP(E$2,Table1[],4,0),IF($B399=3,VLOOKUP(E$2,Table1[],5,0),IF($B399=4,VLOOKUP(E$2,Table1[],5,0),0))))","v":1500000},{"$f":"IF($B399=1,VLOOKUP(F$2,Table1[],3,0),IF($B399=2,VLOOKUP(F$2,Table1[],4,0),IF($B399=3,VLOOKUP(F$2,Table1[],5,0),IF($B399=4,VLOOKUP(F$2,Table1[],5,0),0))))","v":800000}]
[2902,1,{"$f":"IF($B400=1,VLOOKUP(C$2,Table1[],3,0),IF($B400=2,VLOOKUP(C$2,Table1[],4,0),IF($B400=3,VLOOKUP(C$2,Table1[],5,0),IF($B400=4,VLOOKUP(C$2,Table1[],5,0),0))))","v":2000000},{"$f":"IF($B400=1,VLOOKUP(D$2,Table1[],3,0),IF($B400=2,VLOOKUP(D$2,Table1[],4,0),IF($B400=3,VLOOKUP(D$2,Table1[],5,0),IF($B400=4,VLOOKUP(D$2,Table1[],5,0),0))))","v":2000000},{"$f":"IF($B400=1,VLOOKUP(E$2,Table1[],3,0),IF($B400=2,VLOOKUP(E$2,Table1[],4,0),IF($B400=3,VLOOKUP(E$2,Table1[],5,0),IF($B400=4,VLOOKUP(E$2,Table1[],5,0),0))))","v":1500000},{"$f":"IF($B400=1,VLOOKUP(F$2,Table1[],3,0),IF($B400=2,VLOOKUP(F$2,Table1[],4,0),IF($B400=3,VLOOKUP(F$2,Table1[],5,0),IF($B400=4,VLOOKUP(F$2,Table1[],5,0),0))))","v":800000}]
[2903,1,{"$f":"IF($B401=1,VLOOKUP(C$2,Table1[],3,0),IF($B401=2,VLOOKUP(C$2,Table1[],4,0),IF($B401=3,VLOOKUP(C$2,Table1[],5,0),IF($B401=4,VLOOKUP(C$2,Table1[],5,0),0))))","v":2000000},{"$f":"IF($B401=1,VLOOKUP(D$2,Table1[],3,0),IF($B401=2,VLOOKUP(D$2,Table1[],4,0),IF($B401=3,VLOOKUP(D$2,Table1[],5,0),IF($B401=4,VLOOKUP(D$2,Table1[],5,0),0))))","v":2000000},{"$f":"IF($B401=1,VLOOKUP(E$2,Table1[],3,0),IF($B401=2,VLOOKUP(E$2,Table1[],4,0),IF($B401=3,VLOOKUP(E$2,Table1[],5,0),IF($B401=4,VLOOKUP(E$2,Table1[],5,0),0))))","v":1500000},{"$f":"IF($B401=1,VLOOKUP(F$2,Table1[],3,0),IF($B401=2,VLOOKUP(F$2,Table1[],4,0),IF($B401=3,VLOOKUP(F$2,Table1[],5,0),IF($B401=4,VLOOKUP(F$2,Table1[],5,0),0))))","v":800000}]
[2904,1,{"$f":"IF($B402=1,VLOOKUP(C$2,Table1[],3,0),IF($B402=2,VLOOKUP(C$2,Table1[],4,0),IF($B402=3,VLOOKUP(C$2,Table1[],5,0),IF($B402=4,VLOOKUP(C$2,Table1[],5,0),0))))","v":2000000},{"$f":"IF($B402=1,VLOOKUP(D$2,Table1[],3,0),IF($B402=2,VLOOKUP(D$2,Table1[],4,0),IF($B402=3,VLOOKUP(D$2,Table1[],5,0),IF($B402=4,VLOOKUP(D$2,Table1[],5,0),0))))","v":2000000},{"$f":"IF($B402=1,VLOOKUP(E$2,Table1[],3,0),IF($B402=2,VLOOKUP(E$2,Table1[],4,0),IF($B402=3,VLOOKUP(E$2,Table1[],5,0),IF($B402=4,VLOOKUP(E$2,Table1[],5,0),0))))","v":1500000},{"$f":"IF($B402=1,VLOOKUP(F$2,Table1[],3,0),IF($B402=2,VLOOKUP(F$2,Table1[],4,0),IF($B402=3,VLOOKUP(F$2,Table1[],5,0),IF($B402=4,VLOOKUP(F$2,Table1[],5,0),0))))","v":800000}]
[2905,1,{"$f":"IF($B403=1,VLOOKUP(C$2,Table1[],3,0),IF($B403=2,VLOOKUP(C$2,Table1[],4,0),IF($B403=3,VLOOKUP(C$2,Table1[],5,0),IF($B403=4,VLOOKUP(C$2,Table1[],5,0),0))))","v":2000000},{"$f":"IF($B403=1,VLOOKUP(D$2,Table1[],3,0),IF($B403=2,VLOOKUP(D$2,Table1[],4,0),IF($B403=3,VLOOKUP(D$2,Table1[],5,0),IF($B403=4,VLOOKUP(D$2,Table1[],5,0),0))))","v":2000000},{"$f":"IF($B403=1,VLOOKUP(E$2,Table1[],3,0),IF($B403=2,VLOOKUP(E$2,Table1[],4,0),IF($B403=3,VLOOKUP(E$2,Table1[],5,0),IF($B403=4,VLOOKUP(E$2,Table1[],5,0),0))))","v":1500000},{"$f":"IF($B403=1,VLOOKUP(F$2,Table1[],3,0),IF($B403=2,VLOOKUP(F$2,Table1[],4,0),IF($B403=3,VLOOKUP(F$2,Table1[],5,0),IF($B403=4,VLOOKUP(F$2,Table1[],5,0),0))))","v":800000}]
[2906,1,{"$f":"IF($B404=1,VLOOKUP(C$2,Table1[],3,0),IF($B404=2,VLOOKUP(C$2,Table1[],4,0),IF($B404=3,VLOOKUP(C$2,Table1[],5,0),IF($B404=4,VLOOKUP(C$2,Table1[],5,0),0))))","v":2000000},{"$f":"IF($B404=1,VLOOKUP(D$2,Table1[],3,0),IF($B404=2,VLOOKUP(D$2,Table1[],4,0),IF($B404=3,VLOOKUP(D$2,Table1[],5,0),IF($B404=4,VLOOKUP(D$2,Table1[],5,0),0))))","v":2000000},{"$f":"IF($B404=1,VLOOKUP(E$2,Table1[],3,0),IF($B404=2,VLOOKUP(E$2,Table1[],4,0),IF($B404=3,VLOOKUP(E$2,Table1[],5,0),IF($B404=4,VLOOKUP(E$2,Table1[],5,0),0))))","v":1500000},{"$f":"IF($B404=1,VLOOKUP(F$2,Table1[],3,0),IF($B404=2,VLOOKUP(F$2,Table1[],4,0),IF($B404=3,VLOOKUP(F$2,Table1[],5,0),IF($B404=4,VLOOKUP(F$2,Table1[],5,0),0))))","v":800000}]
[2911,1,{"$f":"IF($B405=1,VLOOKUP(C$2,Table1[],3,0),IF($B405=2,VLOOKUP(C$2,Table1[],4,0),IF($B405=3,VLOOKUP(C$2,Table1[],5,0),IF($B405=4,VLOOKUP(C$2,Table1[],5,0),0))))","v":2000000},{"$f":"IF($B405=1,VLOOKUP(D$2,Table1[],3,0),IF($B405=2,VLOOKUP(D$2,Table1[],4,0),IF($B405=3,VLOOKUP(D$2,Table1[],5,0),IF($B405=4,VLOOKUP(D$2,Table1[],5,0),0))))","v":2000000},{"$f":"IF($B405=1,VLOOKUP(E$2,Table1[],3,0),IF($B405=2,VLOOKUP(E$2,Table1[],4,0),IF($B405=3,VLOOKUP(E$2,Table1[],5,0),IF($B405=4,VLOOKUP(E$2,Table1[],5,0),0))))","v":1500000},{"$f":"IF($B405=1,VLOOKUP(F$2,Table1[],3,0),IF($B405=2,VLOOKUP(F$2,Table1[],4,0),IF($B405=3,VLOOKUP(F$2,Table1[],5,0),IF($B405=4,VLOOKUP(F$2,Table1[],5,0),0))))","v":800000}]
[2912,1,{"$f":"IF($B406=1,VLOOKUP(C$2,Table1[],3,0),IF($B406=2,VLOOKUP(C$2,Table1[],4,0),IF($B406=3,VLOOKUP(C$2,Table1[],5,0),IF($B406=4,VLOOKUP(C$2,Table1[],5,0),0))))","v":2000000},{"$f":"IF($B406=1,VLOOKUP(D$2,Table1[],3,0),IF($B406=2,VLOOKUP(D$2,Table1[],4,0),IF($B406=3,VLOOKUP(D$2,Table1[],5,0),IF($B406=4,VLOOKUP(D$2,Table1[],5,0),0))))","v":2000000},{"$f":"IF($B406=1,VLOOKUP(E$2,Table1[],3,0),IF($B406=2,VLOOKUP(E$2,Table1[],4,0),IF($B406=3,VLOOKUP(E$2,Table1[],5,0),IF($B406=4,VLOOKUP(E$2,Table1[],5,0),0))))","v":1500000},{"$f":"IF($B406=1,VLOOKUP(F$2,Table1[],3,0),IF($B406=2,VLOOKUP(F$2,Table1[],4,0),IF($B406=3,VLOOKUP(F$2,Table1[],5,0),IF($B406=4,VLOOKUP(F$2,Table1[],5,0),0))))","v":800000}]
[2913,1,{"$f":"IF($B407=1,VLOOKUP(C$2,Table1[],3,0),IF($B407=2,VLOOKUP(C$2,Table1[],4,0),IF($B407=3,VLOOKUP(C$2,Table1[],5,0),IF($B407=4,VLOOKUP(C$2,Table1[],5,0),0))))","v":2000000},{"$f":"IF($B407=1,VLOOKUP(D$2,Table1[],3,0),IF($B407=2,VLOOKUP(D$2,Table1[],4,0),IF($B407=3,VLOOKUP(D$2,Table1[],5,0),IF($B407=4,VLOOKUP(D$2,Table1[],5,0),0))))","v":2000000},{"$f":"IF($B407=1,VLOOKUP(E$2,Table1[],3,0),IF($B407=2,VLOOKUP(E$2,Table1[],4,0),IF($B407=3,VLOOKUP(E$2,Table1[],5,0),IF($B407=4,VLOOKUP(E$2,Table1[],5,0),0))))","v":1500000},{"$f":"IF($B407=1,VLOOKUP(F$2,Table1[],3,0),IF($B407=2,VLOOKUP(F$2,Table1[],4,0),IF($B407=3,VLOOKUP(F$2,Table1[],5,0),IF($B407=4,VLOOKUP(F$2,Table1[],5,0),0))))","v":800000}]
[2914,1,{"$f":"IF($B408=1,VLOOKUP(C$2,Table1[],3,0),IF($B408=2,VLOOKUP(C$2,Table1[],4,0),IF($B408=3,VLOOKUP(C$2,Table1[],5,0),IF($B408=4,VLOOKUP(C$2,Table1[],5,0),0))))","v":2000000},{"$f":"IF($B408=1,VLOOKUP(D$2,Table1[],3,0),IF($B408=2,VLOOKUP(D$2,Table1[],4,0),IF($B408=3,VLOOKUP(D$2,Table1[],5,0),IF($B408=4,VLOOKUP(D$2,Table1[],5,0),0))))","v":2000000},{"$f":"IF($B408=1,VLOOKUP(E$2,Table1[],3,0),IF($B408=2,VLOOKUP(E$2,Table1[],4,0),IF($B408=3,VLOOKUP(E$2,Table1[],5,0),IF($B408=4,VLOOKUP(E$2,Table1[],5,0),0))))","v":1500000},{"$f":"IF($B408=1,VLOOKUP(F$2,Table1[],3,0),IF($B408=2,VLOOKUP(F$2,Table1[],4,0),IF($B408=3,VLOOKUP(F$2,Table1[],5,0),IF($B408=4,VLOOKUP(F$2,Table1[],5,0),0))))","v":800000}]
[3000,1,{"$f":"IF($B409=1,VLOOKUP(C$2,Table1[],3,0),IF($B409=2,VLOOKUP(C$2,Table1[],4,0),IF($B409=3,VLOOKUP(C$2,Table1[],5,0),IF($B409=4,VLOOKUP(C$2,Table1[],5,0),0))))","v":2000000},{"$f":"IF($B409=1,VLOOKUP(D$2,Table1[],3,0),IF($B409=2,VLOOKUP(D$2,Table1[],4,0),IF($B409=3,VLOOKUP(D$2,Table1[],5,0),IF($B409=4,VLOOKUP(D$2,Table1[],5,0),0))))","v":2000000},{"$f":"IF($B409=1,VLOOKUP(E$2,Table1[],3,0),IF($B409=2,VLOOKUP(E$2,Table1[],4,0),IF($B409=3,VLOOKUP(E$2,Table1[],5,0),IF($B409=4,VLOOKUP(E$2,Table1[],5,0),0))))","v":1500000},{"$f":"IF($B409=1,VLOOKUP(F$2,Table1[],3,0),IF($B409=2,VLOOKUP(F$2,Table1[],4,0),IF($B409=3,VLOOKUP(F$2,Table1[],5,0),IF($B409=4,VLOOKUP(F$2,Table1[],5,0),0))))","v":800000}]
[3002,1,{"$f":"IF($B410=1,VLOOKUP(C$2,Table1[],3,0),IF($B410=2,VLOOKUP(C$2,Table1[],4,0),IF($B410=3,VLOOKUP(C$2,Table1[],5,0),IF($B410=4,VLOOKUP(C$2,Table1[],5,0),0))))","v":2000000},{"$f":"IF($B410=1,VLOOKUP(D$2,Table1[],3,0),IF($B410=2,VLOOKUP(D$2,Table1[],4,0),IF($B410=3,VLOOKUP(D$2,Table1[],5,0),IF($B410=4,VLOOKUP(D$2,Table1[],5,0),0))))","v":2000000},{"$f":"IF($B410=1,VLOOKUP(E$2,Table1[],3,0),IF($B410=2,VLOOKUP(E$2,Table1[],4,0),IF($B410=3,VLOOKUP(E$2,Table1[],5,0),IF($B410=4,VLOOKUP(E$2,Table1[],5,0),0))))","v":1500000},{"$f":"IF($B410=1,VLOOKUP(F$2,Table1[],3,0),IF($B410=2,VLOOKUP(F$2,Table1[],4,0),IF($B410=3,VLOOKUP(F$2,Table1[],5,0),IF($B410=4,VLOOKUP(F$2,Table1[],5,0),0))))","v":800000}]
[3003,1,{"$f":"IF($B411=1,VLOOKUP(C$2,Table1[],3,0),IF($B411=2,VLOOKUP(C$2,Table1[],4,0),IF($B411=3,VLOOKUP(C$2,Table1[],5,0),IF($B411=4,VLOOKUP(C$2,Table1[],5,0),0))))","v":2000000},{"$f":"IF($B411=1,VLOOKUP(D$2,Table1[],3,0),IF($B411=2,VLOOKUP(D$2,Table1[],4,0),IF($B411=3,VLOOKUP(D$2,Table1[],5,0),IF($B411=4,VLOOKUP(D$2,Table1[],5,0),0))))","v":2000000},{"$f":"IF($B411=1,VLOOKUP(E$2,Table1[],3,0),IF($B411=2,VLOOKUP(E$2,Table1[],4,0),IF($B411=3,VLOOKUP(E$2,Table1[],5,0),IF($B411=4,VLOOKUP(E$2,Table1[],5,0),0))))","v":1500000},{"$f":"IF($B411=1,VLOOKUP(F$2,Table1[],3,0),IF($B411=2,VLOOKUP(F$2,Table1[],4,0),IF($B411=3,VLOOKUP(F$2,Table1[],5,0),IF($B411=4,VLOOKUP(F$2,Table1[],5,0),0))))","v":800000}]
[3004,1,{"$f":"IF($B412=1,VLOOKUP(C$2,Table1[],3,0),IF($B412=2,VLOOKUP(C$2,Table1[],4,0),IF($B412=3,VLOOKUP(C$2,Table1[],5,0),IF($B412=4,VLOOKUP(C$2,Table1[],5,0),0))))","v":2000000},{"$f":"IF($B412=1,VLOOKUP(D$2,Table1[],3,0),IF($B412=2,VLOOKUP(D$2,Table1[],4,0),IF($B412=3,VLOOKUP(D$2,Table1[],5,0),IF($B412=4,VLOOKUP(D$2,Table1[],5,0),0))))","v":2000000},{"$f":"IF($B412=1,VLOOKUP(E$2,Table1[],3,0),IF($B412=2,VLOOKUP(E$2,Table1[],4,0),IF($B412=3,VLOOKUP(E$2,Table1[],5,0),IF($B412=4,VLOOKUP(E$2,Table1[],5,0),0))))","v":1500000},{"$f":"IF($B412=1,VLOOKUP(F$2,Table1[],3,0),IF($B412=2,VLOOKUP(F$2,Table1[],4,0),IF($B412=3,VLOOKUP(F$2,Table1[],5,0),IF($B412=4,VLOOKUP(F$2,Table1[],5,0),0))))","v":800000}]
[3006,1,{"$f":"IF($B413=1,VLOOKUP(C$2,Table1[],3,0),IF($B413=2,VLOOKUP(C$2,Table1[],4,0),IF($B413=3,VLOOKUP(C$2,Table1[],5,0),IF($B413=4,VLOOKUP(C$2,Table1[],5,0),0))))","v":2000000},{"$f":"IF($B413=1,VLOOKUP(D$2,Table1[],3,0),IF($B413=2,VLOOKUP(D$2,Table1[],4,0),IF($B413=3,VLOOKUP(D$2,Table1[],5,0),IF($B413=4,VLOOKUP(D$2,Table1[],5,0),0))))","v":2000000},{"$f":"IF($B413=1,VLOOKUP(E$2,Table1[],3,0),IF($B413=2,VLOOKUP(E$2,Table1[],4,0),IF($B413=3,VLOOKUP(E$2,Table1[],5,0),IF($B413=4,VLOOKUP(E$2,Table1[],5,0),0))))","v":1500000},{"$f":"IF($B413=1,VLOOKUP(F$2,Table1[],3,0),IF($B413=2,VLOOKUP(F$2,Table1[],4,0),IF($B413=3,VLOOKUP(F$2,Table1[],5,0),IF($B413=4,VLOOKUP(F$2,Table1[],5,0),0))))","v":800000}]
[3008,1,{"$f":"IF($B414=1,VLOOKUP(C$2,Table1[],3,0),IF($B414=2,VLOOKUP(C$2,Table1[],4,0),IF($B414=3,VLOOKUP(C$2,Table1[],5,0),IF($B414=4,VLOOKUP(C$2,Table1[],5,0),0))))","v":2000000},{"$f":"IF($B414=1,VLOOKUP(D$2,Table1[],3,0),IF($B414=2,VLOOKUP(D$2,Table1[],4,0),IF($B414=3,VLOOKUP(D$2,Table1[],5,0),IF($B414=4,VLOOKUP(D$2,Table1[],5,0),0))))","v":2000000},{"$f":"IF($B414=1,VLOOKUP(E$2,Table1[],3,0),IF($B414=2,VLOOKUP(E$2,Table1[],4,0),IF($B414=3,VLOOKUP(E$2,Table1[],5,0),IF($B414=4,VLOOKUP(E$2,Table1[],5,0),0))))","v":1500000},{"$f":"IF($B414=1,VLOOKUP(F$2,Table1[],3,0),IF($B414=2,VLOOKUP(F$2,Table1[],4,0),IF($B414=3,VLOOKUP(F$2,Table1[],5,0),IF($B414=4,VLOOKUP(F$2,Table1[],5,0),0))))","v":800000}]
[3011,1,{"$f":"IF($B415=1,VLOOKUP(C$2,Table1[],3,0),IF($B415=2,VLOOKUP(C$2,Table1[],4,0),IF($B415=3,VLOOKUP(C$2,Table1[],5,0),IF($B415=4,VLOOKUP(C$2,Table1[],5,0),0))))","v":2000000},{"$f":"IF($B415=1,VLOOKUP(D$2,Table1[],3,0),IF($B415=2,VLOOKUP(D$2,Table1[],4,0),IF($B415=3,VLOOKUP(D$2,Table1[],5,0),IF($B415=4,VLOOKUP(D$2,Table1[],5,0),0))))","v":2000000},{"$f":"IF($B415=1,VLOOKUP(E$2,Table1[],3,0),IF($B415=2,VLOOKUP(E$2,Table1[],4,0),IF($B415=3,VLOOKUP(E$2,Table1[],5,0),IF($B415=4,VLOOKUP(E$2,Table1[],5,0),0))))","v":1500000},{"$f":"IF($B415=1,VLOOKUP(F$2,Table1[],3,0),IF($B415=2,VLOOKUP(F$2,Table1[],4,0),IF($B415=3,VLOOKUP(F$2,Table1[],5,0),IF($B415=4,VLOOKUP(F$2,Table1[],5,0),0))))","v":800000}]
[3012,1,{"$f":"IF($B416=1,VLOOKUP(C$2,Table1[],3,0),IF($B416=2,VLOOKUP(C$2,Table1[],4,0),IF($B416=3,VLOOKUP(C$2,Table1[],5,0),IF($B416=4,VLOOKUP(C$2,Table1[],5,0),0))))","v":2000000},{"$f":"IF($B416=1,VLOOKUP(D$2,Table1[],3,0),IF($B416=2,VLOOKUP(D$2,Table1[],4,0),IF($B416=3,VLOOKUP(D$2,Table1[],5,0),IF($B416=4,VLOOKUP(D$2,Table1[],5,0),0))))","v":2000000},{"$f":"IF($B416=1,VLOOKUP(E$2,Table1[],3,0),IF($B416=2,VLOOKUP(E$2,Table1[],4,0),IF($B416=3,VLOOKUP(E$2,Table1[],5,0),IF($B416=4,VLOOKUP(E$2,Table1[],5,0),0))))","v":1500000},{"$f":"IF($B416=1,VLOOKUP(F$2,Table1[],3,0),IF($B416=2,VLOOKUP(F$2,Table1[],4,0),IF($B416=3,VLOOKUP(F$2,Table1[],5,0),IF($B416=4,VLOOKUP(F$2,Table1[],5,0),0))))","v":800000}]
[3013,1,{"$f":"IF($B417=1,VLOOKUP(C$2,Table1[],3,0),IF($B417=2,VLOOKUP(C$2,Table1[],4,0),IF($B417=3,VLOOKUP(C$2,Table1[],5,0),IF($B417=4,VLOOKUP(C$2,Table1[],5,0),0))))","v":2000000},{"$f":"IF($B417=1,VLOOKUP(D$2,Table1[],3,0),IF($B417=2,VLOOKUP(D$2,Table1[],4,0),IF($B417=3,VLOOKUP(D$2,Table1[],5,0),IF($B417=4,VLOOKUP(D$2,Table1[],5,0),0))))","v":2000000},{"$f":"IF($B417=1,VLOOKUP(E$2,Table1[],3,0),IF($B417=2,VLOOKUP(E$2,Table1[],4,0),IF($B417=3,VLOOKUP(E$2,Table1[],5,0),IF($B417=4,VLOOKUP(E$2,Table1[],5,0),0))))","v":1500000},{"$f":"IF($B417=1,VLOOKUP(F$2,Table1[],3,0),IF($B417=2,VLOOKUP(F$2,Table1[],4,0),IF($B417=3,VLOOKUP(F$2,Table1[],5,0),IF($B417=4,VLOOKUP(F$2,Table1[],5,0),0))))","v":800000}]
[3015,1,{"$f":"IF($B418=1,VLOOKUP(C$2,Table1[],3,0),IF($B418=2,VLOOKUP(C$2,Table1[],4,0),IF($B418=3,VLOOKUP(C$2,Table1[],5,0),IF($B418=4,VLOOKUP(C$2,Table1[],5,0),0))))","v":2000000},{"$f":"IF($B418=1,VLOOKUP(D$2,Table1[],3,0),IF($B418=2,VLOOKUP(D$2,Table1[],4,0),IF($B418=3,VLOOKUP(D$2,Table1[],5,0),IF($B418=4,VLOOKUP(D$2,Table1[],5,0),0))))","v":2000000},{"$f":"IF($B418=1,VLOOKUP(E$2,Table1[],3,0),IF($B418=2,VLOOKUP(E$2,Table1[],4,0),IF($B418=3,VLOOKUP(E$2,Table1[],5,0),IF($B418=4,VLOOKUP(E$2,Table1[],5,0),0))))","v":1500000},{"$f":"IF($B418=1,VLOOKUP(F$2,Table1[],3,0),IF($B418=2,VLOOKUP(F$2,Table1[],4,0),IF($B418=3,VLOOKUP(F$2,Table1[],5,0),IF($B418=4,VLOOKUP(F$2,Table1[],5,0),0))))","v":800000}]
[3016,1,{"$f":"IF($B419=1,VLOOKUP(C$2,Table1[],3,0),IF($B419=2,VLOOKUP(C$2,Table1[],4,0),IF($B419=3,VLOOKUP(C$2,Table1[],5,0),IF($B419=4,VLOOKUP(C$2,Table1[],5,0),0))))","v":2000000},{"$f":"IF($B419=1,VLOOKUP(D$2,Table1[],3,0),IF($B419=2,VLOOKUP(D$2,Table1[],4,0),IF($B419=3,VLOOKUP(D$2,Table1[],5,0),IF($B419=4,VLOOKUP(D$2,Table1[],5,0),0))))","v":2000000},{"$f":"IF($B419=1,VLOOKUP(E$2,Table1[],3,0),IF($B419=2,VLOOKUP(E$2,Table1[],4,0),IF($B419=3,VLOOKUP(E$2,Table1[],5,0),IF($B419=4,VLOOKUP(E$2,Table1[],5,0),0))))","v":1500000},{"$f":"IF($B419=1,VLOOKUP(F$2,Table1[],3,0),IF($B419=2,VLOOKUP(F$2,Table1[],4,0),IF($B419=3,VLOOKUP(F$2,Table1[],5,0),IF($B419=4,VLOOKUP(F$2,Table1[],5,0),0))))","v":800000}]
[3018,1,{"$f":"IF($B420=1,VLOOKUP(C$2,Table1[],3,0),IF($B420=2,VLOOKUP(C$2,Table1[],4,0),IF($B420=3,VLOOKUP(C$2,Table1[],5,0),IF($B420=4,VLOOKUP(C$2,Table1[],5,0),0))))","v":2000000},{"$f":"IF($B420=1,VLOOKUP(D$2,Table1[],3,0),IF($B420=2,VLOOKUP(D$2,Table1[],4,0),IF($B420=3,VLOOKUP(D$2,Table1[],5,0),IF($B420=4,VLOOKUP(D$2,Table1[],5,0),0))))","v":2000000},{"$f":"IF($B420=1,VLOOKUP(E$2,Table1[],3,0),IF($B420=2,VLOOKUP(E$2,Table1[],4,0),IF($B420=3,VLOOKUP(E$2,Table1[],5,0),IF($B420=4,VLOOKUP(E$2,Table1[],5,0),0))))","v":1500000},{"$f":"IF($B420=1,VLOOKUP(F$2,Table1[],3,0),IF($B420=2,VLOOKUP(F$2,Table1[],4,0),IF($B420=3,VLOOKUP(F$2,Table1[],5,0),IF($B420=4,VLOOKUP(F$2,Table1[],5,0),0))))","v":800000}]
[3019,1,{"$f":"IF($B421=1,VLOOKUP(C$2,Table1[],3,0),IF($B421=2,VLOOKUP(C$2,Table1[],4,0),IF($B421=3,VLOOKUP(C$2,Table1[],5,0),IF($B421=4,VLOOKUP(C$2,Table1[],5,0),0))))","v":2000000},{"$f":"IF($B421=1,VLOOKUP(D$2,Table1[],3,0),IF($B421=2,VLOOKUP(D$2,Table1[],4,0),IF($B421=3,VLOOKUP(D$2,Table1[],5,0),IF($B421=4,VLOOKUP(D$2,Table1[],5,0),0))))","v":2000000},{"$f":"IF($B421=1,VLOOKUP(E$2,Table1[],3,0),IF($B421=2,VLOOKUP(E$2,Table1[],4,0),IF($B421=3,VLOOKUP(E$2,Table1[],5,0),IF($B421=4,VLOOKUP(E$2,Table1[],5,0),0))))","v":1500000},{"$f":"IF($B421=1,VLOOKUP(F$2,Table1[],3,0),IF($B421=2,VLOOKUP(F$2,Table1[],4,0),IF($B421=3,VLOOKUP(F$2,Table1[],5,0),IF($B421=4,VLOOKUP(F$2,Table1[],5,0),0))))","v":800000}]
[3020,1,{"$f":"IF($B422=1,VLOOKUP(C$2,Table1[],3,0),IF($B422=2,VLOOKUP(C$2,Table1[],4,0),IF($B422=3,VLOOKUP(C$2,Table1[],5,0),IF($B422=4,VLOOKUP(C$2,Table1[],5,0),0))))","v":2000000},{"$f":"IF($B422=1,VLOOKUP(D$2,Table1[],3,0),IF($B422=2,VLOOKUP(D$2,Table1[],4,0),IF($B422=3,VLOOKUP(D$2,Table1[],5,0),IF($B422=4,VLOOKUP(D$2,Table1[],5,0),0))))","v":2000000},{"$f":"IF($B422=1,VLOOKUP(E$2,Table1[],3,0),IF($B422=2,VLOOKUP(E$2,Table1[],4,0),IF($B422=3,VLOOKUP(E$2,Table1[],5,0),IF($B422=4,VLOOKUP(E$2,Table1[],5,0),0))))","v":1500000},{"$f":"IF($B422=1,VLOOKUP(F$2,Table1[],3,0),IF($B422=2,VLOOKUP(F$2,Table1[],4,0),IF($B422=3,VLOOKUP(F$2,Table1[],5,0),IF($B422=4,VLOOKUP(F$2,Table1[],5,0),0))))","v":800000}]
[3021,1,{"$f":"IF($B423=1,VLOOKUP(C$2,Table1[],3,0),IF($B423=2,VLOOKUP(C$2,Table1[],4,0),IF($B423=3,VLOOKUP(C$2,Table1[],5,0),IF($B423=4,VLOOKUP(C$2,Table1[],5,0),0))))","v":2000000},{"$f":"IF($B423=1,VLOOKUP(D$2,Table1[],3,0),IF($B423=2,VLOOKUP(D$2,Table1[],4,0),IF($B423=3,VLOOKUP(D$2,Table1[],5,0),IF($B423=4,VLOOKUP(D$2,Table1[],5,0),0))))","v":2000000},{"$f":"IF($B423=1,VLOOKUP(E$2,Table1[],3,0),IF($B423=2,VLOOKUP(E$2,Table1[],4,0),IF($B423=3,VLOOKUP(E$2,Table1[],5,0),IF($B423=4,VLOOKUP(E$2,Table1[],5,0),0))))","v":1500000},{"$f":"IF($B423=1,VLOOKUP(F$2,Table1[],3,0),IF($B423=2,VLOOKUP(F$2,Table1[],4,0),IF($B423=3,VLOOKUP(F$2,Table1[],5,0),IF($B423=4,VLOOKUP(F$2,Table1[],5,0),0))))","v":800000}]
[3022,1,{"$f":"IF($B424=1,VLOOKUP(C$2,Table1[],3,0),IF($B424=2,VLOOKUP(C$2,Table1[],4,0),IF($B424=3,VLOOKUP(C$2,Table1[],5,0),IF($B424=4,VLOOKUP(C$2,Table1[],5,0),0))))","v":2000000},{"$f":"IF($B424=1,VLOOKUP(D$2,Table1[],3,0),IF($B424=2,VLOOKUP(D$2,Table1[],4,0),IF($B424=3,VLOOKUP(D$2,Table1[],5,0),IF($B424=4,VLOOKUP(D$2,Table1[],5,0),0))))","v":2000000},{"$f":"IF($B424=1,VLOOKUP(E$2,Table1[],3,0),IF($B424=2,VLOOKUP(E$2,Table1[],4,0),IF($B424=3,VLOOKUP(E$2,Table1[],5,0),IF($B424=4,VLOOKUP(E$2,Table1[],5,0),0))))","v":1500000},{"$f":"IF($B424=1,VLOOKUP(F$2,Table1[],3,0),IF($B424=2,VLOOKUP(F$2,Table1[],4,0),IF($B424=3,VLOOKUP(F$2,Table1[],5,0),IF($B424=4,VLOOKUP(F$2,Table1[],5,0),0))))","v":800000}]
[3023,1,{"$f":"IF($B425=1,VLOOKUP(C$2,Table1[],3,0),IF($B425=2,VLOOKUP(C$2,Table1[],4,0),IF($B425=3,VLOOKUP(C$2,Table1[],5,0),IF($B425=4,VLOOKUP(C$2,Table1[],5,0),0))))","v":2000000},{"$f":"IF($B425=1,VLOOKUP(D$2,Table1[],3,0),IF($B425=2,VLOOKUP(D$2,Table1[],4,0),IF($B425=3,VLOOKUP(D$2,Table1[],5,0),IF($B425=4,VLOOKUP(D$2,Table1[],5,0),0))))","v":2000000},{"$f":"IF($B425=1,VLOOKUP(E$2,Table1[],3,0),IF($B425=2,VLOOKUP(E$2,Table1[],4,0),IF($B425=3,VLOOKUP(E$2,Table1[],5,0),IF($B425=4,VLOOKUP(E$2,Table1[],5,0),0))))","v":1500000},{"$f":"IF($B425=1,VLOOKUP(F$2,Table1[],3,0),IF($B425=2,VLOOKUP(F$2,Table1[],4,0),IF($B425=3,VLOOKUP(F$2,Table1[],5,0),IF($B425=4,VLOOKUP(F$2,Table1[],5,0),0))))","v":800000}]
[3024,1,{"$f":"IF($B426=1,VLOOKUP(C$2,Table1[],3,0),IF($B426=2,VLOOKUP(C$2,Table1[],4,0),IF($B426=3,VLOOKUP(C$2,Table1[],5,0),IF($B426=4,VLOOKUP(C$2,Table1[],5,0),0))))","v":2000000},{"$f":"IF($B426=1,VLOOKUP(D$2,Table1[],3,0),IF($B426=2,VLOOKUP(D$2,Table1[],4,0),IF($B426=3,VLOOKUP(D$2,Table1[],5,0),IF($B426=4,VLOOKUP(D$2,Table1[],5,0),0))))","v":2000000},{"$f":"IF($B426=1,VLOOKUP(E$2,Table1[],3,0),IF($B426=2,VLOOKUP(E$2,Table1[],4,0),IF($B426=3,VLOOKUP(E$2,Table1[],5,0),IF($B426=4,VLOOKUP(E$2,Table1[],5,0),0))))","v":1500000},{"$f":"IF($B426=1,VLOOKUP(F$2,Table1[],3,0),IF($B426=2,VLOOKUP(F$2,Table1[],4,0),IF($B426=3,VLOOKUP(F$2,Table1[],5,0),IF($B426=4,VLOOKUP(F$2,Table1[],5,0),0))))","v":800000}]
[3025,1,{"$f":"IF($B427=1,VLOOKUP(C$2,Table1[],3,0),IF($B427=2,VLOOKUP(C$2,Table1[],4,0),IF($B427=3,VLOOKUP(C$2,Table1[],5,0),IF($B427=4,VLOOKUP(C$2,Table1[],5,0),0))))","v":2000000},{"$f":"IF($B427=1,VLOOKUP(D$2,Table1[],3,0),IF($B427=2,VLOOKUP(D$2,Table1[],4,0),IF($B427=3,VLOOKUP(D$2,Table1[],5,0),IF($B427=4,VLOOKUP(D$2,Table1[],5,0),0))))","v":2000000},{"$f":"IF($B427=1,VLOOKUP(E$2,Table1[],3,0),IF($B427=2,VLOOKUP(E$2,Table1[],4,0),IF($B427=3,VLOOKUP(E$2,Table1[],5,0),IF($B427=4,VLOOKUP(E$2,Table1[],5,0),0))))","v":1500000},{"$f":"IF($B427=1,VLOOKUP(F$2,Table1[],3,0),IF($B427=2,VLOOKUP(F$2,Table1[],4,0),IF($B427=3,VLOOKUP(F$2,Table1[],5,0),IF($B427=4,VLOOKUP(F$2,Table1[],5,0),0))))","v":800000}]
[3026,1,{"$f":"IF($B428=1,VLOOKUP(C$2,Table1[],3,0),IF($B428=2,VLOOKUP(C$2,Table1[],4,0),IF($B428=3,VLOOKUP(C$2,Table1[],5,0),IF($B428=4,VLOOKUP(C$2,Table1[],5,0),0))))","v":2000000},{"$f":"IF($B428=1,VLOOKUP(D$2,Table1[],3,0),IF($B428=2,VLOOKUP(D$2,Table1[],4,0),IF($B428=3,VLOOKUP(D$2,Table1[],5,0),IF($B428=4,VLOOKUP(D$2,Table1[],5,0),0))))","v":2000000},{"$f":"IF($B428=1,VLOOKUP(E$2,Table1[],3,0),IF($B428=2,VLOOKUP(E$2,Table1[],4,0),IF($B428=3,VLOOKUP(E$2,Table1[],5,0),IF($B428=4,VLOOKUP(E$2,Table1[],5,0),0))))","v":1500000},{"$f":"IF($B428=1,VLOOKUP(F$2,Table1[],3,0),IF($B428=2,VLOOKUP(F$2,Table1[],4,0),IF($B428=3,VLOOKUP(F$2,Table1[],5,0),IF($B428=4,VLOOKUP(F$2,Table1[],5,0),0))))","v":800000}]
[3027,1,{"$f":"IF($B429=1,VLOOKUP(C$2,Table1[],3,0),IF($B429=2,VLOOKUP(C$2,Table1[],4,0),IF($B429=3,VLOOKUP(C$2,Table1[],5,0),IF($B429=4,VLOOKUP(C$2,Table1[],5,0),0))))","v":2000000},{"$f":"IF($B429=1,VLOOKUP(D$2,Table1[],3,0),IF($B429=2,VLOOKUP(D$2,Table1[],4,0),IF($B429=3,VLOOKUP(D$2,Table1[],5,0),IF($B429=4,VLOOKUP(D$2,Table1[],5,0),0))))","v":2000000},{"$f":"IF($B429=1,VLOOKUP(E$2,Table1[],3,0),IF($B429=2,VLOOKUP(E$2,Table1[],4,0),IF($B429=3,VLOOKUP(E$2,Table1[],5,0),IF($B429=4,VLOOKUP(E$2,Table1[],5,0),0))))","v":1500000},{"$f":"IF($B429=1,VLOOKUP(F$2,Table1[],3,0),IF($B429=2,VLOOKUP(F$2,Table1[],4,0),IF($B429=3,VLOOKUP(F$2,Table1[],5,0),IF($B429=4,VLOOKUP(F$2,Table1[],5,0),0))))","v":800000}]
[3028,1,{"$f":"IF($B430=1,VLOOKUP(C$2,Table1[],3,0),IF($B430=2,VLOOKUP(C$2,Table1[],4,0),IF($B430=3,VLOOKUP(C$2,Table1[],5,0),IF($B430=4,VLOOKUP(C$2,Table1[],5,0),0))))","v":2000000},{"$f":"IF($B430=1,VLOOKUP(D$2,Table1[],3,0),IF($B430=2,VLOOKUP(D$2,Table1[],4,0),IF($B430=3,VLOOKUP(D$2,Table1[],5,0),IF($B430=4,VLOOKUP(D$2,Table1[],5,0),0))))","v":2000000},{"$f":"IF($B430=1,VLOOKUP(E$2,Table1[],3,0),IF($B430=2,VLOOKUP(E$2,Table1[],4,0),IF($B430=3,VLOOKUP(E$2,Table1[],5,0),IF($B430=4,VLOOKUP(E$2,Table1[],5,0),0))))","v":1500000},{"$f":"IF($B430=1,VLOOKUP(F$2,Table1[],3,0),IF($B430=2,VLOOKUP(F$2,Table1[],4,0),IF($B430=3,VLOOKUP(F$2,Table1[],5,0),IF($B430=4,VLOOKUP(F$2,Table1[],5,0),0))))","v":800000}]
[3029,1,{"$f":"IF($B431=1,VLOOKUP(C$2,Table1[],3,0),IF($B431=2,VLOOKUP(C$2,Table1[],4,0),IF($B431=3,VLOOKUP(C$2,Table1[],5,0),IF($B431=4,VLOOKUP(C$2,Table1[],5,0),0))))","v":2000000},{"$f":"IF($B431=1,VLOOKUP(D$2,Table1[],3,0),IF($B431=2,VLOOKUP(D$2,Table1[],4,0),IF($B431=3,VLOOKUP(D$2,Table1[],5,0),IF($B431=4,VLOOKUP(D$2,Table1[],5,0),0))))","v":2000000},{"$f":"IF($B431=1,VLOOKUP(E$2,Table1[],3,0),IF($B431=2,VLOOKUP(E$2,Table1[],4,0),IF($B431=3,VLOOKUP(E$2,Table1[],5,0),IF($B431=4,VLOOKUP(E$2,Table1[],5,0),0))))","v":1500000},{"$f":"IF($B431=1,VLOOKUP(F$2,Table1[],3,0),IF($B431=2,VLOOKUP(F$2,Table1[],4,0),IF($B431=3,VLOOKUP(F$2,Table1[],5,0),IF($B431=4,VLOOKUP(F$2,Table1[],5,0),0))))","v":800000}]
[3030,1,{"$f":"IF($B432=1,VLOOKUP(C$2,Table1[],3,0),IF($B432=2,VLOOKUP(C$2,Table1[],4,0),IF($B432=3,VLOOKUP(C$2,Table1[],5,0),IF($B432=4,VLOOKUP(C$2,Table1[],5,0),0))))","v":2000000},{"$f":"IF($B432=1,VLOOKUP(D$2,Table1[],3,0),IF($B432=2,VLOOKUP(D$2,Table1[],4,0),IF($B432=3,VLOOKUP(D$2,Table1[],5,0),IF($B432=4,VLOOKUP(D$2,Table1[],5,0),0))))","v":2000000},{"$f":"IF($B432=1,VLOOKUP(E$2,Table1[],3,0),IF($B432=2,VLOOKUP(E$2,Table1[],4,0),IF($B432=3,VLOOKUP(E$2,Table1[],5,0),IF($B432=4,VLOOKUP(E$2,Table1[],5,0),0))))","v":1500000},{"$f":"IF($B432=1,VLOOKUP(F$2,Table1[],3,0),IF($B432=2,VLOOKUP(F$2,Table1[],4,0),IF($B432=3,VLOOKUP(F$2,Table1[],5,0),IF($B432=4,VLOOKUP(F$2,Table1[],5,0),0))))","v":800000}]
[3031,1,{"$f":"IF($B433=1,VLOOKUP(C$2,Table1[],3,0),IF($B433=2,VLOOKUP(C$2,Table1[],4,0),IF($B433=3,VLOOKUP(C$2,Table1[],5,0),IF($B433=4,VLOOKUP(C$2,Table1[],5,0),0))))","v":2000000},{"$f":"IF($B433=1,VLOOKUP(D$2,Table1[],3,0),IF($B433=2,VLOOKUP(D$2,Table1[],4,0),IF($B433=3,VLOOKUP(D$2,Table1[],5,0),IF($B433=4,VLOOKUP(D$2,Table1[],5,0),0))))","v":2000000},{"$f":"IF($B433=1,VLOOKUP(E$2,Table1[],3,0),IF($B433=2,VLOOKUP(E$2,Table1[],4,0),IF($B433=3,VLOOKUP(E$2,Table1[],5,0),IF($B433=4,VLOOKUP(E$2,Table1[],5,0),0))))","v":1500000},{"$f":"IF($B433=1,VLOOKUP(F$2,Table1[],3,0),IF($B433=2,VLOOKUP(F$2,Table1[],4,0),IF($B433=3,VLOOKUP(F$2,Table1[],5,0),IF($B433=4,VLOOKUP(F$2,Table1[],5,0),0))))","v":800000}]
[3032,1,{"$f":"IF($B434=1,VLOOKUP(C$2,Table1[],3,0),IF($B434=2,VLOOKUP(C$2,Table1[],4,0),IF($B434=3,VLOOKUP(C$2,Table1[],5,0),IF($B434=4,VLOOKUP(C$2,Table1[],5,0),0))))","v":2000000},{"$f":"IF($B434=1,VLOOKUP(D$2,Table1[],3,0),IF($B434=2,VLOOKUP(D$2,Table1[],4,0),IF($B434=3,VLOOKUP(D$2,Table1[],5,0),IF($B434=4,VLOOKUP(D$2,Table1[],5,0),0))))","v":2000000},{"$f":"IF($B434=1,VLOOKUP(E$2,Table1[],3,0),IF($B434=2,VLOOKUP(E$2,Table1[],4,0),IF($B434=3,VLOOKUP(E$2,Table1[],5,0),IF($B434=4,VLOOKUP(E$2,Table1[],5,0),0))))","v":1500000},{"$f":"IF($B434=1,VLOOKUP(F$2,Table1[],3,0),IF($B434=2,VLOOKUP(F$2,Table1[],4,0),IF($B434=3,VLOOKUP(F$2,Table1[],5,0),IF($B434=4,VLOOKUP(F$2,Table1[],5,0),0))))","v":800000}]
[3033,1,{"$f":"IF($B435=1,VLOOKUP(C$2,Table1[],3,0),IF($B435=2,VLOOKUP(C$2,Table1[],4,0),IF($B435=3,VLOOKUP(C$2,Table1[],5,0),IF($B435=4,VLOOKUP(C$2,Table1[],5,0),0))))","v":2000000},{"$f":"IF($B435=1,VLOOKUP(D$2,Table1[],3,0),IF($B435=2,VLOOKUP(D$2,Table1[],4,0),IF($B435=3,VLOOKUP(D$2,Table1[],5,0),IF($B435=4,VLOOKUP(D$2,Table1[],5,0),0))))","v":2000000},{"$f":"IF($B435=1,VLOOKUP(E$2,Table1[],3,0),IF($B435=2,VLOOKUP(E$2,Table1[],4,0),IF($B435=3,VLOOKUP(E$2,Table1[],5,0),IF($B435=4,VLOOKUP(E$2,Table1[],5,0),0))))","v":1500000},{"$f":"IF($B435=1,VLOOKUP(F$2,Table1[],3,0),IF($B435=2,VLOOKUP(F$2,Table1[],4,0),IF($B435=3,VLOOKUP(F$2,Table1[],5,0),IF($B435=4,VLOOKUP(F$2,Table1[],5,0),0))))","v":800000}]
[3034,1,{"$f":"IF($B436=1,VLOOKUP(C$2,Table1[],3,0),IF($B436=2,VLOOKUP(C$2,Table1[],4,0),IF($B436=3,VLOOKUP(C$2,Table1[],5,0),IF($B436=4,VLOOKUP(C$2,Table1[],5,0),0))))","v":2000000},{"$f":"IF($B436=1,VLOOKUP(D$2,Table1[],3,0),IF($B436=2,VLOOKUP(D$2,Table1[],4,0),IF($B436=3,VLOOKUP(D$2,Table1[],5,0),IF($B436=4,VLOOKUP(D$2,Table1[],5,0),0))))","v":2000000},{"$f":"IF($B436=1,VLOOKUP(E$2,Table1[],3,0),IF($B436=2,VLOOKUP(E$2,Table1[],4,0),IF($B436=3,VLOOKUP(E$2,Table1[],5,0),IF($B436=4,VLOOKUP(E$2,Table1[],5,0),0))))","v":1500000},{"$f":"IF($B436=1,VLOOKUP(F$2,Table1[],3,0),IF($B436=2,VLOOKUP(F$2,Table1[],4,0),IF($B436=3,VLOOKUP(F$2,Table1[],5,0),IF($B436=4,VLOOKUP(F$2,Table1[],5,0),0))))","v":800000}]
[3036,1,{"$f":"IF($B437=1,VLOOKUP(C$2,Table1[],3,0),IF($B437=2,VLOOKUP(C$2,Table1[],4,0),IF($B437=3,VLOOKUP(C$2,Table1[],5,0),IF($B437=4,VLOOKUP(C$2,Table1[],5,0),0))))","v":2000000},{"$f":"IF($B437=1,VLOOKUP(D$2,Table1[],3,0),IF($B437=2,VLOOKUP(D$2,Table1[],4,0),IF($B437=3,VLOOKUP(D$2,Table1[],5,0),IF($B437=4,VLOOKUP(D$2,Table1[],5,0),0))))","v":2000000},{"$f":"IF($B437=1,VLOOKUP(E$2,Table1[],3,0),IF($B437=2,VLOOKUP(E$2,Table1[],4,0),IF($B437=3,VLOOKUP(E$2,Table1[],5,0),IF($B437=4,VLOOKUP(E$2,Table1[],5,0),0))))","v":1500000},{"$f":"IF($B437=1,VLOOKUP(F$2,Table1[],3,0),IF($B437=2,VLOOKUP(F$2,Table1[],4,0),IF($B437=3,VLOOKUP(F$2,Table1[],5,0),IF($B437=4,VLOOKUP(F$2,Table1[],5,0),0))))","v":800000}]
[3037,1,{"$f":"IF($B438=1,VLOOKUP(C$2,Table1[],3,0),IF($B438=2,VLOOKUP(C$2,Table1[],4,0),IF($B438=3,VLOOKUP(C$2,Table1[],5,0),IF($B438=4,VLOOKUP(C$2,Table1[],5,0),0))))","v":2000000},{"$f":"IF($B438=1,VLOOKUP(D$2,Table1[],3,0),IF($B438=2,VLOOKUP(D$2,Table1[],4,0),IF($B438=3,VLOOKUP(D$2,Table1[],5,0),IF($B438=4,VLOOKUP(D$2,Table1[],5,0),0))))","v":2000000},{"$f":"IF($B438=1,VLOOKUP(E$2,Table1[],3,0),IF($B438=2,VLOOKUP(E$2,Table1[],4,0),IF($B438=3,VLOOKUP(E$2,Table1[],5,0),IF($B438=4,VLOOKUP(E$2,Table1[],5,0),0))))","v":1500000},{"$f":"IF($B438=1,VLOOKUP(F$2,Table1[],3,0),IF($B438=2,VLOOKUP(F$2,Table1[],4,0),IF($B438=3,VLOOKUP(F$2,Table1[],5,0),IF($B438=4,VLOOKUP(F$2,Table1[],5,0),0))))","v":800000}]
[3038,1,{"$f":"IF($B439=1,VLOOKUP(C$2,Table1[],3,0),IF($B439=2,VLOOKUP(C$2,Table1[],4,0),IF($B439=3,VLOOKUP(C$2,Table1[],5,0),IF($B439=4,VLOOKUP(C$2,Table1[],5,0),0))))","v":2000000},{"$f":"IF($B439=1,VLOOKUP(D$2,Table1[],3,0),IF($B439=2,VLOOKUP(D$2,Table1[],4,0),IF($B439=3,VLOOKUP(D$2,Table1[],5,0),IF($B439=4,VLOOKUP(D$2,Table1[],5,0),0))))","v":2000000},{"$f":"IF($B439=1,VLOOKUP(E$2,Table1[],3,0),IF($B439=2,VLOOKUP(E$2,Table1[],4,0),IF($B439=3,VLOOKUP(E$2,Table1[],5,0),IF($B439=4,VLOOKUP(E$2,Table1[],5,0),0))))","v":1500000},{"$f":"IF($B439=1,VLOOKUP(F$2,Table1[],3,0),IF($B439=2,VLOOKUP(F$2,Table1[],4,0),IF($B439=3,VLOOKUP(F$2,Table1[],5,0),IF($B439=4,VLOOKUP(F$2,Table1[],5,0),0))))","v":800000}]
[3039,1,{"$f":"IF($B440=1,VLOOKUP(C$2,Table1[],3,0),IF($B440=2,VLOOKUP(C$2,Table1[],4,0),IF($B440=3,VLOOKUP(C$2,Table1[],5,0),IF($B440=4,VLOOKUP(C$2,Table1[],5,0),0))))","v":2000000},{"$f":"IF($B440=1,VLOOKUP(D$2,Table1[],3,0),IF($B440=2,VLOOKUP(D$2,Table1[],4,0),IF($B440=3,VLOOKUP(D$2,Table1[],5,0),IF($B440=4,VLOOKUP(D$2,Table1[],5,0),0))))","v":2000000},{"$f":"IF($B440=1,VLOOKUP(E$2,Table1[],3,0),IF($B440=2,VLOOKUP(E$2,Table1[],4,0),IF($B440=3,VLOOKUP(E$2,Table1[],5,0),IF($B440=4,VLOOKUP(E$2,Table1[],5,0),0))))","v":1500000},{"$f":"IF($B440=1,VLOOKUP(F$2,Table1[],3,0),IF($B440=2,VLOOKUP(F$2,Table1[],4,0),IF($B440=3,VLOOKUP(F$2,Table1[],5,0),IF($B440=4,VLOOKUP(F$2,Table1[],5,0),0))))","v":800000}]
[3040,1,{"$f":"IF($B441=1,VLOOKUP(C$2,Table1[],3,0),IF($B441=2,VLOOKUP(C$2,Table1[],4,0),IF($B441=3,VLOOKUP(C$2,Table1[],5,0),IF($B441=4,VLOOKUP(C$2,Table1[],5,0),0))))","v":2000000},{"$f":"IF($B441=1,VLOOKUP(D$2,Table1[],3,0),IF($B441=2,VLOOKUP(D$2,Table1[],4,0),IF($B441=3,VLOOKUP(D$2,Table1[],5,0),IF($B441=4,VLOOKUP(D$2,Table1[],5,0),0))))","v":2000000},{"$f":"IF($B441=1,VLOOKUP(E$2,Table1[],3,0),IF($B441=2,VLOOKUP(E$2,Table1[],4,0),IF($B441=3,VLOOKUP(E$2,Table1[],5,0),IF($B441=4,VLOOKUP(E$2,Table1[],5,0),0))))","v":1500000},{"$f":"IF($B441=1,VLOOKUP(F$2,Table1[],3,0),IF($B441=2,VLOOKUP(F$2,Table1[],4,0),IF($B441=3,VLOOKUP(F$2,Table1[],5,0),IF($B441=4,VLOOKUP(F$2,Table1[],5,0),0))))","v":800000}]
[3041,1,{"$f":"IF($B442=1,VLOOKUP(C$2,Table1[],3,0),IF($B442=2,VLOOKUP(C$2,Table1[],4,0),IF($B442=3,VLOOKUP(C$2,Table1[],5,0),IF($B442=4,VLOOKUP(C$2,Table1[],5,0),0))))","v":2000000},{"$f":"IF($B442=1,VLOOKUP(D$2,Table1[],3,0),IF($B442=2,VLOOKUP(D$2,Table1[],4,0),IF($B442=3,VLOOKUP(D$2,Table1[],5,0),IF($B442=4,VLOOKUP(D$2,Table1[],5,0),0))))","v":2000000},{"$f":"IF($B442=1,VLOOKUP(E$2,Table1[],3,0),IF($B442=2,VLOOKUP(E$2,Table1[],4,0),IF($B442=3,VLOOKUP(E$2,Table1[],5,0),IF($B442=4,VLOOKUP(E$2,Table1[],5,0),0))))","v":1500000},{"$f":"IF($B442=1,VLOOKUP(F$2,Table1[],3,0),IF($B442=2,VLOOKUP(F$2,Table1[],4,0),IF($B442=3,VLOOKUP(F$2,Table1[],5,0),IF($B442=4,VLOOKUP(F$2,Table1[],5,0),0))))","v":800000}]
[3042,1,{"$f":"IF($B443=1,VLOOKUP(C$2,Table1[],3,0),IF($B443=2,VLOOKUP(C$2,Table1[],4,0),IF($B443=3,VLOOKUP(C$2,Table1[],5,0),IF($B443=4,VLOOKUP(C$2,Table1[],5,0),0))))","v":2000000},{"$f":"IF($B443=1,VLOOKUP(D$2,Table1[],3,0),IF($B443=2,VLOOKUP(D$2,Table1[],4,0),IF($B443=3,VLOOKUP(D$2,Table1[],5,0),IF($B443=4,VLOOKUP(D$2,Table1[],5,0),0))))","v":2000000},{"$f":"IF($B443=1,VLOOKUP(E$2,Table1[],3,0),IF($B443=2,VLOOKUP(E$2,Table1[],4,0),IF($B443=3,VLOOKUP(E$2,Table1[],5,0),IF($B443=4,VLOOKUP(E$2,Table1[],5,0),0))))","v":1500000},{"$f":"IF($B443=1,VLOOKUP(F$2,Table1[],3,0),IF($B443=2,VLOOKUP(F$2,Table1[],4,0),IF($B443=3,VLOOKUP(F$2,Table1[],5,0),IF($B443=4,VLOOKUP(F$2,Table1[],5,0),0))))","v":800000}]
[3043,1,{"$f":"IF($B444=1,VLOOKUP(C$2,Table1[],3,0),IF($B444=2,VLOOKUP(C$2,Table1[],4,0),IF($B444=3,VLOOKUP(C$2,Table1[],5,0),IF($B444=4,VLOOKUP(C$2,Table1[],5,0),0))))","v":2000000},{"$f":"IF($B444=1,VLOOKUP(D$2,Table1[],3,0),IF($B444=2,VLOOKUP(D$2,Table1[],4,0),IF($B444=3,VLOOKUP(D$2,Table1[],5,0),IF($B444=4,VLOOKUP(D$2,Table1[],5,0),0))))","v":2000000},{"$f":"IF($B444=1,VLOOKUP(E$2,Table1[],3,0),IF($B444=2,VLOOKUP(E$2,Table1[],4,0),IF($B444=3,VLOOKUP(E$2,Table1[],5,0),IF($B444=4,VLOOKUP(E$2,Table1[],5,0),0))))","v":1500000},{"$f":"IF($B444=1,VLOOKUP(F$2,Table1[],3,0),IF($B444=2,VLOOKUP(F$2,Table1[],4,0),IF($B444=3,VLOOKUP(F$2,Table1[],5,0),IF($B444=4,VLOOKUP(F$2,Table1[],5,0),0))))","v":800000}]
[3044,1,{"$f":"IF($B445=1,VLOOKUP(C$2,Table1[],3,0),IF($B445=2,VLOOKUP(C$2,Table1[],4,0),IF($B445=3,VLOOKUP(C$2,Table1[],5,0),IF($B445=4,VLOOKUP(C$2,Table1[],5,0),0))))","v":2000000},{"$f":"IF($B445=1,VLOOKUP(D$2,Table1[],3,0),IF($B445=2,VLOOKUP(D$2,Table1[],4,0),IF($B445=3,VLOOKUP(D$2,Table1[],5,0),IF($B445=4,VLOOKUP(D$2,Table1[],5,0),0))))","v":2000000},{"$f":"IF($B445=1,VLOOKUP(E$2,Table1[],3,0),IF($B445=2,VLOOKUP(E$2,Table1[],4,0),IF($B445=3,VLOOKUP(E$2,Table1[],5,0),IF($B445=4,VLOOKUP(E$2,Table1[],5,0),0))))","v":1500000},{"$f":"IF($B445=1,VLOOKUP(F$2,Table1[],3,0),IF($B445=2,VLOOKUP(F$2,Table1[],4,0),IF($B445=3,VLOOKUP(F$2,Table1[],5,0),IF($B445=4,VLOOKUP(F$2,Table1[],5,0),0))))","v":800000}]
[3046,1,{"$f":"IF($B446=1,VLOOKUP(C$2,Table1[],3,0),IF($B446=2,VLOOKUP(C$2,Table1[],4,0),IF($B446=3,VLOOKUP(C$2,Table1[],5,0),IF($B446=4,VLOOKUP(C$2,Table1[],5,0),0))))","v":2000000},{"$f":"IF($B446=1,VLOOKUP(D$2,Table1[],3,0),IF($B446=2,VLOOKUP(D$2,Table1[],4,0),IF($B446=3,VLOOKUP(D$2,Table1[],5,0),IF($B446=4,VLOOKUP(D$2,Table1[],5,0),0))))","v":2000000},{"$f":"IF($B446=1,VLOOKUP(E$2,Table1[],3,0),IF($B446=2,VLOOKUP(E$2,Table1[],4,0),IF($B446=3,VLOOKUP(E$2,Table1[],5,0),IF($B446=4,VLOOKUP(E$2,Table1[],5,0),0))))","v":1500000},{"$f":"IF($B446=1,VLOOKUP(F$2,Table1[],3,0),IF($B446=2,VLOOKUP(F$2,Table1[],4,0),IF($B446=3,VLOOKUP(F$2,Table1[],5,0),IF($B446=4,VLOOKUP(F$2,Table1[],5,0),0))))","v":800000}]
[3047,1,{"$f":"IF($B447=1,VLOOKUP(C$2,Table1[],3,0),IF($B447=2,VLOOKUP(C$2,Table1[],4,0),IF($B447=3,VLOOKUP(C$2,Table1[],5,0),IF($B447=4,VLOOKUP(C$2,Table1[],5,0),0))))","v":2000000},{"$f":"IF($B447=1,VLOOKUP(D$2,Table1[],3,0),IF($B447=2,VLOOKUP(D$2,Table1[],4,0),IF($B447=3,VLOOKUP(D$2,Table1[],5,0),IF($B447=4,VLOOKUP(D$2,Table1[],5,0),0))))","v":2000000},{"$f":"IF($B447=1,VLOOKUP(E$2,Table1[],3,0),IF($B447=2,VLOOKUP(E$2,Table1[],4,0),IF($B447=3,VLOOKUP(E$2,Table1[],5,0),IF($B447=4,VLOOKUP(E$2,Table1[],5,0),0))))","v":1500000},{"$f":"IF($B447=1,VLOOKUP(F$2,Table1[],3,0),IF($B447=2,VLOOKUP(F$2,Table1[],4,0),IF($B447=3,VLOOKUP(F$2,Table1[],5,0),IF($B447=4,VLOOKUP(F$2,Table1[],5,0),0))))","v":800000}]
[3048,1,{"$f":"IF($B448=1,VLOOKUP(C$2,Table1[],3,0),IF($B448=2,VLOOKUP(C$2,Table1[],4,0),IF($B448=3,VLOOKUP(C$2,Table1[],5,0),IF($B448=4,VLOOKUP(C$2,Table1[],5,0),0))))","v":2000000},{"$f":"IF($B448=1,VLOOKUP(D$2,Table1[],3,0),IF($B448=2,VLOOKUP(D$2,Table1[],4,0),IF($B448=3,VLOOKUP(D$2,Table1[],5,0),IF($B448=4,VLOOKUP(D$2,Table1[],5,0),0))))","v":2000000},{"$f":"IF($B448=1,VLOOKUP(E$2,Table1[],3,0),IF($B448=2,VLOOKUP(E$2,Table1[],4,0),IF($B448=3,VLOOKUP(E$2,Table1[],5,0),IF($B448=4,VLOOKUP(E$2,Table1[],5,0),0))))","v":1500000},{"$f":"IF($B448=1,VLOOKUP(F$2,Table1[],3,0),IF($B448=2,VLOOKUP(F$2,Table1[],4,0),IF($B448=3,VLOOKUP(F$2,Table1[],5,0),IF($B448=4,VLOOKUP(F$2,Table1[],5,0),0))))","v":800000}]
[3049,1,{"$f":"IF($B449=1,VLOOKUP(C$2,Table1[],3,0),IF($B449=2,VLOOKUP(C$2,Table1[],4,0),IF($B449=3,VLOOKUP(C$2,Table1[],5,0),IF($B449=4,VLOOKUP(C$2,Table1[],5,0),0))))","v":2000000},{"$f":"IF($B449=1,VLOOKUP(D$2,Table1[],3,0),IF($B449=2,VLOOKUP(D$2,Table1[],4,0),IF($B449=3,VLOOKUP(D$2,Table1[],5,0),IF($B449=4,VLOOKUP(D$2,Table1[],5,0),0))))","v":2000000},{"$f":"IF($B449=1,VLOOKUP(E$2,Table1[],3,0),IF($B449=2,VLOOKUP(E$2,Table1[],4,0),IF($B449=3,VLOOKUP(E$2,Table1[],5,0),IF($B449=4,VLOOKUP(E$2,Table1[],5,0),0))))","v":1500000},{"$f":"IF($B449=1,VLOOKUP(F$2,Table1[],3,0),IF($B449=2,VLOOKUP(F$2,Table1[],4,0),IF($B449=3,VLOOKUP(F$2,Table1[],5,0),IF($B449=4,VLOOKUP(F$2,Table1[],5,0),0))))","v":800000}]
[3051,1,{"$f":"IF($B450=1,VLOOKUP(C$2,Table1[],3,0),IF($B450=2,VLOOKUP(C$2,Table1[],4,0),IF($B450=3,VLOOKUP(C$2,Table1[],5,0),IF($B450=4,VLOOKUP(C$2,Table1[],5,0),0))))","v":2000000},{"$f":"IF($B450=1,VLOOKUP(D$2,Table1[],3,0),IF($B450=2,VLOOKUP(D$2,Table1[],4,0),IF($B450=3,VLOOKUP(D$2,Table1[],5,0),IF($B450=4,VLOOKUP(D$2,Table1[],5,0),0))))","v":2000000},{"$f":"IF($B450=1,VLOOKUP(E$2,Table1[],3,0),IF($B450=2,VLOOKUP(E$2,Table1[],4,0),IF($B450=3,VLOOKUP(E$2,Table1[],5,0),IF($B450=4,VLOOKUP(E$2,Table1[],5,0),0))))","v":1500000},{"$f":"IF($B450=1,VLOOKUP(F$2,Table1[],3,0),IF($B450=2,VLOOKUP(F$2,Table1[],4,0),IF($B450=3,VLOOKUP(F$2,Table1[],5,0),IF($B450=4,VLOOKUP(F$2,Table1[],5,0),0))))","v":800000}]
[3052,1,{"$f":"IF($B451=1,VLOOKUP(C$2,Table1[],3,0),IF($B451=2,VLOOKUP(C$2,Table1[],4,0),IF($B451=3,VLOOKUP(C$2,Table1[],5,0),IF($B451=4,VLOOKUP(C$2,Table1[],5,0),0))))","v":2000000},{"$f":"IF($B451=1,VLOOKUP(D$2,Table1[],3,0),IF($B451=2,VLOOKUP(D$2,Table1[],4,0),IF($B451=3,VLOOKUP(D$2,Table1[],5,0),IF($B451=4,VLOOKUP(D$2,Table1[],5,0),0))))","v":2000000},{"$f":"IF($B451=1,VLOOKUP(E$2,Table1[],3,0),IF($B451=2,VLOOKUP(E$2,Table1[],4,0),IF($B451=3,VLOOKUP(E$2,Table1[],5,0),IF($B451=4,VLOOKUP(E$2,Table1[],5,0),0))))","v":1500000},{"$f":"IF($B451=1,VLOOKUP(F$2,Table1[],3,0),IF($B451=2,VLOOKUP(F$2,Table1[],4,0),IF($B451=3,VLOOKUP(F$2,Table1[],5,0),IF($B451=4,VLOOKUP(F$2,Table1[],5,0),0))))","v":800000}]
[3053,1,{"$f":"IF($B452=1,VLOOKUP(C$2,Table1[],3,0),IF($B452=2,VLOOKUP(C$2,Table1[],4,0),IF($B452=3,VLOOKUP(C$2,Table1[],5,0),IF($B452=4,VLOOKUP(C$2,Table1[],5,0),0))))","v":2000000},{"$f":"IF($B452=1,VLOOKUP(D$2,Table1[],3,0),IF($B452=2,VLOOKUP(D$2,Table1[],4,0),IF($B452=3,VLOOKUP(D$2,Table1[],5,0),IF($B452=4,VLOOKUP(D$2,Table1[],5,0),0))))","v":2000000},{"$f":"IF($B452=1,VLOOKUP(E$2,Table1[],3,0),IF($B452=2,VLOOKUP(E$2,Table1[],4,0),IF($B452=3,VLOOKUP(E$2,Table1[],5,0),IF($B452=4,VLOOKUP(E$2,Table1[],5,0),0))))","v":1500000},{"$f":"IF($B452=1,VLOOKUP(F$2,Table1[],3,0),IF($B452=2,VLOOKUP(F$2,Table1[],4,0),IF($B452=3,VLOOKUP(F$2,Table1[],5,0),IF($B452=4,VLOOKUP(F$2,Table1[],5,0),0))))","v":800000}]
[3054,1,{"$f":"IF($B453=1,VLOOKUP(C$2,Table1[],3,0),IF($B453=2,VLOOKUP(C$2,Table1[],4,0),IF($B453=3,VLOOKUP(C$2,Table1[],5,0),IF($B453=4,VLOOKUP(C$2,Table1[],5,0),0))))","v":2000000},{"$f":"IF($B453=1,VLOOKUP(D$2,Table1[],3,0),IF($B453=2,VLOOKUP(D$2,Table1[],4,0),IF($B453=3,VLOOKUP(D$2,Table1[],5,0),IF($B453=4,VLOOKUP(D$2,Table1[],5,0),0))))","v":2000000},{"$f":"IF($B453=1,VLOOKUP(E$2,Table1[],3,0),IF($B453=2,VLOOKUP(E$2,Table1[],4,0),IF($B453=3,VLOOKUP(E$2,Table1[],5,0),IF($B453=4,VLOOKUP(E$2,Table1[],5,0),0))))","v":1500000},{"$f":"IF($B453=1,VLOOKUP(F$2,Table1[],3,0),IF($B453=2,VLOOKUP(F$2,Table1[],4,0),IF($B453=3,VLOOKUP(F$2,Table1[],5,0),IF($B453=4,VLOOKUP(F$2,Table1[],5,0),0))))","v":800000}]
[3055,1,{"$f":"IF($B454=1,VLOOKUP(C$2,Table1[],3,0),IF($B454=2,VLOOKUP(C$2,Table1[],4,0),IF($B454=3,VLOOKUP(C$2,Table1[],5,0),IF($B454=4,VLOOKUP(C$2,Table1[],5,0),0))))","v":2000000},{"$f":"IF($B454=1,VLOOKUP(D$2,Table1[],3,0),IF($B454=2,VLOOKUP(D$2,Table1[],4,0),IF($B454=3,VLOOKUP(D$2,Table1[],5,0),IF($B454=4,VLOOKUP(D$2,Table1[],5,0),0))))","v":2000000},{"$f":"IF($B454=1,VLOOKUP(E$2,Table1[],3,0),IF($B454=2,VLOOKUP(E$2,Table1[],4,0),IF($B454=3,VLOOKUP(E$2,Table1[],5,0),IF($B454=4,VLOOKUP(E$2,Table1[],5,0),0))))","v":1500000},{"$f":"IF($B454=1,VLOOKUP(F$2,Table1[],3,0),IF($B454=2,VLOOKUP(F$2,Table1[],4,0),IF($B454=3,VLOOKUP(F$2,Table1[],5,0),IF($B454=4,VLOOKUP(F$2,Table1[],5,0),0))))","v":800000}]
[3056,1,{"$f":"IF($B455=1,VLOOKUP(C$2,Table1[],3,0),IF($B455=2,VLOOKUP(C$2,Table1[],4,0),IF($B455=3,VLOOKUP(C$2,Table1[],5,0),IF($B455=4,VLOOKUP(C$2,Table1[],5,0),0))))","v":2000000},{"$f":"IF($B455=1,VLOOKUP(D$2,Table1[],3,0),IF($B455=2,VLOOKUP(D$2,Table1[],4,0),IF($B455=3,VLOOKUP(D$2,Table1[],5,0),IF($B455=4,VLOOKUP(D$2,Table1[],5,0),0))))","v":2000000},{"$f":"IF($B455=1,VLOOKUP(E$2,Table1[],3,0),IF($B455=2,VLOOKUP(E$2,Table1[],4,0),IF($B455=3,VLOOKUP(E$2,Table1[],5,0),IF($B455=4,VLOOKUP(E$2,Table1[],5,0),0))))","v":1500000},{"$f":"IF($B455=1,VLOOKUP(F$2,Table1[],3,0),IF($B455=2,VLOOKUP(F$2,Table1[],4,0),IF($B455=3,VLOOKUP(F$2,Table1[],5,0),IF($B455=4,VLOOKUP(F$2,Table1[],5,0),0))))","v":800000}]
[3057,1,{"$f":"IF($B456=1,VLOOKUP(C$2,Table1[],3,0),IF($B456=2,VLOOKUP(C$2,Table1[],4,0),IF($B456=3,VLOOKUP(C$2,Table1[],5,0),IF($B456=4,VLOOKUP(C$2,Table1[],5,0),0))))","v":2000000},{"$f":"IF($B456=1,VLOOKUP(D$2,Table1[],3,0),IF($B456=2,VLOOKUP(D$2,Table1[],4,0),IF($B456=3,VLOOKUP(D$2,Table1[],5,0),IF($B456=4,VLOOKUP(D$2,Table1[],5,0),0))))","v":2000000},{"$f":"IF($B456=1,VLOOKUP(E$2,Table1[],3,0),IF($B456=2,VLOOKUP(E$2,Table1[],4,0),IF($B456=3,VLOOKUP(E$2,Table1[],5,0),IF($B456=4,VLOOKUP(E$2,Table1[],5,0),0))))","v":1500000},{"$f":"IF($B456=1,VLOOKUP(F$2,Table1[],3,0),IF($B456=2,VLOOKUP(F$2,Table1[],4,0),IF($B456=3,VLOOKUP(F$2,Table1[],5,0),IF($B456=4,VLOOKUP(F$2,Table1[],5,0),0))))","v":800000}]
[3058,1,{"$f":"IF($B457=1,VLOOKUP(C$2,Table1[],3,0),IF($B457=2,VLOOKUP(C$2,Table1[],4,0),IF($B457=3,VLOOKUP(C$2,Table1[],5,0),IF($B457=4,VLOOKUP(C$2,Table1[],5,0),0))))","v":2000000},{"$f":"IF($B457=1,VLOOKUP(D$2,Table1[],3,0),IF($B457=2,VLOOKUP(D$2,Table1[],4,0),IF($B457=3,VLOOKUP(D$2,Table1[],5,0),IF($B457=4,VLOOKUP(D$2,Table1[],5,0),0))))","v":2000000},{"$f":"IF($B457=1,VLOOKUP(E$2,Table1[],3,0),IF($B457=2,VLOOKUP(E$2,Table1[],4,0),IF($B457=3,VLOOKUP(E$2,Table1[],5,0),IF($B457=4,VLOOKUP(E$2,Table1[],5,0),0))))","v":1500000},{"$f":"IF($B457=1,VLOOKUP(F$2,Table1[],3,0),IF($B457=2,VLOOKUP(F$2,Table1[],4,0),IF($B457=3,VLOOKUP(F$2,Table1[],5,0),IF($B457=4,VLOOKUP(F$2,Table1[],5,0),0))))","v":800000}]
[3059,1,{"$f":"IF($B458=1,VLOOKUP(C$2,Table1[],3,0),IF($B458=2,VLOOKUP(C$2,Table1[],4,0),IF($B458=3,VLOOKUP(C$2,Table1[],5,0),IF($B458=4,VLOOKUP(C$2,Table1[],5,0),0))))","v":2000000},{"$f":"IF($B458=1,VLOOKUP(D$2,Table1[],3,0),IF($B458=2,VLOOKUP(D$2,Table1[],4,0),IF($B458=3,VLOOKUP(D$2,Table1[],5,0),IF($B458=4,VLOOKUP(D$2,Table1[],5,0),0))))","v":2000000},{"$f":"IF($B458=1,VLOOKUP(E$2,Table1[],3,0),IF($B458=2,VLOOKUP(E$2,Table1[],4,0),IF($B458=3,VLOOKUP(E$2,Table1[],5,0),IF($B458=4,VLOOKUP(E$2,Table1[],5,0),0))))","v":1500000},{"$f":"IF($B458=1,VLOOKUP(F$2,Table1[],3,0),IF($B458=2,VLOOKUP(F$2,Table1[],4,0),IF($B458=3,VLOOKUP(F$2,Table1[],5,0),IF($B458=4,VLOOKUP(F$2,Table1[],5,0),0))))","v":800000}]
[3060,1,{"$f":"IF($B459=1,VLOOKUP(C$2,Table1[],3,0),IF($B459=2,VLOOKUP(C$2,Table1[],4,0),IF($B459=3,VLOOKUP(C$2,Table1[],5,0),IF($B459=4,VLOOKUP(C$2,Table1[],5,0),0))))","v":2000000},{"$f":"IF($B459=1,VLOOKUP(D$2,Table1[],3,0),IF($B459=2,VLOOKUP(D$2,Table1[],4,0),IF($B459=3,VLOOKUP(D$2,Table1[],5,0),IF($B459=4,VLOOKUP(D$2,Table1[],5,0),0))))","v":2000000},{"$f":"IF($B459=1,VLOOKUP(E$2,Table1[],3,0),IF($B459=2,VLOOKUP(E$2,Table1[],4,0),IF($B459=3,VLOOKUP(E$2,Table1[],5,0),IF($B459=4,VLOOKUP(E$2,Table1[],5,0),0))))","v":1500000},{"$f":"IF($B459=1,VLOOKUP(F$2,Table1[],3,0),IF($B459=2,VLOOKUP(F$2,Table1[],4,0),IF($B459=3,VLOOKUP(F$2,Table1[],5,0),IF($B459=4,VLOOKUP(F$2,Table1[],5,0),0))))","v":800000}]
[3061,1,{"$f":"IF($B460=1,VLOOKUP(C$2,Table1[],3,0),IF($B460=2,VLOOKUP(C$2,Table1[],4,0),IF($B460=3,VLOOKUP(C$2,Table1[],5,0),IF($B460=4,VLOOKUP(C$2,Table1[],5,0),0))))","v":2000000},{"$f":"IF($B460=1,VLOOKUP(D$2,Table1[],3,0),IF($B460=2,VLOOKUP(D$2,Table1[],4,0),IF($B460=3,VLOOKUP(D$2,Table1[],5,0),IF($B460=4,VLOOKUP(D$2,Table1[],5,0),0))))","v":2000000},{"$f":"IF($B460=1,VLOOKUP(E$2,Table1[],3,0),IF($B460=2,VLOOKUP(E$2,Table1[],4,0),IF($B460=3,VLOOKUP(E$2,Table1[],5,0),IF($B460=4,VLOOKUP(E$2,Table1[],5,0),0))))","v":1500000},{"$f":"IF($B460=1,VLOOKUP(F$2,Table1[],3,0),IF($B460=2,VLOOKUP(F$2,Table1[],4,0),IF($B460=3,VLOOKUP(F$2,Table1[],5,0),IF($B460=4,VLOOKUP(F$2,Table1[],5,0),0))))","v":800000}]
[3062,1,{"$f":"IF($B461=1,VLOOKUP(C$2,Table1[],3,0),IF($B461=2,VLOOKUP(C$2,Table1[],4,0),IF($B461=3,VLOOKUP(C$2,Table1[],5,0),IF($B461=4,VLOOKUP(C$2,Table1[],5,0),0))))","v":2000000},{"$f":"IF($B461=1,VLOOKUP(D$2,Table1[],3,0),IF($B461=2,VLOOKUP(D$2,Table1[],4,0),IF($B461=3,VLOOKUP(D$2,Table1[],5,0),IF($B461=4,VLOOKUP(D$2,Table1[],5,0),0))))","v":2000000},{"$f":"IF($B461=1,VLOOKUP(E$2,Table1[],3,0),IF($B461=2,VLOOKUP(E$2,Table1[],4,0),IF($B461=3,VLOOKUP(E$2,Table1[],5,0),IF($B461=4,VLOOKUP(E$2,Table1[],5,0),0))))","v":1500000},{"$f":"IF($B461=1,VLOOKUP(F$2,Table1[],3,0),IF($B461=2,VLOOKUP(F$2,Table1[],4,0),IF($B461=3,VLOOKUP(F$2,Table1[],5,0),IF($B461=4,VLOOKUP(F$2,Table1[],5,0),0))))","v":800000}]
[3063,1,{"$f":"IF($B462=1,VLOOKUP(C$2,Table1[],3,0),IF($B462=2,VLOOKUP(C$2,Table1[],4,0),IF($B462=3,VLOOKUP(C$2,Table1[],5,0),IF($B462=4,VLOOKUP(C$2,Table1[],5,0),0))))","v":2000000},{"$f":"IF($B462=1,VLOOKUP(D$2,Table1[],3,0),IF($B462=2,VLOOKUP(D$2,Table1[],4,0),IF($B462=3,VLOOKUP(D$2,Table1[],5,0),IF($B462=4,VLOOKUP(D$2,Table1[],5,0),0))))","v":2000000},{"$f":"IF($B462=1,VLOOKUP(E$2,Table1[],3,0),IF($B462=2,VLOOKUP(E$2,Table1[],4,0),IF($B462=3,VLOOKUP(E$2,Table1[],5,0),IF($B462=4,VLOOKUP(E$2,Table1[],5,0),0))))","v":1500000},{"$f":"IF($B462=1,VLOOKUP(F$2,Table1[],3,0),IF($B462=2,VLOOKUP(F$2,Table1[],4,0),IF($B462=3,VLOOKUP(F$2,Table1[],5,0),IF($B462=4,VLOOKUP(F$2,Table1[],5,0),0))))","v":800000}]
[3064,1,{"$f":"IF($B463=1,VLOOKUP(C$2,Table1[],3,0),IF($B463=2,VLOOKUP(C$2,Table1[],4,0),IF($B463=3,VLOOKUP(C$2,Table1[],5,0),IF($B463=4,VLOOKUP(C$2,Table1[],5,0),0))))","v":2000000},{"$f":"IF($B463=1,VLOOKUP(D$2,Table1[],3,0),IF($B463=2,VLOOKUP(D$2,Table1[],4,0),IF($B463=3,VLOOKUP(D$2,Table1[],5,0),IF($B463=4,VLOOKUP(D$2,Table1[],5,0),0))))","v":2000000},{"$f":"IF($B463=1,VLOOKUP(E$2,Table1[],3,0),IF($B463=2,VLOOKUP(E$2,Table1[],4,0),IF($B463=3,VLOOKUP(E$2,Table1[],5,0),IF($B463=4,VLOOKUP(E$2,Table1[],5,0),0))))","v":1500000},{"$f":"IF($B463=1,VLOOKUP(F$2,Table1[],3,0),IF($B463=2,VLOOKUP(F$2,Table1[],4,0),IF($B463=3,VLOOKUP(F$2,Table1[],5,0),IF($B463=4,VLOOKUP(F$2,Table1[],5,0),0))))","v":800000}]
[3065,1,{"$f":"IF($B464=1,VLOOKUP(C$2,Table1[],3,0),IF($B464=2,VLOOKUP(C$2,Table1[],4,0),IF($B464=3,VLOOKUP(C$2,Table1[],5,0),IF($B464=4,VLOOKUP(C$2,Table1[],5,0),0))))","v":2000000},{"$f":"IF($B464=1,VLOOKUP(D$2,Table1[],3,0),IF($B464=2,VLOOKUP(D$2,Table1[],4,0),IF($B464=3,VLOOKUP(D$2,Table1[],5,0),IF($B464=4,VLOOKUP(D$2,Table1[],5,0),0))))","v":2000000},{"$f":"IF($B464=1,VLOOKUP(E$2,Table1[],3,0),IF($B464=2,VLOOKUP(E$2,Table1[],4,0),IF($B464=3,VLOOKUP(E$2,Table1[],5,0),IF($B464=4,VLOOKUP(E$2,Table1[],5,0),0))))","v":1500000},{"$f":"IF($B464=1,VLOOKUP(F$2,Table1[],3,0),IF($B464=2,VLOOKUP(F$2,Table1[],4,0),IF($B464=3,VLOOKUP(F$2,Table1[],5,0),IF($B464=4,VLOOKUP(F$2,Table1[],5,0),0))))","v":800000}]
[3066,1,{"$f":"IF($B465=1,VLOOKUP(C$2,Table1[],3,0),IF($B465=2,VLOOKUP(C$2,Table1[],4,0),IF($B465=3,VLOOKUP(C$2,Table1[],5,0),IF($B465=4,VLOOKUP(C$2,Table1[],5,0),0))))","v":2000000},{"$f":"IF($B465=1,VLOOKUP(D$2,Table1[],3,0),IF($B465=2,VLOOKUP(D$2,Table1[],4,0),IF($B465=3,VLOOKUP(D$2,Table1[],5,0),IF($B465=4,VLOOKUP(D$2,Table1[],5,0),0))))","v":2000000},{"$f":"IF($B465=1,VLOOKUP(E$2,Table1[],3,0),IF($B465=2,VLOOKUP(E$2,Table1[],4,0),IF($B465=3,VLOOKUP(E$2,Table1[],5,0),IF($B465=4,VLOOKUP(E$2,Table1[],5,0),0))))","v":1500000},{"$f":"IF($B465=1,VLOOKUP(F$2,Table1[],3,0),IF($B465=2,VLOOKUP(F$2,Table1[],4,0),IF($B465=3,VLOOKUP(F$2,Table1[],5,0),IF($B465=4,VLOOKUP(F$2,Table1[],5,0),0))))","v":800000}]
[3067,1,{"$f":"IF($B466=1,VLOOKUP(C$2,Table1[],3,0),IF($B466=2,VLOOKUP(C$2,Table1[],4,0),IF($B466=3,VLOOKUP(C$2,Table1[],5,0),IF($B466=4,VLOOKUP(C$2,Table1[],5,0),0))))","v":2000000},{"$f":"IF($B466=1,VLOOKUP(D$2,Table1[],3,0),IF($B466=2,VLOOKUP(D$2,Table1[],4,0),IF($B466=3,VLOOKUP(D$2,Table1[],5,0),IF($B466=4,VLOOKUP(D$2,Table1[],5,0),0))))","v":2000000},{"$f":"IF($B466=1,VLOOKUP(E$2,Table1[],3,0),IF($B466=2,VLOOKUP(E$2,Table1[],4,0),IF($B466=3,VLOOKUP(E$2,Table1[],5,0),IF($B466=4,VLOOKUP(E$2,Table1[],5,0),0))))","v":1500000},{"$f":"IF($B466=1,VLOOKUP(F$2,Table1[],3,0),IF($B466=2,VLOOKUP(F$2,Table1[],4,0),IF($B466=3,VLOOKUP(F$2,Table1[],5,0),IF($B466=4,VLOOKUP(F$2,Table1[],5,0),0))))","v":800000}]
[3068,1,{"$f":"IF($B467=1,VLOOKUP(C$2,Table1[],3,0),IF($B467=2,VLOOKUP(C$2,Table1[],4,0),IF($B467=3,VLOOKUP(C$2,Table1[],5,0),IF($B467=4,VLOOKUP(C$2,Table1[],5,0),0))))","v":2000000},{"$f":"IF($B467=1,VLOOKUP(D$2,Table1[],3,0),IF($B467=2,VLOOKUP(D$2,Table1[],4,0),IF($B467=3,VLOOKUP(D$2,Table1[],5,0),IF($B467=4,VLOOKUP(D$2,Table1[],5,0),0))))","v":2000000},{"$f":"IF($B467=1,VLOOKUP(E$2,Table1[],3,0),IF($B467=2,VLOOKUP(E$2,Table1[],4,0),IF($B467=3,VLOOKUP(E$2,Table1[],5,0),IF($B467=4,VLOOKUP(E$2,Table1[],5,0),0))))","v":1500000},{"$f":"IF($B467=1,VLOOKUP(F$2,Table1[],3,0),IF($B467=2,VLOOKUP(F$2,Table1[],4,0),IF($B467=3,VLOOKUP(F$2,Table1[],5,0),IF($B467=4,VLOOKUP(F$2,Table1[],5,0),0))))","v":800000}]
[3070,1,{"$f":"IF($B468=1,VLOOKUP(C$2,Table1[],3,0),IF($B468=2,VLOOKUP(C$2,Table1[],4,0),IF($B468=3,VLOOKUP(C$2,Table1[],5,0),IF($B468=4,VLOOKUP(C$2,Table1[],5,0),0))))","v":2000000},{"$f":"IF($B468=1,VLOOKUP(D$2,Table1[],3,0),IF($B468=2,VLOOKUP(D$2,Table1[],4,0),IF($B468=3,VLOOKUP(D$2,Table1[],5,0),IF($B468=4,VLOOKUP(D$2,Table1[],5,0),0))))","v":2000000},{"$f":"IF($B468=1,VLOOKUP(E$2,Table1[],3,0),IF($B468=2,VLOOKUP(E$2,Table1[],4,0),IF($B468=3,VLOOKUP(E$2,Table1[],5,0),IF($B468=4,VLOOKUP(E$2,Table1[],5,0),0))))","v":1500000},{"$f":"IF($B468=1,VLOOKUP(F$2,Table1[],3,0),IF($B468=2,VLOOKUP(F$2,Table1[],4,0),IF($B468=3,VLOOKUP(F$2,Table1[],5,0),IF($B468=4,VLOOKUP(F$2,Table1[],5,0),0))))","v":800000}]
[3071,1,{"$f":"IF($B469=1,VLOOKUP(C$2,Table1[],3,0),IF($B469=2,VLOOKUP(C$2,Table1[],4,0),IF($B469=3,VLOOKUP(C$2,Table1[],5,0),IF($B469=4,VLOOKUP(C$2,Table1[],5,0),0))))","v":2000000},{"$f":"IF($B469=1,VLOOKUP(D$2,Table1[],3,0),IF($B469=2,VLOOKUP(D$2,Table1[],4,0),IF($B469=3,VLOOKUP(D$2,Table1[],5,0),IF($B469=4,VLOOKUP(D$2,Table1[],5,0),0))))","v":2000000},{"$f":"IF($B469=1,VLOOKUP(E$2,Table1[],3,0),IF($B469=2,VLOOKUP(E$2,Table1[],4,0),IF($B469=3,VLOOKUP(E$2,Table1[],5,0),IF($B469=4,VLOOKUP(E$2,Table1[],5,0),0))))","v":1500000},{"$f":"IF($B469=1,VLOOKUP(F$2,Table1[],3,0),IF($B469=2,VLOOKUP(F$2,Table1[],4,0),IF($B469=3,VLOOKUP(F$2,Table1[],5,0),IF($B469=4,VLOOKUP(F$2,Table1[],5,0),0))))","v":800000}]
[3072,1,{"$f":"IF($B470=1,VLOOKUP(C$2,Table1[],3,0),IF($B470=2,VLOOKUP(C$2,Table1[],4,0),IF($B470=3,VLOOKUP(C$2,Table1[],5,0),IF($B470=4,VLOOKUP(C$2,Table1[],5,0),0))))","v":2000000},{"$f":"IF($B470=1,VLOOKUP(D$2,Table1[],3,0),IF($B470=2,VLOOKUP(D$2,Table1[],4,0),IF($B470=3,VLOOKUP(D$2,Table1[],5,0),IF($B470=4,VLOOKUP(D$2,Table1[],5,0),0))))","v":2000000},{"$f":"IF($B470=1,VLOOKUP(E$2,Table1[],3,0),IF($B470=2,VLOOKUP(E$2,Table1[],4,0),IF($B470=3,VLOOKUP(E$2,Table1[],5,0),IF($B470=4,VLOOKUP(E$2,Table1[],5,0),0))))","v":1500000},{"$f":"IF($B470=1,VLOOKUP(F$2,Table1[],3,0),IF($B470=2,VLOOKUP(F$2,Table1[],4,0),IF($B470=3,VLOOKUP(F$2,Table1[],5,0),IF($B470=4,VLOOKUP(F$2,Table1[],5,0),0))))","v":800000}]
[3073,1,{"$f":"IF($B471=1,VLOOKUP(C$2,Table1[],3,0),IF($B471=2,VLOOKUP(C$2,Table1[],4,0),IF($B471=3,VLOOKUP(C$2,Table1[],5,0),IF($B471=4,VLOOKUP(C$2,Table1[],5,0),0))))","v":2000000},{"$f":"IF($B471=1,VLOOKUP(D$2,Table1[],3,0),IF($B471=2,VLOOKUP(D$2,Table1[],4,0),IF($B471=3,VLOOKUP(D$2,Table1[],5,0),IF($B471=4,VLOOKUP(D$2,Table1[],5,0),0))))","v":2000000},{"$f":"IF($B471=1,VLOOKUP(E$2,Table1[],3,0),IF($B471=2,VLOOKUP(E$2,Table1[],4,0),IF($B471=3,VLOOKUP(E$2,Table1[],5,0),IF($B471=4,VLOOKUP(E$2,Table1[],5,0),0))))","v":1500000},{"$f":"IF($B471=1,VLOOKUP(F$2,Table1[],3,0),IF($B471=2,VLOOKUP(F$2,Table1[],4,0),IF($B471=3,VLOOKUP(F$2,Table1[],5,0),IF($B471=4,VLOOKUP(F$2,Table1[],5,0),0))))","v":800000}]
[3074,1,{"$f":"IF($B472=1,VLOOKUP(C$2,Table1[],3,0),IF($B472=2,VLOOKUP(C$2,Table1[],4,0),IF($B472=3,VLOOKUP(C$2,Table1[],5,0),IF($B472=4,VLOOKUP(C$2,Table1[],5,0),0))))","v":2000000},{"$f":"IF($B472=1,VLOOKUP(D$2,Table1[],3,0),IF($B472=2,VLOOKUP(D$2,Table1[],4,0),IF($B472=3,VLOOKUP(D$2,Table1[],5,0),IF($B472=4,VLOOKUP(D$2,Table1[],5,0),0))))","v":2000000},{"$f":"IF($B472=1,VLOOKUP(E$2,Table1[],3,0),IF($B472=2,VLOOKUP(E$2,Table1[],4,0),IF($B472=3,VLOOKUP(E$2,Table1[],5,0),IF($B472=4,VLOOKUP(E$2,Table1[],5,0),0))))","v":1500000},{"$f":"IF($B472=1,VLOOKUP(F$2,Table1[],3,0),IF($B472=2,VLOOKUP(F$2,Table1[],4,0),IF($B472=3,VLOOKUP(F$2,Table1[],5,0),IF($B472=4,VLOOKUP(F$2,Table1[],5,0),0))))","v":800000}]
[3075,1,{"$f":"IF($B473=1,VLOOKUP(C$2,Table1[],3,0),IF($B473=2,VLOOKUP(C$2,Table1[],4,0),IF($B473=3,VLOOKUP(C$2,Table1[],5,0),IF($B473=4,VLOOKUP(C$2,Table1[],5,0),0))))","v":2000000},{"$f":"IF($B473=1,VLOOKUP(D$2,Table1[],3,0),IF($B473=2,VLOOKUP(D$2,Table1[],4,0),IF($B473=3,VLOOKUP(D$2,Table1[],5,0),IF($B473=4,VLOOKUP(D$2,Table1[],5,0),0))))","v":2000000},{"$f":"IF($B473=1,VLOOKUP(E$2,Table1[],3,0),IF($B473=2,VLOOKUP(E$2,Table1[],4,0),IF($B473=3,VLOOKUP(E$2,Table1[],5,0),IF($B473=4,VLOOKUP(E$2,Table1[],5,0),0))))","v":1500000},{"$f":"IF($B473=1,VLOOKUP(F$2,Table1[],3,0),IF($B473=2,VLOOKUP(F$2,Table1[],4,0),IF($B473=3,VLOOKUP(F$2,Table1[],5,0),IF($B473=4,VLOOKUP(F$2,Table1[],5,0),0))))","v":800000}]
[3076,1,{"$f":"IF($B474=1,VLOOKUP(C$2,Table1[],3,0),IF($B474=2,VLOOKUP(C$2,Table1[],4,0),IF($B474=3,VLOOKUP(C$2,Table1[],5,0),IF($B474=4,VLOOKUP(C$2,Table1[],5,0),0))))","v":2000000},{"$f":"IF($B474=1,VLOOKUP(D$2,Table1[],3,0),IF($B474=2,VLOOKUP(D$2,Table1[],4,0),IF($B474=3,VLOOKUP(D$2,Table1[],5,0),IF($B474=4,VLOOKUP(D$2,Table1[],5,0),0))))","v":2000000},{"$f":"IF($B474=1,VLOOKUP(E$2,Table1[],3,0),IF($B474=2,VLOOKUP(E$2,Table1[],4,0),IF($B474=3,VLOOKUP(E$2,Table1[],5,0),IF($B474=4,VLOOKUP(E$2,Table1[],5,0),0))))","v":1500000},{"$f":"IF($B474=1,VLOOKUP(F$2,Table1[],3,0),IF($B474=2,VLOOKUP(F$2,Table1[],4,0),IF($B474=3,VLOOKUP(F$2,Table1[],5,0),IF($B474=4,VLOOKUP(F$2,Table1[],5,0),0))))","v":800000}]
[3078,1,{"$f":"IF($B475=1,VLOOKUP(C$2,Table1[],3,0),IF($B475=2,VLOOKUP(C$2,Table1[],4,0),IF($B475=3,VLOOKUP(C$2,Table1[],5,0),IF($B475=4,VLOOKUP(C$2,Table1[],5,0),0))))","v":2000000},{"$f":"IF($B475=1,VLOOKUP(D$2,Table1[],3,0),IF($B475=2,VLOOKUP(D$2,Table1[],4,0),IF($B475=3,VLOOKUP(D$2,Table1[],5,0),IF($B475=4,VLOOKUP(D$2,Table1[],5,0),0))))","v":2000000},{"$f":"IF($B475=1,VLOOKUP(E$2,Table1[],3,0),IF($B475=2,VLOOKUP(E$2,Table1[],4,0),IF($B475=3,VLOOKUP(E$2,Table1[],5,0),IF($B475=4,VLOOKUP(E$2,Table1[],5,0),0))))","v":1500000},{"$f":"IF($B475=1,VLOOKUP(F$2,Table1[],3,0),IF($B475=2,VLOOKUP(F$2,Table1[],4,0),IF($B475=3,VLOOKUP(F$2,Table1[],5,0),IF($B475=4,VLOOKUP(F$2,Table1[],5,0),0))))","v":800000}]
[3079,1,{"$f":"IF($B476=1,VLOOKUP(C$2,Table1[],3,0),IF($B476=2,VLOOKUP(C$2,Table1[],4,0),IF($B476=3,VLOOKUP(C$2,Table1[],5,0),IF($B476=4,VLOOKUP(C$2,Table1[],5,0),0))))","v":2000000},{"$f":"IF($B476=1,VLOOKUP(D$2,Table1[],3,0),IF($B476=2,VLOOKUP(D$2,Table1[],4,0),IF($B476=3,VLOOKUP(D$2,Table1[],5,0),IF($B476=4,VLOOKUP(D$2,Table1[],5,0),0))))","v":2000000},{"$f":"IF($B476=1,VLOOKUP(E$2,Table1[],3,0),IF($B476=2,VLOOKUP(E$2,Table1[],4,0),IF($B476=3,VLOOKUP(E$2,Table1[],5,0),IF($B476=4,VLOOKUP(E$2,Table1[],5,0),0))))","v":1500000},{"$f":"IF($B476=1,VLOOKUP(F$2,Table1[],3,0),IF($B476=2,VLOOKUP(F$2,Table1[],4,0),IF($B476=3,VLOOKUP(F$2,Table1[],5,0),IF($B476=4,VLOOKUP(F$2,Table1[],5,0),0))))","v":800000}]
[3081,1,{"$f":"IF($B477=1,VLOOKUP(C$2,Table1[],3,0),IF($B477=2,VLOOKUP(C$2,Table1[],4,0),IF($B477=3,VLOOKUP(C$2,Table1[],5,0),IF($B477=4,VLOOKUP(C$2,Table1[],5,0),0))))","v":2000000},{"$f":"IF($B477=1,VLOOKUP(D$2,Table1[],3,0),IF($B477=2,VLOOKUP(D$2,Table1[],4,0),IF($B477=3,VLOOKUP(D$2,Table1[],5,0),IF($B477=4,VLOOKUP(D$2,Table1[],5,0),0))))","v":2000000},{"$f":"IF($B477=1,VLOOKUP(E$2,Table1[],3,0),IF($B477=2,VLOOKUP(E$2,Table1[],4,0),IF($B477=3,VLOOKUP(E$2,Table1[],5,0),IF($B477=4,VLOOKUP(E$2,Table1[],5,0),0))))","v":1500000},{"$f":"IF($B477=1,VLOOKUP(F$2,Table1[],3,0),IF($B477=2,VLOOKUP(F$2,Table1[],4,0),IF($B477=3,VLOOKUP(F$2,Table1[],5,0),IF($B477=4,VLOOKUP(F$2,Table1[],5,0),0))))","v":800000}]
[3082,1,{"$f":"IF($B478=1,VLOOKUP(C$2,Table1[],3,0),IF($B478=2,VLOOKUP(C$2,Table1[],4,0),IF($B478=3,VLOOKUP(C$2,Table1[],5,0),IF($B478=4,VLOOKUP(C$2,Table1[],5,0),0))))","v":2000000},{"$f":"IF($B478=1,VLOOKUP(D$2,Table1[],3,0),IF($B478=2,VLOOKUP(D$2,Table1[],4,0),IF($B478=3,VLOOKUP(D$2,Table1[],5,0),IF($B478=4,VLOOKUP(D$2,Table1[],5,0),0))))","v":2000000},{"$f":"IF($B478=1,VLOOKUP(E$2,Table1[],3,0),IF($B478=2,VLOOKUP(E$2,Table1[],4,0),IF($B478=3,VLOOKUP(E$2,Table1[],5,0),IF($B478=4,VLOOKUP(E$2,Table1[],5,0),0))))","v":1500000},{"$f":"IF($B478=1,VLOOKUP(F$2,Table1[],3,0),IF($B478=2,VLOOKUP(F$2,Table1[],4,0),IF($B478=3,VLOOKUP(F$2,Table1[],5,0),IF($B478=4,VLOOKUP(F$2,Table1[],5,0),0))))","v":800000}]
[3083,1,{"$f":"IF($B479=1,VLOOKUP(C$2,Table1[],3,0),IF($B479=2,VLOOKUP(C$2,Table1[],4,0),IF($B479=3,VLOOKUP(C$2,Table1[],5,0),IF($B479=4,VLOOKUP(C$2,Table1[],5,0),0))))","v":2000000},{"$f":"IF($B479=1,VLOOKUP(D$2,Table1[],3,0),IF($B479=2,VLOOKUP(D$2,Table1[],4,0),IF($B479=3,VLOOKUP(D$2,Table1[],5,0),IF($B479=4,VLOOKUP(D$2,Table1[],5,0),0))))","v":2000000},{"$f":"IF($B479=1,VLOOKUP(E$2,Table1[],3,0),IF($B479=2,VLOOKUP(E$2,Table1[],4,0),IF($B479=3,VLOOKUP(E$2,Table1[],5,0),IF($B479=4,VLOOKUP(E$2,Table1[],5,0),0))))","v":1500000},{"$f":"IF($B479=1,VLOOKUP(F$2,Table1[],3,0),IF($B479=2,VLOOKUP(F$2,Table1[],4,0),IF($B479=3,VLOOKUP(F$2,Table1[],5,0),IF($B479=4,VLOOKUP(F$2,Table1[],5,0),0))))","v":800000}]
[3084,1,{"$f":"IF($B480=1,VLOOKUP(C$2,Table1[],3,0),IF($B480=2,VLOOKUP(C$2,Table1[],4,0),IF($B480=3,VLOOKUP(C$2,Table1[],5,0),IF($B480=4,VLOOKUP(C$2,Table1[],5,0),0))))","v":2000000},{"$f":"IF($B480=1,VLOOKUP(D$2,Table1[],3,0),IF($B480=2,VLOOKUP(D$2,Table1[],4,0),IF($B480=3,VLOOKUP(D$2,Table1[],5,0),IF($B480=4,VLOOKUP(D$2,Table1[],5,0),0))))","v":2000000},{"$f":"IF($B480=1,VLOOKUP(E$2,Table1[],3,0),IF($B480=2,VLOOKUP(E$2,Table1[],4,0),IF($B480=3,VLOOKUP(E$2,Table1[],5,0),IF($B480=4,VLOOKUP(E$2,Table1[],5,0),0))))","v":1500000},{"$f":"IF($B480=1,VLOOKUP(F$2,Table1[],3,0),IF($B480=2,VLOOKUP(F$2,Table1[],4,0),IF($B480=3,VLOOKUP(F$2,Table1[],5,0),IF($B480=4,VLOOKUP(F$2,Table1[],5,0),0))))","v":800000}]
[3085,1,{"$f":"IF($B481=1,VLOOKUP(C$2,Table1[],3,0),IF($B481=2,VLOOKUP(C$2,Table1[],4,0),IF($B481=3,VLOOKUP(C$2,Table1[],5,0),IF($B481=4,VLOOKUP(C$2,Table1[],5,0),0))))","v":2000000},{"$f":"IF($B481=1,VLOOKUP(D$2,Table1[],3,0),IF($B481=2,VLOOKUP(D$2,Table1[],4,0),IF($B481=3,VLOOKUP(D$2,Table1[],5,0),IF($B481=4,VLOOKUP(D$2,Table1[],5,0),0))))","v":2000000},{"$f":"IF($B481=1,VLOOKUP(E$2,Table1[],3,0),IF($B481=2,VLOOKUP(E$2,Table1[],4,0),IF($B481=3,VLOOKUP(E$2,Table1[],5,0),IF($B481=4,VLOOKUP(E$2,Table1[],5,0),0))))","v":1500000},{"$f":"IF($B481=1,VLOOKUP(F$2,Table1[],3,0),IF($B481=2,VLOOKUP(F$2,Table1[],4,0),IF($B481=3,VLOOKUP(F$2,Table1[],5,0),IF($B481=4,VLOOKUP(F$2,Table1[],5,0),0))))","v":800000}]
[3087,1,{"$f":"IF($B482=1,VLOOKUP(C$2,Table1[],3,0),IF($B482=2,VLOOKUP(C$2,Table1[],4,0),IF($B482=3,VLOOKUP(C$2,Table1[],5,0),IF($B482=4,VLOOKUP(C$2,Table1[],5,0),0))))","v":2000000},{"$f":"IF($B482=1,VLOOKUP(D$2,Table1[],3,0),IF($B482=2,VLOOKUP(D$2,Table1[],4,0),IF($B482=3,VLOOKUP(D$2,Table1[],5,0),IF($B482=4,VLOOKUP(D$2,Table1[],5,0),0))))","v":2000000},{"$f":"IF($B482=1,VLOOKUP(E$2,Table1[],3,0),IF($B482=2,VLOOKUP(E$2,Table1[],4,0),IF($B482=3,VLOOKUP(E$2,Table1[],5,0),IF($B482=4,VLOOKUP(E$2,Table1[],5,0),0))))","v":1500000},{"$f":"IF($B482=1,VLOOKUP(F$2,Table1[],3,0),IF($B482=2,VLOOKUP(F$2,Table1[],4,0),IF($B482=3,VLOOKUP(F$2,Table1[],5,0),IF($B482=4,VLOOKUP(F$2,Table1[],5,0),0))))","v":800000}]
[3088,1,{"$f":"IF($B483=1,VLOOKUP(C$2,Table1[],3,0),IF($B483=2,VLOOKUP(C$2,Table1[],4,0),IF($B483=3,VLOOKUP(C$2,Table1[],5,0),IF($B483=4,VLOOKUP(C$2,Table1[],5,0),0))))","v":2000000},{"$f":"IF($B483=1,VLOOKUP(D$2,Table1[],3,0),IF($B483=2,VLOOKUP(D$2,Table1[],4,0),IF($B483=3,VLOOKUP(D$2,Table1[],5,0),IF($B483=4,VLOOKUP(D$2,Table1[],5,0),0))))","v":2000000},{"$f":"IF($B483=1,VLOOKUP(E$2,Table1[],3,0),IF($B483=2,VLOOKUP(E$2,Table1[],4,0),IF($B483=3,VLOOKUP(E$2,Table1[],5,0),IF($B483=4,VLOOKUP(E$2,Table1[],5,0),0))))","v":1500000},{"$f":"IF($B483=1,VLOOKUP(F$2,Table1[],3,0),IF($B483=2,VLOOKUP(F$2,Table1[],4,0),IF($B483=3,VLOOKUP(F$2,Table1[],5,0),IF($B483=4,VLOOKUP(F$2,Table1[],5,0),0))))","v":800000}]
[3089,1,{"$f":"IF($B484=1,VLOOKUP(C$2,Table1[],3,0),IF($B484=2,VLOOKUP(C$2,Table1[],4,0),IF($B484=3,VLOOKUP(C$2,Table1[],5,0),IF($B484=4,VLOOKUP(C$2,Table1[],5,0),0))))","v":2000000},{"$f":"IF($B484=1,VLOOKUP(D$2,Table1[],3,0),IF($B484=2,VLOOKUP(D$2,Table1[],4,0),IF($B484=3,VLOOKUP(D$2,Table1[],5,0),IF($B484=4,VLOOKUP(D$2,Table1[],5,0),0))))","v":2000000},{"$f":"IF($B484=1,VLOOKUP(E$2,Table1[],3,0),IF($B484=2,VLOOKUP(E$2,Table1[],4,0),IF($B484=3,VLOOKUP(E$2,Table1[],5,0),IF($B484=4,VLOOKUP(E$2,Table1[],5,0),0))))","v":1500000},{"$f":"IF($B484=1,VLOOKUP(F$2,Table1[],3,0),IF($B484=2,VLOOKUP(F$2,Table1[],4,0),IF($B484=3,VLOOKUP(F$2,Table1[],5,0),IF($B484=4,VLOOKUP(F$2,Table1[],5,0),0))))","v":800000}]
[3090,1,{"$f":"IF($B485=1,VLOOKUP(C$2,Table1[],3,0),IF($B485=2,VLOOKUP(C$2,Table1[],4,0),IF($B485=3,VLOOKUP(C$2,Table1[],5,0),IF($B485=4,VLOOKUP(C$2,Table1[],5,0),0))))","v":2000000},{"$f":"IF($B485=1,VLOOKUP(D$2,Table1[],3,0),IF($B485=2,VLOOKUP(D$2,Table1[],4,0),IF($B485=3,VLOOKUP(D$2,Table1[],5,0),IF($B485=4,VLOOKUP(D$2,Table1[],5,0),0))))","v":2000000},{"$f":"IF($B485=1,VLOOKUP(E$2,Table1[],3,0),IF($B485=2,VLOOKUP(E$2,Table1[],4,0),IF($B485=3,VLOOKUP(E$2,Table1[],5,0),IF($B485=4,VLOOKUP(E$2,Table1[],5,0),0))))","v":1500000},{"$f":"IF($B485=1,VLOOKUP(F$2,Table1[],3,0),IF($B485=2,VLOOKUP(F$2,Table1[],4,0),IF($B485=3,VLOOKUP(F$2,Table1[],5,0),IF($B485=4,VLOOKUP(F$2,Table1[],5,0),0))))","v":800000}]
[3091,1,{"$f":"IF($B486=1,VLOOKUP(C$2,Table1[],3,0),IF($B486=2,VLOOKUP(C$2,Table1[],4,0),IF($B486=3,VLOOKUP(C$2,Table1[],5,0),IF($B486=4,VLOOKUP(C$2,Table1[],5,0),0))))","v":2000000},{"$f":"IF($B486=1,VLOOKUP(D$2,Table1[],3,0),IF($B486=2,VLOOKUP(D$2,Table1[],4,0),IF($B486=3,VLOOKUP(D$2,Table1[],5,0),IF($B486=4,VLOOKUP(D$2,Table1[],5,0),0))))","v":2000000},{"$f":"IF($B486=1,VLOOKUP(E$2,Table1[],3,0),IF($B486=2,VLOOKUP(E$2,Table1[],4,0),IF($B486=3,VLOOKUP(E$2,Table1[],5,0),IF($B486=4,VLOOKUP(E$2,Table1[],5,0),0))))","v":1500000},{"$f":"IF($B486=1,VLOOKUP(F$2,Table1[],3,0),IF($B486=2,VLOOKUP(F$2,Table1[],4,0),IF($B486=3,VLOOKUP(F$2,Table1[],5,0),IF($B486=4,VLOOKUP(F$2,Table1[],5,0),0))))","v":800000}]
[3093,1,{"$f":"IF($B487=1,VLOOKUP(C$2,Table1[],3,0),IF($B487=2,VLOOKUP(C$2,Table1[],4,0),IF($B487=3,VLOOKUP(C$2,Table1[],5,0),IF($B487=4,VLOOKUP(C$2,Table1[],5,0),0))))","v":2000000},{"$f":"IF($B487=1,VLOOKUP(D$2,Table1[],3,0),IF($B487=2,VLOOKUP(D$2,Table1[],4,0),IF($B487=3,VLOOKUP(D$2,Table1[],5,0),IF($B487=4,VLOOKUP(D$2,Table1[],5,0),0))))","v":2000000},{"$f":"IF($B487=1,VLOOKUP(E$2,Table1[],3,0),IF($B487=2,VLOOKUP(E$2,Table1[],4,0),IF($B487=3,VLOOKUP(E$2,Table1[],5,0),IF($B487=4,VLOOKUP(E$2,Table1[],5,0),0))))","v":1500000},{"$f":"IF($B487=1,VLOOKUP(F$2,Table1[],3,0),IF($B487=2,VLOOKUP(F$2,Table1[],4,0),IF($B487=3,VLOOKUP(F$2,Table1[],5,0),IF($B487=4,VLOOKUP(F$2,Table1[],5,0),0))))","v":800000}]
[3094,1,{"$f":"IF($B488=1,VLOOKUP(C$2,Table1[],3,0),IF($B488=2,VLOOKUP(C$2,Table1[],4,0),IF($B488=3,VLOOKUP(C$2,Table1[],5,0),IF($B488=4,VLOOKUP(C$2,Table1[],5,0),0))))","v":2000000},{"$f":"IF($B488=1,VLOOKUP(D$2,Table1[],3,0),IF($B488=2,VLOOKUP(D$2,Table1[],4,0),IF($B488=3,VLOOKUP(D$2,Table1[],5,0),IF($B488=4,VLOOKUP(D$2,Table1[],5,0),0))))","v":2000000},{"$f":"IF($B488=1,VLOOKUP(E$2,Table1[],3,0),IF($B488=2,VLOOKUP(E$2,Table1[],4,0),IF($B488=3,VLOOKUP(E$2,Table1[],5,0),IF($B488=4,VLOOKUP(E$2,Table1[],5,0),0))))","v":1500000},{"$f":"IF($B488=1,VLOOKUP(F$2,Table1[],3,0),IF($B488=2,VLOOKUP(F$2,Table1[],4,0),IF($B488=3,VLOOKUP(F$2,Table1[],5,0),IF($B488=4,VLOOKUP(F$2,Table1[],5,0),0))))","v":800000}]
[3095,1,{"$f":"IF($B489=1,VLOOKUP(C$2,Table1[],3,0),IF($B489=2,VLOOKUP(C$2,Table1[],4,0),IF($B489=3,VLOOKUP(C$2,Table1[],5,0),IF($B489=4,VLOOKUP(C$2,Table1[],5,0),0))))","v":2000000},{"$f":"IF($B489=1,VLOOKUP(D$2,Table1[],3,0),IF($B489=2,VLOOKUP(D$2,Table1[],4,0),IF($B489=3,VLOOKUP(D$2,Table1[],5,0),IF($B489=4,VLOOKUP(D$2,Table1[],5,0),0))))","v":2000000},{"$f":"IF($B489=1,VLOOKUP(E$2,Table1[],3,0),IF($B489=2,VLOOKUP(E$2,Table1[],4,0),IF($B489=3,VLOOKUP(E$2,Table1[],5,0),IF($B489=4,VLOOKUP(E$2,Table1[],5,0),0))))","v":1500000},{"$f":"IF($B489=1,VLOOKUP(F$2,Table1[],3,0),IF($B489=2,VLOOKUP(F$2,Table1[],4,0),IF($B489=3,VLOOKUP(F$2,Table1[],5,0),IF($B489=4,VLOOKUP(F$2,Table1[],5,0),0))))","v":800000}]
[3096,1,{"$f":"IF($B490=1,VLOOKUP(C$2,Table1[],3,0),IF($B490=2,VLOOKUP(C$2,Table1[],4,0),IF($B490=3,VLOOKUP(C$2,Table1[],5,0),IF($B490=4,VLOOKUP(C$2,Table1[],5,0),0))))","v":2000000},{"$f":"IF($B490=1,VLOOKUP(D$2,Table1[],3,0),IF($B490=2,VLOOKUP(D$2,Table1[],4,0),IF($B490=3,VLOOKUP(D$2,Table1[],5,0),IF($B490=4,VLOOKUP(D$2,Table1[],5,0),0))))","v":2000000},{"$f":"IF($B490=1,VLOOKUP(E$2,Table1[],3,0),IF($B490=2,VLOOKUP(E$2,Table1[],4,0),IF($B490=3,VLOOKUP(E$2,Table1[],5,0),IF($B490=4,VLOOKUP(E$2,Table1[],5,0),0))))","v":1500000},{"$f":"IF($B490=1,VLOOKUP(F$2,Table1[],3,0),IF($B490=2,VLOOKUP(F$2,Table1[],4,0),IF($B490=3,VLOOKUP(F$2,Table1[],5,0),IF($B490=4,VLOOKUP(F$2,Table1[],5,0),0))))","v":800000}]
[3097,1,{"$f":"IF($B491=1,VLOOKUP(C$2,Table1[],3,0),IF($B491=2,VLOOKUP(C$2,Table1[],4,0),IF($B491=3,VLOOKUP(C$2,Table1[],5,0),IF($B491=4,VLOOKUP(C$2,Table1[],5,0),0))))","v":2000000},{"$f":"IF($B491=1,VLOOKUP(D$2,Table1[],3,0),IF($B491=2,VLOOKUP(D$2,Table1[],4,0),IF($B491=3,VLOOKUP(D$2,Table1[],5,0),IF($B491=4,VLOOKUP(D$2,Table1[],5,0),0))))","v":2000000},{"$f":"IF($B491=1,VLOOKUP(E$2,Table1[],3,0),IF($B491=2,VLOOKUP(E$2,Table1[],4,0),IF($B491=3,VLOOKUP(E$2,Table1[],5,0),IF($B491=4,VLOOKUP(E$2,Table1[],5,0),0))))","v":1500000},{"$f":"IF($B491=1,VLOOKUP(F$2,Table1[],3,0),IF($B491=2,VLOOKUP(F$2,Table1[],4,0),IF($B491=3,VLOOKUP(F$2,Table1[],5,0),IF($B491=4,VLOOKUP(F$2,Table1[],5,0),0))))","v":800000}]
[3099,1,{"$f":"IF($B492=1,VLOOKUP(C$2,Table1[],3,0),IF($B492=2,VLOOKUP(C$2,Table1[],4,0),IF($B492=3,VLOOKUP(C$2,Table1[],5,0),IF($B492=4,VLOOKUP(C$2,Table1[],5,0),0))))","v":2000000},{"$f":"IF($B492=1,VLOOKUP(D$2,Table1[],3,0),IF($B492=2,VLOOKUP(D$2,Table1[],4,0),IF($B492=3,VLOOKUP(D$2,Table1[],5,0),IF($B492=4,VLOOKUP(D$2,Table1[],5,0),0))))","v":2000000},{"$f":"IF($B492=1,VLOOKUP(E$2,Table1[],3,0),IF($B492=2,VLOOKUP(E$2,Table1[],4,0),IF($B492=3,VLOOKUP(E$2,Table1[],5,0),IF($B492=4,VLOOKUP(E$2,Table1[],5,0),0))))","v":1500000},{"$f":"IF($B492=1,VLOOKUP(F$2,Table1[],3,0),IF($B492=2,VLOOKUP(F$2,Table1[],4,0),IF($B492=3,VLOOKUP(F$2,Table1[],5,0),IF($B492=4,VLOOKUP(F$2,Table1[],5,0),0))))","v":800000}]
[3101,1,{"$f":"IF($B493=1,VLOOKUP(C$2,Table1[],3,0),IF($B493=2,VLOOKUP(C$2,Table1[],4,0),IF($B493=3,VLOOKUP(C$2,Table1[],5,0),IF($B493=4,VLOOKUP(C$2,Table1[],5,0),0))))","v":2000000},{"$f":"IF($B493=1,VLOOKUP(D$2,Table1[],3,0),IF($B493=2,VLOOKUP(D$2,Table1[],4,0),IF($B493=3,VLOOKUP(D$2,Table1[],5,0),IF($B493=4,VLOOKUP(D$2,Table1[],5,0),0))))","v":2000000},{"$f":"IF($B493=1,VLOOKUP(E$2,Table1[],3,0),IF($B493=2,VLOOKUP(E$2,Table1[],4,0),IF($B493=3,VLOOKUP(E$2,Table1[],5,0),IF($B493=4,VLOOKUP(E$2,Table1[],5,0),0))))","v":1500000},{"$f":"IF($B493=1,VLOOKUP(F$2,Table1[],3,0),IF($B493=2,VLOOKUP(F$2,Table1[],4,0),IF($B493=3,VLOOKUP(F$2,Table1[],5,0),IF($B493=4,VLOOKUP(F$2,Table1[],5,0),0))))","v":800000}]
[3102,1,{"$f":"IF($B494=1,VLOOKUP(C$2,Table1[],3,0),IF($B494=2,VLOOKUP(C$2,Table1[],4,0),IF($B494=3,VLOOKUP(C$2,Table1[],5,0),IF($B494=4,VLOOKUP(C$2,Table1[],5,0),0))))","v":2000000},{"$f":"IF($B494=1,VLOOKUP(D$2,Table1[],3,0),IF($B494=2,VLOOKUP(D$2,Table1[],4,0),IF($B494=3,VLOOKUP(D$2,Table1[],5,0),IF($B494=4,VLOOKUP(D$2,Table1[],5,0),0))))","v":2000000},{"$f":"IF($B494=1,VLOOKUP(E$2,Table1[],3,0),IF($B494=2,VLOOKUP(E$2,Table1[],4,0),IF($B494=3,VLOOKUP(E$2,Table1[],5,0),IF($B494=4,VLOOKUP(E$2,Table1[],5,0),0))))","v":1500000},{"$f":"IF($B494=1,VLOOKUP(F$2,Table1[],3,0),IF($B494=2,VLOOKUP(F$2,Table1[],4,0),IF($B494=3,VLOOKUP(F$2,Table1[],5,0),IF($B494=4,VLOOKUP(F$2,Table1[],5,0),0))))","v":800000}]
[3103,1,{"$f":"IF($B495=1,VLOOKUP(C$2,Table1[],3,0),IF($B495=2,VLOOKUP(C$2,Table1[],4,0),IF($B495=3,VLOOKUP(C$2,Table1[],5,0),IF($B495=4,VLOOKUP(C$2,Table1[],5,0),0))))","v":2000000},{"$f":"IF($B495=1,VLOOKUP(D$2,Table1[],3,0),IF($B495=2,VLOOKUP(D$2,Table1[],4,0),IF($B495=3,VLOOKUP(D$2,Table1[],5,0),IF($B495=4,VLOOKUP(D$2,Table1[],5,0),0))))","v":2000000},{"$f":"IF($B495=1,VLOOKUP(E$2,Table1[],3,0),IF($B495=2,VLOOKUP(E$2,Table1[],4,0),IF($B495=3,VLOOKUP(E$2,Table1[],5,0),IF($B495=4,VLOOKUP(E$2,Table1[],5,0),0))))","v":1500000},{"$f":"IF($B495=1,VLOOKUP(F$2,Table1[],3,0),IF($B495=2,VLOOKUP(F$2,Table1[],4,0),IF($B495=3,VLOOKUP(F$2,Table1[],5,0),IF($B495=4,VLOOKUP(F$2,Table1[],5,0),0))))","v":800000}]
[3104,1,{"$f":"IF($B496=1,VLOOKUP(C$2,Table1[],3,0),IF($B496=2,VLOOKUP(C$2,Table1[],4,0),IF($B496=3,VLOOKUP(C$2,Table1[],5,0),IF($B496=4,VLOOKUP(C$2,Table1[],5,0),0))))","v":2000000},{"$f":"IF($B496=1,VLOOKUP(D$2,Table1[],3,0),IF($B496=2,VLOOKUP(D$2,Table1[],4,0),IF($B496=3,VLOOKUP(D$2,Table1[],5,0),IF($B496=4,VLOOKUP(D$2,Table1[],5,0),0))))","v":2000000},{"$f":"IF($B496=1,VLOOKUP(E$2,Table1[],3,0),IF($B496=2,VLOOKUP(E$2,Table1[],4,0),IF($B496=3,VLOOKUP(E$2,Table1[],5,0),IF($B496=4,VLOOKUP(E$2,Table1[],5,0),0))))","v":1500000},{"$f":"IF($B496=1,VLOOKUP(F$2,Table1[],3,0),IF($B496=2,VLOOKUP(F$2,Table1[],4,0),IF($B496=3,VLOOKUP(F$2,Table1[],5,0),IF($B496=4,VLOOKUP(F$2,Table1[],5,0),0))))","v":800000}]
[3105,1,{"$f":"IF($B497=1,VLOOKUP(C$2,Table1[],3,0),IF($B497=2,VLOOKUP(C$2,Table1[],4,0),IF($B497=3,VLOOKUP(C$2,Table1[],5,0),IF($B497=4,VLOOKUP(C$2,Table1[],5,0),0))))","v":2000000},{"$f":"IF($B497=1,VLOOKUP(D$2,Table1[],3,0),IF($B497=2,VLOOKUP(D$2,Table1[],4,0),IF($B497=3,VLOOKUP(D$2,Table1[],5,0),IF($B497=4,VLOOKUP(D$2,Table1[],5,0),0))))","v":2000000},{"$f":"IF($B497=1,VLOOKUP(E$2,Table1[],3,0),IF($B497=2,VLOOKUP(E$2,Table1[],4,0),IF($B497=3,VLOOKUP(E$2,Table1[],5,0),IF($B497=4,VLOOKUP(E$2,Table1[],5,0),0))))","v":1500000},{"$f":"IF($B497=1,VLOOKUP(F$2,Table1[],3,0),IF($B497=2,VLOOKUP(F$2,Table1[],4,0),IF($B497=3,VLOOKUP(F$2,Table1[],5,0),IF($B497=4,VLOOKUP(F$2,Table1[],5,0),0))))","v":800000}]
[3106,1,{"$f":"IF($B498=1,VLOOKUP(C$2,Table1[],3,0),IF($B498=2,VLOOKUP(C$2,Table1[],4,0),IF($B498=3,VLOOKUP(C$2,Table1[],5,0),IF($B498=4,VLOOKUP(C$2,Table1[],5,0),0))))","v":2000000},{"$f":"IF($B498=1,VLOOKUP(D$2,Table1[],3,0),IF($B498=2,VLOOKUP(D$2,Table1[],4,0),IF($B498=3,VLOOKUP(D$2,Table1[],5,0),IF($B498=4,VLOOKUP(D$2,Table1[],5,0),0))))","v":2000000},{"$f":"IF($B498=1,VLOOKUP(E$2,Table1[],3,0),IF($B498=2,VLOOKUP(E$2,Table1[],4,0),IF($B498=3,VLOOKUP(E$2,Table1[],5,0),IF($B498=4,VLOOKUP(E$2,Table1[],5,0),0))))","v":1500000},{"$f":"IF($B498=1,VLOOKUP(F$2,Table1[],3,0),IF($B498=2,VLOOKUP(F$2,Table1[],4,0),IF($B498=3,VLOOKUP(F$2,Table1[],5,0),IF($B498=4,VLOOKUP(F$2,Table1[],5,0),0))))","v":800000}]
[3107,1,{"$f":"IF($B499=1,VLOOKUP(C$2,Table1[],3,0),IF($B499=2,VLOOKUP(C$2,Table1[],4,0),IF($B499=3,VLOOKUP(C$2,Table1[],5,0),IF($B499=4,VLOOKUP(C$2,Table1[],5,0),0))))","v":2000000},{"$f":"IF($B499=1,VLOOKUP(D$2,Table1[],3,0),IF($B499=2,VLOOKUP(D$2,Table1[],4,0),IF($B499=3,VLOOKUP(D$2,Table1[],5,0),IF($B499=4,VLOOKUP(D$2,Table1[],5,0),0))))","v":2000000},{"$f":"IF($B499=1,VLOOKUP(E$2,Table1[],3,0),IF($B499=2,VLOOKUP(E$2,Table1[],4,0),IF($B499=3,VLOOKUP(E$2,Table1[],5,0),IF($B499=4,VLOOKUP(E$2,Table1[],5,0),0))))","v":1500000},{"$f":"IF($B499=1,VLOOKUP(F$2,Table1[],3,0),IF($B499=2,VLOOKUP(F$2,Table1[],4,0),IF($B499=3,VLOOKUP(F$2,Table1[],5,0),IF($B499=4,VLOOKUP(F$2,Table1[],5,0),0))))","v":800000}]
[3108,1,{"$f":"IF($B500=1,VLOOKUP(C$2,Table1[],3,0),IF($B500=2,VLOOKUP(C$2,Table1[],4,0),IF($B500=3,VLOOKUP(C$2,Table1[],5,0),IF($B500=4,VLOOKUP(C$2,Table1[],5,0),0))))","v":2000000},{"$f":"IF($B500=1,VLOOKUP(D$2,Table1[],3,0),IF($B500=2,VLOOKUP(D$2,Table1[],4,0),IF($B500=3,VLOOKUP(D$2,Table1[],5,0),IF($B500=4,VLOOKUP(D$2,Table1[],5,0),0))))","v":2000000},{"$f":"IF($B500=1,VLOOKUP(E$2,Table1[],3,0),IF($B500=2,VLOOKUP(E$2,Table1[],4,0),IF($B500=3,VLOOKUP(E$2,Table1[],5,0),IF($B500=4,VLOOKUP(E$2,Table1[],5,0),0))))","v":1500000},{"$f":"IF($B500=1,VLOOKUP(F$2,Table1[],3,0),IF($B500=2,VLOOKUP(F$2,Table1[],4,0),IF($B500=3,VLOOKUP(F$2,Table1[],5,0),IF($B500=4,VLOOKUP(F$2,Table1[],5,0),0))))","v":800000}]
[3109,1,{"$f":"IF($B501=1,VLOOKUP(C$2,Table1[],3,0),IF($B501=2,VLOOKUP(C$2,Table1[],4,0),IF($B501=3,VLOOKUP(C$2,Table1[],5,0),IF($B501=4,VLOOKUP(C$2,Table1[],5,0),0))))","v":2000000},{"$f":"IF($B501=1,VLOOKUP(D$2,Table1[],3,0),IF($B501=2,VLOOKUP(D$2,Table1[],4,0),IF($B501=3,VLOOKUP(D$2,Table1[],5,0),IF($B501=4,VLOOKUP(D$2,Table1[],5,0),0))))","v":2000000},{"$f":"IF($B501=1,VLOOKUP(E$2,Table1[],3,0),IF($B501=2,VLOOKUP(E$2,Table1[],4,0),IF($B501=3,VLOOKUP(E$2,Table1[],5,0),IF($B501=4,VLOOKUP(E$2,Table1[],5,0),0))))","v":1500000},{"$f":"IF($B501=1,VLOOKUP(F$2,Table1[],3,0),IF($B501=2,VLOOKUP(F$2,Table1[],4,0),IF($B501=3,VLOOKUP(F$2,Table1[],5,0),IF($B501=4,VLOOKUP(F$2,Table1[],5,0),0))))","v":800000}]
[3111,1,{"$f":"IF($B502=1,VLOOKUP(C$2,Table1[],3,0),IF($B502=2,VLOOKUP(C$2,Table1[],4,0),IF($B502=3,VLOOKUP(C$2,Table1[],5,0),IF($B502=4,VLOOKUP(C$2,Table1[],5,0),0))))","v":2000000},{"$f":"IF($B502=1,VLOOKUP(D$2,Table1[],3,0),IF($B502=2,VLOOKUP(D$2,Table1[],4,0),IF($B502=3,VLOOKUP(D$2,Table1[],5,0),IF($B502=4,VLOOKUP(D$2,Table1[],5,0),0))))","v":2000000},{"$f":"IF($B502=1,VLOOKUP(E$2,Table1[],3,0),IF($B502=2,VLOOKUP(E$2,Table1[],4,0),IF($B502=3,VLOOKUP(E$2,Table1[],5,0),IF($B502=4,VLOOKUP(E$2,Table1[],5,0),0))))","v":1500000},{"$f":"IF($B502=1,VLOOKUP(F$2,Table1[],3,0),IF($B502=2,VLOOKUP(F$2,Table1[],4,0),IF($B502=3,VLOOKUP(F$2,Table1[],5,0),IF($B502=4,VLOOKUP(F$2,Table1[],5,0),0))))","v":800000}]
[3113,1,{"$f":"IF($B503=1,VLOOKUP(C$2,Table1[],3,0),IF($B503=2,VLOOKUP(C$2,Table1[],4,0),IF($B503=3,VLOOKUP(C$2,Table1[],5,0),IF($B503=4,VLOOKUP(C$2,Table1[],5,0),0))))","v":2000000},{"$f":"IF($B503=1,VLOOKUP(D$2,Table1[],3,0),IF($B503=2,VLOOKUP(D$2,Table1[],4,0),IF($B503=3,VLOOKUP(D$2,Table1[],5,0),IF($B503=4,VLOOKUP(D$2,Table1[],5,0),0))))","v":2000000},{"$f":"IF($B503=1,VLOOKUP(E$2,Table1[],3,0),IF($B503=2,VLOOKUP(E$2,Table1[],4,0),IF($B503=3,VLOOKUP(E$2,Table1[],5,0),IF($B503=4,VLOOKUP(E$2,Table1[],5,0),0))))","v":1500000},{"$f":"IF($B503=1,VLOOKUP(F$2,Table1[],3,0),IF($B503=2,VLOOKUP(F$2,Table1[],4,0),IF($B503=3,VLOOKUP(F$2,Table1[],5,0),IF($B503=4,VLOOKUP(F$2,Table1[],5,0),0))))","v":800000}]
[3114,1,{"$f":"IF($B504=1,VLOOKUP(C$2,Table1[],3,0),IF($B504=2,VLOOKUP(C$2,Table1[],4,0),IF($B504=3,VLOOKUP(C$2,Table1[],5,0),IF($B504=4,VLOOKUP(C$2,Table1[],5,0),0))))","v":2000000},{"$f":"IF($B504=1,VLOOKUP(D$2,Table1[],3,0),IF($B504=2,VLOOKUP(D$2,Table1[],4,0),IF($B504=3,VLOOKUP(D$2,Table1[],5,0),IF($B504=4,VLOOKUP(D$2,Table1[],5,0),0))))","v":2000000},{"$f":"IF($B504=1,VLOOKUP(E$2,Table1[],3,0),IF($B504=2,VLOOKUP(E$2,Table1[],4,0),IF($B504=3,VLOOKUP(E$2,Table1[],5,0),IF($B504=4,VLOOKUP(E$2,Table1[],5,0),0))))","v":1500000},{"$f":"IF($B504=1,VLOOKUP(F$2,Table1[],3,0),IF($B504=2,VLOOKUP(F$2,Table1[],4,0),IF($B504=3,VLOOKUP(F$2,Table1[],5,0),IF($B504=4,VLOOKUP(F$2,Table1[],5,0),0))))","v":800000}]
[3115,1,{"$f":"IF($B505=1,VLOOKUP(C$2,Table1[],3,0),IF($B505=2,VLOOKUP(C$2,Table1[],4,0),IF($B505=3,VLOOKUP(C$2,Table1[],5,0),IF($B505=4,VLOOKUP(C$2,Table1[],5,0),0))))","v":2000000},{"$f":"IF($B505=1,VLOOKUP(D$2,Table1[],3,0),IF($B505=2,VLOOKUP(D$2,Table1[],4,0),IF($B505=3,VLOOKUP(D$2,Table1[],5,0),IF($B505=4,VLOOKUP(D$2,Table1[],5,0),0))))","v":2000000},{"$f":"IF($B505=1,VLOOKUP(E$2,Table1[],3,0),IF($B505=2,VLOOKUP(E$2,Table1[],4,0),IF($B505=3,VLOOKUP(E$2,Table1[],5,0),IF($B505=4,VLOOKUP(E$2,Table1[],5,0),0))))","v":1500000},{"$f":"IF($B505=1,VLOOKUP(F$2,Table1[],3,0),IF($B505=2,VLOOKUP(F$2,Table1[],4,0),IF($B505=3,VLOOKUP(F$2,Table1[],5,0),IF($B505=4,VLOOKUP(F$2,Table1[],5,0),0))))","v":800000}]
[3116,1,{"$f":"IF($B506=1,VLOOKUP(C$2,Table1[],3,0),IF($B506=2,VLOOKUP(C$2,Table1[],4,0),IF($B506=3,VLOOKUP(C$2,Table1[],5,0),IF($B506=4,VLOOKUP(C$2,Table1[],5,0),0))))","v":2000000},{"$f":"IF($B506=1,VLOOKUP(D$2,Table1[],3,0),IF($B506=2,VLOOKUP(D$2,Table1[],4,0),IF($B506=3,VLOOKUP(D$2,Table1[],5,0),IF($B506=4,VLOOKUP(D$2,Table1[],5,0),0))))","v":2000000},{"$f":"IF($B506=1,VLOOKUP(E$2,Table1[],3,0),IF($B506=2,VLOOKUP(E$2,Table1[],4,0),IF($B506=3,VLOOKUP(E$2,Table1[],5,0),IF($B506=4,VLOOKUP(E$2,Table1[],5,0),0))))","v":1500000},{"$f":"IF($B506=1,VLOOKUP(F$2,Table1[],3,0),IF($B506=2,VLOOKUP(F$2,Table1[],4,0),IF($B506=3,VLOOKUP(F$2,Table1[],5,0),IF($B506=4,VLOOKUP(F$2,Table1[],5,0),0))))","v":800000}]
[3121,1,{"$f":"IF($B507=1,VLOOKUP(C$2,Table1[],3,0),IF($B507=2,VLOOKUP(C$2,Table1[],4,0),IF($B507=3,VLOOKUP(C$2,Table1[],5,0),IF($B507=4,VLOOKUP(C$2,Table1[],5,0),0))))","v":2000000},{"$f":"IF($B507=1,VLOOKUP(D$2,Table1[],3,0),IF($B507=2,VLOOKUP(D$2,Table1[],4,0),IF($B507=3,VLOOKUP(D$2,Table1[],5,0),IF($B507=4,VLOOKUP(D$2,Table1[],5,0),0))))","v":2000000},{"$f":"IF($B507=1,VLOOKUP(E$2,Table1[],3,0),IF($B507=2,VLOOKUP(E$2,Table1[],4,0),IF($B507=3,VLOOKUP(E$2,Table1[],5,0),IF($B507=4,VLOOKUP(E$2,Table1[],5,0),0))))","v":1500000},{"$f":"IF($B507=1,VLOOKUP(F$2,Table1[],3,0),IF($B507=2,VLOOKUP(F$2,Table1[],4,0),IF($B507=3,VLOOKUP(F$2,Table1[],5,0),IF($B507=4,VLOOKUP(F$2,Table1[],5,0),0))))","v":800000}]
[3122,1,{"$f":"IF($B508=1,VLOOKUP(C$2,Table1[],3,0),IF($B508=2,VLOOKUP(C$2,Table1[],4,0),IF($B508=3,VLOOKUP(C$2,Table1[],5,0),IF($B508=4,VLOOKUP(C$2,Table1[],5,0),0))))","v":2000000},{"$f":"IF($B508=1,VLOOKUP(D$2,Table1[],3,0),IF($B508=2,VLOOKUP(D$2,Table1[],4,0),IF($B508=3,VLOOKUP(D$2,Table1[],5,0),IF($B508=4,VLOOKUP(D$2,Table1[],5,0),0))))","v":2000000},{"$f":"IF($B508=1,VLOOKUP(E$2,Table1[],3,0),IF($B508=2,VLOOKUP(E$2,Table1[],4,0),IF($B508=3,VLOOKUP(E$2,Table1[],5,0),IF($B508=4,VLOOKUP(E$2,Table1[],5,0),0))))","v":1500000},{"$f":"IF($B508=1,VLOOKUP(F$2,Table1[],3,0),IF($B508=2,VLOOKUP(F$2,Table1[],4,0),IF($B508=3,VLOOKUP(F$2,Table1[],5,0),IF($B508=4,VLOOKUP(F$2,Table1[],5,0),0))))","v":800000}]
[3123,1,{"$f":"IF($B509=1,VLOOKUP(C$2,Table1[],3,0),IF($B509=2,VLOOKUP(C$2,Table1[],4,0),IF($B509=3,VLOOKUP(C$2,Table1[],5,0),IF($B509=4,VLOOKUP(C$2,Table1[],5,0),0))))","v":2000000},{"$f":"IF($B509=1,VLOOKUP(D$2,Table1[],3,0),IF($B509=2,VLOOKUP(D$2,Table1[],4,0),IF($B509=3,VLOOKUP(D$2,Table1[],5,0),IF($B509=4,VLOOKUP(D$2,Table1[],5,0),0))))","v":2000000},{"$f":"IF($B509=1,VLOOKUP(E$2,Table1[],3,0),IF($B509=2,VLOOKUP(E$2,Table1[],4,0),IF($B509=3,VLOOKUP(E$2,Table1[],5,0),IF($B509=4,VLOOKUP(E$2,Table1[],5,0),0))))","v":1500000},{"$f":"IF($B509=1,VLOOKUP(F$2,Table1[],3,0),IF($B509=2,VLOOKUP(F$2,Table1[],4,0),IF($B509=3,VLOOKUP(F$2,Table1[],5,0),IF($B509=4,VLOOKUP(F$2,Table1[],5,0),0))))","v":800000}]
[3124,1,{"$f":"IF($B510=1,VLOOKUP(C$2,Table1[],3,0),IF($B510=2,VLOOKUP(C$2,Table1[],4,0),IF($B510=3,VLOOKUP(C$2,Table1[],5,0),IF($B510=4,VLOOKUP(C$2,Table1[],5,0),0))))","v":2000000},{"$f":"IF($B510=1,VLOOKUP(D$2,Table1[],3,0),IF($B510=2,VLOOKUP(D$2,Table1[],4,0),IF($B510=3,VLOOKUP(D$2,Table1[],5,0),IF($B510=4,VLOOKUP(D$2,Table1[],5,0),0))))","v":2000000},{"$f":"IF($B510=1,VLOOKUP(E$2,Table1[],3,0),IF($B510=2,VLOOKUP(E$2,Table1[],4,0),IF($B510=3,VLOOKUP(E$2,Table1[],5,0),IF($B510=4,VLOOKUP(E$2,Table1[],5,0),0))))","v":1500000},{"$f":"IF($B510=1,VLOOKUP(F$2,Table1[],3,0),IF($B510=2,VLOOKUP(F$2,Table1[],4,0),IF($B510=3,VLOOKUP(F$2,Table1[],5,0),IF($B510=4,VLOOKUP(F$2,Table1[],5,0),0))))","v":800000}]
[3125,1,{"$f":"IF($B511=1,VLOOKUP(C$2,Table1[],3,0),IF($B511=2,VLOOKUP(C$2,Table1[],4,0),IF($B511=3,VLOOKUP(C$2,Table1[],5,0),IF($B511=4,VLOOKUP(C$2,Table1[],5,0),0))))","v":2000000},{"$f":"IF($B511=1,VLOOKUP(D$2,Table1[],3,0),IF($B511=2,VLOOKUP(D$2,Table1[],4,0),IF($B511=3,VLOOKUP(D$2,Table1[],5,0),IF($B511=4,VLOOKUP(D$2,Table1[],5,0),0))))","v":2000000},{"$f":"IF($B511=1,VLOOKUP(E$2,Table1[],3,0),IF($B511=2,VLOOKUP(E$2,Table1[],4,0),IF($B511=3,VLOOKUP(E$2,Table1[],5,0),IF($B511=4,VLOOKUP(E$2,Table1[],5,0),0))))","v":1500000},{"$f":"IF($B511=1,VLOOKUP(F$2,Table1[],3,0),IF($B511=2,VLOOKUP(F$2,Table1[],4,0),IF($B511=3,VLOOKUP(F$2,Table1[],5,0),IF($B511=4,VLOOKUP(F$2,Table1[],5,0),0))))","v":800000}]
[3126,1,{"$f":"IF($B512=1,VLOOKUP(C$2,Table1[],3,0),IF($B512=2,VLOOKUP(C$2,Table1[],4,0),IF($B512=3,VLOOKUP(C$2,Table1[],5,0),IF($B512=4,VLOOKUP(C$2,Table1[],5,0),0))))","v":2000000},{"$f":"IF($B512=1,VLOOKUP(D$2,Table1[],3,0),IF($B512=2,VLOOKUP(D$2,Table1[],4,0),IF($B512=3,VLOOKUP(D$2,Table1[],5,0),IF($B512=4,VLOOKUP(D$2,Table1[],5,0),0))))","v":2000000},{"$f":"IF($B512=1,VLOOKUP(E$2,Table1[],3,0),IF($B512=2,VLOOKUP(E$2,Table1[],4,0),IF($B512=3,VLOOKUP(E$2,Table1[],5,0),IF($B512=4,VLOOKUP(E$2,Table1[],5,0),0))))","v":1500000},{"$f":"IF($B512=1,VLOOKUP(F$2,Table1[],3,0),IF($B512=2,VLOOKUP(F$2,Table1[],4,0),IF($B512=3,VLOOKUP(F$2,Table1[],5,0),IF($B512=4,VLOOKUP(F$2,Table1[],5,0),0))))","v":800000}]
[3127,1,{"$f":"IF($B513=1,VLOOKUP(C$2,Table1[],3,0),IF($B513=2,VLOOKUP(C$2,Table1[],4,0),IF($B513=3,VLOOKUP(C$2,Table1[],5,0),IF($B513=4,VLOOKUP(C$2,Table1[],5,0),0))))","v":2000000},{"$f":"IF($B513=1,VLOOKUP(D$2,Table1[],3,0),IF($B513=2,VLOOKUP(D$2,Table1[],4,0),IF($B513=3,VLOOKUP(D$2,Table1[],5,0),IF($B513=4,VLOOKUP(D$2,Table1[],5,0),0))))","v":2000000},{"$f":"IF($B513=1,VLOOKUP(E$2,Table1[],3,0),IF($B513=2,VLOOKUP(E$2,Table1[],4,0),IF($B513=3,VLOOKUP(E$2,Table1[],5,0),IF($B513=4,VLOOKUP(E$2,Table1[],5,0),0))))","v":1500000},{"$f":"IF($B513=1,VLOOKUP(F$2,Table1[],3,0),IF($B513=2,VLOOKUP(F$2,Table1[],4,0),IF($B513=3,VLOOKUP(F$2,Table1[],5,0),IF($B513=4,VLOOKUP(F$2,Table1[],5,0),0))))","v":800000}]
[3128,1,{"$f":"IF($B514=1,VLOOKUP(C$2,Table1[],3,0),IF($B514=2,VLOOKUP(C$2,Table1[],4,0),IF($B514=3,VLOOKUP(C$2,Table1[],5,0),IF($B514=4,VLOOKUP(C$2,Table1[],5,0),0))))","v":2000000},{"$f":"IF($B514=1,VLOOKUP(D$2,Table1[],3,0),IF($B514=2,VLOOKUP(D$2,Table1[],4,0),IF($B514=3,VLOOKUP(D$2,Table1[],5,0),IF($B514=4,VLOOKUP(D$2,Table1[],5,0),0))))","v":2000000},{"$f":"IF($B514=1,VLOOKUP(E$2,Table1[],3,0),IF($B514=2,VLOOKUP(E$2,Table1[],4,0),IF($B514=3,VLOOKUP(E$2,Table1[],5,0),IF($B514=4,VLOOKUP(E$2,Table1[],5,0),0))))","v":1500000},{"$f":"IF($B514=1,VLOOKUP(F$2,Table1[],3,0),IF($B514=2,VLOOKUP(F$2,Table1[],4,0),IF($B514=3,VLOOKUP(F$2,Table1[],5,0),IF($B514=4,VLOOKUP(F$2,Table1[],5,0),0))))","v":800000}]
[3129,1,{"$f":"IF($B515=1,VLOOKUP(C$2,Table1[],3,0),IF($B515=2,VLOOKUP(C$2,Table1[],4,0),IF($B515=3,VLOOKUP(C$2,Table1[],5,0),IF($B515=4,VLOOKUP(C$2,Table1[],5,0),0))))","v":2000000},{"$f":"IF($B515=1,VLOOKUP(D$2,Table1[],3,0),IF($B515=2,VLOOKUP(D$2,Table1[],4,0),IF($B515=3,VLOOKUP(D$2,Table1[],5,0),IF($B515=4,VLOOKUP(D$2,Table1[],5,0),0))))","v":2000000},{"$f":"IF($B515=1,VLOOKUP(E$2,Table1[],3,0),IF($B515=2,VLOOKUP(E$2,Table1[],4,0),IF($B515=3,VLOOKUP(E$2,Table1[],5,0),IF($B515=4,VLOOKUP(E$2,Table1[],5,0),0))))","v":1500000},{"$f":"IF($B515=1,VLOOKUP(F$2,Table1[],3,0),IF($B515=2,VLOOKUP(F$2,Table1[],4,0),IF($B515=3,VLOOKUP(F$2,Table1[],5,0),IF($B515=4,VLOOKUP(F$2,Table1[],5,0),0))))","v":800000}]
[3130,1,{"$f":"IF($B516=1,VLOOKUP(C$2,Table1[],3,0),IF($B516=2,VLOOKUP(C$2,Table1[],4,0),IF($B516=3,VLOOKUP(C$2,Table1[],5,0),IF($B516=4,VLOOKUP(C$2,Table1[],5,0),0))))","v":2000000},{"$f":"IF($B516=1,VLOOKUP(D$2,Table1[],3,0),IF($B516=2,VLOOKUP(D$2,Table1[],4,0),IF($B516=3,VLOOKUP(D$2,Table1[],5,0),IF($B516=4,VLOOKUP(D$2,Table1[],5,0),0))))","v":2000000},{"$f":"IF($B516=1,VLOOKUP(E$2,Table1[],3,0),IF($B516=2,VLOOKUP(E$2,Table1[],4,0),IF($B516=3,VLOOKUP(E$2,Table1[],5,0),IF($B516=4,VLOOKUP(E$2,Table1[],5,0),0))))","v":1500000},{"$f":"IF($B516=1,VLOOKUP(F$2,Table1[],3,0),IF($B516=2,VLOOKUP(F$2,Table1[],4,0),IF($B516=3,VLOOKUP(F$2,Table1[],5,0),IF($B516=4,VLOOKUP(F$2,Table1[],5,0),0))))","v":800000}]
[3131,1,{"$f":"IF($B517=1,VLOOKUP(C$2,Table1[],3,0),IF($B517=2,VLOOKUP(C$2,Table1[],4,0),IF($B517=3,VLOOKUP(C$2,Table1[],5,0),IF($B517=4,VLOOKUP(C$2,Table1[],5,0),0))))","v":2000000},{"$f":"IF($B517=1,VLOOKUP(D$2,Table1[],3,0),IF($B517=2,VLOOKUP(D$2,Table1[],4,0),IF($B517=3,VLOOKUP(D$2,Table1[],5,0),IF($B517=4,VLOOKUP(D$2,Table1[],5,0),0))))","v":2000000},{"$f":"IF($B517=1,VLOOKUP(E$2,Table1[],3,0),IF($B517=2,VLOOKUP(E$2,Table1[],4,0),IF($B517=3,VLOOKUP(E$2,Table1[],5,0),IF($B517=4,VLOOKUP(E$2,Table1[],5,0),0))))","v":1500000},{"$f":"IF($B517=1,VLOOKUP(F$2,Table1[],3,0),IF($B517=2,VLOOKUP(F$2,Table1[],4,0),IF($B517=3,VLOOKUP(F$2,Table1[],5,0),IF($B517=4,VLOOKUP(F$2,Table1[],5,0),0))))","v":800000}]
[3132,1,{"$f":"IF($B518=1,VLOOKUP(C$2,Table1[],3,0),IF($B518=2,VLOOKUP(C$2,Table1[],4,0),IF($B518=3,VLOOKUP(C$2,Table1[],5,0),IF($B518=4,VLOOKUP(C$2,Table1[],5,0),0))))","v":2000000},{"$f":"IF($B518=1,VLOOKUP(D$2,Table1[],3,0),IF($B518=2,VLOOKUP(D$2,Table1[],4,0),IF($B518=3,VLOOKUP(D$2,Table1[],5,0),IF($B518=4,VLOOKUP(D$2,Table1[],5,0),0))))","v":2000000},{"$f":"IF($B518=1,VLOOKUP(E$2,Table1[],3,0),IF($B518=2,VLOOKUP(E$2,Table1[],4,0),IF($B518=3,VLOOKUP(E$2,Table1[],5,0),IF($B518=4,VLOOKUP(E$2,Table1[],5,0),0))))","v":1500000},{"$f":"IF($B518=1,VLOOKUP(F$2,Table1[],3,0),IF($B518=2,VLOOKUP(F$2,Table1[],4,0),IF($B518=3,VLOOKUP(F$2,Table1[],5,0),IF($B518=4,VLOOKUP(F$2,Table1[],5,0),0))))","v":800000}]
[3133,1,{"$f":"IF($B519=1,VLOOKUP(C$2,Table1[],3,0),IF($B519=2,VLOOKUP(C$2,Table1[],4,0),IF($B519=3,VLOOKUP(C$2,Table1[],5,0),IF($B519=4,VLOOKUP(C$2,Table1[],5,0),0))))","v":2000000},{"$f":"IF($B519=1,VLOOKUP(D$2,Table1[],3,0),IF($B519=2,VLOOKUP(D$2,Table1[],4,0),IF($B519=3,VLOOKUP(D$2,Table1[],5,0),IF($B519=4,VLOOKUP(D$2,Table1[],5,0),0))))","v":2000000},{"$f":"IF($B519=1,VLOOKUP(E$2,Table1[],3,0),IF($B519=2,VLOOKUP(E$2,Table1[],4,0),IF($B519=3,VLOOKUP(E$2,Table1[],5,0),IF($B519=4,VLOOKUP(E$2,Table1[],5,0),0))))","v":1500000},{"$f":"IF($B519=1,VLOOKUP(F$2,Table1[],3,0),IF($B519=2,VLOOKUP(F$2,Table1[],4,0),IF($B519=3,VLOOKUP(F$2,Table1[],5,0),IF($B519=4,VLOOKUP(F$2,Table1[],5,0),0))))","v":800000}]
[3134,1,{"$f":"IF($B520=1,VLOOKUP(C$2,Table1[],3,0),IF($B520=2,VLOOKUP(C$2,Table1[],4,0),IF($B520=3,VLOOKUP(C$2,Table1[],5,0),IF($B520=4,VLOOKUP(C$2,Table1[],5,0),0))))","v":2000000},{"$f":"IF($B520=1,VLOOKUP(D$2,Table1[],3,0),IF($B520=2,VLOOKUP(D$2,Table1[],4,0),IF($B520=3,VLOOKUP(D$2,Table1[],5,0),IF($B520=4,VLOOKUP(D$2,Table1[],5,0),0))))","v":2000000},{"$f":"IF($B520=1,VLOOKUP(E$2,Table1[],3,0),IF($B520=2,VLOOKUP(E$2,Table1[],4,0),IF($B520=3,VLOOKUP(E$2,Table1[],5,0),IF($B520=4,VLOOKUP(E$2,Table1[],5,0),0))))","v":1500000},{"$f":"IF($B520=1,VLOOKUP(F$2,Table1[],3,0),IF($B520=2,VLOOKUP(F$2,Table1[],4,0),IF($B520=3,VLOOKUP(F$2,Table1[],5,0),IF($B520=4,VLOOKUP(F$2,Table1[],5,0),0))))","v":800000}]
[3135,1,{"$f":"IF($B521=1,VLOOKUP(C$2,Table1[],3,0),IF($B521=2,VLOOKUP(C$2,Table1[],4,0),IF($B521=3,VLOOKUP(C$2,Table1[],5,0),IF($B521=4,VLOOKUP(C$2,Table1[],5,0),0))))","v":2000000},{"$f":"IF($B521=1,VLOOKUP(D$2,Table1[],3,0),IF($B521=2,VLOOKUP(D$2,Table1[],4,0),IF($B521=3,VLOOKUP(D$2,Table1[],5,0),IF($B521=4,VLOOKUP(D$2,Table1[],5,0),0))))","v":2000000},{"$f":"IF($B521=1,VLOOKUP(E$2,Table1[],3,0),IF($B521=2,VLOOKUP(E$2,Table1[],4,0),IF($B521=3,VLOOKUP(E$2,Table1[],5,0),IF($B521=4,VLOOKUP(E$2,Table1[],5,0),0))))","v":1500000},{"$f":"IF($B521=1,VLOOKUP(F$2,Table1[],3,0),IF($B521=2,VLOOKUP(F$2,Table1[],4,0),IF($B521=3,VLOOKUP(F$2,Table1[],5,0),IF($B521=4,VLOOKUP(F$2,Table1[],5,0),0))))","v":800000}]
[3136,1,{"$f":"IF($B522=1,VLOOKUP(C$2,Table1[],3,0),IF($B522=2,VLOOKUP(C$2,Table1[],4,0),IF($B522=3,VLOOKUP(C$2,Table1[],5,0),IF($B522=4,VLOOKUP(C$2,Table1[],5,0),0))))","v":2000000},{"$f":"IF($B522=1,VLOOKUP(D$2,Table1[],3,0),IF($B522=2,VLOOKUP(D$2,Table1[],4,0),IF($B522=3,VLOOKUP(D$2,Table1[],5,0),IF($B522=4,VLOOKUP(D$2,Table1[],5,0),0))))","v":2000000},{"$f":"IF($B522=1,VLOOKUP(E$2,Table1[],3,0),IF($B522=2,VLOOKUP(E$2,Table1[],4,0),IF($B522=3,VLOOKUP(E$2,Table1[],5,0),IF($B522=4,VLOOKUP(E$2,Table1[],5,0),0))))","v":1500000},{"$f":"IF($B522=1,VLOOKUP(F$2,Table1[],3,0),IF($B522=2,VLOOKUP(F$2,Table1[],4,0),IF($B522=3,VLOOKUP(F$2,Table1[],5,0),IF($B522=4,VLOOKUP(F$2,Table1[],5,0),0))))","v":800000}]
[3137,1,{"$f":"IF($B523=1,VLOOKUP(C$2,Table1[],3,0),IF($B523=2,VLOOKUP(C$2,Table1[],4,0),IF($B523=3,VLOOKUP(C$2,Table1[],5,0),IF($B523=4,VLOOKUP(C$2,Table1[],5,0),0))))","v":2000000},{"$f":"IF($B523=1,VLOOKUP(D$2,Table1[],3,0),IF($B523=2,VLOOKUP(D$2,Table1[],4,0),IF($B523=3,VLOOKUP(D$2,Table1[],5,0),IF($B523=4,VLOOKUP(D$2,Table1[],5,0),0))))","v":2000000},{"$f":"IF($B523=1,VLOOKUP(E$2,Table1[],3,0),IF($B523=2,VLOOKUP(E$2,Table1[],4,0),IF($B523=3,VLOOKUP(E$2,Table1[],5,0),IF($B523=4,VLOOKUP(E$2,Table1[],5,0),0))))","v":1500000},{"$f":"IF($B523=1,VLOOKUP(F$2,Table1[],3,0),IF($B523=2,VLOOKUP(F$2,Table1[],4,0),IF($B523=3,VLOOKUP(F$2,Table1[],5,0),IF($B523=4,VLOOKUP(F$2,Table1[],5,0),0))))","v":800000}]
[3138,1,{"$f":"IF($B524=1,VLOOKUP(C$2,Table1[],3,0),IF($B524=2,VLOOKUP(C$2,Table1[],4,0),IF($B524=3,VLOOKUP(C$2,Table1[],5,0),IF($B524=4,VLOOKUP(C$2,Table1[],5,0),0))))","v":2000000},{"$f":"IF($B524=1,VLOOKUP(D$2,Table1[],3,0),IF($B524=2,VLOOKUP(D$2,Table1[],4,0),IF($B524=3,VLOOKUP(D$2,Table1[],5,0),IF($B524=4,VLOOKUP(D$2,Table1[],5,0),0))))","v":2000000},{"$f":"IF($B524=1,VLOOKUP(E$2,Table1[],3,0),IF($B524=2,VLOOKUP(E$2,Table1[],4,0),IF($B524=3,VLOOKUP(E$2,Table1[],5,0),IF($B524=4,VLOOKUP(E$2,Table1[],5,0),0))))","v":1500000},{"$f":"IF($B524=1,VLOOKUP(F$2,Table1[],3,0),IF($B524=2,VLOOKUP(F$2,Table1[],4,0),IF($B524=3,VLOOKUP(F$2,Table1[],5,0),IF($B524=4,VLOOKUP(F$2,Table1[],5,0),0))))","v":800000}]
[3139,1,{"$f":"IF($B525=1,VLOOKUP(C$2,Table1[],3,0),IF($B525=2,VLOOKUP(C$2,Table1[],4,0),IF($B525=3,VLOOKUP(C$2,Table1[],5,0),IF($B525=4,VLOOKUP(C$2,Table1[],5,0),0))))","v":2000000},{"$f":"IF($B525=1,VLOOKUP(D$2,Table1[],3,0),IF($B525=2,VLOOKUP(D$2,Table1[],4,0),IF($B525=3,VLOOKUP(D$2,Table1[],5,0),IF($B525=4,VLOOKUP(D$2,Table1[],5,0),0))))","v":2000000},{"$f":"IF($B525=1,VLOOKUP(E$2,Table1[],3,0),IF($B525=2,VLOOKUP(E$2,Table1[],4,0),IF($B525=3,VLOOKUP(E$2,Table1[],5,0),IF($B525=4,VLOOKUP(E$2,Table1[],5,0),0))))","v":1500000},{"$f":"IF($B525=1,VLOOKUP(F$2,Table1[],3,0),IF($B525=2,VLOOKUP(F$2,Table1[],4,0),IF($B525=3,VLOOKUP(F$2,Table1[],5,0),IF($B525=4,VLOOKUP(F$2,Table1[],5,0),0))))","v":800000}]
[3140,1,{"$f":"IF($B526=1,VLOOKUP(C$2,Table1[],3,0),IF($B526=2,VLOOKUP(C$2,Table1[],4,0),IF($B526=3,VLOOKUP(C$2,Table1[],5,0),IF($B526=4,VLOOKUP(C$2,Table1[],5,0),0))))","v":2000000},{"$f":"IF($B526=1,VLOOKUP(D$2,Table1[],3,0),IF($B526=2,VLOOKUP(D$2,Table1[],4,0),IF($B526=3,VLOOKUP(D$2,Table1[],5,0),IF($B526=4,VLOOKUP(D$2,Table1[],5,0),0))))","v":2000000},{"$f":"IF($B526=1,VLOOKUP(E$2,Table1[],3,0),IF($B526=2,VLOOKUP(E$2,Table1[],4,0),IF($B526=3,VLOOKUP(E$2,Table1[],5,0),IF($B526=4,VLOOKUP(E$2,Table1[],5,0),0))))","v":1500000},{"$f":"IF($B526=1,VLOOKUP(F$2,Table1[],3,0),IF($B526=2,VLOOKUP(F$2,Table1[],4,0),IF($B526=3,VLOOKUP(F$2,Table1[],5,0),IF($B526=4,VLOOKUP(F$2,Table1[],5,0),0))))","v":800000}]
[3141,1,{"$f":"IF($B527=1,VLOOKUP(C$2,Table1[],3,0),IF($B527=2,VLOOKUP(C$2,Table1[],4,0),IF($B527=3,VLOOKUP(C$2,Table1[],5,0),IF($B527=4,VLOOKUP(C$2,Table1[],5,0),0))))","v":2000000},{"$f":"IF($B527=1,VLOOKUP(D$2,Table1[],3,0),IF($B527=2,VLOOKUP(D$2,Table1[],4,0),IF($B527=3,VLOOKUP(D$2,Table1[],5,0),IF($B527=4,VLOOKUP(D$2,Table1[],5,0),0))))","v":2000000},{"$f":"IF($B527=1,VLOOKUP(E$2,Table1[],3,0),IF($B527=2,VLOOKUP(E$2,Table1[],4,0),IF($B527=3,VLOOKUP(E$2,Table1[],5,0),IF($B527=4,VLOOKUP(E$2,Table1[],5,0),0))))","v":1500000},{"$f":"IF($B527=1,VLOOKUP(F$2,Table1[],3,0),IF($B527=2,VLOOKUP(F$2,Table1[],4,0),IF($B527=3,VLOOKUP(F$2,Table1[],5,0),IF($B527=4,VLOOKUP(F$2,Table1[],5,0),0))))","v":800000}]
[3142,1,{"$f":"IF($B528=1,VLOOKUP(C$2,Table1[],3,0),IF($B528=2,VLOOKUP(C$2,Table1[],4,0),IF($B528=3,VLOOKUP(C$2,Table1[],5,0),IF($B528=4,VLOOKUP(C$2,Table1[],5,0),0))))","v":2000000},{"$f":"IF($B528=1,VLOOKUP(D$2,Table1[],3,0),IF($B528=2,VLOOKUP(D$2,Table1[],4,0),IF($B528=3,VLOOKUP(D$2,Table1[],5,0),IF($B528=4,VLOOKUP(D$2,Table1[],5,0),0))))","v":2000000},{"$f":"IF($B528=1,VLOOKUP(E$2,Table1[],3,0),IF($B528=2,VLOOKUP(E$2,Table1[],4,0),IF($B528=3,VLOOKUP(E$2,Table1[],5,0),IF($B528=4,VLOOKUP(E$2,Table1[],5,0),0))))","v":1500000},{"$f":"IF($B528=1,VLOOKUP(F$2,Table1[],3,0),IF($B528=2,VLOOKUP(F$2,Table1[],4,0),IF($B528=3,VLOOKUP(F$2,Table1[],5,0),IF($B528=4,VLOOKUP(F$2,Table1[],5,0),0))))","v":800000}]
[3143,1,{"$f":"IF($B529=1,VLOOKUP(C$2,Table1[],3,0),IF($B529=2,VLOOKUP(C$2,Table1[],4,0),IF($B529=3,VLOOKUP(C$2,Table1[],5,0),IF($B529=4,VLOOKUP(C$2,Table1[],5,0),0))))","v":2000000},{"$f":"IF($B529=1,VLOOKUP(D$2,Table1[],3,0),IF($B529=2,VLOOKUP(D$2,Table1[],4,0),IF($B529=3,VLOOKUP(D$2,Table1[],5,0),IF($B529=4,VLOOKUP(D$2,Table1[],5,0),0))))","v":2000000},{"$f":"IF($B529=1,VLOOKUP(E$2,Table1[],3,0),IF($B529=2,VLOOKUP(E$2,Table1[],4,0),IF($B529=3,VLOOKUP(E$2,Table1[],5,0),IF($B529=4,VLOOKUP(E$2,Table1[],5,0),0))))","v":1500000},{"$f":"IF($B529=1,VLOOKUP(F$2,Table1[],3,0),IF($B529=2,VLOOKUP(F$2,Table1[],4,0),IF($B529=3,VLOOKUP(F$2,Table1[],5,0),IF($B529=4,VLOOKUP(F$2,Table1[],5,0),0))))","v":800000}]
[3144,1,{"$f":"IF($B530=1,VLOOKUP(C$2,Table1[],3,0),IF($B530=2,VLOOKUP(C$2,Table1[],4,0),IF($B530=3,VLOOKUP(C$2,Table1[],5,0),IF($B530=4,VLOOKUP(C$2,Table1[],5,0),0))))","v":2000000},{"$f":"IF($B530=1,VLOOKUP(D$2,Table1[],3,0),IF($B530=2,VLOOKUP(D$2,Table1[],4,0),IF($B530=3,VLOOKUP(D$2,Table1[],5,0),IF($B530=4,VLOOKUP(D$2,Table1[],5,0),0))))","v":2000000},{"$f":"IF($B530=1,VLOOKUP(E$2,Table1[],3,0),IF($B530=2,VLOOKUP(E$2,Table1[],4,0),IF($B530=3,VLOOKUP(E$2,Table1[],5,0),IF($B530=4,VLOOKUP(E$2,Table1[],5,0),0))))","v":1500000},{"$f":"IF($B530=1,VLOOKUP(F$2,Table1[],3,0),IF($B530=2,VLOOKUP(F$2,Table1[],4,0),IF($B530=3,VLOOKUP(F$2,Table1[],5,0),IF($B530=4,VLOOKUP(F$2,Table1[],5,0),0))))","v":800000}]
[3145,1,{"$f":"IF($B531=1,VLOOKUP(C$2,Table1[],3,0),IF($B531=2,VLOOKUP(C$2,Table1[],4,0),IF($B531=3,VLOOKUP(C$2,Table1[],5,0),IF($B531=4,VLOOKUP(C$2,Table1[],5,0),0))))","v":2000000},{"$f":"IF($B531=1,VLOOKUP(D$2,Table1[],3,0),IF($B531=2,VLOOKUP(D$2,Table1[],4,0),IF($B531=3,VLOOKUP(D$2,Table1[],5,0),IF($B531=4,VLOOKUP(D$2,Table1[],5,0),0))))","v":2000000},{"$f":"IF($B531=1,VLOOKUP(E$2,Table1[],3,0),IF($B531=2,VLOOKUP(E$2,Table1[],4,0),IF($B531=3,VLOOKUP(E$2,Table1[],5,0),IF($B531=4,VLOOKUP(E$2,Table1[],5,0),0))))","v":1500000},{"$f":"IF($B531=1,VLOOKUP(F$2,Table1[],3,0),IF($B531=2,VLOOKUP(F$2,Table1[],4,0),IF($B531=3,VLOOKUP(F$2,Table1[],5,0),IF($B531=4,VLOOKUP(F$2,Table1[],5,0),0))))","v":800000}]
[3146,1,{"$f":"IF($B532=1,VLOOKUP(C$2,Table1[],3,0),IF($B532=2,VLOOKUP(C$2,Table1[],4,0),IF($B532=3,VLOOKUP(C$2,Table1[],5,0),IF($B532=4,VLOOKUP(C$2,Table1[],5,0),0))))","v":2000000},{"$f":"IF($B532=1,VLOOKUP(D$2,Table1[],3,0),IF($B532=2,VLOOKUP(D$2,Table1[],4,0),IF($B532=3,VLOOKUP(D$2,Table1[],5,0),IF($B532=4,VLOOKUP(D$2,Table1[],5,0),0))))","v":2000000},{"$f":"IF($B532=1,VLOOKUP(E$2,Table1[],3,0),IF($B532=2,VLOOKUP(E$2,Table1[],4,0),IF($B532=3,VLOOKUP(E$2,Table1[],5,0),IF($B532=4,VLOOKUP(E$2,Table1[],5,0),0))))","v":1500000},{"$f":"IF($B532=1,VLOOKUP(F$2,Table1[],3,0),IF($B532=2,VLOOKUP(F$2,Table1[],4,0),IF($B532=3,VLOOKUP(F$2,Table1[],5,0),IF($B532=4,VLOOKUP(F$2,Table1[],5,0),0))))","v":800000}]
[3147,1,{"$f":"IF($B533=1,VLOOKUP(C$2,Table1[],3,0),IF($B533=2,VLOOKUP(C$2,Table1[],4,0),IF($B533=3,VLOOKUP(C$2,Table1[],5,0),IF($B533=4,VLOOKUP(C$2,Table1[],5,0),0))))","v":2000000},{"$f":"IF($B533=1,VLOOKUP(D$2,Table1[],3,0),IF($B533=2,VLOOKUP(D$2,Table1[],4,0),IF($B533=3,VLOOKUP(D$2,Table1[],5,0),IF($B533=4,VLOOKUP(D$2,Table1[],5,0),0))))","v":2000000},{"$f":"IF($B533=1,VLOOKUP(E$2,Table1[],3,0),IF($B533=2,VLOOKUP(E$2,Table1[],4,0),IF($B533=3,VLOOKUP(E$2,Table1[],5,0),IF($B533=4,VLOOKUP(E$2,Table1[],5,0),0))))","v":1500000},{"$f":"IF($B533=1,VLOOKUP(F$2,Table1[],3,0),IF($B533=2,VLOOKUP(F$2,Table1[],4,0),IF($B533=3,VLOOKUP(F$2,Table1[],5,0),IF($B533=4,VLOOKUP(F$2,Table1[],5,0),0))))","v":800000}]
[3148,1,{"$f":"IF($B534=1,VLOOKUP(C$2,Table1[],3,0),IF($B534=2,VLOOKUP(C$2,Table1[],4,0),IF($B534=3,VLOOKUP(C$2,Table1[],5,0),IF($B534=4,VLOOKUP(C$2,Table1[],5,0),0))))","v":2000000},{"$f":"IF($B534=1,VLOOKUP(D$2,Table1[],3,0),IF($B534=2,VLOOKUP(D$2,Table1[],4,0),IF($B534=3,VLOOKUP(D$2,Table1[],5,0),IF($B534=4,VLOOKUP(D$2,Table1[],5,0),0))))","v":2000000},{"$f":"IF($B534=1,VLOOKUP(E$2,Table1[],3,0),IF($B534=2,VLOOKUP(E$2,Table1[],4,0),IF($B534=3,VLOOKUP(E$2,Table1[],5,0),IF($B534=4,VLOOKUP(E$2,Table1[],5,0),0))))","v":1500000},{"$f":"IF($B534=1,VLOOKUP(F$2,Table1[],3,0),IF($B534=2,VLOOKUP(F$2,Table1[],4,0),IF($B534=3,VLOOKUP(F$2,Table1[],5,0),IF($B534=4,VLOOKUP(F$2,Table1[],5,0),0))))","v":800000}]
[3149,1,{"$f":"IF($B535=1,VLOOKUP(C$2,Table1[],3,0),IF($B535=2,VLOOKUP(C$2,Table1[],4,0),IF($B535=3,VLOOKUP(C$2,Table1[],5,0),IF($B535=4,VLOOKUP(C$2,Table1[],5,0),0))))","v":2000000},{"$f":"IF($B535=1,VLOOKUP(D$2,Table1[],3,0),IF($B535=2,VLOOKUP(D$2,Table1[],4,0),IF($B535=3,VLOOKUP(D$2,Table1[],5,0),IF($B535=4,VLOOKUP(D$2,Table1[],5,0),0))))","v":2000000},{"$f":"IF($B535=1,VLOOKUP(E$2,Table1[],3,0),IF($B535=2,VLOOKUP(E$2,Table1[],4,0),IF($B535=3,VLOOKUP(E$2,Table1[],5,0),IF($B535=4,VLOOKUP(E$2,Table1[],5,0),0))))","v":1500000},{"$f":"IF($B535=1,VLOOKUP(F$2,Table1[],3,0),IF($B535=2,VLOOKUP(F$2,Table1[],4,0),IF($B535=3,VLOOKUP(F$2,Table1[],5,0),IF($B535=4,VLOOKUP(F$2,Table1[],5,0),0))))","v":800000}]
[3150,1,{"$f":"IF($B536=1,VLOOKUP(C$2,Table1[],3,0),IF($B536=2,VLOOKUP(C$2,Table1[],4,0),IF($B536=3,VLOOKUP(C$2,Table1[],5,0),IF($B536=4,VLOOKUP(C$2,Table1[],5,0),0))))","v":2000000},{"$f":"IF($B536=1,VLOOKUP(D$2,Table1[],3,0),IF($B536=2,VLOOKUP(D$2,Table1[],4,0),IF($B536=3,VLOOKUP(D$2,Table1[],5,0),IF($B536=4,VLOOKUP(D$2,Table1[],5,0),0))))","v":2000000},{"$f":"IF($B536=1,VLOOKUP(E$2,Table1[],3,0),IF($B536=2,VLOOKUP(E$2,Table1[],4,0),IF($B536=3,VLOOKUP(E$2,Table1[],5,0),IF($B536=4,VLOOKUP(E$2,Table1[],5,0),0))))","v":1500000},{"$f":"IF($B536=1,VLOOKUP(F$2,Table1[],3,0),IF($B536=2,VLOOKUP(F$2,Table1[],4,0),IF($B536=3,VLOOKUP(F$2,Table1[],5,0),IF($B536=4,VLOOKUP(F$2,Table1[],5,0),0))))","v":800000}]
[3151,1,{"$f":"IF($B537=1,VLOOKUP(C$2,Table1[],3,0),IF($B537=2,VLOOKUP(C$2,Table1[],4,0),IF($B537=3,VLOOKUP(C$2,Table1[],5,0),IF($B537=4,VLOOKUP(C$2,Table1[],5,0),0))))","v":2000000},{"$f":"IF($B537=1,VLOOKUP(D$2,Table1[],3,0),IF($B537=2,VLOOKUP(D$2,Table1[],4,0),IF($B537=3,VLOOKUP(D$2,Table1[],5,0),IF($B537=4,VLOOKUP(D$2,Table1[],5,0),0))))","v":2000000},{"$f":"IF($B537=1,VLOOKUP(E$2,Table1[],3,0),IF($B537=2,VLOOKUP(E$2,Table1[],4,0),IF($B537=3,VLOOKUP(E$2,Table1[],5,0),IF($B537=4,VLOOKUP(E$2,Table1[],5,0),0))))","v":1500000},{"$f":"IF($B537=1,VLOOKUP(F$2,Table1[],3,0),IF($B537=2,VLOOKUP(F$2,Table1[],4,0),IF($B537=3,VLOOKUP(F$2,Table1[],5,0),IF($B537=4,VLOOKUP(F$2,Table1[],5,0),0))))","v":800000}]
[3152,1,{"$f":"IF($B538=1,VLOOKUP(C$2,Table1[],3,0),IF($B538=2,VLOOKUP(C$2,Table1[],4,0),IF($B538=3,VLOOKUP(C$2,Table1[],5,0),IF($B538=4,VLOOKUP(C$2,Table1[],5,0),0))))","v":2000000},{"$f":"IF($B538=1,VLOOKUP(D$2,Table1[],3,0),IF($B538=2,VLOOKUP(D$2,Table1[],4,0),IF($B538=3,VLOOKUP(D$2,Table1[],5,0),IF($B538=4,VLOOKUP(D$2,Table1[],5,0),0))))","v":2000000},{"$f":"IF($B538=1,VLOOKUP(E$2,Table1[],3,0),IF($B538=2,VLOOKUP(E$2,Table1[],4,0),IF($B538=3,VLOOKUP(E$2,Table1[],5,0),IF($B538=4,VLOOKUP(E$2,Table1[],5,0),0))))","v":1500000},{"$f":"IF($B538=1,VLOOKUP(F$2,Table1[],3,0),IF($B538=2,VLOOKUP(F$2,Table1[],4,0),IF($B538=3,VLOOKUP(F$2,Table1[],5,0),IF($B538=4,VLOOKUP(F$2,Table1[],5,0),0))))","v":800000}]
[3153,1,{"$f":"IF($B539=1,VLOOKUP(C$2,Table1[],3,0),IF($B539=2,VLOOKUP(C$2,Table1[],4,0),IF($B539=3,VLOOKUP(C$2,Table1[],5,0),IF($B539=4,VLOOKUP(C$2,Table1[],5,0),0))))","v":2000000},{"$f":"IF($B539=1,VLOOKUP(D$2,Table1[],3,0),IF($B539=2,VLOOKUP(D$2,Table1[],4,0),IF($B539=3,VLOOKUP(D$2,Table1[],5,0),IF($B539=4,VLOOKUP(D$2,Table1[],5,0),0))))","v":2000000},{"$f":"IF($B539=1,VLOOKUP(E$2,Table1[],3,0),IF($B539=2,VLOOKUP(E$2,Table1[],4,0),IF($B539=3,VLOOKUP(E$2,Table1[],5,0),IF($B539=4,VLOOKUP(E$2,Table1[],5,0),0))))","v":1500000},{"$f":"IF($B539=1,VLOOKUP(F$2,Table1[],3,0),IF($B539=2,VLOOKUP(F$2,Table1[],4,0),IF($B539=3,VLOOKUP(F$2,Table1[],5,0),IF($B539=4,VLOOKUP(F$2,Table1[],5,0),0))))","v":800000}]
[3154,1,{"$f":"IF($B540=1,VLOOKUP(C$2,Table1[],3,0),IF($B540=2,VLOOKUP(C$2,Table1[],4,0),IF($B540=3,VLOOKUP(C$2,Table1[],5,0),IF($B540=4,VLOOKUP(C$2,Table1[],5,0),0))))","v":2000000},{"$f":"IF($B540=1,VLOOKUP(D$2,Table1[],3,0),IF($B540=2,VLOOKUP(D$2,Table1[],4,0),IF($B540=3,VLOOKUP(D$2,Table1[],5,0),IF($B540=4,VLOOKUP(D$2,Table1[],5,0),0))))","v":2000000},{"$f":"IF($B540=1,VLOOKUP(E$2,Table1[],3,0),IF($B540=2,VLOOKUP(E$2,Table1[],4,0),IF($B540=3,VLOOKUP(E$2,Table1[],5,0),IF($B540=4,VLOOKUP(E$2,Table1[],5,0),0))))","v":1500000},{"$f":"IF($B540=1,VLOOKUP(F$2,Table1[],3,0),IF($B540=2,VLOOKUP(F$2,Table1[],4,0),IF($B540=3,VLOOKUP(F$2,Table1[],5,0),IF($B540=4,VLOOKUP(F$2,Table1[],5,0),0))))","v":800000}]
[3155,1,{"$f":"IF($B541=1,VLOOKUP(C$2,Table1[],3,0),IF($B541=2,VLOOKUP(C$2,Table1[],4,0),IF($B541=3,VLOOKUP(C$2,Table1[],5,0),IF($B541=4,VLOOKUP(C$2,Table1[],5,0),0))))","v":2000000},{"$f":"IF($B541=1,VLOOKUP(D$2,Table1[],3,0),IF($B541=2,VLOOKUP(D$2,Table1[],4,0),IF($B541=3,VLOOKUP(D$2,Table1[],5,0),IF($B541=4,VLOOKUP(D$2,Table1[],5,0),0))))","v":2000000},{"$f":"IF($B541=1,VLOOKUP(E$2,Table1[],3,0),IF($B541=2,VLOOKUP(E$2,Table1[],4,0),IF($B541=3,VLOOKUP(E$2,Table1[],5,0),IF($B541=4,VLOOKUP(E$2,Table1[],5,0),0))))","v":1500000},{"$f":"IF($B541=1,VLOOKUP(F$2,Table1[],3,0),IF($B541=2,VLOOKUP(F$2,Table1[],4,0),IF($B541=3,VLOOKUP(F$2,Table1[],5,0),IF($B541=4,VLOOKUP(F$2,Table1[],5,0),0))))","v":800000}]
[3156,1,{"$f":"IF($B542=1,VLOOKUP(C$2,Table1[],3,0),IF($B542=2,VLOOKUP(C$2,Table1[],4,0),IF($B542=3,VLOOKUP(C$2,Table1[],5,0),IF($B542=4,VLOOKUP(C$2,Table1[],5,0),0))))","v":2000000},{"$f":"IF($B542=1,VLOOKUP(D$2,Table1[],3,0),IF($B542=2,VLOOKUP(D$2,Table1[],4,0),IF($B542=3,VLOOKUP(D$2,Table1[],5,0),IF($B542=4,VLOOKUP(D$2,Table1[],5,0),0))))","v":2000000},{"$f":"IF($B542=1,VLOOKUP(E$2,Table1[],3,0),IF($B542=2,VLOOKUP(E$2,Table1[],4,0),IF($B542=3,VLOOKUP(E$2,Table1[],5,0),IF($B542=4,VLOOKUP(E$2,Table1[],5,0),0))))","v":1500000},{"$f":"IF($B542=1,VLOOKUP(F$2,Table1[],3,0),IF($B542=2,VLOOKUP(F$2,Table1[],4,0),IF($B542=3,VLOOKUP(F$2,Table1[],5,0),IF($B542=4,VLOOKUP(F$2,Table1[],5,0),0))))","v":800000}]
[3158,1,{"$f":"IF($B543=1,VLOOKUP(C$2,Table1[],3,0),IF($B543=2,VLOOKUP(C$2,Table1[],4,0),IF($B543=3,VLOOKUP(C$2,Table1[],5,0),IF($B543=4,VLOOKUP(C$2,Table1[],5,0),0))))","v":2000000},{"$f":"IF($B543=1,VLOOKUP(D$2,Table1[],3,0),IF($B543=2,VLOOKUP(D$2,Table1[],4,0),IF($B543=3,VLOOKUP(D$2,Table1[],5,0),IF($B543=4,VLOOKUP(D$2,Table1[],5,0),0))))","v":2000000},{"$f":"IF($B543=1,VLOOKUP(E$2,Table1[],3,0),IF($B543=2,VLOOKUP(E$2,Table1[],4,0),IF($B543=3,VLOOKUP(E$2,Table1[],5,0),IF($B543=4,VLOOKUP(E$2,Table1[],5,0),0))))","v":1500000},{"$f":"IF($B543=1,VLOOKUP(F$2,Table1[],3,0),IF($B543=2,VLOOKUP(F$2,Table1[],4,0),IF($B543=3,VLOOKUP(F$2,Table1[],5,0),IF($B543=4,VLOOKUP(F$2,Table1[],5,0),0))))","v":800000}]
[3159,1,{"$f":"IF($B544=1,VLOOKUP(C$2,Table1[],3,0),IF($B544=2,VLOOKUP(C$2,Table1[],4,0),IF($B544=3,VLOOKUP(C$2,Table1[],5,0),IF($B544=4,VLOOKUP(C$2,Table1[],5,0),0))))","v":2000000},{"$f":"IF($B544=1,VLOOKUP(D$2,Table1[],3,0),IF($B544=2,VLOOKUP(D$2,Table1[],4,0),IF($B544=3,VLOOKUP(D$2,Table1[],5,0),IF($B544=4,VLOOKUP(D$2,Table1[],5,0),0))))","v":2000000},{"$f":"IF($B544=1,VLOOKUP(E$2,Table1[],3,0),IF($B544=2,VLOOKUP(E$2,Table1[],4,0),IF($B544=3,VLOOKUP(E$2,Table1[],5,0),IF($B544=4,VLOOKUP(E$2,Table1[],5,0),0))))","v":1500000},{"$f":"IF($B544=1,VLOOKUP(F$2,Table1[],3,0),IF($B544=2,VLOOKUP(F$2,Table1[],4,0),IF($B544=3,VLOOKUP(F$2,Table1[],5,0),IF($B544=4,VLOOKUP(F$2,Table1[],5,0),0))))","v":800000}]
[3160,1,{"$f":"IF($B545=1,VLOOKUP(C$2,Table1[],3,0),IF($B545=2,VLOOKUP(C$2,Table1[],4,0),IF($B545=3,VLOOKUP(C$2,Table1[],5,0),IF($B545=4,VLOOKUP(C$2,Table1[],5,0),0))))","v":2000000},{"$f":"IF($B545=1,VLOOKUP(D$2,Table1[],3,0),IF($B545=2,VLOOKUP(D$2,Table1[],4,0),IF($B545=3,VLOOKUP(D$2,Table1[],5,0),IF($B545=4,VLOOKUP(D$2,Table1[],5,0),0))))","v":2000000},{"$f":"IF($B545=1,VLOOKUP(E$2,Table1[],3,0),IF($B545=2,VLOOKUP(E$2,Table1[],4,0),IF($B545=3,VLOOKUP(E$2,Table1[],5,0),IF($B545=4,VLOOKUP(E$2,Table1[],5,0),0))))","v":1500000},{"$f":"IF($B545=1,VLOOKUP(F$2,Table1[],3,0),IF($B545=2,VLOOKUP(F$2,Table1[],4,0),IF($B545=3,VLOOKUP(F$2,Table1[],5,0),IF($B545=4,VLOOKUP(F$2,Table1[],5,0),0))))","v":800000}]
[3161,1,{"$f":"IF($B546=1,VLOOKUP(C$2,Table1[],3,0),IF($B546=2,VLOOKUP(C$2,Table1[],4,0),IF($B546=3,VLOOKUP(C$2,Table1[],5,0),IF($B546=4,VLOOKUP(C$2,Table1[],5,0),0))))","v":2000000},{"$f":"IF($B546=1,VLOOKUP(D$2,Table1[],3,0),IF($B546=2,VLOOKUP(D$2,Table1[],4,0),IF($B546=3,VLOOKUP(D$2,Table1[],5,0),IF($B546=4,VLOOKUP(D$2,Table1[],5,0),0))))","v":2000000},{"$f":"IF($B546=1,VLOOKUP(E$2,Table1[],3,0),IF($B546=2,VLOOKUP(E$2,Table1[],4,0),IF($B546=3,VLOOKUP(E$2,Table1[],5,0),IF($B546=4,VLOOKUP(E$2,Table1[],5,0),0))))","v":1500000},{"$f":"IF($B546=1,VLOOKUP(F$2,Table1[],3,0),IF($B546=2,VLOOKUP(F$2,Table1[],4,0),IF($B546=3,VLOOKUP(F$2,Table1[],5,0),IF($B546=4,VLOOKUP(F$2,Table1[],5,0),0))))","v":800000}]
[3162,1,{"$f":"IF($B547=1,VLOOKUP(C$2,Table1[],3,0),IF($B547=2,VLOOKUP(C$2,Table1[],4,0),IF($B547=3,VLOOKUP(C$2,Table1[],5,0),IF($B547=4,VLOOKUP(C$2,Table1[],5,0),0))))","v":2000000},{"$f":"IF($B547=1,VLOOKUP(D$2,Table1[],3,0),IF($B547=2,VLOOKUP(D$2,Table1[],4,0),IF($B547=3,VLOOKUP(D$2,Table1[],5,0),IF($B547=4,VLOOKUP(D$2,Table1[],5,0),0))))","v":2000000},{"$f":"IF($B547=1,VLOOKUP(E$2,Table1[],3,0),IF($B547=2,VLOOKUP(E$2,Table1[],4,0),IF($B547=3,VLOOKUP(E$2,Table1[],5,0),IF($B547=4,VLOOKUP(E$2,Table1[],5,0),0))))","v":1500000},{"$f":"IF($B547=1,VLOOKUP(F$2,Table1[],3,0),IF($B547=2,VLOOKUP(F$2,Table1[],4,0),IF($B547=3,VLOOKUP(F$2,Table1[],5,0),IF($B547=4,VLOOKUP(F$2,Table1[],5,0),0))))","v":800000}]
[3163,1,{"$f":"IF($B548=1,VLOOKUP(C$2,Table1[],3,0),IF($B548=2,VLOOKUP(C$2,Table1[],4,0),IF($B548=3,VLOOKUP(C$2,Table1[],5,0),IF($B548=4,VLOOKUP(C$2,Table1[],5,0),0))))","v":2000000},{"$f":"IF($B548=1,VLOOKUP(D$2,Table1[],3,0),IF($B548=2,VLOOKUP(D$2,Table1[],4,0),IF($B548=3,VLOOKUP(D$2,Table1[],5,0),IF($B548=4,VLOOKUP(D$2,Table1[],5,0),0))))","v":2000000},{"$f":"IF($B548=1,VLOOKUP(E$2,Table1[],3,0),IF($B548=2,VLOOKUP(E$2,Table1[],4,0),IF($B548=3,VLOOKUP(E$2,Table1[],5,0),IF($B548=4,VLOOKUP(E$2,Table1[],5,0),0))))","v":1500000},{"$f":"IF($B548=1,VLOOKUP(F$2,Table1[],3,0),IF($B548=2,VLOOKUP(F$2,Table1[],4,0),IF($B548=3,VLOOKUP(F$2,Table1[],5,0),IF($B548=4,VLOOKUP(F$2,Table1[],5,0),0))))","v":800000}]
[3165,1,{"$f":"IF($B549=1,VLOOKUP(C$2,Table1[],3,0),IF($B549=2,VLOOKUP(C$2,Table1[],4,0),IF($B549=3,VLOOKUP(C$2,Table1[],5,0),IF($B549=4,VLOOKUP(C$2,Table1[],5,0),0))))","v":2000000},{"$f":"IF($B549=1,VLOOKUP(D$2,Table1[],3,0),IF($B549=2,VLOOKUP(D$2,Table1[],4,0),IF($B549=3,VLOOKUP(D$2,Table1[],5,0),IF($B549=4,VLOOKUP(D$2,Table1[],5,0),0))))","v":2000000},{"$f":"IF($B549=1,VLOOKUP(E$2,Table1[],3,0),IF($B549=2,VLOOKUP(E$2,Table1[],4,0),IF($B549=3,VLOOKUP(E$2,Table1[],5,0),IF($B549=4,VLOOKUP(E$2,Table1[],5,0),0))))","v":1500000},{"$f":"IF($B549=1,VLOOKUP(F$2,Table1[],3,0),IF($B549=2,VLOOKUP(F$2,Table1[],4,0),IF($B549=3,VLOOKUP(F$2,Table1[],5,0),IF($B549=4,VLOOKUP(F$2,Table1[],5,0),0))))","v":800000}]
[3166,1,{"$f":"IF($B550=1,VLOOKUP(C$2,Table1[],3,0),IF($B550=2,VLOOKUP(C$2,Table1[],4,0),IF($B550=3,VLOOKUP(C$2,Table1[],5,0),IF($B550=4,VLOOKUP(C$2,Table1[],5,0),0))))","v":2000000},{"$f":"IF($B550=1,VLOOKUP(D$2,Table1[],3,0),IF($B550=2,VLOOKUP(D$2,Table1[],4,0),IF($B550=3,VLOOKUP(D$2,Table1[],5,0),IF($B550=4,VLOOKUP(D$2,Table1[],5,0),0))))","v":2000000},{"$f":"IF($B550=1,VLOOKUP(E$2,Table1[],3,0),IF($B550=2,VLOOKUP(E$2,Table1[],4,0),IF($B550=3,VLOOKUP(E$2,Table1[],5,0),IF($B550=4,VLOOKUP(E$2,Table1[],5,0),0))))","v":1500000},{"$f":"IF($B550=1,VLOOKUP(F$2,Table1[],3,0),IF($B550=2,VLOOKUP(F$2,Table1[],4,0),IF($B550=3,VLOOKUP(F$2,Table1[],5,0),IF($B550=4,VLOOKUP(F$2,Table1[],5,0),0))))","v":800000}]
[3167,1,{"$f":"IF($B551=1,VLOOKUP(C$2,Table1[],3,0),IF($B551=2,VLOOKUP(C$2,Table1[],4,0),IF($B551=3,VLOOKUP(C$2,Table1[],5,0),IF($B551=4,VLOOKUP(C$2,Table1[],5,0),0))))","v":2000000},{"$f":"IF($B551=1,VLOOKUP(D$2,Table1[],3,0),IF($B551=2,VLOOKUP(D$2,Table1[],4,0),IF($B551=3,VLOOKUP(D$2,Table1[],5,0),IF($B551=4,VLOOKUP(D$2,Table1[],5,0),0))))","v":2000000},{"$f":"IF($B551=1,VLOOKUP(E$2,Table1[],3,0),IF($B551=2,VLOOKUP(E$2,Table1[],4,0),IF($B551=3,VLOOKUP(E$2,Table1[],5,0),IF($B551=4,VLOOKUP(E$2,Table1[],5,0),0))))","v":1500000},{"$f":"IF($B551=1,VLOOKUP(F$2,Table1[],3,0),IF($B551=2,VLOOKUP(F$2,Table1[],4,0),IF($B551=3,VLOOKUP(F$2,Table1[],5,0),IF($B551=4,VLOOKUP(F$2,Table1[],5,0),0))))","v":800000}]
[3168,1,{"$f":"IF($B552=1,VLOOKUP(C$2,Table1[],3,0),IF($B552=2,VLOOKUP(C$2,Table1[],4,0),IF($B552=3,VLOOKUP(C$2,Table1[],5,0),IF($B552=4,VLOOKUP(C$2,Table1[],5,0),0))))","v":2000000},{"$f":"IF($B552=1,VLOOKUP(D$2,Table1[],3,0),IF($B552=2,VLOOKUP(D$2,Table1[],4,0),IF($B552=3,VLOOKUP(D$2,Table1[],5,0),IF($B552=4,VLOOKUP(D$2,Table1[],5,0),0))))","v":2000000},{"$f":"IF($B552=1,VLOOKUP(E$2,Table1[],3,0),IF($B552=2,VLOOKUP(E$2,Table1[],4,0),IF($B552=3,VLOOKUP(E$2,Table1[],5,0),IF($B552=4,VLOOKUP(E$2,Table1[],5,0),0))))","v":1500000},{"$f":"IF($B552=1,VLOOKUP(F$2,Table1[],3,0),IF($B552=2,VLOOKUP(F$2,Table1[],4,0),IF($B552=3,VLOOKUP(F$2,Table1[],5,0),IF($B552=4,VLOOKUP(F$2,Table1[],5,0),0))))","v":800000}]
[3169,1,{"$f":"IF($B553=1,VLOOKUP(C$2,Table1[],3,0),IF($B553=2,VLOOKUP(C$2,Table1[],4,0),IF($B553=3,VLOOKUP(C$2,Table1[],5,0),IF($B553=4,VLOOKUP(C$2,Table1[],5,0),0))))","v":2000000},{"$f":"IF($B553=1,VLOOKUP(D$2,Table1[],3,0),IF($B553=2,VLOOKUP(D$2,Table1[],4,0),IF($B553=3,VLOOKUP(D$2,Table1[],5,0),IF($B553=4,VLOOKUP(D$2,Table1[],5,0),0))))","v":2000000},{"$f":"IF($B553=1,VLOOKUP(E$2,Table1[],3,0),IF($B553=2,VLOOKUP(E$2,Table1[],4,0),IF($B553=3,VLOOKUP(E$2,Table1[],5,0),IF($B553=4,VLOOKUP(E$2,Table1[],5,0),0))))","v":1500000},{"$f":"IF($B553=1,VLOOKUP(F$2,Table1[],3,0),IF($B553=2,VLOOKUP(F$2,Table1[],4,0),IF($B553=3,VLOOKUP(F$2,Table1[],5,0),IF($B553=4,VLOOKUP(F$2,Table1[],5,0),0))))","v":800000}]
[3170,1,{"$f":"IF($B554=1,VLOOKUP(C$2,Table1[],3,0),IF($B554=2,VLOOKUP(C$2,Table1[],4,0),IF($B554=3,VLOOKUP(C$2,Table1[],5,0),IF($B554=4,VLOOKUP(C$2,Table1[],5,0),0))))","v":2000000},{"$f":"IF($B554=1,VLOOKUP(D$2,Table1[],3,0),IF($B554=2,VLOOKUP(D$2,Table1[],4,0),IF($B554=3,VLOOKUP(D$2,Table1[],5,0),IF($B554=4,VLOOKUP(D$2,Table1[],5,0),0))))","v":2000000},{"$f":"IF($B554=1,VLOOKUP(E$2,Table1[],3,0),IF($B554=2,VLOOKUP(E$2,Table1[],4,0),IF($B554=3,VLOOKUP(E$2,Table1[],5,0),IF($B554=4,VLOOKUP(E$2,Table1[],5,0),0))))","v":1500000},{"$f":"IF($B554=1,VLOOKUP(F$2,Table1[],3,0),IF($B554=2,VLOOKUP(F$2,Table1[],4,0),IF($B554=3,VLOOKUP(F$2,Table1[],5,0),IF($B554=4,VLOOKUP(F$2,Table1[],5,0),0))))","v":800000}]
[3171,1,{"$f":"IF($B555=1,VLOOKUP(C$2,Table1[],3,0),IF($B555=2,VLOOKUP(C$2,Table1[],4,0),IF($B555=3,VLOOKUP(C$2,Table1[],5,0),IF($B555=4,VLOOKUP(C$2,Table1[],5,0),0))))","v":2000000},{"$f":"IF($B555=1,VLOOKUP(D$2,Table1[],3,0),IF($B555=2,VLOOKUP(D$2,Table1[],4,0),IF($B555=3,VLOOKUP(D$2,Table1[],5,0),IF($B555=4,VLOOKUP(D$2,Table1[],5,0),0))))","v":2000000},{"$f":"IF($B555=1,VLOOKUP(E$2,Table1[],3,0),IF($B555=2,VLOOKUP(E$2,Table1[],4,0),IF($B555=3,VLOOKUP(E$2,Table1[],5,0),IF($B555=4,VLOOKUP(E$2,Table1[],5,0),0))))","v":1500000},{"$f":"IF($B555=1,VLOOKUP(F$2,Table1[],3,0),IF($B555=2,VLOOKUP(F$2,Table1[],4,0),IF($B555=3,VLOOKUP(F$2,Table1[],5,0),IF($B555=4,VLOOKUP(F$2,Table1[],5,0),0))))","v":800000}]
[3172,1,{"$f":"IF($B556=1,VLOOKUP(C$2,Table1[],3,0),IF($B556=2,VLOOKUP(C$2,Table1[],4,0),IF($B556=3,VLOOKUP(C$2,Table1[],5,0),IF($B556=4,VLOOKUP(C$2,Table1[],5,0),0))))","v":2000000},{"$f":"IF($B556=1,VLOOKUP(D$2,Table1[],3,0),IF($B556=2,VLOOKUP(D$2,Table1[],4,0),IF($B556=3,VLOOKUP(D$2,Table1[],5,0),IF($B556=4,VLOOKUP(D$2,Table1[],5,0),0))))","v":2000000},{"$f":"IF($B556=1,VLOOKUP(E$2,Table1[],3,0),IF($B556=2,VLOOKUP(E$2,Table1[],4,0),IF($B556=3,VLOOKUP(E$2,Table1[],5,0),IF($B556=4,VLOOKUP(E$2,Table1[],5,0),0))))","v":1500000},{"$f":"IF($B556=1,VLOOKUP(F$2,Table1[],3,0),IF($B556=2,VLOOKUP(F$2,Table1[],4,0),IF($B556=3,VLOOKUP(F$2,Table1[],5,0),IF($B556=4,VLOOKUP(F$2,Table1[],5,0),0))))","v":800000}]
[3173,1,{"$f":"IF($B557=1,VLOOKUP(C$2,Table1[],3,0),IF($B557=2,VLOOKUP(C$2,Table1[],4,0),IF($B557=3,VLOOKUP(C$2,Table1[],5,0),IF($B557=4,VLOOKUP(C$2,Table1[],5,0),0))))","v":2000000},{"$f":"IF($B557=1,VLOOKUP(D$2,Table1[],3,0),IF($B557=2,VLOOKUP(D$2,Table1[],4,0),IF($B557=3,VLOOKUP(D$2,Table1[],5,0),IF($B557=4,VLOOKUP(D$2,Table1[],5,0),0))))","v":2000000},{"$f":"IF($B557=1,VLOOKUP(E$2,Table1[],3,0),IF($B557=2,VLOOKUP(E$2,Table1[],4,0),IF($B557=3,VLOOKUP(E$2,Table1[],5,0),IF($B557=4,VLOOKUP(E$2,Table1[],5,0),0))))","v":1500000},{"$f":"IF($B557=1,VLOOKUP(F$2,Table1[],3,0),IF($B557=2,VLOOKUP(F$2,Table1[],4,0),IF($B557=3,VLOOKUP(F$2,Table1[],5,0),IF($B557=4,VLOOKUP(F$2,Table1[],5,0),0))))","v":800000}]
[3174,1,{"$f":"IF($B558=1,VLOOKUP(C$2,Table1[],3,0),IF($B558=2,VLOOKUP(C$2,Table1[],4,0),IF($B558=3,VLOOKUP(C$2,Table1[],5,0),IF($B558=4,VLOOKUP(C$2,Table1[],5,0),0))))","v":2000000},{"$f":"IF($B558=1,VLOOKUP(D$2,Table1[],3,0),IF($B558=2,VLOOKUP(D$2,Table1[],4,0),IF($B558=3,VLOOKUP(D$2,Table1[],5,0),IF($B558=4,VLOOKUP(D$2,Table1[],5,0),0))))","v":2000000},{"$f":"IF($B558=1,VLOOKUP(E$2,Table1[],3,0),IF($B558=2,VLOOKUP(E$2,Table1[],4,0),IF($B558=3,VLOOKUP(E$2,Table1[],5,0),IF($B558=4,VLOOKUP(E$2,Table1[],5,0),0))))","v":1500000},{"$f":"IF($B558=1,VLOOKUP(F$2,Table1[],3,0),IF($B558=2,VLOOKUP(F$2,Table1[],4,0),IF($B558=3,VLOOKUP(F$2,Table1[],5,0),IF($B558=4,VLOOKUP(F$2,Table1[],5,0),0))))","v":800000}]
[3175,1,{"$f":"IF($B559=1,VLOOKUP(C$2,Table1[],3,0),IF($B559=2,VLOOKUP(C$2,Table1[],4,0),IF($B559=3,VLOOKUP(C$2,Table1[],5,0),IF($B559=4,VLOOKUP(C$2,Table1[],5,0),0))))","v":2000000},{"$f":"IF($B559=1,VLOOKUP(D$2,Table1[],3,0),IF($B559=2,VLOOKUP(D$2,Table1[],4,0),IF($B559=3,VLOOKUP(D$2,Table1[],5,0),IF($B559=4,VLOOKUP(D$2,Table1[],5,0),0))))","v":2000000},{"$f":"IF($B559=1,VLOOKUP(E$2,Table1[],3,0),IF($B559=2,VLOOKUP(E$2,Table1[],4,0),IF($B559=3,VLOOKUP(E$2,Table1[],5,0),IF($B559=4,VLOOKUP(E$2,Table1[],5,0),0))))","v":1500000},{"$f":"IF($B559=1,VLOOKUP(F$2,Table1[],3,0),IF($B559=2,VLOOKUP(F$2,Table1[],4,0),IF($B559=3,VLOOKUP(F$2,Table1[],5,0),IF($B559=4,VLOOKUP(F$2,Table1[],5,0),0))))","v":800000}]
[3177,1,{"$f":"IF($B560=1,VLOOKUP(C$2,Table1[],3,0),IF($B560=2,VLOOKUP(C$2,Table1[],4,0),IF($B560=3,VLOOKUP(C$2,Table1[],5,0),IF($B560=4,VLOOKUP(C$2,Table1[],5,0),0))))","v":2000000},{"$f":"IF($B560=1,VLOOKUP(D$2,Table1[],3,0),IF($B560=2,VLOOKUP(D$2,Table1[],4,0),IF($B560=3,VLOOKUP(D$2,Table1[],5,0),IF($B560=4,VLOOKUP(D$2,Table1[],5,0),0))))","v":2000000},{"$f":"IF($B560=1,VLOOKUP(E$2,Table1[],3,0),IF($B560=2,VLOOKUP(E$2,Table1[],4,0),IF($B560=3,VLOOKUP(E$2,Table1[],5,0),IF($B560=4,VLOOKUP(E$2,Table1[],5,0),0))))","v":1500000},{"$f":"IF($B560=1,VLOOKUP(F$2,Table1[],3,0),IF($B560=2,VLOOKUP(F$2,Table1[],4,0),IF($B560=3,VLOOKUP(F$2,Table1[],5,0),IF($B560=4,VLOOKUP(F$2,Table1[],5,0),0))))","v":800000}]
[3178,1,{"$f":"IF($B561=1,VLOOKUP(C$2,Table1[],3,0),IF($B561=2,VLOOKUP(C$2,Table1[],4,0),IF($B561=3,VLOOKUP(C$2,Table1[],5,0),IF($B561=4,VLOOKUP(C$2,Table1[],5,0),0))))","v":2000000},{"$f":"IF($B561=1,VLOOKUP(D$2,Table1[],3,0),IF($B561=2,VLOOKUP(D$2,Table1[],4,0),IF($B561=3,VLOOKUP(D$2,Table1[],5,0),IF($B561=4,VLOOKUP(D$2,Table1[],5,0),0))))","v":2000000},{"$f":"IF($B561=1,VLOOKUP(E$2,Table1[],3,0),IF($B561=2,VLOOKUP(E$2,Table1[],4,0),IF($B561=3,VLOOKUP(E$2,Table1[],5,0),IF($B561=4,VLOOKUP(E$2,Table1[],5,0),0))))","v":1500000},{"$f":"IF($B561=1,VLOOKUP(F$2,Table1[],3,0),IF($B561=2,VLOOKUP(F$2,Table1[],4,0),IF($B561=3,VLOOKUP(F$2,Table1[],5,0),IF($B561=4,VLOOKUP(F$2,Table1[],5,0),0))))","v":800000}]
[3179,1,{"$f":"IF($B562=1,VLOOKUP(C$2,Table1[],3,0),IF($B562=2,VLOOKUP(C$2,Table1[],4,0),IF($B562=3,VLOOKUP(C$2,Table1[],5,0),IF($B562=4,VLOOKUP(C$2,Table1[],5,0),0))))","v":2000000},{"$f":"IF($B562=1,VLOOKUP(D$2,Table1[],3,0),IF($B562=2,VLOOKUP(D$2,Table1[],4,0),IF($B562=3,VLOOKUP(D$2,Table1[],5,0),IF($B562=4,VLOOKUP(D$2,Table1[],5,0),0))))","v":2000000},{"$f":"IF($B562=1,VLOOKUP(E$2,Table1[],3,0),IF($B562=2,VLOOKUP(E$2,Table1[],4,0),IF($B562=3,VLOOKUP(E$2,Table1[],5,0),IF($B562=4,VLOOKUP(E$2,Table1[],5,0),0))))","v":1500000},{"$f":"IF($B562=1,VLOOKUP(F$2,Table1[],3,0),IF($B562=2,VLOOKUP(F$2,Table1[],4,0),IF($B562=3,VLOOKUP(F$2,Table1[],5,0),IF($B562=4,VLOOKUP(F$2,Table1[],5,0),0))))","v":800000}]
[3180,1,{"$f":"IF($B563=1,VLOOKUP(C$2,Table1[],3,0),IF($B563=2,VLOOKUP(C$2,Table1[],4,0),IF($B563=3,VLOOKUP(C$2,Table1[],5,0),IF($B563=4,VLOOKUP(C$2,Table1[],5,0),0))))","v":2000000},{"$f":"IF($B563=1,VLOOKUP(D$2,Table1[],3,0),IF($B563=2,VLOOKUP(D$2,Table1[],4,0),IF($B563=3,VLOOKUP(D$2,Table1[],5,0),IF($B563=4,VLOOKUP(D$2,Table1[],5,0),0))))","v":2000000},{"$f":"IF($B563=1,VLOOKUP(E$2,Table1[],3,0),IF($B563=2,VLOOKUP(E$2,Table1[],4,0),IF($B563=3,VLOOKUP(E$2,Table1[],5,0),IF($B563=4,VLOOKUP(E$2,Table1[],5,0),0))))","v":1500000},{"$f":"IF($B563=1,VLOOKUP(F$2,Table1[],3,0),IF($B563=2,VLOOKUP(F$2,Table1[],4,0),IF($B563=3,VLOOKUP(F$2,Table1[],5,0),IF($B563=4,VLOOKUP(F$2,Table1[],5,0),0))))","v":800000}]
[3181,1,{"$f":"IF($B564=1,VLOOKUP(C$2,Table1[],3,0),IF($B564=2,VLOOKUP(C$2,Table1[],4,0),IF($B564=3,VLOOKUP(C$2,Table1[],5,0),IF($B564=4,VLOOKUP(C$2,Table1[],5,0),0))))","v":2000000},{"$f":"IF($B564=1,VLOOKUP(D$2,Table1[],3,0),IF($B564=2,VLOOKUP(D$2,Table1[],4,0),IF($B564=3,VLOOKUP(D$2,Table1[],5,0),IF($B564=4,VLOOKUP(D$2,Table1[],5,0),0))))","v":2000000},{"$f":"IF($B564=1,VLOOKUP(E$2,Table1[],3,0),IF($B564=2,VLOOKUP(E$2,Table1[],4,0),IF($B564=3,VLOOKUP(E$2,Table1[],5,0),IF($B564=4,VLOOKUP(E$2,Table1[],5,0),0))))","v":1500000},{"$f":"IF($B564=1,VLOOKUP(F$2,Table1[],3,0),IF($B564=2,VLOOKUP(F$2,Table1[],4,0),IF($B564=3,VLOOKUP(F$2,Table1[],5,0),IF($B564=4,VLOOKUP(F$2,Table1[],5,0),0))))","v":800000}]
[3182,1,{"$f":"IF($B565=1,VLOOKUP(C$2,Table1[],3,0),IF($B565=2,VLOOKUP(C$2,Table1[],4,0),IF($B565=3,VLOOKUP(C$2,Table1[],5,0),IF($B565=4,VLOOKUP(C$2,Table1[],5,0),0))))","v":2000000},{"$f":"IF($B565=1,VLOOKUP(D$2,Table1[],3,0),IF($B565=2,VLOOKUP(D$2,Table1[],4,0),IF($B565=3,VLOOKUP(D$2,Table1[],5,0),IF($B565=4,VLOOKUP(D$2,Table1[],5,0),0))))","v":2000000},{"$f":"IF($B565=1,VLOOKUP(E$2,Table1[],3,0),IF($B565=2,VLOOKUP(E$2,Table1[],4,0),IF($B565=3,VLOOKUP(E$2,Table1[],5,0),IF($B565=4,VLOOKUP(E$2,Table1[],5,0),0))))","v":1500000},{"$f":"IF($B565=1,VLOOKUP(F$2,Table1[],3,0),IF($B565=2,VLOOKUP(F$2,Table1[],4,0),IF($B565=3,VLOOKUP(F$2,Table1[],5,0),IF($B565=4,VLOOKUP(F$2,Table1[],5,0),0))))","v":800000}]
[3183,1,{"$f":"IF($B566=1,VLOOKUP(C$2,Table1[],3,0),IF($B566=2,VLOOKUP(C$2,Table1[],4,0),IF($B566=3,VLOOKUP(C$2,Table1[],5,0),IF($B566=4,VLOOKUP(C$2,Table1[],5,0),0))))","v":2000000},{"$f":"IF($B566=1,VLOOKUP(D$2,Table1[],3,0),IF($B566=2,VLOOKUP(D$2,Table1[],4,0),IF($B566=3,VLOOKUP(D$2,Table1[],5,0),IF($B566=4,VLOOKUP(D$2,Table1[],5,0),0))))","v":2000000},{"$f":"IF($B566=1,VLOOKUP(E$2,Table1[],3,0),IF($B566=2,VLOOKUP(E$2,Table1[],4,0),IF($B566=3,VLOOKUP(E$2,Table1[],5,0),IF($B566=4,VLOOKUP(E$2,Table1[],5,0),0))))","v":1500000},{"$f":"IF($B566=1,VLOOKUP(F$2,Table1[],3,0),IF($B566=2,VLOOKUP(F$2,Table1[],4,0),IF($B566=3,VLOOKUP(F$2,Table1[],5,0),IF($B566=4,VLOOKUP(F$2,Table1[],5,0),0))))","v":800000}]
[3184,1,{"$f":"IF($B567=1,VLOOKUP(C$2,Table1[],3,0),IF($B567=2,VLOOKUP(C$2,Table1[],4,0),IF($B567=3,VLOOKUP(C$2,Table1[],5,0),IF($B567=4,VLOOKUP(C$2,Table1[],5,0),0))))","v":2000000},{"$f":"IF($B567=1,VLOOKUP(D$2,Table1[],3,0),IF($B567=2,VLOOKUP(D$2,Table1[],4,0),IF($B567=3,VLOOKUP(D$2,Table1[],5,0),IF($B567=4,VLOOKUP(D$2,Table1[],5,0),0))))","v":2000000},{"$f":"IF($B567=1,VLOOKUP(E$2,Table1[],3,0),IF($B567=2,VLOOKUP(E$2,Table1[],4,0),IF($B567=3,VLOOKUP(E$2,Table1[],5,0),IF($B567=4,VLOOKUP(E$2,Table1[],5,0),0))))","v":1500000},{"$f":"IF($B567=1,VLOOKUP(F$2,Table1[],3,0),IF($B567=2,VLOOKUP(F$2,Table1[],4,0),IF($B567=3,VLOOKUP(F$2,Table1[],5,0),IF($B567=4,VLOOKUP(F$2,Table1[],5,0),0))))","v":800000}]
[3185,1,{"$f":"IF($B568=1,VLOOKUP(C$2,Table1[],3,0),IF($B568=2,VLOOKUP(C$2,Table1[],4,0),IF($B568=3,VLOOKUP(C$2,Table1[],5,0),IF($B568=4,VLOOKUP(C$2,Table1[],5,0),0))))","v":2000000},{"$f":"IF($B568=1,VLOOKUP(D$2,Table1[],3,0),IF($B568=2,VLOOKUP(D$2,Table1[],4,0),IF($B568=3,VLOOKUP(D$2,Table1[],5,0),IF($B568=4,VLOOKUP(D$2,Table1[],5,0),0))))","v":2000000},{"$f":"IF($B568=1,VLOOKUP(E$2,Table1[],3,0),IF($B568=2,VLOOKUP(E$2,Table1[],4,0),IF($B568=3,VLOOKUP(E$2,Table1[],5,0),IF($B568=4,VLOOKUP(E$2,Table1[],5,0),0))))","v":1500000},{"$f":"IF($B568=1,VLOOKUP(F$2,Table1[],3,0),IF($B568=2,VLOOKUP(F$2,Table1[],4,0),IF($B568=3,VLOOKUP(F$2,Table1[],5,0),IF($B568=4,VLOOKUP(F$2,Table1[],5,0),0))))","v":800000}]
[3186,1,{"$f":"IF($B569=1,VLOOKUP(C$2,Table1[],3,0),IF($B569=2,VLOOKUP(C$2,Table1[],4,0),IF($B569=3,VLOOKUP(C$2,Table1[],5,0),IF($B569=4,VLOOKUP(C$2,Table1[],5,0),0))))","v":2000000},{"$f":"IF($B569=1,VLOOKUP(D$2,Table1[],3,0),IF($B569=2,VLOOKUP(D$2,Table1[],4,0),IF($B569=3,VLOOKUP(D$2,Table1[],5,0),IF($B569=4,VLOOKUP(D$2,Table1[],5,0),0))))","v":2000000},{"$f":"IF($B569=1,VLOOKUP(E$2,Table1[],3,0),IF($B569=2,VLOOKUP(E$2,Table1[],4,0),IF($B569=3,VLOOKUP(E$2,Table1[],5,0),IF($B569=4,VLOOKUP(E$2,Table1[],5,0),0))))","v":1500000},{"$f":"IF($B569=1,VLOOKUP(F$2,Table1[],3,0),IF($B569=2,VLOOKUP(F$2,Table1[],4,0),IF($B569=3,VLOOKUP(F$2,Table1[],5,0),IF($B569=4,VLOOKUP(F$2,Table1[],5,0),0))))","v":800000}]
[3187,1,{"$f":"IF($B570=1,VLOOKUP(C$2,Table1[],3,0),IF($B570=2,VLOOKUP(C$2,Table1[],4,0),IF($B570=3,VLOOKUP(C$2,Table1[],5,0),IF($B570=4,VLOOKUP(C$2,Table1[],5,0),0))))","v":2000000},{"$f":"IF($B570=1,VLOOKUP(D$2,Table1[],3,0),IF($B570=2,VLOOKUP(D$2,Table1[],4,0),IF($B570=3,VLOOKUP(D$2,Table1[],5,0),IF($B570=4,VLOOKUP(D$2,Table1[],5,0),0))))","v":2000000},{"$f":"IF($B570=1,VLOOKUP(E$2,Table1[],3,0),IF($B570=2,VLOOKUP(E$2,Table1[],4,0),IF($B570=3,VLOOKUP(E$2,Table1[],5,0),IF($B570=4,VLOOKUP(E$2,Table1[],5,0),0))))","v":1500000},{"$f":"IF($B570=1,VLOOKUP(F$2,Table1[],3,0),IF($B570=2,VLOOKUP(F$2,Table1[],4,0),IF($B570=3,VLOOKUP(F$2,Table1[],5,0),IF($B570=4,VLOOKUP(F$2,Table1[],5,0),0))))","v":800000}]
[3188,1,{"$f":"IF($B571=1,VLOOKUP(C$2,Table1[],3,0),IF($B571=2,VLOOKUP(C$2,Table1[],4,0),IF($B571=3,VLOOKUP(C$2,Table1[],5,0),IF($B571=4,VLOOKUP(C$2,Table1[],5,0),0))))","v":2000000},{"$f":"IF($B571=1,VLOOKUP(D$2,Table1[],3,0),IF($B571=2,VLOOKUP(D$2,Table1[],4,0),IF($B571=3,VLOOKUP(D$2,Table1[],5,0),IF($B571=4,VLOOKUP(D$2,Table1[],5,0),0))))","v":2000000},{"$f":"IF($B571=1,VLOOKUP(E$2,Table1[],3,0),IF($B571=2,VLOOKUP(E$2,Table1[],4,0),IF($B571=3,VLOOKUP(E$2,Table1[],5,0),IF($B571=4,VLOOKUP(E$2,Table1[],5,0),0))))","v":1500000},{"$f":"IF($B571=1,VLOOKUP(F$2,Table1[],3,0),IF($B571=2,VLOOKUP(F$2,Table1[],4,0),IF($B571=3,VLOOKUP(F$2,Table1[],5,0),IF($B571=4,VLOOKUP(F$2,Table1[],5,0),0))))","v":800000}]
[3189,1,{"$f":"IF($B572=1,VLOOKUP(C$2,Table1[],3,0),IF($B572=2,VLOOKUP(C$2,Table1[],4,0),IF($B572=3,VLOOKUP(C$2,Table1[],5,0),IF($B572=4,VLOOKUP(C$2,Table1[],5,0),0))))","v":2000000},{"$f":"IF($B572=1,VLOOKUP(D$2,Table1[],3,0),IF($B572=2,VLOOKUP(D$2,Table1[],4,0),IF($B572=3,VLOOKUP(D$2,Table1[],5,0),IF($B572=4,VLOOKUP(D$2,Table1[],5,0),0))))","v":2000000},{"$f":"IF($B572=1,VLOOKUP(E$2,Table1[],3,0),IF($B572=2,VLOOKUP(E$2,Table1[],4,0),IF($B572=3,VLOOKUP(E$2,Table1[],5,0),IF($B572=4,VLOOKUP(E$2,Table1[],5,0),0))))","v":1500000},{"$f":"IF($B572=1,VLOOKUP(F$2,Table1[],3,0),IF($B572=2,VLOOKUP(F$2,Table1[],4,0),IF($B572=3,VLOOKUP(F$2,Table1[],5,0),IF($B572=4,VLOOKUP(F$2,Table1[],5,0),0))))","v":800000}]
[3190,1,{"$f":"IF($B573=1,VLOOKUP(C$2,Table1[],3,0),IF($B573=2,VLOOKUP(C$2,Table1[],4,0),IF($B573=3,VLOOKUP(C$2,Table1[],5,0),IF($B573=4,VLOOKUP(C$2,Table1[],5,0),0))))","v":2000000},{"$f":"IF($B573=1,VLOOKUP(D$2,Table1[],3,0),IF($B573=2,VLOOKUP(D$2,Table1[],4,0),IF($B573=3,VLOOKUP(D$2,Table1[],5,0),IF($B573=4,VLOOKUP(D$2,Table1[],5,0),0))))","v":2000000},{"$f":"IF($B573=1,VLOOKUP(E$2,Table1[],3,0),IF($B573=2,VLOOKUP(E$2,Table1[],4,0),IF($B573=3,VLOOKUP(E$2,Table1[],5,0),IF($B573=4,VLOOKUP(E$2,Table1[],5,0),0))))","v":1500000},{"$f":"IF($B573=1,VLOOKUP(F$2,Table1[],3,0),IF($B573=2,VLOOKUP(F$2,Table1[],4,0),IF($B573=3,VLOOKUP(F$2,Table1[],5,0),IF($B573=4,VLOOKUP(F$2,Table1[],5,0),0))))","v":800000}]
[3191,1,{"$f":"IF($B574=1,VLOOKUP(C$2,Table1[],3,0),IF($B574=2,VLOOKUP(C$2,Table1[],4,0),IF($B574=3,VLOOKUP(C$2,Table1[],5,0),IF($B574=4,VLOOKUP(C$2,Table1[],5,0),0))))","v":2000000},{"$f":"IF($B574=1,VLOOKUP(D$2,Table1[],3,0),IF($B574=2,VLOOKUP(D$2,Table1[],4,0),IF($B574=3,VLOOKUP(D$2,Table1[],5,0),IF($B574=4,VLOOKUP(D$2,Table1[],5,0),0))))","v":2000000},{"$f":"IF($B574=1,VLOOKUP(E$2,Table1[],3,0),IF($B574=2,VLOOKUP(E$2,Table1[],4,0),IF($B574=3,VLOOKUP(E$2,Table1[],5,0),IF($B574=4,VLOOKUP(E$2,Table1[],5,0),0))))","v":1500000},{"$f":"IF($B574=1,VLOOKUP(F$2,Table1[],3,0),IF($B574=2,VLOOKUP(F$2,Table1[],4,0),IF($B574=3,VLOOKUP(F$2,Table1[],5,0),IF($B574=4,VLOOKUP(F$2,Table1[],5,0),0))))","v":800000}]
[3192,1,{"$f":"IF($B575=1,VLOOKUP(C$2,Table1[],3,0),IF($B575=2,VLOOKUP(C$2,Table1[],4,0),IF($B575=3,VLOOKUP(C$2,Table1[],5,0),IF($B575=4,VLOOKUP(C$2,Table1[],5,0),0))))","v":2000000},{"$f":"IF($B575=1,VLOOKUP(D$2,Table1[],3,0),IF($B575=2,VLOOKUP(D$2,Table1[],4,0),IF($B575=3,VLOOKUP(D$2,Table1[],5,0),IF($B575=4,VLOOKUP(D$2,Table1[],5,0),0))))","v":2000000},{"$f":"IF($B575=1,VLOOKUP(E$2,Table1[],3,0),IF($B575=2,VLOOKUP(E$2,Table1[],4,0),IF($B575=3,VLOOKUP(E$2,Table1[],5,0),IF($B575=4,VLOOKUP(E$2,Table1[],5,0),0))))","v":1500000},{"$f":"IF($B575=1,VLOOKUP(F$2,Table1[],3,0),IF($B575=2,VLOOKUP(F$2,Table1[],4,0),IF($B575=3,VLOOKUP(F$2,Table1[],5,0),IF($B575=4,VLOOKUP(F$2,Table1[],5,0),0))))","v":800000}]
[3193,1,{"$f":"IF($B576=1,VLOOKUP(C$2,Table1[],3,0),IF($B576=2,VLOOKUP(C$2,Table1[],4,0),IF($B576=3,VLOOKUP(C$2,Table1[],5,0),IF($B576=4,VLOOKUP(C$2,Table1[],5,0),0))))","v":2000000},{"$f":"IF($B576=1,VLOOKUP(D$2,Table1[],3,0),IF($B576=2,VLOOKUP(D$2,Table1[],4,0),IF($B576=3,VLOOKUP(D$2,Table1[],5,0),IF($B576=4,VLOOKUP(D$2,Table1[],5,0),0))))","v":2000000},{"$f":"IF($B576=1,VLOOKUP(E$2,Table1[],3,0),IF($B576=2,VLOOKUP(E$2,Table1[],4,0),IF($B576=3,VLOOKUP(E$2,Table1[],5,0),IF($B576=4,VLOOKUP(E$2,Table1[],5,0),0))))","v":1500000},{"$f":"IF($B576=1,VLOOKUP(F$2,Table1[],3,0),IF($B576=2,VLOOKUP(F$2,Table1[],4,0),IF($B576=3,VLOOKUP(F$2,Table1[],5,0),IF($B576=4,VLOOKUP(F$2,Table1[],5,0),0))))","v":800000}]
[3194,1,{"$f":"IF($B577=1,VLOOKUP(C$2,Table1[],3,0),IF($B577=2,VLOOKUP(C$2,Table1[],4,0),IF($B577=3,VLOOKUP(C$2,Table1[],5,0),IF($B577=4,VLOOKUP(C$2,Table1[],5,0),0))))","v":2000000},{"$f":"IF($B577=1,VLOOKUP(D$2,Table1[],3,0),IF($B577=2,VLOOKUP(D$2,Table1[],4,0),IF($B577=3,VLOOKUP(D$2,Table1[],5,0),IF($B577=4,VLOOKUP(D$2,Table1[],5,0),0))))","v":2000000},{"$f":"IF($B577=1,VLOOKUP(E$2,Table1[],3,0),IF($B577=2,VLOOKUP(E$2,Table1[],4,0),IF($B577=3,VLOOKUP(E$2,Table1[],5,0),IF($B577=4,VLOOKUP(E$2,Table1[],5,0),0))))","v":1500000},{"$f":"IF($B577=1,VLOOKUP(F$2,Table1[],3,0),IF($B577=2,VLOOKUP(F$2,Table1[],4,0),IF($B577=3,VLOOKUP(F$2,Table1[],5,0),IF($B577=4,VLOOKUP(F$2,Table1[],5,0),0))))","v":800000}]
[3195,1,{"$f":"IF($B578=1,VLOOKUP(C$2,Table1[],3,0),IF($B578=2,VLOOKUP(C$2,Table1[],4,0),IF($B578=3,VLOOKUP(C$2,Table1[],5,0),IF($B578=4,VLOOKUP(C$2,Table1[],5,0),0))))","v":2000000},{"$f":"IF($B578=1,VLOOKUP(D$2,Table1[],3,0),IF($B578=2,VLOOKUP(D$2,Table1[],4,0),IF($B578=3,VLOOKUP(D$2,Table1[],5,0),IF($B578=4,VLOOKUP(D$2,Table1[],5,0),0))))","v":2000000},{"$f":"IF($B578=1,VLOOKUP(E$2,Table1[],3,0),IF($B578=2,VLOOKUP(E$2,Table1[],4,0),IF($B578=3,VLOOKUP(E$2,Table1[],5,0),IF($B578=4,VLOOKUP(E$2,Table1[],5,0),0))))","v":1500000},{"$f":"IF($B578=1,VLOOKUP(F$2,Table1[],3,0),IF($B578=2,VLOOKUP(F$2,Table1[],4,0),IF($B578=3,VLOOKUP(F$2,Table1[],5,0),IF($B578=4,VLOOKUP(F$2,Table1[],5,0),0))))","v":800000}]
[3196,1,{"$f":"IF($B579=1,VLOOKUP(C$2,Table1[],3,0),IF($B579=2,VLOOKUP(C$2,Table1[],4,0),IF($B579=3,VLOOKUP(C$2,Table1[],5,0),IF($B579=4,VLOOKUP(C$2,Table1[],5,0),0))))","v":2000000},{"$f":"IF($B579=1,VLOOKUP(D$2,Table1[],3,0),IF($B579=2,VLOOKUP(D$2,Table1[],4,0),IF($B579=3,VLOOKUP(D$2,Table1[],5,0),IF($B579=4,VLOOKUP(D$2,Table1[],5,0),0))))","v":2000000},{"$f":"IF($B579=1,VLOOKUP(E$2,Table1[],3,0),IF($B579=2,VLOOKUP(E$2,Table1[],4,0),IF($B579=3,VLOOKUP(E$2,Table1[],5,0),IF($B579=4,VLOOKUP(E$2,Table1[],5,0),0))))","v":1500000},{"$f":"IF($B579=1,VLOOKUP(F$2,Table1[],3,0),IF($B579=2,VLOOKUP(F$2,Table1[],4,0),IF($B579=3,VLOOKUP(F$2,Table1[],5,0),IF($B579=4,VLOOKUP(F$2,Table1[],5,0),0))))","v":800000}]
[3197,1,{"$f":"IF($B580=1,VLOOKUP(C$2,Table1[],3,0),IF($B580=2,VLOOKUP(C$2,Table1[],4,0),IF($B580=3,VLOOKUP(C$2,Table1[],5,0),IF($B580=4,VLOOKUP(C$2,Table1[],5,0),0))))","v":2000000},{"$f":"IF($B580=1,VLOOKUP(D$2,Table1[],3,0),IF($B580=2,VLOOKUP(D$2,Table1[],4,0),IF($B580=3,VLOOKUP(D$2,Table1[],5,0),IF($B580=4,VLOOKUP(D$2,Table1[],5,0),0))))","v":2000000},{"$f":"IF($B580=1,VLOOKUP(E$2,Table1[],3,0),IF($B580=2,VLOOKUP(E$2,Table1[],4,0),IF($B580=3,VLOOKUP(E$2,Table1[],5,0),IF($B580=4,VLOOKUP(E$2,Table1[],5,0),0))))","v":1500000},{"$f":"IF($B580=1,VLOOKUP(F$2,Table1[],3,0),IF($B580=2,VLOOKUP(F$2,Table1[],4,0),IF($B580=3,VLOOKUP(F$2,Table1[],5,0),IF($B580=4,VLOOKUP(F$2,Table1[],5,0),0))))","v":800000}]
[3198,1,{"$f":"IF($B581=1,VLOOKUP(C$2,Table1[],3,0),IF($B581=2,VLOOKUP(C$2,Table1[],4,0),IF($B581=3,VLOOKUP(C$2,Table1[],5,0),IF($B581=4,VLOOKUP(C$2,Table1[],5,0),0))))","v":2000000},{"$f":"IF($B581=1,VLOOKUP(D$2,Table1[],3,0),IF($B581=2,VLOOKUP(D$2,Table1[],4,0),IF($B581=3,VLOOKUP(D$2,Table1[],5,0),IF($B581=4,VLOOKUP(D$2,Table1[],5,0),0))))","v":2000000},{"$f":"IF($B581=1,VLOOKUP(E$2,Table1[],3,0),IF($B581=2,VLOOKUP(E$2,Table1[],4,0),IF($B581=3,VLOOKUP(E$2,Table1[],5,0),IF($B581=4,VLOOKUP(E$2,Table1[],5,0),0))))","v":1500000},{"$f":"IF($B581=1,VLOOKUP(F$2,Table1[],3,0),IF($B581=2,VLOOKUP(F$2,Table1[],4,0),IF($B581=3,VLOOKUP(F$2,Table1[],5,0),IF($B581=4,VLOOKUP(F$2,Table1[],5,0),0))))","v":800000}]
[3199,1,{"$f":"IF($B582=1,VLOOKUP(C$2,Table1[],3,0),IF($B582=2,VLOOKUP(C$2,Table1[],4,0),IF($B582=3,VLOOKUP(C$2,Table1[],5,0),IF($B582=4,VLOOKUP(C$2,Table1[],5,0),0))))","v":2000000},{"$f":"IF($B582=1,VLOOKUP(D$2,Table1[],3,0),IF($B582=2,VLOOKUP(D$2,Table1[],4,0),IF($B582=3,VLOOKUP(D$2,Table1[],5,0),IF($B582=4,VLOOKUP(D$2,Table1[],5,0),0))))","v":2000000},{"$f":"IF($B582=1,VLOOKUP(E$2,Table1[],3,0),IF($B582=2,VLOOKUP(E$2,Table1[],4,0),IF($B582=3,VLOOKUP(E$2,Table1[],5,0),IF($B582=4,VLOOKUP(E$2,Table1[],5,0),0))))","v":1500000},{"$f":"IF($B582=1,VLOOKUP(F$2,Table1[],3,0),IF($B582=2,VLOOKUP(F$2,Table1[],4,0),IF($B582=3,VLOOKUP(F$2,Table1[],5,0),IF($B582=4,VLOOKUP(F$2,Table1[],5,0),0))))","v":800000}]
[3200,1,{"$f":"IF($B583=1,VLOOKUP(C$2,Table1[],3,0),IF($B583=2,VLOOKUP(C$2,Table1[],4,0),IF($B583=3,VLOOKUP(C$2,Table1[],5,0),IF($B583=4,VLOOKUP(C$2,Table1[],5,0),0))))","v":2000000},{"$f":"IF($B583=1,VLOOKUP(D$2,Table1[],3,0),IF($B583=2,VLOOKUP(D$2,Table1[],4,0),IF($B583=3,VLOOKUP(D$2,Table1[],5,0),IF($B583=4,VLOOKUP(D$2,Table1[],5,0),0))))","v":2000000},{"$f":"IF($B583=1,VLOOKUP(E$2,Table1[],3,0),IF($B583=2,VLOOKUP(E$2,Table1[],4,0),IF($B583=3,VLOOKUP(E$2,Table1[],5,0),IF($B583=4,VLOOKUP(E$2,Table1[],5,0),0))))","v":1500000},{"$f":"IF($B583=1,VLOOKUP(F$2,Table1[],3,0),IF($B583=2,VLOOKUP(F$2,Table1[],4,0),IF($B583=3,VLOOKUP(F$2,Table1[],5,0),IF($B583=4,VLOOKUP(F$2,Table1[],5,0),0))))","v":800000}]
[3201,1,{"$f":"IF($B584=1,VLOOKUP(C$2,Table1[],3,0),IF($B584=2,VLOOKUP(C$2,Table1[],4,0),IF($B584=3,VLOOKUP(C$2,Table1[],5,0),IF($B584=4,VLOOKUP(C$2,Table1[],5,0),0))))","v":2000000},{"$f":"IF($B584=1,VLOOKUP(D$2,Table1[],3,0),IF($B584=2,VLOOKUP(D$2,Table1[],4,0),IF($B584=3,VLOOKUP(D$2,Table1[],5,0),IF($B584=4,VLOOKUP(D$2,Table1[],5,0),0))))","v":2000000},{"$f":"IF($B584=1,VLOOKUP(E$2,Table1[],3,0),IF($B584=2,VLOOKUP(E$2,Table1[],4,0),IF($B584=3,VLOOKUP(E$2,Table1[],5,0),IF($B584=4,VLOOKUP(E$2,Table1[],5,0),0))))","v":1500000},{"$f":"IF($B584=1,VLOOKUP(F$2,Table1[],3,0),IF($B584=2,VLOOKUP(F$2,Table1[],4,0),IF($B584=3,VLOOKUP(F$2,Table1[],5,0),IF($B584=4,VLOOKUP(F$2,Table1[],5,0),0))))","v":800000}]
[3202,1,{"$f":"IF($B585=1,VLOOKUP(C$2,Table1[],3,0),IF($B585=2,VLOOKUP(C$2,Table1[],4,0),IF($B585=3,VLOOKUP(C$2,Table1[],5,0),IF($B585=4,VLOOKUP(C$2,Table1[],5,0),0))))","v":2000000},{"$f":"IF($B585=1,VLOOKUP(D$2,Table1[],3,0),IF($B585=2,VLOOKUP(D$2,Table1[],4,0),IF($B585=3,VLOOKUP(D$2,Table1[],5,0),IF($B585=4,VLOOKUP(D$2,Table1[],5,0),0))))","v":2000000},{"$f":"IF($B585=1,VLOOKUP(E$2,Table1[],3,0),IF($B585=2,VLOOKUP(E$2,Table1[],4,0),IF($B585=3,VLOOKUP(E$2,Table1[],5,0),IF($B585=4,VLOOKUP(E$2,Table1[],5,0),0))))","v":1500000},{"$f":"IF($B585=1,VLOOKUP(F$2,Table1[],3,0),IF($B585=2,VLOOKUP(F$2,Table1[],4,0),IF($B585=3,VLOOKUP(F$2,Table1[],5,0),IF($B585=4,VLOOKUP(F$2,Table1[],5,0),0))))","v":800000}]
[3204,1,{"$f":"IF($B586=1,VLOOKUP(C$2,Table1[],3,0),IF($B586=2,VLOOKUP(C$2,Table1[],4,0),IF($B586=3,VLOOKUP(C$2,Table1[],5,0),IF($B586=4,VLOOKUP(C$2,Table1[],5,0),0))))","v":2000000},{"$f":"IF($B586=1,VLOOKUP(D$2,Table1[],3,0),IF($B586=2,VLOOKUP(D$2,Table1[],4,0),IF($B586=3,VLOOKUP(D$2,Table1[],5,0),IF($B586=4,VLOOKUP(D$2,Table1[],5,0),0))))","v":2000000},{"$f":"IF($B586=1,VLOOKUP(E$2,Table1[],3,0),IF($B586=2,VLOOKUP(E$2,Table1[],4,0),IF($B586=3,VLOOKUP(E$2,Table1[],5,0),IF($B586=4,VLOOKUP(E$2,Table1[],5,0),0))))","v":1500000},{"$f":"IF($B586=1,VLOOKUP(F$2,Table1[],3,0),IF($B586=2,VLOOKUP(F$2,Table1[],4,0),IF($B586=3,VLOOKUP(F$2,Table1[],5,0),IF($B586=4,VLOOKUP(F$2,Table1[],5,0),0))))","v":800000}]
[3205,1,{"$f":"IF($B587=1,VLOOKUP(C$2,Table1[],3,0),IF($B587=2,VLOOKUP(C$2,Table1[],4,0),IF($B587=3,VLOOKUP(C$2,Table1[],5,0),IF($B587=4,VLOOKUP(C$2,Table1[],5,0),0))))","v":2000000},{"$f":"IF($B587=1,VLOOKUP(D$2,Table1[],3,0),IF($B587=2,VLOOKUP(D$2,Table1[],4,0),IF($B587=3,VLOOKUP(D$2,Table1[],5,0),IF($B587=4,VLOOKUP(D$2,Table1[],5,0),0))))","v":2000000},{"$f":"IF($B587=1,VLOOKUP(E$2,Table1[],3,0),IF($B587=2,VLOOKUP(E$2,Table1[],4,0),IF($B587=3,VLOOKUP(E$2,Table1[],5,0),IF($B587=4,VLOOKUP(E$2,Table1[],5,0),0))))","v":1500000},{"$f":"IF($B587=1,VLOOKUP(F$2,Table1[],3,0),IF($B587=2,VLOOKUP(F$2,Table1[],4,0),IF($B587=3,VLOOKUP(F$2,Table1[],5,0),IF($B587=4,VLOOKUP(F$2,Table1[],5,0),0))))","v":800000}]
[3206,1,{"$f":"IF($B588=1,VLOOKUP(C$2,Table1[],3,0),IF($B588=2,VLOOKUP(C$2,Table1[],4,0),IF($B588=3,VLOOKUP(C$2,Table1[],5,0),IF($B588=4,VLOOKUP(C$2,Table1[],5,0),0))))","v":2000000},{"$f":"IF($B588=1,VLOOKUP(D$2,Table1[],3,0),IF($B588=2,VLOOKUP(D$2,Table1[],4,0),IF($B588=3,VLOOKUP(D$2,Table1[],5,0),IF($B588=4,VLOOKUP(D$2,Table1[],5,0),0))))","v":2000000},{"$f":"IF($B588=1,VLOOKUP(E$2,Table1[],3,0),IF($B588=2,VLOOKUP(E$2,Table1[],4,0),IF($B588=3,VLOOKUP(E$2,Table1[],5,0),IF($B588=4,VLOOKUP(E$2,Table1[],5,0),0))))","v":1500000},{"$f":"IF($B588=1,VLOOKUP(F$2,Table1[],3,0),IF($B588=2,VLOOKUP(F$2,Table1[],4,0),IF($B588=3,VLOOKUP(F$2,Table1[],5,0),IF($B588=4,VLOOKUP(F$2,Table1[],5,0),0))))","v":800000}]
[3207,1,{"$f":"IF($B589=1,VLOOKUP(C$2,Table1[],3,0),IF($B589=2,VLOOKUP(C$2,Table1[],4,0),IF($B589=3,VLOOKUP(C$2,Table1[],5,0),IF($B589=4,VLOOKUP(C$2,Table1[],5,0),0))))","v":2000000},{"$f":"IF($B589=1,VLOOKUP(D$2,Table1[],3,0),IF($B589=2,VLOOKUP(D$2,Table1[],4,0),IF($B589=3,VLOOKUP(D$2,Table1[],5,0),IF($B589=4,VLOOKUP(D$2,Table1[],5,0),0))))","v":2000000},{"$f":"IF($B589=1,VLOOKUP(E$2,Table1[],3,0),IF($B589=2,VLOOKUP(E$2,Table1[],4,0),IF($B589=3,VLOOKUP(E$2,Table1[],5,0),IF($B589=4,VLOOKUP(E$2,Table1[],5,0),0))))","v":1500000},{"$f":"IF($B589=1,VLOOKUP(F$2,Table1[],3,0),IF($B589=2,VLOOKUP(F$2,Table1[],4,0),IF($B589=3,VLOOKUP(F$2,Table1[],5,0),IF($B589=4,VLOOKUP(F$2,Table1[],5,0),0))))","v":800000}]
[3211,1,{"$f":"IF($B590=1,VLOOKUP(C$2,Table1[],3,0),IF($B590=2,VLOOKUP(C$2,Table1[],4,0),IF($B590=3,VLOOKUP(C$2,Table1[],5,0),IF($B590=4,VLOOKUP(C$2,Table1[],5,0),0))))","v":2000000},{"$f":"IF($B590=1,VLOOKUP(D$2,Table1[],3,0),IF($B590=2,VLOOKUP(D$2,Table1[],4,0),IF($B590=3,VLOOKUP(D$2,Table1[],5,0),IF($B590=4,VLOOKUP(D$2,Table1[],5,0),0))))","v":2000000},{"$f":"IF($B590=1,VLOOKUP(E$2,Table1[],3,0),IF($B590=2,VLOOKUP(E$2,Table1[],4,0),IF($B590=3,VLOOKUP(E$2,Table1[],5,0),IF($B590=4,VLOOKUP(E$2,Table1[],5,0),0))))","v":1500000},{"$f":"IF($B590=1,VLOOKUP(F$2,Table1[],3,0),IF($B590=2,VLOOKUP(F$2,Table1[],4,0),IF($B590=3,VLOOKUP(F$2,Table1[],5,0),IF($B590=4,VLOOKUP(F$2,Table1[],5,0),0))))","v":800000}]
[3212,1,{"$f":"IF($B591=1,VLOOKUP(C$2,Table1[],3,0),IF($B591=2,VLOOKUP(C$2,Table1[],4,0),IF($B591=3,VLOOKUP(C$2,Table1[],5,0),IF($B591=4,VLOOKUP(C$2,Table1[],5,0),0))))","v":2000000},{"$f":"IF($B591=1,VLOOKUP(D$2,Table1[],3,0),IF($B591=2,VLOOKUP(D$2,Table1[],4,0),IF($B591=3,VLOOKUP(D$2,Table1[],5,0),IF($B591=4,VLOOKUP(D$2,Table1[],5,0),0))))","v":2000000},{"$f":"IF($B591=1,VLOOKUP(E$2,Table1[],3,0),IF($B591=2,VLOOKUP(E$2,Table1[],4,0),IF($B591=3,VLOOKUP(E$2,Table1[],5,0),IF($B591=4,VLOOKUP(E$2,Table1[],5,0),0))))","v":1500000},{"$f":"IF($B591=1,VLOOKUP(F$2,Table1[],3,0),IF($B591=2,VLOOKUP(F$2,Table1[],4,0),IF($B591=3,VLOOKUP(F$2,Table1[],5,0),IF($B591=4,VLOOKUP(F$2,Table1[],5,0),0))))","v":800000}]
[3213,1,{"$f":"IF($B592=1,VLOOKUP(C$2,Table1[],3,0),IF($B592=2,VLOOKUP(C$2,Table1[],4,0),IF($B592=3,VLOOKUP(C$2,Table1[],5,0),IF($B592=4,VLOOKUP(C$2,Table1[],5,0),0))))","v":2000000},{"$f":"IF($B592=1,VLOOKUP(D$2,Table1[],3,0),IF($B592=2,VLOOKUP(D$2,Table1[],4,0),IF($B592=3,VLOOKUP(D$2,Table1[],5,0),IF($B592=4,VLOOKUP(D$2,Table1[],5,0),0))))","v":2000000},{"$f":"IF($B592=1,VLOOKUP(E$2,Table1[],3,0),IF($B592=2,VLOOKUP(E$2,Table1[],4,0),IF($B592=3,VLOOKUP(E$2,Table1[],5,0),IF($B592=4,VLOOKUP(E$2,Table1[],5,0),0))))","v":1500000},{"$f":"IF($B592=1,VLOOKUP(F$2,Table1[],3,0),IF($B592=2,VLOOKUP(F$2,Table1[],4,0),IF($B592=3,VLOOKUP(F$2,Table1[],5,0),IF($B592=4,VLOOKUP(F$2,Table1[],5,0),0))))","v":800000}]
[3214,1,{"$f":"IF($B593=1,VLOOKUP(C$2,Table1[],3,0),IF($B593=2,VLOOKUP(C$2,Table1[],4,0),IF($B593=3,VLOOKUP(C$2,Table1[],5,0),IF($B593=4,VLOOKUP(C$2,Table1[],5,0),0))))","v":2000000},{"$f":"IF($B593=1,VLOOKUP(D$2,Table1[],3,0),IF($B593=2,VLOOKUP(D$2,Table1[],4,0),IF($B593=3,VLOOKUP(D$2,Table1[],5,0),IF($B593=4,VLOOKUP(D$2,Table1[],5,0),0))))","v":2000000},{"$f":"IF($B593=1,VLOOKUP(E$2,Table1[],3,0),IF($B593=2,VLOOKUP(E$2,Table1[],4,0),IF($B593=3,VLOOKUP(E$2,Table1[],5,0),IF($B593=4,VLOOKUP(E$2,Table1[],5,0),0))))","v":1500000},{"$f":"IF($B593=1,VLOOKUP(F$2,Table1[],3,0),IF($B593=2,VLOOKUP(F$2,Table1[],4,0),IF($B593=3,VLOOKUP(F$2,Table1[],5,0),IF($B593=4,VLOOKUP(F$2,Table1[],5,0),0))))","v":800000}]
[3215,1,{"$f":"IF($B594=1,VLOOKUP(C$2,Table1[],3,0),IF($B594=2,VLOOKUP(C$2,Table1[],4,0),IF($B594=3,VLOOKUP(C$2,Table1[],5,0),IF($B594=4,VLOOKUP(C$2,Table1[],5,0),0))))","v":2000000},{"$f":"IF($B594=1,VLOOKUP(D$2,Table1[],3,0),IF($B594=2,VLOOKUP(D$2,Table1[],4,0),IF($B594=3,VLOOKUP(D$2,Table1[],5,0),IF($B594=4,VLOOKUP(D$2,Table1[],5,0),0))))","v":2000000},{"$f":"IF($B594=1,VLOOKUP(E$2,Table1[],3,0),IF($B594=2,VLOOKUP(E$2,Table1[],4,0),IF($B594=3,VLOOKUP(E$2,Table1[],5,0),IF($B594=4,VLOOKUP(E$2,Table1[],5,0),0))))","v":1500000},{"$f":"IF($B594=1,VLOOKUP(F$2,Table1[],3,0),IF($B594=2,VLOOKUP(F$2,Table1[],4,0),IF($B594=3,VLOOKUP(F$2,Table1[],5,0),IF($B594=4,VLOOKUP(F$2,Table1[],5,0),0))))","v":800000}]
[3216,1,{"$f":"IF($B595=1,VLOOKUP(C$2,Table1[],3,0),IF($B595=2,VLOOKUP(C$2,Table1[],4,0),IF($B595=3,VLOOKUP(C$2,Table1[],5,0),IF($B595=4,VLOOKUP(C$2,Table1[],5,0),0))))","v":2000000},{"$f":"IF($B595=1,VLOOKUP(D$2,Table1[],3,0),IF($B595=2,VLOOKUP(D$2,Table1[],4,0),IF($B595=3,VLOOKUP(D$2,Table1[],5,0),IF($B595=4,VLOOKUP(D$2,Table1[],5,0),0))))","v":2000000},{"$f":"IF($B595=1,VLOOKUP(E$2,Table1[],3,0),IF($B595=2,VLOOKUP(E$2,Table1[],4,0),IF($B595=3,VLOOKUP(E$2,Table1[],5,0),IF($B595=4,VLOOKUP(E$2,Table1[],5,0),0))))","v":1500000},{"$f":"IF($B595=1,VLOOKUP(F$2,Table1[],3,0),IF($B595=2,VLOOKUP(F$2,Table1[],4,0),IF($B595=3,VLOOKUP(F$2,Table1[],5,0),IF($B595=4,VLOOKUP(F$2,Table1[],5,0),0))))","v":800000}]
[3217,1,{"$f":"IF($B596=1,VLOOKUP(C$2,Table1[],3,0),IF($B596=2,VLOOKUP(C$2,Table1[],4,0),IF($B596=3,VLOOKUP(C$2,Table1[],5,0),IF($B596=4,VLOOKUP(C$2,Table1[],5,0),0))))","v":2000000},{"$f":"IF($B596=1,VLOOKUP(D$2,Table1[],3,0),IF($B596=2,VLOOKUP(D$2,Table1[],4,0),IF($B596=3,VLOOKUP(D$2,Table1[],5,0),IF($B596=4,VLOOKUP(D$2,Table1[],5,0),0))))","v":2000000},{"$f":"IF($B596=1,VLOOKUP(E$2,Table1[],3,0),IF($B596=2,VLOOKUP(E$2,Table1[],4,0),IF($B596=3,VLOOKUP(E$2,Table1[],5,0),IF($B596=4,VLOOKUP(E$2,Table1[],5,0),0))))","v":1500000},{"$f":"IF($B596=1,VLOOKUP(F$2,Table1[],3,0),IF($B596=2,VLOOKUP(F$2,Table1[],4,0),IF($B596=3,VLOOKUP(F$2,Table1[],5,0),IF($B596=4,VLOOKUP(F$2,Table1[],5,0),0))))","v":800000}]
[3218,1,{"$f":"IF($B597=1,VLOOKUP(C$2,Table1[],3,0),IF($B597=2,VLOOKUP(C$2,Table1[],4,0),IF($B597=3,VLOOKUP(C$2,Table1[],5,0),IF($B597=4,VLOOKUP(C$2,Table1[],5,0),0))))","v":2000000},{"$f":"IF($B597=1,VLOOKUP(D$2,Table1[],3,0),IF($B597=2,VLOOKUP(D$2,Table1[],4,0),IF($B597=3,VLOOKUP(D$2,Table1[],5,0),IF($B597=4,VLOOKUP(D$2,Table1[],5,0),0))))","v":2000000},{"$f":"IF($B597=1,VLOOKUP(E$2,Table1[],3,0),IF($B597=2,VLOOKUP(E$2,Table1[],4,0),IF($B597=3,VLOOKUP(E$2,Table1[],5,0),IF($B597=4,VLOOKUP(E$2,Table1[],5,0),0))))","v":1500000},{"$f":"IF($B597=1,VLOOKUP(F$2,Table1[],3,0),IF($B597=2,VLOOKUP(F$2,Table1[],4,0),IF($B597=3,VLOOKUP(F$2,Table1[],5,0),IF($B597=4,VLOOKUP(F$2,Table1[],5,0),0))))","v":800000}]
[3219,1,{"$f":"IF($B598=1,VLOOKUP(C$2,Table1[],3,0),IF($B598=2,VLOOKUP(C$2,Table1[],4,0),IF($B598=3,VLOOKUP(C$2,Table1[],5,0),IF($B598=4,VLOOKUP(C$2,Table1[],5,0),0))))","v":2000000},{"$f":"IF($B598=1,VLOOKUP(D$2,Table1[],3,0),IF($B598=2,VLOOKUP(D$2,Table1[],4,0),IF($B598=3,VLOOKUP(D$2,Table1[],5,0),IF($B598=4,VLOOKUP(D$2,Table1[],5,0),0))))","v":2000000},{"$f":"IF($B598=1,VLOOKUP(E$2,Table1[],3,0),IF($B598=2,VLOOKUP(E$2,Table1[],4,0),IF($B598=3,VLOOKUP(E$2,Table1[],5,0),IF($B598=4,VLOOKUP(E$2,Table1[],5,0),0))))","v":1500000},{"$f":"IF($B598=1,VLOOKUP(F$2,Table1[],3,0),IF($B598=2,VLOOKUP(F$2,Table1[],4,0),IF($B598=3,VLOOKUP(F$2,Table1[],5,0),IF($B598=4,VLOOKUP(F$2,Table1[],5,0),0))))","v":800000}]
[3220,1,{"$f":"IF($B599=1,VLOOKUP(C$2,Table1[],3,0),IF($B599=2,VLOOKUP(C$2,Table1[],4,0),IF($B599=3,VLOOKUP(C$2,Table1[],5,0),IF($B599=4,VLOOKUP(C$2,Table1[],5,0),0))))","v":2000000},{"$f":"IF($B599=1,VLOOKUP(D$2,Table1[],3,0),IF($B599=2,VLOOKUP(D$2,Table1[],4,0),IF($B599=3,VLOOKUP(D$2,Table1[],5,0),IF($B599=4,VLOOKUP(D$2,Table1[],5,0),0))))","v":2000000},{"$f":"IF($B599=1,VLOOKUP(E$2,Table1[],3,0),IF($B599=2,VLOOKUP(E$2,Table1[],4,0),IF($B599=3,VLOOKUP(E$2,Table1[],5,0),IF($B599=4,VLOOKUP(E$2,Table1[],5,0),0))))","v":1500000},{"$f":"IF($B599=1,VLOOKUP(F$2,Table1[],3,0),IF($B599=2,VLOOKUP(F$2,Table1[],4,0),IF($B599=3,VLOOKUP(F$2,Table1[],5,0),IF($B599=4,VLOOKUP(F$2,Table1[],5,0),0))))","v":800000}]
[3221,1,{"$f":"IF($B600=1,VLOOKUP(C$2,Table1[],3,0),IF($B600=2,VLOOKUP(C$2,Table1[],4,0),IF($B600=3,VLOOKUP(C$2,Table1[],5,0),IF($B600=4,VLOOKUP(C$2,Table1[],5,0),0))))","v":2000000},{"$f":"IF($B600=1,VLOOKUP(D$2,Table1[],3,0),IF($B600=2,VLOOKUP(D$2,Table1[],4,0),IF($B600=3,VLOOKUP(D$2,Table1[],5,0),IF($B600=4,VLOOKUP(D$2,Table1[],5,0),0))))","v":2000000},{"$f":"IF($B600=1,VLOOKUP(E$2,Table1[],3,0),IF($B600=2,VLOOKUP(E$2,Table1[],4,0),IF($B600=3,VLOOKUP(E$2,Table1[],5,0),IF($B600=4,VLOOKUP(E$2,Table1[],5,0),0))))","v":1500000},{"$f":"IF($B600=1,VLOOKUP(F$2,Table1[],3,0),IF($B600=2,VLOOKUP(F$2,Table1[],4,0),IF($B600=3,VLOOKUP(F$2,Table1[],5,0),IF($B600=4,VLOOKUP(F$2,Table1[],5,0),0))))","v":800000}]
[3222,1,{"$f":"IF($B601=1,VLOOKUP(C$2,Table1[],3,0),IF($B601=2,VLOOKUP(C$2,Table1[],4,0),IF($B601=3,VLOOKUP(C$2,Table1[],5,0),IF($B601=4,VLOOKUP(C$2,Table1[],5,0),0))))","v":2000000},{"$f":"IF($B601=1,VLOOKUP(D$2,Table1[],3,0),IF($B601=2,VLOOKUP(D$2,Table1[],4,0),IF($B601=3,VLOOKUP(D$2,Table1[],5,0),IF($B601=4,VLOOKUP(D$2,Table1[],5,0),0))))","v":2000000},{"$f":"IF($B601=1,VLOOKUP(E$2,Table1[],3,0),IF($B601=2,VLOOKUP(E$2,Table1[],4,0),IF($B601=3,VLOOKUP(E$2,Table1[],5,0),IF($B601=4,VLOOKUP(E$2,Table1[],5,0),0))))","v":1500000},{"$f":"IF($B601=1,VLOOKUP(F$2,Table1[],3,0),IF($B601=2,VLOOKUP(F$2,Table1[],4,0),IF($B601=3,VLOOKUP(F$2,Table1[],5,0),IF($B601=4,VLOOKUP(F$2,Table1[],5,0),0))))","v":800000}]
[3223,1,{"$f":"IF($B602=1,VLOOKUP(C$2,Table1[],3,0),IF($B602=2,VLOOKUP(C$2,Table1[],4,0),IF($B602=3,VLOOKUP(C$2,Table1[],5,0),IF($B602=4,VLOOKUP(C$2,Table1[],5,0),0))))","v":2000000},{"$f":"IF($B602=1,VLOOKUP(D$2,Table1[],3,0),IF($B602=2,VLOOKUP(D$2,Table1[],4,0),IF($B602=3,VLOOKUP(D$2,Table1[],5,0),IF($B602=4,VLOOKUP(D$2,Table1[],5,0),0))))","v":2000000},{"$f":"IF($B602=1,VLOOKUP(E$2,Table1[],3,0),IF($B602=2,VLOOKUP(E$2,Table1[],4,0),IF($B602=3,VLOOKUP(E$2,Table1[],5,0),IF($B602=4,VLOOKUP(E$2,Table1[],5,0),0))))","v":1500000},{"$f":"IF($B602=1,VLOOKUP(F$2,Table1[],3,0),IF($B602=2,VLOOKUP(F$2,Table1[],4,0),IF($B602=3,VLOOKUP(F$2,Table1[],5,0),IF($B602=4,VLOOKUP(F$2,Table1[],5,0),0))))","v":800000}]
[3224,1,{"$f":"IF($B603=1,VLOOKUP(C$2,Table1[],3,0),IF($B603=2,VLOOKUP(C$2,Table1[],4,0),IF($B603=3,VLOOKUP(C$2,Table1[],5,0),IF($B603=4,VLOOKUP(C$2,Table1[],5,0),0))))","v":2000000},{"$f":"IF($B603=1,VLOOKUP(D$2,Table1[],3,0),IF($B603=2,VLOOKUP(D$2,Table1[],4,0),IF($B603=3,VLOOKUP(D$2,Table1[],5,0),IF($B603=4,VLOOKUP(D$2,Table1[],5,0),0))))","v":2000000},{"$f":"IF($B603=1,VLOOKUP(E$2,Table1[],3,0),IF($B603=2,VLOOKUP(E$2,Table1[],4,0),IF($B603=3,VLOOKUP(E$2,Table1[],5,0),IF($B603=4,VLOOKUP(E$2,Table1[],5,0),0))))","v":1500000},{"$f":"IF($B603=1,VLOOKUP(F$2,Table1[],3,0),IF($B603=2,VLOOKUP(F$2,Table1[],4,0),IF($B603=3,VLOOKUP(F$2,Table1[],5,0),IF($B603=4,VLOOKUP(F$2,Table1[],5,0),0))))","v":800000}]
[3225,1,{"$f":"IF($B604=1,VLOOKUP(C$2,Table1[],3,0),IF($B604=2,VLOOKUP(C$2,Table1[],4,0),IF($B604=3,VLOOKUP(C$2,Table1[],5,0),IF($B604=4,VLOOKUP(C$2,Table1[],5,0),0))))","v":2000000},{"$f":"IF($B604=1,VLOOKUP(D$2,Table1[],3,0),IF($B604=2,VLOOKUP(D$2,Table1[],4,0),IF($B604=3,VLOOKUP(D$2,Table1[],5,0),IF($B604=4,VLOOKUP(D$2,Table1[],5,0),0))))","v":2000000},{"$f":"IF($B604=1,VLOOKUP(E$2,Table1[],3,0),IF($B604=2,VLOOKUP(E$2,Table1[],4,0),IF($B604=3,VLOOKUP(E$2,Table1[],5,0),IF($B604=4,VLOOKUP(E$2,Table1[],5,0),0))))","v":1500000},{"$f":"IF($B604=1,VLOOKUP(F$2,Table1[],3,0),IF($B604=2,VLOOKUP(F$2,Table1[],4,0),IF($B604=3,VLOOKUP(F$2,Table1[],5,0),IF($B604=4,VLOOKUP(F$2,Table1[],5,0),0))))","v":800000}]
[3226,1,{"$f":"IF($B605=1,VLOOKUP(C$2,Table1[],3,0),IF($B605=2,VLOOKUP(C$2,Table1[],4,0),IF($B605=3,VLOOKUP(C$2,Table1[],5,0),IF($B605=4,VLOOKUP(C$2,Table1[],5,0),0))))","v":2000000},{"$f":"IF($B605=1,VLOOKUP(D$2,Table1[],3,0),IF($B605=2,VLOOKUP(D$2,Table1[],4,0),IF($B605=3,VLOOKUP(D$2,Table1[],5,0),IF($B605=4,VLOOKUP(D$2,Table1[],5,0),0))))","v":2000000},{"$f":"IF($B605=1,VLOOKUP(E$2,Table1[],3,0),IF($B605=2,VLOOKUP(E$2,Table1[],4,0),IF($B605=3,VLOOKUP(E$2,Table1[],5,0),IF($B605=4,VLOOKUP(E$2,Table1[],5,0),0))))","v":1500000},{"$f":"IF($B605=1,VLOOKUP(F$2,Table1[],3,0),IF($B605=2,VLOOKUP(F$2,Table1[],4,0),IF($B605=3,VLOOKUP(F$2,Table1[],5,0),IF($B605=4,VLOOKUP(F$2,Table1[],5,0),0))))","v":800000}]
[3227,1,{"$f":"IF($B606=1,VLOOKUP(C$2,Table1[],3,0),IF($B606=2,VLOOKUP(C$2,Table1[],4,0),IF($B606=3,VLOOKUP(C$2,Table1[],5,0),IF($B606=4,VLOOKUP(C$2,Table1[],5,0),0))))","v":2000000},{"$f":"IF($B606=1,VLOOKUP(D$2,Table1[],3,0),IF($B606=2,VLOOKUP(D$2,Table1[],4,0),IF($B606=3,VLOOKUP(D$2,Table1[],5,0),IF($B606=4,VLOOKUP(D$2,Table1[],5,0),0))))","v":2000000},{"$f":"IF($B606=1,VLOOKUP(E$2,Table1[],3,0),IF($B606=2,VLOOKUP(E$2,Table1[],4,0),IF($B606=3,VLOOKUP(E$2,Table1[],5,0),IF($B606=4,VLOOKUP(E$2,Table1[],5,0),0))))","v":1500000},{"$f":"IF($B606=1,VLOOKUP(F$2,Table1[],3,0),IF($B606=2,VLOOKUP(F$2,Table1[],4,0),IF($B606=3,VLOOKUP(F$2,Table1[],5,0),IF($B606=4,VLOOKUP(F$2,Table1[],5,0),0))))","v":800000}]
[3228,1,{"$f":"IF($B607=1,VLOOKUP(C$2,Table1[],3,0),IF($B607=2,VLOOKUP(C$2,Table1[],4,0),IF($B607=3,VLOOKUP(C$2,Table1[],5,0),IF($B607=4,VLOOKUP(C$2,Table1[],5,0),0))))","v":2000000},{"$f":"IF($B607=1,VLOOKUP(D$2,Table1[],3,0),IF($B607=2,VLOOKUP(D$2,Table1[],4,0),IF($B607=3,VLOOKUP(D$2,Table1[],5,0),IF($B607=4,VLOOKUP(D$2,Table1[],5,0),0))))","v":2000000},{"$f":"IF($B607=1,VLOOKUP(E$2,Table1[],3,0),IF($B607=2,VLOOKUP(E$2,Table1[],4,0),IF($B607=3,VLOOKUP(E$2,Table1[],5,0),IF($B607=4,VLOOKUP(E$2,Table1[],5,0),0))))","v":1500000},{"$f":"IF($B607=1,VLOOKUP(F$2,Table1[],3,0),IF($B607=2,VLOOKUP(F$2,Table1[],4,0),IF($B607=3,VLOOKUP(F$2,Table1[],5,0),IF($B607=4,VLOOKUP(F$2,Table1[],5,0),0))))","v":800000}]
[3230,1,{"$f":"IF($B608=1,VLOOKUP(C$2,Table1[],3,0),IF($B608=2,VLOOKUP(C$2,Table1[],4,0),IF($B608=3,VLOOKUP(C$2,Table1[],5,0),IF($B608=4,VLOOKUP(C$2,Table1[],5,0),0))))","v":2000000},{"$f":"IF($B608=1,VLOOKUP(D$2,Table1[],3,0),IF($B608=2,VLOOKUP(D$2,Table1[],4,0),IF($B608=3,VLOOKUP(D$2,Table1[],5,0),IF($B608=4,VLOOKUP(D$2,Table1[],5,0),0))))","v":2000000},{"$f":"IF($B608=1,VLOOKUP(E$2,Table1[],3,0),IF($B608=2,VLOOKUP(E$2,Table1[],4,0),IF($B608=3,VLOOKUP(E$2,Table1[],5,0),IF($B608=4,VLOOKUP(E$2,Table1[],5,0),0))))","v":1500000},{"$f":"IF($B608=1,VLOOKUP(F$2,Table1[],3,0),IF($B608=2,VLOOKUP(F$2,Table1[],4,0),IF($B608=3,VLOOKUP(F$2,Table1[],5,0),IF($B608=4,VLOOKUP(F$2,Table1[],5,0),0))))","v":800000}]
[3231,1,{"$f":"IF($B609=1,VLOOKUP(C$2,Table1[],3,0),IF($B609=2,VLOOKUP(C$2,Table1[],4,0),IF($B609=3,VLOOKUP(C$2,Table1[],5,0),IF($B609=4,VLOOKUP(C$2,Table1[],5,0),0))))","v":2000000},{"$f":"IF($B609=1,VLOOKUP(D$2,Table1[],3,0),IF($B609=2,VLOOKUP(D$2,Table1[],4,0),IF($B609=3,VLOOKUP(D$2,Table1[],5,0),IF($B609=4,VLOOKUP(D$2,Table1[],5,0),0))))","v":2000000},{"$f":"IF($B609=1,VLOOKUP(E$2,Table1[],3,0),IF($B609=2,VLOOKUP(E$2,Table1[],4,0),IF($B609=3,VLOOKUP(E$2,Table1[],5,0),IF($B609=4,VLOOKUP(E$2,Table1[],5,0),0))))","v":1500000},{"$f":"IF($B609=1,VLOOKUP(F$2,Table1[],3,0),IF($B609=2,VLOOKUP(F$2,Table1[],4,0),IF($B609=3,VLOOKUP(F$2,Table1[],5,0),IF($B609=4,VLOOKUP(F$2,Table1[],5,0),0))))","v":800000}]
[3232,1,{"$f":"IF($B610=1,VLOOKUP(C$2,Table1[],3,0),IF($B610=2,VLOOKUP(C$2,Table1[],4,0),IF($B610=3,VLOOKUP(C$2,Table1[],5,0),IF($B610=4,VLOOKUP(C$2,Table1[],5,0),0))))","v":2000000},{"$f":"IF($B610=1,VLOOKUP(D$2,Table1[],3,0),IF($B610=2,VLOOKUP(D$2,Table1[],4,0),IF($B610=3,VLOOKUP(D$2,Table1[],5,0),IF($B610=4,VLOOKUP(D$2,Table1[],5,0),0))))","v":2000000},{"$f":"IF($B610=1,VLOOKUP(E$2,Table1[],3,0),IF($B610=2,VLOOKUP(E$2,Table1[],4,0),IF($B610=3,VLOOKUP(E$2,Table1[],5,0),IF($B610=4,VLOOKUP(E$2,Table1[],5,0),0))))","v":1500000},{"$f":"IF($B610=1,VLOOKUP(F$2,Table1[],3,0),IF($B610=2,VLOOKUP(F$2,Table1[],4,0),IF($B610=3,VLOOKUP(F$2,Table1[],5,0),IF($B610=4,VLOOKUP(F$2,Table1[],5,0),0))))","v":800000}]
[3233,1,{"$f":"IF($B611=1,VLOOKUP(C$2,Table1[],3,0),IF($B611=2,VLOOKUP(C$2,Table1[],4,0),IF($B611=3,VLOOKUP(C$2,Table1[],5,0),IF($B611=4,VLOOKUP(C$2,Table1[],5,0),0))))","v":2000000},{"$f":"IF($B611=1,VLOOKUP(D$2,Table1[],3,0),IF($B611=2,VLOOKUP(D$2,Table1[],4,0),IF($B611=3,VLOOKUP(D$2,Table1[],5,0),IF($B611=4,VLOOKUP(D$2,Table1[],5,0),0))))","v":2000000},{"$f":"IF($B611=1,VLOOKUP(E$2,Table1[],3,0),IF($B611=2,VLOOKUP(E$2,Table1[],4,0),IF($B611=3,VLOOKUP(E$2,Table1[],5,0),IF($B611=4,VLOOKUP(E$2,Table1[],5,0),0))))","v":1500000},{"$f":"IF($B611=1,VLOOKUP(F$2,Table1[],3,0),IF($B611=2,VLOOKUP(F$2,Table1[],4,0),IF($B611=3,VLOOKUP(F$2,Table1[],5,0),IF($B611=4,VLOOKUP(F$2,Table1[],5,0),0))))","v":800000}]
[3234,1,{"$f":"IF($B612=1,VLOOKUP(C$2,Table1[],3,0),IF($B612=2,VLOOKUP(C$2,Table1[],4,0),IF($B612=3,VLOOKUP(C$2,Table1[],5,0),IF($B612=4,VLOOKUP(C$2,Table1[],5,0),0))))","v":2000000},{"$f":"IF($B612=1,VLOOKUP(D$2,Table1[],3,0),IF($B612=2,VLOOKUP(D$2,Table1[],4,0),IF($B612=3,VLOOKUP(D$2,Table1[],5,0),IF($B612=4,VLOOKUP(D$2,Table1[],5,0),0))))","v":2000000},{"$f":"IF($B612=1,VLOOKUP(E$2,Table1[],3,0),IF($B612=2,VLOOKUP(E$2,Table1[],4,0),IF($B612=3,VLOOKUP(E$2,Table1[],5,0),IF($B612=4,VLOOKUP(E$2,Table1[],5,0),0))))","v":1500000},{"$f":"IF($B612=1,VLOOKUP(F$2,Table1[],3,0),IF($B612=2,VLOOKUP(F$2,Table1[],4,0),IF($B612=3,VLOOKUP(F$2,Table1[],5,0),IF($B612=4,VLOOKUP(F$2,Table1[],5,0),0))))","v":800000}]
[3249,1,{"$f":"IF($B613=1,VLOOKUP(C$2,Table1[],3,0),IF($B613=2,VLOOKUP(C$2,Table1[],4,0),IF($B613=3,VLOOKUP(C$2,Table1[],5,0),IF($B613=4,VLOOKUP(C$2,Table1[],5,0),0))))","v":2000000},{"$f":"IF($B613=1,VLOOKUP(D$2,Table1[],3,0),IF($B613=2,VLOOKUP(D$2,Table1[],4,0),IF($B613=3,VLOOKUP(D$2,Table1[],5,0),IF($B613=4,VLOOKUP(D$2,Table1[],5,0),0))))","v":2000000},{"$f":"IF($B613=1,VLOOKUP(E$2,Table1[],3,0),IF($B613=2,VLOOKUP(E$2,Table1[],4,0),IF($B613=3,VLOOKUP(E$2,Table1[],5,0),IF($B613=4,VLOOKUP(E$2,Table1[],5,0),0))))","v":1500000},{"$f":"IF($B613=1,VLOOKUP(F$2,Table1[],3,0),IF($B613=2,VLOOKUP(F$2,Table1[],4,0),IF($B613=3,VLOOKUP(F$2,Table1[],5,0),IF($B613=4,VLOOKUP(F$2,Table1[],5,0),0))))","v":800000}]
[3250,1,{"$f":"IF($B614=1,VLOOKUP(C$2,Table1[],3,0),IF($B614=2,VLOOKUP(C$2,Table1[],4,0),IF($B614=3,VLOOKUP(C$2,Table1[],5,0),IF($B614=4,VLOOKUP(C$2,Table1[],5,0),0))))","v":2000000},{"$f":"IF($B614=1,VLOOKUP(D$2,Table1[],3,0),IF($B614=2,VLOOKUP(D$2,Table1[],4,0),IF($B614=3,VLOOKUP(D$2,Table1[],5,0),IF($B614=4,VLOOKUP(D$2,Table1[],5,0),0))))","v":2000000},{"$f":"IF($B614=1,VLOOKUP(E$2,Table1[],3,0),IF($B614=2,VLOOKUP(E$2,Table1[],4,0),IF($B614=3,VLOOKUP(E$2,Table1[],5,0),IF($B614=4,VLOOKUP(E$2,Table1[],5,0),0))))","v":1500000},{"$f":"IF($B614=1,VLOOKUP(F$2,Table1[],3,0),IF($B614=2,VLOOKUP(F$2,Table1[],4,0),IF($B614=3,VLOOKUP(F$2,Table1[],5,0),IF($B614=4,VLOOKUP(F$2,Table1[],5,0),0))))","v":800000}]
[3280,1,{"$f":"IF($B615=1,VLOOKUP(C$2,Table1[],3,0),IF($B615=2,VLOOKUP(C$2,Table1[],4,0),IF($B615=3,VLOOKUP(C$2,Table1[],5,0),IF($B615=4,VLOOKUP(C$2,Table1[],5,0),0))))","v":2000000},{"$f":"IF($B615=1,VLOOKUP(D$2,Table1[],3,0),IF($B615=2,VLOOKUP(D$2,Table1[],4,0),IF($B615=3,VLOOKUP(D$2,Table1[],5,0),IF($B615=4,VLOOKUP(D$2,Table1[],5,0),0))))","v":2000000},{"$f":"IF($B615=1,VLOOKUP(E$2,Table1[],3,0),IF($B615=2,VLOOKUP(E$2,Table1[],4,0),IF($B615=3,VLOOKUP(E$2,Table1[],5,0),IF($B615=4,VLOOKUP(E$2,Table1[],5,0),0))))","v":1500000},{"$f":"IF($B615=1,VLOOKUP(F$2,Table1[],3,0),IF($B615=2,VLOOKUP(F$2,Table1[],4,0),IF($B615=3,VLOOKUP(F$2,Table1[],5,0),IF($B615=4,VLOOKUP(F$2,Table1[],5,0),0))))","v":800000}]
[3284,1,{"$f":"IF($B616=1,VLOOKUP(C$2,Table1[],3,0),IF($B616=2,VLOOKUP(C$2,Table1[],4,0),IF($B616=3,VLOOKUP(C$2,Table1[],5,0),IF($B616=4,VLOOKUP(C$2,Table1[],5,0),0))))","v":2000000},{"$f":"IF($B616=1,VLOOKUP(D$2,Table1[],3,0),IF($B616=2,VLOOKUP(D$2,Table1[],4,0),IF($B616=3,VLOOKUP(D$2,Table1[],5,0),IF($B616=4,VLOOKUP(D$2,Table1[],5,0),0))))","v":2000000},{"$f":"IF($B616=1,VLOOKUP(E$2,Table1[],3,0),IF($B616=2,VLOOKUP(E$2,Table1[],4,0),IF($B616=3,VLOOKUP(E$2,Table1[],5,0),IF($B616=4,VLOOKUP(E$2,Table1[],5,0),0))))","v":1500000},{"$f":"IF($B616=1,VLOOKUP(F$2,Table1[],3,0),IF($B616=2,VLOOKUP(F$2,Table1[],4,0),IF($B616=3,VLOOKUP(F$2,Table1[],5,0),IF($B616=4,VLOOKUP(F$2,Table1[],5,0),0))))","v":800000}]
[3300,1,{"$f":"IF($B617=1,VLOOKUP(C$2,Table1[],3,0),IF($B617=2,VLOOKUP(C$2,Table1[],4,0),IF($B617=3,VLOOKUP(C$2,Table1[],5,0),IF($B617=4,VLOOKUP(C$2,Table1[],5,0),0))))","v":2000000},{"$f":"IF($B617=1,VLOOKUP(D$2,Table1[],3,0),IF($B617=2,VLOOKUP(D$2,Table1[],4,0),IF($B617=3,VLOOKUP(D$2,Table1[],5,0),IF($B617=4,VLOOKUP(D$2,Table1[],5,0),0))))","v":2000000},{"$f":"IF($B617=1,VLOOKUP(E$2,Table1[],3,0),IF($B617=2,VLOOKUP(E$2,Table1[],4,0),IF($B617=3,VLOOKUP(E$2,Table1[],5,0),IF($B617=4,VLOOKUP(E$2,Table1[],5,0),0))))","v":1500000},{"$f":"IF($B617=1,VLOOKUP(F$2,Table1[],3,0),IF($B617=2,VLOOKUP(F$2,Table1[],4,0),IF($B617=3,VLOOKUP(F$2,Table1[],5,0),IF($B617=4,VLOOKUP(F$2,Table1[],5,0),0))))","v":800000}]
[3305,2,{"$f":"IF($B618=1,VLOOKUP(C$2,Table1[],3,0),IF($B618=2,VLOOKUP(C$2,Table1[],4,0),IF($B618=3,VLOOKUP(C$2,Table1[],5,0),IF($B618=4,VLOOKUP(C$2,Table1[],5,0),0))))","v":1000000},{"$f":"IF($B618=1,VLOOKUP(D$2,Table1[],3,0),IF($B618=2,VLOOKUP(D$2,Table1[],4,0),IF($B618=3,VLOOKUP(D$2,Table1[],5,0),IF($B618=4,VLOOKUP(D$2,Table1[],5,0),0))))","v":1000000},{"$f":"IF($B618=1,VLOOKUP(E$2,Table1[],3,0),IF($B618=2,VLOOKUP(E$2,Table1[],4,0),IF($B618=3,VLOOKUP(E$2,Table1[],5,0),IF($B618=4,VLOOKUP(E$2,Table1[],5,0),0))))","v":750000},{"$f":"IF($B618=1,VLOOKUP(F$2,Table1[],3,0),IF($B618=2,VLOOKUP(F$2,Table1[],4,0),IF($B618=3,VLOOKUP(F$2,Table1[],5,0),IF($B618=4,VLOOKUP(F$2,Table1[],5,0),0))))","v":500000}]
[3314,2,{"$f":"IF($B619=1,VLOOKUP(C$2,Table1[],3,0),IF($B619=2,VLOOKUP(C$2,Table1[],4,0),IF($B619=3,VLOOKUP(C$2,Table1[],5,0),IF($B619=4,VLOOKUP(C$2,Table1[],5,0),0))))","v":1000000},{"$f":"IF($B619=1,VLOOKUP(D$2,Table1[],3,0),IF($B619=2,VLOOKUP(D$2,Table1[],4,0),IF($B619=3,VLOOKUP(D$2,Table1[],5,0),IF($B619=4,VLOOKUP(D$2,Table1[],5,0),0))))","v":1000000},{"$f":"IF($B619=1,VLOOKUP(E$2,Table1[],3,0),IF($B619=2,VLOOKUP(E$2,Table1[],4,0),IF($B619=3,VLOOKUP(E$2,Table1[],5,0),IF($B619=4,VLOOKUP(E$2,Table1[],5,0),0))))","v":750000},{"$f":"IF($B619=1,VLOOKUP(F$2,Table1[],3,0),IF($B619=2,VLOOKUP(F$2,Table1[],4,0),IF($B619=3,VLOOKUP(F$2,Table1[],5,0),IF($B619=4,VLOOKUP(F$2,Table1[],5,0),0))))","v":500000}]
[3331,2,{"$f":"IF($B620=1,VLOOKUP(C$2,Table1[],3,0),IF($B620=2,VLOOKUP(C$2,Table1[],4,0),IF($B620=3,VLOOKUP(C$2,Table1[],5,0),IF($B620=4,VLOOKUP(C$2,Table1[],5,0),0))))","v":1000000},{"$f":"IF($B620=1,VLOOKUP(D$2,Table1[],3,0),IF($B620=2,VLOOKUP(D$2,Table1[],4,0),IF($B620=3,VLOOKUP(D$2,Table1[],5,0),IF($B620=4,VLOOKUP(D$2,Table1[],5,0),0))))","v":1000000},{"$f":"IF($B620=1,VLOOKUP(E$2,Table1[],3,0),IF($B620=2,VLOOKUP(E$2,Table1[],4,0),IF($B620=3,VLOOKUP(E$2,Table1[],5,0),IF($B620=4,VLOOKUP(E$2,Table1[],5,0),0))))","v":750000},{"$f":"IF($B620=1,VLOOKUP(F$2,Table1[],3,0),IF($B620=2,VLOOKUP(F$2,Table1[],4,0),IF($B620=3,VLOOKUP(F$2,Table1[],5,0),IF($B620=4,VLOOKUP(F$2,Table1[],5,0),0))))","v":500000}]
[3335,1,{"$f":"IF($B621=1,VLOOKUP(C$2,Table1[],3,0),IF($B621=2,VLOOKUP(C$2,Table1[],4,0),IF($B621=3,VLOOKUP(C$2,Table1[],5,0),IF($B621=4,VLOOKUP(C$2,Table1[],5,0),0))))","v":2000000},{"$f":"IF($B621=1,VLOOKUP(D$2,Table1[],3,0),IF($B621=2,VLOOKUP(D$2,Table1[],4,0),IF($B621=3,VLOOKUP(D$2,Table1[],5,0),IF($B621=4,VLOOKUP(D$2,Table1[],5,0),0))))","v":2000000},{"$f":"IF($B621=1,VLOOKUP(E$2,Table1[],3,0),IF($B621=2,VLOOKUP(E$2,Table1[],4,0),IF($B621=3,VLOOKUP(E$2,Table1[],5,0),IF($B621=4,VLOOKUP(E$2,Table1[],5,0),0))))","v":1500000},{"$f":"IF($B621=1,VLOOKUP(F$2,Table1[],3,0),IF($B621=2,VLOOKUP(F$2,Table1[],4,0),IF($B621=3,VLOOKUP(F$2,Table1[],5,0),IF($B621=4,VLOOKUP(F$2,Table1[],5,0),0))))","v":800000}]
[3337,1,{"$f":"IF($B622=1,VLOOKUP(C$2,Table1[],3,0),IF($B622=2,VLOOKUP(C$2,Table1[],4,0),IF($B622=3,VLOOKUP(C$2,Table1[],5,0),IF($B622=4,VLOOKUP(C$2,Table1[],5,0),0))))","v":2000000},{"$f":"IF($B622=1,VLOOKUP(D$2,Table1[],3,0),IF($B622=2,VLOOKUP(D$2,Table1[],4,0),IF($B622=3,VLOOKUP(D$2,Table1[],5,0),IF($B622=4,VLOOKUP(D$2,Table1[],5,0),0))))","v":2000000},{"$f":"IF($B622=1,VLOOKUP(E$2,Table1[],3,0),IF($B622=2,VLOOKUP(E$2,Table1[],4,0),IF($B622=3,VLOOKUP(E$2,Table1[],5,0),IF($B622=4,VLOOKUP(E$2,Table1[],5,0),0))))","v":1500000},{"$f":"IF($B622=1,VLOOKUP(F$2,Table1[],3,0),IF($B622=2,VLOOKUP(F$2,Table1[],4,0),IF($B622=3,VLOOKUP(F$2,Table1[],5,0),IF($B622=4,VLOOKUP(F$2,Table1[],5,0),0))))","v":800000}]
[3338,1,{"$f":"IF($B623=1,VLOOKUP(C$2,Table1[],3,0),IF($B623=2,VLOOKUP(C$2,Table1[],4,0),IF($B623=3,VLOOKUP(C$2,Table1[],5,0),IF($B623=4,VLOOKUP(C$2,Table1[],5,0),0))))","v":2000000},{"$f":"IF($B623=1,VLOOKUP(D$2,Table1[],3,0),IF($B623=2,VLOOKUP(D$2,Table1[],4,0),IF($B623=3,VLOOKUP(D$2,Table1[],5,0),IF($B623=4,VLOOKUP(D$2,Table1[],5,0),0))))","v":2000000},{"$f":"IF($B623=1,VLOOKUP(E$2,Table1[],3,0),IF($B623=2,VLOOKUP(E$2,Table1[],4,0),IF($B623=3,VLOOKUP(E$2,Table1[],5,0),IF($B623=4,VLOOKUP(E$2,Table1[],5,0),0))))","v":1500000},{"$f":"IF($B623=1,VLOOKUP(F$2,Table1[],3,0),IF($B623=2,VLOOKUP(F$2,Table1[],4,0),IF($B623=3,VLOOKUP(F$2,Table1[],5,0),IF($B623=4,VLOOKUP(F$2,Table1[],5,0),0))))","v":800000}]
[3340,1,{"$f":"IF($B624=1,VLOOKUP(C$2,Table1[],3,0),IF($B624=2,VLOOKUP(C$2,Table1[],4,0),IF($B624=3,VLOOKUP(C$2,Table1[],5,0),IF($B624=4,VLOOKUP(C$2,Table1[],5,0),0))))","v":2000000},{"$f":"IF($B624=1,VLOOKUP(D$2,Table1[],3,0),IF($B624=2,VLOOKUP(D$2,Table1[],4,0),IF($B624=3,VLOOKUP(D$2,Table1[],5,0),IF($B624=4,VLOOKUP(D$2,Table1[],5,0),0))))","v":2000000},{"$f":"IF($B624=1,VLOOKUP(E$2,Table1[],3,0),IF($B624=2,VLOOKUP(E$2,Table1[],4,0),IF($B624=3,VLOOKUP(E$2,Table1[],5,0),IF($B624=4,VLOOKUP(E$2,Table1[],5,0),0))))","v":1500000},{"$f":"IF($B624=1,VLOOKUP(F$2,Table1[],3,0),IF($B624=2,VLOOKUP(F$2,Table1[],4,0),IF($B624=3,VLOOKUP(F$2,Table1[],5,0),IF($B624=4,VLOOKUP(F$2,Table1[],5,0),0))))","v":800000}]
[3341,1,{"$f":"IF($B625=1,VLOOKUP(C$2,Table1[],3,0),IF($B625=2,VLOOKUP(C$2,Table1[],4,0),IF($B625=3,VLOOKUP(C$2,Table1[],5,0),IF($B625=4,VLOOKUP(C$2,Table1[],5,0),0))))","v":2000000},{"$f":"IF($B625=1,VLOOKUP(D$2,Table1[],3,0),IF($B625=2,VLOOKUP(D$2,Table1[],4,0),IF($B625=3,VLOOKUP(D$2,Table1[],5,0),IF($B625=4,VLOOKUP(D$2,Table1[],5,0),0))))","v":2000000},{"$f":"IF($B625=1,VLOOKUP(E$2,Table1[],3,0),IF($B625=2,VLOOKUP(E$2,Table1[],4,0),IF($B625=3,VLOOKUP(E$2,Table1[],5,0),IF($B625=4,VLOOKUP(E$2,Table1[],5,0),0))))","v":1500000},{"$f":"IF($B625=1,VLOOKUP(F$2,Table1[],3,0),IF($B625=2,VLOOKUP(F$2,Table1[],4,0),IF($B625=3,VLOOKUP(F$2,Table1[],5,0),IF($B625=4,VLOOKUP(F$2,Table1[],5,0),0))))","v":800000}]
[3350,2,{"$f":"IF($B626=1,VLOOKUP(C$2,Table1[],3,0),IF($B626=2,VLOOKUP(C$2,Table1[],4,0),IF($B626=3,VLOOKUP(C$2,Table1[],5,0),IF($B626=4,VLOOKUP(C$2,Table1[],5,0),0))))","v":1000000},{"$f":"IF($B626=1,VLOOKUP(D$2,Table1[],3,0),IF($B626=2,VLOOKUP(D$2,Table1[],4,0),IF($B626=3,VLOOKUP(D$2,Table1[],5,0),IF($B626=4,VLOOKUP(D$2,Table1[],5,0),0))))","v":1000000},{"$f":"IF($B626=1,VLOOKUP(E$2,Table1[],3,0),IF($B626=2,VLOOKUP(E$2,Table1[],4,0),IF($B626=3,VLOOKUP(E$2,Table1[],5,0),IF($B626=4,VLOOKUP(E$2,Table1[],5,0),0))))","v":750000},{"$f":"IF($B626=1,VLOOKUP(F$2,Table1[],3,0),IF($B626=2,VLOOKUP(F$2,Table1[],4,0),IF($B626=3,VLOOKUP(F$2,Table1[],5,0),IF($B626=4,VLOOKUP(F$2,Table1[],5,0),0))))","v":500000}]
[3351,2,{"$f":"IF($B627=1,VLOOKUP(C$2,Table1[],3,0),IF($B627=2,VLOOKUP(C$2,Table1[],4,0),IF($B627=3,VLOOKUP(C$2,Table1[],5,0),IF($B627=4,VLOOKUP(C$2,Table1[],5,0),0))))","v":1000000},{"$f":"IF($B627=1,VLOOKUP(D$2,Table1[],3,0),IF($B627=2,VLOOKUP(D$2,Table1[],4,0),IF($B627=3,VLOOKUP(D$2,Table1[],5,0),IF($B627=4,VLOOKUP(D$2,Table1[],5,0),0))))","v":1000000},{"$f":"IF($B627=1,VLOOKUP(E$2,Table1[],3,0),IF($B627=2,VLOOKUP(E$2,Table1[],4,0),IF($B627=3,VLOOKUP(E$2,Table1[],5,0),IF($B627=4,VLOOKUP(E$2,Table1[],5,0),0))))","v":750000},{"$f":"IF($B627=1,VLOOKUP(F$2,Table1[],3,0),IF($B627=2,VLOOKUP(F$2,Table1[],4,0),IF($B627=3,VLOOKUP(F$2,Table1[],5,0),IF($B627=4,VLOOKUP(F$2,Table1[],5,0),0))))","v":500000}]
[3352,2,{"$f":"IF($B628=1,VLOOKUP(C$2,Table1[],3,0),IF($B628=2,VLOOKUP(C$2,Table1[],4,0),IF($B628=3,VLOOKUP(C$2,Table1[],5,0),IF($B628=4,VLOOKUP(C$2,Table1[],5,0),0))))","v":1000000},{"$f":"IF($B628=1,VLOOKUP(D$2,Table1[],3,0),IF($B628=2,VLOOKUP(D$2,Table1[],4,0),IF($B628=3,VLOOKUP(D$2,Table1[],5,0),IF($B628=4,VLOOKUP(D$2,Table1[],5,0),0))))","v":1000000},{"$f":"IF($B628=1,VLOOKUP(E$2,Table1[],3,0),IF($B628=2,VLOOKUP(E$2,Table1[],4,0),IF($B628=3,VLOOKUP(E$2,Table1[],5,0),IF($B628=4,VLOOKUP(E$2,Table1[],5,0),0))))","v":750000},{"$f":"IF($B628=1,VLOOKUP(F$2,Table1[],3,0),IF($B628=2,VLOOKUP(F$2,Table1[],4,0),IF($B628=3,VLOOKUP(F$2,Table1[],5,0),IF($B628=4,VLOOKUP(F$2,Table1[],5,0),0))))","v":500000}]
[3355,2,{"$f":"IF($B629=1,VLOOKUP(C$2,Table1[],3,0),IF($B629=2,VLOOKUP(C$2,Table1[],4,0),IF($B629=3,VLOOKUP(C$2,Table1[],5,0),IF($B629=4,VLOOKUP(C$2,Table1[],5,0),0))))","v":1000000},{"$f":"IF($B629=1,VLOOKUP(D$2,Table1[],3,0),IF($B629=2,VLOOKUP(D$2,Table1[],4,0),IF($B629=3,VLOOKUP(D$2,Table1[],5,0),IF($B629=4,VLOOKUP(D$2,Table1[],5,0),0))))","v":1000000},{"$f":"IF($B629=1,VLOOKUP(E$2,Table1[],3,0),IF($B629=2,VLOOKUP(E$2,Table1[],4,0),IF($B629=3,VLOOKUP(E$2,Table1[],5,0),IF($B629=4,VLOOKUP(E$2,Table1[],5,0),0))))","v":750000},{"$f":"IF($B629=1,VLOOKUP(F$2,Table1[],3,0),IF($B629=2,VLOOKUP(F$2,Table1[],4,0),IF($B629=3,VLOOKUP(F$2,Table1[],5,0),IF($B629=4,VLOOKUP(F$2,Table1[],5,0),0))))","v":500000}]
[3356,2,{"$f":"IF($B630=1,VLOOKUP(C$2,Table1[],3,0),IF($B630=2,VLOOKUP(C$2,Table1[],4,0),IF($B630=3,VLOOKUP(C$2,Table1[],5,0),IF($B630=4,VLOOKUP(C$2,Table1[],5,0),0))))","v":1000000},{"$f":"IF($B630=1,VLOOKUP(D$2,Table1[],3,0),IF($B630=2,VLOOKUP(D$2,Table1[],4,0),IF($B630=3,VLOOKUP(D$2,Table1[],5,0),IF($B630=4,VLOOKUP(D$2,Table1[],5,0),0))))","v":1000000},{"$f":"IF($B630=1,VLOOKUP(E$2,Table1[],3,0),IF($B630=2,VLOOKUP(E$2,Table1[],4,0),IF($B630=3,VLOOKUP(E$2,Table1[],5,0),IF($B630=4,VLOOKUP(E$2,Table1[],5,0),0))))","v":750000},{"$f":"IF($B630=1,VLOOKUP(F$2,Table1[],3,0),IF($B630=2,VLOOKUP(F$2,Table1[],4,0),IF($B630=3,VLOOKUP(F$2,Table1[],5,0),IF($B630=4,VLOOKUP(F$2,Table1[],5,0),0))))","v":500000}]
[3357,3,{"$f":"IF($B631=1,VLOOKUP(C$2,Table1[],3,0),IF($B631=2,VLOOKUP(C$2,Table1[],4,0),IF($B631=3,VLOOKUP(C$2,Table1[],5,0),IF($B631=4,VLOOKUP(C$2,Table1[],5,0),0))))","v":500000},{"$f":"IF($B631=1,VLOOKUP(D$2,Table1[],3,0),IF($B631=2,VLOOKUP(D$2,Table1[],4,0),IF($B631=3,VLOOKUP(D$2,Table1[],5,0),IF($B631=4,VLOOKUP(D$2,Table1[],5,0),0))))","v":400000},{"$f":"IF($B631=1,VLOOKUP(E$2,Table1[],3,0),IF($B631=2,VLOOKUP(E$2,Table1[],4,0),IF($B631=3,VLOOKUP(E$2,Table1[],5,0),IF($B631=4,VLOOKUP(E$2,Table1[],5,0),0))))","v":"N/A"},{"$f":"IF($B631=1,VLOOKUP(F$2,Table1[],3,0),IF($B631=2,VLOOKUP(F$2,Table1[],4,0),IF($B631=3,VLOOKUP(F$2,Table1[],5,0),IF($B631=4,VLOOKUP(F$2,Table1[],5,0),0))))","v":"N/A"}]
[3363,3,{"$f":"IF($B632=1,VLOOKUP(C$2,Table1[],3,0),IF($B632=2,VLOOKUP(C$2,Table1[],4,0),IF($B632=3,VLOOKUP(C$2,Table1[],5,0),IF($B632=4,VLOOKUP(C$2,Table1[],5,0),0))))","v":500000},{"$f":"IF($B632=1,VLOOKUP(D$2,Table1[],3,0),IF($B632=2,VLOOKUP(D$2,Table1[],4,0),IF($B632=3,VLOOKUP(D$2,Table1[],5,0),IF($B632=4,VLOOKUP(D$2,Table1[],5,0),0))))","v":400000},{"$f":"IF($B632=1,VLOOKUP(E$2,Table1[],3,0),IF($B632=2,VLOOKUP(E$2,Table1[],4,0),IF($B632=3,VLOOKUP(E$2,Table1[],5,0),IF($B632=4,VLOOKUP(E$2,Table1[],5,0),0))))","v":"N/A"},{"$f":"IF($B632=1,VLOOKUP(F$2,Table1[],3,0),IF($B632=2,VLOOKUP(F$2,Table1[],4,0),IF($B632=3,VLOOKUP(F$2,Table1[],5,0),IF($B632=4,VLOOKUP(F$2,Table1[],5,0),0))))","v":"N/A"}]
[3377,3,{"$f":"IF($B633=1,VLOOKUP(C$2,Table1[],3,0),IF($B633=2,VLOOKUP(C$2,Table1[],4,0),IF($B633=3,VLOOKUP(C$2,Table1[],5,0),IF($B633=4,VLOOKUP(C$2,Table1[],5,0),0))))","v":500000},{"$f":"IF($B633=1,VLOOKUP(D$2,Table1[],3,0),IF($B633=2,VLOOKUP(D$2,Table1[],4,0),IF($B633=3,VLOOKUP(D$2,Table1[],5,0),IF($B633=4,VLOOKUP(D$2,Table1[],5,0),0))))","v":400000},{"$f":"IF($B633=1,VLOOKUP(E$2,Table1[],3,0),IF($B633=2,VLOOKUP(E$2,Table1[],4,0),IF($B633=3,VLOOKUP(E$2,Table1[],5,0),IF($B633=4,VLOOKUP(E$2,Table1[],5,0),0))))","v":"N/A"},{"$f":"IF($B633=1,VLOOKUP(F$2,Table1[],3,0),IF($B633=2,VLOOKUP(F$2,Table1[],4,0),IF($B633=3,VLOOKUP(F$2,Table1[],5,0),IF($B633=4,VLOOKUP(F$2,Table1[],5,0),0))))","v":"N/A"}]
[3400,2,{"$f":"IF($B634=1,VLOOKUP(C$2,Table1[],3,0),IF($B634=2,VLOOKUP(C$2,Table1[],4,0),IF($B634=3,VLOOKUP(C$2,Table1[],5,0),IF($B634=4,VLOOKUP(C$2,Table1[],5,0),0))))","v":1000000},{"$f":"IF($B634=1,VLOOKUP(D$2,Table1[],3,0),IF($B634=2,VLOOKUP(D$2,Table1[],4,0),IF($B634=3,VLOOKUP(D$2,Table1[],5,0),IF($B634=4,VLOOKUP(D$2,Table1[],5,0),0))))","v":1000000},{"$f":"IF($B634=1,VLOOKUP(E$2,Table1[],3,0),IF($B634=2,VLOOKUP(E$2,Table1[],4,0),IF($B634=3,VLOOKUP(E$2,Table1[],5,0),IF($B634=4,VLOOKUP(E$2,Table1[],5,0),0))))","v":750000},{"$f":"IF($B634=1,VLOOKUP(F$2,Table1[],3,0),IF($B634=2,VLOOKUP(F$2,Table1[],4,0),IF($B634=3,VLOOKUP(F$2,Table1[],5,0),IF($B634=4,VLOOKUP(F$2,Table1[],5,0),0))))","v":500000}]
[3429,1,{"$f":"IF($B635=1,VLOOKUP(C$2,Table1[],3,0),IF($B635=2,VLOOKUP(C$2,Table1[],4,0),IF($B635=3,VLOOKUP(C$2,Table1[],5,0),IF($B635=4,VLOOKUP(C$2,Table1[],5,0),0))))","v":2000000},{"$f":"IF($B635=1,VLOOKUP(D$2,Table1[],3,0),IF($B635=2,VLOOKUP(D$2,Table1[],4,0),IF($B635=3,VLOOKUP(D$2,Table1[],5,0),IF($B635=4,VLOOKUP(D$2,Table1[],5,0),0))))","v":2000000},{"$f":"IF($B635=1,VLOOKUP(E$2,Table1[],3,0),IF($B635=2,VLOOKUP(E$2,Table1[],4,0),IF($B635=3,VLOOKUP(E$2,Table1[],5,0),IF($B635=4,VLOOKUP(E$2,Table1[],5,0),0))))","v":1500000},{"$f":"IF($B635=1,VLOOKUP(F$2,Table1[],3,0),IF($B635=2,VLOOKUP(F$2,Table1[],4,0),IF($B635=3,VLOOKUP(F$2,Table1[],5,0),IF($B635=4,VLOOKUP(F$2,Table1[],5,0),0))))","v":800000}]
[3431,2,{"$f":"IF($B636=1,VLOOKUP(C$2,Table1[],3,0),IF($B636=2,VLOOKUP(C$2,Table1[],4,0),IF($B636=3,VLOOKUP(C$2,Table1[],5,0),IF($B636=4,VLOOKUP(C$2,Table1[],5,0),0))))","v":1000000},{"$f":"IF($B636=1,VLOOKUP(D$2,Table1[],3,0),IF($B636=2,VLOOKUP(D$2,Table1[],4,0),IF($B636=3,VLOOKUP(D$2,Table1[],5,0),IF($B636=4,VLOOKUP(D$2,Table1[],5,0),0))))","v":1000000},{"$f":"IF($B636=1,VLOOKUP(E$2,Table1[],3,0),IF($B636=2,VLOOKUP(E$2,Table1[],4,0),IF($B636=3,VLOOKUP(E$2,Table1[],5,0),IF($B636=4,VLOOKUP(E$2,Table1[],5,0),0))))","v":750000},{"$f":"IF($B636=1,VLOOKUP(F$2,Table1[],3,0),IF($B636=2,VLOOKUP(F$2,Table1[],4,0),IF($B636=3,VLOOKUP(F$2,Table1[],5,0),IF($B636=4,VLOOKUP(F$2,Table1[],5,0),0))))","v":500000}]
[3434,3,{"$f":"IF($B637=1,VLOOKUP(C$2,Table1[],3,0),IF($B637=2,VLOOKUP(C$2,Table1[],4,0),IF($B637=3,VLOOKUP(C$2,Table1[],5,0),IF($B637=4,VLOOKUP(C$2,Table1[],5,0),0))))","v":500000},{"$f":"IF($B637=1,VLOOKUP(D$2,Table1[],3,0),IF($B637=2,VLOOKUP(D$2,Table1[],4,0),IF($B637=3,VLOOKUP(D$2,Table1[],5,0),IF($B637=4,VLOOKUP(D$2,Table1[],5,0),0))))","v":400000},{"$f":"IF($B637=1,VLOOKUP(E$2,Table1[],3,0),IF($B637=2,VLOOKUP(E$2,Table1[],4,0),IF($B637=3,VLOOKUP(E$2,Table1[],5,0),IF($B637=4,VLOOKUP(E$2,Table1[],5,0),0))))","v":"N/A"},{"$f":"IF($B637=1,VLOOKUP(F$2,Table1[],3,0),IF($B637=2,VLOOKUP(F$2,Table1[],4,0),IF($B637=3,VLOOKUP(F$2,Table1[],5,0),IF($B637=4,VLOOKUP(F$2,Table1[],5,0),0))))","v":"N/A"}]
[3437,2,{"$f":"IF($B638=1,VLOOKUP(C$2,Table1[],3,0),IF($B638=2,VLOOKUP(C$2,Table1[],4,0),IF($B638=3,VLOOKUP(C$2,Table1[],5,0),IF($B638=4,VLOOKUP(C$2,Table1[],5,0),0))))","v":1000000},{"$f":"IF($B638=1,VLOOKUP(D$2,Table1[],3,0),IF($B638=2,VLOOKUP(D$2,Table1[],4,0),IF($B638=3,VLOOKUP(D$2,Table1[],5,0),IF($B638=4,VLOOKUP(D$2,Table1[],5,0),0))))","v":1000000},{"$f":"IF($B638=1,VLOOKUP(E$2,Table1[],3,0),IF($B638=2,VLOOKUP(E$2,Table1[],4,0),IF($B638=3,VLOOKUP(E$2,Table1[],5,0),IF($B638=4,VLOOKUP(E$2,Table1[],5,0),0))))","v":750000},{"$f":"IF($B638=1,VLOOKUP(F$2,Table1[],3,0),IF($B638=2,VLOOKUP(F$2,Table1[],4,0),IF($B638=3,VLOOKUP(F$2,Table1[],5,0),IF($B638=4,VLOOKUP(F$2,Table1[],5,0),0))))","v":500000}]
[3438,2,{"$f":"IF($B639=1,VLOOKUP(C$2,Table1[],3,0),IF($B639=2,VLOOKUP(C$2,Table1[],4,0),IF($B639=3,VLOOKUP(C$2,Table1[],5,0),IF($B639=4,VLOOKUP(C$2,Table1[],5,0),0))))","v":1000000},{"$f":"IF($B639=1,VLOOKUP(D$2,Table1[],3,0),IF($B639=2,VLOOKUP(D$2,Table1[],4,0),IF($B639=3,VLOOKUP(D$2,Table1[],5,0),IF($B639=4,VLOOKUP(D$2,Table1[],5,0),0))))","v":1000000},{"$f":"IF($B639=1,VLOOKUP(E$2,Table1[],3,0),IF($B639=2,VLOOKUP(E$2,Table1[],4,0),IF($B639=3,VLOOKUP(E$2,Table1[],5,0),IF($B639=4,VLOOKUP(E$2,Table1[],5,0),0))))","v":750000},{"$f":"IF($B639=1,VLOOKUP(F$2,Table1[],3,0),IF($B639=2,VLOOKUP(F$2,Table1[],4,0),IF($B639=3,VLOOKUP(F$2,Table1[],5,0),IF($B639=4,VLOOKUP(F$2,Table1[],5,0),0))))","v":500000}]
[3440,2,{"$f":"IF($B640=1,VLOOKUP(C$2,Table1[],3,0),IF($B640=2,VLOOKUP(C$2,Table1[],4,0),IF($B640=3,VLOOKUP(C$2,Table1[],5,0),IF($B640=4,VLOOKUP(C$2,Table1[],5,0),0))))","v":1000000},{"$f":"IF($B640=1,VLOOKUP(D$2,Table1[],3,0),IF($B640=2,VLOOKUP(D$2,Table1[],4,0),IF($B640=3,VLOOKUP(D$2,Table1[],5,0),IF($B640=4,VLOOKUP(D$2,Table1[],5,0),0))))","v":1000000},{"$f":"IF($B640=1,VLOOKUP(E$2,Table1[],3,0),IF($B640=2,VLOOKUP(E$2,Table1[],4,0),IF($B640=3,VLOOKUP(E$2,Table1[],5,0),IF($B640=4,VLOOKUP(E$2,Table1[],5,0),0))))","v":750000},{"$f":"IF($B640=1,VLOOKUP(F$2,Table1[],3,0),IF($B640=2,VLOOKUP(F$2,Table1[],4,0),IF($B640=3,VLOOKUP(F$2,Table1[],5,0),IF($B640=4,VLOOKUP(F$2,Table1[],5,0),0))))","v":500000}]
[3441,2,{"$f":"IF($B641=1,VLOOKUP(C$2,Table1[],3,0),IF($B641=2,VLOOKUP(C$2,Table1[],4,0),IF($B641=3,VLOOKUP(C$2,Table1[],5,0),IF($B641=4,VLOOKUP(C$2,Table1[],5,0),0))))","v":1000000},{"$f":"IF($B641=1,VLOOKUP(D$2,Table1[],3,0),IF($B641=2,VLOOKUP(D$2,Table1[],4,0),IF($B641=3,VLOOKUP(D$2,Table1[],5,0),IF($B641=4,VLOOKUP(D$2,Table1[],5,0),0))))","v":1000000},{"$f":"IF($B641=1,VLOOKUP(E$2,Table1[],3,0),IF($B641=2,VLOOKUP(E$2,Table1[],4,0),IF($B641=3,VLOOKUP(E$2,Table1[],5,0),IF($B641=4,VLOOKUP(E$2,Table1[],5,0),0))))","v":750000},{"$f":"IF($B641=1,VLOOKUP(F$2,Table1[],3,0),IF($B641=2,VLOOKUP(F$2,Table1[],4,0),IF($B641=3,VLOOKUP(F$2,Table1[],5,0),IF($B641=4,VLOOKUP(F$2,Table1[],5,0),0))))","v":500000}]
[3442,3,{"$f":"IF($B642=1,VLOOKUP(C$2,Table1[],3,0),IF($B642=2,VLOOKUP(C$2,Table1[],4,0),IF($B642=3,VLOOKUP(C$2,Table1[],5,0),IF($B642=4,VLOOKUP(C$2,Table1[],5,0),0))))","v":500000},{"$f":"IF($B642=1,VLOOKUP(D$2,Table1[],3,0),IF($B642=2,VLOOKUP(D$2,Table1[],4,0),IF($B642=3,VLOOKUP(D$2,Table1[],5,0),IF($B642=4,VLOOKUP(D$2,Table1[],5,0),0))))","v":400000},{"$f":"IF($B642=1,VLOOKUP(E$2,Table1[],3,0),IF($B642=2,VLOOKUP(E$2,Table1[],4,0),IF($B642=3,VLOOKUP(E$2,Table1[],5,0),IF($B642=4,VLOOKUP(E$2,Table1[],5,0),0))))","v":"N/A"},{"$f":"IF($B642=1,VLOOKUP(F$2,Table1[],3,0),IF($B642=2,VLOOKUP(F$2,Table1[],4,0),IF($B642=3,VLOOKUP(F$2,Table1[],5,0),IF($B642=4,VLOOKUP(F$2,Table1[],5,0),0))))","v":"N/A"}]
[3444,2,{"$f":"IF($B643=1,VLOOKUP(C$2,Table1[],3,0),IF($B643=2,VLOOKUP(C$2,Table1[],4,0),IF($B643=3,VLOOKUP(C$2,Table1[],5,0),IF($B643=4,VLOOKUP(C$2,Table1[],5,0),0))))","v":1000000},{"$f":"IF($B643=1,VLOOKUP(D$2,Table1[],3,0),IF($B643=2,VLOOKUP(D$2,Table1[],4,0),IF($B643=3,VLOOKUP(D$2,Table1[],5,0),IF($B643=4,VLOOKUP(D$2,Table1[],5,0),0))))","v":1000000},{"$f":"IF($B643=1,VLOOKUP(E$2,Table1[],3,0),IF($B643=2,VLOOKUP(E$2,Table1[],4,0),IF($B643=3,VLOOKUP(E$2,Table1[],5,0),IF($B643=4,VLOOKUP(E$2,Table1[],5,0),0))))","v":750000},{"$f":"IF($B643=1,VLOOKUP(F$2,Table1[],3,0),IF($B643=2,VLOOKUP(F$2,Table1[],4,0),IF($B643=3,VLOOKUP(F$2,Table1[],5,0),IF($B643=4,VLOOKUP(F$2,Table1[],5,0),0))))","v":500000}]
[3450,3,{"$f":"IF($B644=1,VLOOKUP(C$2,Table1[],3,0),IF($B644=2,VLOOKUP(C$2,Table1[],4,0),IF($B644=3,VLOOKUP(C$2,Table1[],5,0),IF($B644=4,VLOOKUP(C$2,Table1[],5,0),0))))","v":500000},{"$f":"IF($B644=1,VLOOKUP(D$2,Table1[],3,0),IF($B644=2,VLOOKUP(D$2,Table1[],4,0),IF($B644=3,VLOOKUP(D$2,Table1[],5,0),IF($B644=4,VLOOKUP(D$2,Table1[],5,0),0))))","v":400000},{"$f":"IF($B644=1,VLOOKUP(E$2,Table1[],3,0),IF($B644=2,VLOOKUP(E$2,Table1[],4,0),IF($B644=3,VLOOKUP(E$2,Table1[],5,0),IF($B644=4,VLOOKUP(E$2,Table1[],5,0),0))))","v":"N/A"},{"$f":"IF($B644=1,VLOOKUP(F$2,Table1[],3,0),IF($B644=2,VLOOKUP(F$2,Table1[],4,0),IF($B644=3,VLOOKUP(F$2,Table1[],5,0),IF($B644=4,VLOOKUP(F$2,Table1[],5,0),0))))","v":"N/A"}]
[3460,2,{"$f":"IF($B645=1,VLOOKUP(C$2,Table1[],3,0),IF($B645=2,VLOOKUP(C$2,Table1[],4,0),IF($B645=3,VLOOKUP(C$2,Table1[],5,0),IF($B645=4,VLOOKUP(C$2,Table1[],5,0),0))))","v":1000000},{"$f":"IF($B645=1,VLOOKUP(D$2,Table1[],3,0),IF($B645=2,VLOOKUP(D$2,Table1[],4,0),IF($B645=3,VLOOKUP(D$2,Table1[],5,0),IF($B645=4,VLOOKUP(D$2,Table1[],5,0),0))))","v":1000000},{"$f":"IF($B645=1,VLOOKUP(E$2,Table1[],3,0),IF($B645=2,VLOOKUP(E$2,Table1[],4,0),IF($B645=3,VLOOKUP(E$2,Table1[],5,0),IF($B645=4,VLOOKUP(E$2,Table1[],5,0),0))))","v":750000},{"$f":"IF($B645=1,VLOOKUP(F$2,Table1[],3,0),IF($B645=2,VLOOKUP(F$2,Table1[],4,0),IF($B645=3,VLOOKUP(F$2,Table1[],5,0),IF($B645=4,VLOOKUP(F$2,Table1[],5,0),0))))","v":500000}]
[3461,2,{"$f":"IF($B646=1,VLOOKUP(C$2,Table1[],3,0),IF($B646=2,VLOOKUP(C$2,Table1[],4,0),IF($B646=3,VLOOKUP(C$2,Table1[],5,0),IF($B646=4,VLOOKUP(C$2,Table1[],5,0),0))))","v":1000000},{"$f":"IF($B646=1,VLOOKUP(D$2,Table1[],3,0),IF($B646=2,VLOOKUP(D$2,Table1[],4,0),IF($B646=3,VLOOKUP(D$2,Table1[],5,0),IF($B646=4,VLOOKUP(D$2,Table1[],5,0),0))))","v":1000000},{"$f":"IF($B646=1,VLOOKUP(E$2,Table1[],3,0),IF($B646=2,VLOOKUP(E$2,Table1[],4,0),IF($B646=3,VLOOKUP(E$2,Table1[],5,0),IF($B646=4,VLOOKUP(E$2,Table1[],5,0),0))))","v":750000},{"$f":"IF($B646=1,VLOOKUP(F$2,Table1[],3,0),IF($B646=2,VLOOKUP(F$2,Table1[],4,0),IF($B646=3,VLOOKUP(F$2,Table1[],5,0),IF($B646=4,VLOOKUP(F$2,Table1[],5,0),0))))","v":500000}]
[3465,3,{"$f":"IF($B647=1,VLOOKUP(C$2,Table1[],3,0),IF($B647=2,VLOOKUP(C$2,Table1[],4,0),IF($B647=3,VLOOKUP(C$2,Table1[],5,0),IF($B647=4,VLOOKUP(C$2,Table1[],5,0),0))))","v":500000},{"$f":"IF($B647=1,VLOOKUP(D$2,Table1[],3,0),IF($B647=2,VLOOKUP(D$2,Table1[],4,0),IF($B647=3,VLOOKUP(D$2,Table1[],5,0),IF($B647=4,VLOOKUP(D$2,Table1[],5,0),0))))","v":400000},{"$f":"IF($B647=1,VLOOKUP(E$2,Table1[],3,0),IF($B647=2,VLOOKUP(E$2,Table1[],4,0),IF($B647=3,VLOOKUP(E$2,Table1[],5,0),IF($B647=4,VLOOKUP(E$2,Table1[],5,0),0))))","v":"N/A"},{"$f":"IF($B647=1,VLOOKUP(F$2,Table1[],3,0),IF($B647=2,VLOOKUP(F$2,Table1[],4,0),IF($B647=3,VLOOKUP(F$2,Table1[],5,0),IF($B647=4,VLOOKUP(F$2,Table1[],5,0),0))))","v":"N/A"}]
[3500,2,{"$f":"IF($B648=1,VLOOKUP(C$2,Table1[],3,0),IF($B648=2,VLOOKUP(C$2,Table1[],4,0),IF($B648=3,VLOOKUP(C$2,Table1[],5,0),IF($B648=4,VLOOKUP(C$2,Table1[],5,0),0))))","v":1000000},{"$f":"IF($B648=1,VLOOKUP(D$2,Table1[],3,0),IF($B648=2,VLOOKUP(D$2,Table1[],4,0),IF($B648=3,VLOOKUP(D$2,Table1[],5,0),IF($B648=4,VLOOKUP(D$2,Table1[],5,0),0))))","v":1000000},{"$f":"IF($B648=1,VLOOKUP(E$2,Table1[],3,0),IF($B648=2,VLOOKUP(E$2,Table1[],4,0),IF($B648=3,VLOOKUP(E$2,Table1[],5,0),IF($B648=4,VLOOKUP(E$2,Table1[],5,0),0))))","v":750000},{"$f":"IF($B648=1,VLOOKUP(F$2,Table1[],3,0),IF($B648=2,VLOOKUP(F$2,Table1[],4,0),IF($B648=3,VLOOKUP(F$2,Table1[],5,0),IF($B648=4,VLOOKUP(F$2,Table1[],5,0),0))))","v":500000}]
[3501,2,{"$f":"IF($B649=1,VLOOKUP(C$2,Table1[],3,0),IF($B649=2,VLOOKUP(C$2,Table1[],4,0),IF($B649=3,VLOOKUP(C$2,Table1[],5,0),IF($B649=4,VLOOKUP(C$2,Table1[],5,0),0))))","v":1000000},{"$f":"IF($B649=1,VLOOKUP(D$2,Table1[],3,0),IF($B649=2,VLOOKUP(D$2,Table1[],4,0),IF($B649=3,VLOOKUP(D$2,Table1[],5,0),IF($B649=4,VLOOKUP(D$2,Table1[],5,0),0))))","v":1000000},{"$f":"IF($B649=1,VLOOKUP(E$2,Table1[],3,0),IF($B649=2,VLOOKUP(E$2,Table1[],4,0),IF($B649=3,VLOOKUP(E$2,Table1[],5,0),IF($B649=4,VLOOKUP(E$2,Table1[],5,0),0))))","v":750000},{"$f":"IF($B649=1,VLOOKUP(F$2,Table1[],3,0),IF($B649=2,VLOOKUP(F$2,Table1[],4,0),IF($B649=3,VLOOKUP(F$2,Table1[],5,0),IF($B649=4,VLOOKUP(F$2,Table1[],5,0),0))))","v":500000}]
[3523,3,{"$f":"IF($B650=1,VLOOKUP(C$2,Table1[],3,0),IF($B650=2,VLOOKUP(C$2,Table1[],4,0),IF($B650=3,VLOOKUP(C$2,Table1[],5,0),IF($B650=4,VLOOKUP(C$2,Table1[],5,0),0))))","v":500000},{"$f":"IF($B650=1,VLOOKUP(D$2,Table1[],3,0),IF($B650=2,VLOOKUP(D$2,Table1[],4,0),IF($B650=3,VLOOKUP(D$2,Table1[],5,0),IF($B650=4,VLOOKUP(D$2,Table1[],5,0),0))))","v":400000},{"$f":"IF($B650=1,VLOOKUP(E$2,Table1[],3,0),IF($B650=2,VLOOKUP(E$2,Table1[],4,0),IF($B650=3,VLOOKUP(E$2,Table1[],5,0),IF($B650=4,VLOOKUP(E$2,Table1[],5,0),0))))","v":"N/A"},{"$f":"IF($B650=1,VLOOKUP(F$2,Table1[],3,0),IF($B650=2,VLOOKUP(F$2,Table1[],4,0),IF($B650=3,VLOOKUP(F$2,Table1[],5,0),IF($B650=4,VLOOKUP(F$2,Table1[],5,0),0))))","v":"N/A"}]
[3550,2,{"$f":"IF($B651=1,VLOOKUP(C$2,Table1[],3,0),IF($B651=2,VLOOKUP(C$2,Table1[],4,0),IF($B651=3,VLOOKUP(C$2,Table1[],5,0),IF($B651=4,VLOOKUP(C$2,Table1[],5,0),0))))","v":1000000},{"$f":"IF($B651=1,VLOOKUP(D$2,Table1[],3,0),IF($B651=2,VLOOKUP(D$2,Table1[],4,0),IF($B651=3,VLOOKUP(D$2,Table1[],5,0),IF($B651=4,VLOOKUP(D$2,Table1[],5,0),0))))","v":1000000},{"$f":"IF($B651=1,VLOOKUP(E$2,Table1[],3,0),IF($B651=2,VLOOKUP(E$2,Table1[],4,0),IF($B651=3,VLOOKUP(E$2,Table1[],5,0),IF($B651=4,VLOOKUP(E$2,Table1[],5,0),0))))","v":750000},{"$f":"IF($B651=1,VLOOKUP(F$2,Table1[],3,0),IF($B651=2,VLOOKUP(F$2,Table1[],4,0),IF($B651=3,VLOOKUP(F$2,Table1[],5,0),IF($B651=4,VLOOKUP(F$2,Table1[],5,0),0))))","v":500000}]
[3551,2,{"$f":"IF($B652=1,VLOOKUP(C$2,Table1[],3,0),IF($B652=2,VLOOKUP(C$2,Table1[],4,0),IF($B652=3,VLOOKUP(C$2,Table1[],5,0),IF($B652=4,VLOOKUP(C$2,Table1[],5,0),0))))","v":1000000},{"$f":"IF($B652=1,VLOOKUP(D$2,Table1[],3,0),IF($B652=2,VLOOKUP(D$2,Table1[],4,0),IF($B652=3,VLOOKUP(D$2,Table1[],5,0),IF($B652=4,VLOOKUP(D$2,Table1[],5,0),0))))","v":1000000},{"$f":"IF($B652=1,VLOOKUP(E$2,Table1[],3,0),IF($B652=2,VLOOKUP(E$2,Table1[],4,0),IF($B652=3,VLOOKUP(E$2,Table1[],5,0),IF($B652=4,VLOOKUP(E$2,Table1[],5,0),0))))","v":750000},{"$f":"IF($B652=1,VLOOKUP(F$2,Table1[],3,0),IF($B652=2,VLOOKUP(F$2,Table1[],4,0),IF($B652=3,VLOOKUP(F$2,Table1[],5,0),IF($B652=4,VLOOKUP(F$2,Table1[],5,0),0))))","v":500000}]
[3555,2,{"$f":"IF($B653=1,VLOOKUP(C$2,Table1[],3,0),IF($B653=2,VLOOKUP(C$2,Table1[],4,0),IF($B653=3,VLOOKUP(C$2,Table1[],5,0),IF($B653=4,VLOOKUP(C$2,Table1[],5,0),0))))","v":1000000},{"$f":"IF($B653=1,VLOOKUP(D$2,Table1[],3,0),IF($B653=2,VLOOKUP(D$2,Table1[],4,0),IF($B653=3,VLOOKUP(D$2,Table1[],5,0),IF($B653=4,VLOOKUP(D$2,Table1[],5,0),0))))","v":1000000},{"$f":"IF($B653=1,VLOOKUP(E$2,Table1[],3,0),IF($B653=2,VLOOKUP(E$2,Table1[],4,0),IF($B653=3,VLOOKUP(E$2,Table1[],5,0),IF($B653=4,VLOOKUP(E$2,Table1[],5,0),0))))","v":750000},{"$f":"IF($B653=1,VLOOKUP(F$2,Table1[],3,0),IF($B653=2,VLOOKUP(F$2,Table1[],4,0),IF($B653=3,VLOOKUP(F$2,Table1[],5,0),IF($B653=4,VLOOKUP(F$2,Table1[],5,0),0))))","v":500000}]
[3556,2,{"$f":"IF($B654=1,VLOOKUP(C$2,Table1[],3,0),IF($B654=2,VLOOKUP(C$2,Table1[],4,0),IF($B654=3,VLOOKUP(C$2,Table1[],5,0),IF($B654=4,VLOOKUP(C$2,Table1[],5,0),0))))","v":1000000},{"$f":"IF($B654=1,VLOOKUP(D$2,Table1[],3,0),IF($B654=2,VLOOKUP(D$2,Table1[],4,0),IF($B654=3,VLOOKUP(D$2,Table1[],5,0),IF($B654=4,VLOOKUP(D$2,Table1[],5,0),0))))","v":1000000},{"$f":"IF($B654=1,VLOOKUP(E$2,Table1[],3,0),IF($B654=2,VLOOKUP(E$2,Table1[],4,0),IF($B654=3,VLOOKUP(E$2,Table1[],5,0),IF($B654=4,VLOOKUP(E$2,Table1[],5,0),0))))","v":750000},{"$f":"IF($B654=1,VLOOKUP(F$2,Table1[],3,0),IF($B654=2,VLOOKUP(F$2,Table1[],4,0),IF($B654=3,VLOOKUP(F$2,Table1[],5,0),IF($B654=4,VLOOKUP(F$2,Table1[],5,0),0))))","v":500000}]
[3564,2,{"$f":"IF($B655=1,VLOOKUP(C$2,Table1[],3,0),IF($B655=2,VLOOKUP(C$2,Table1[],4,0),IF($B655=3,VLOOKUP(C$2,Table1[],5,0),IF($B655=4,VLOOKUP(C$2,Table1[],5,0),0))))","v":1000000},{"$f":"IF($B655=1,VLOOKUP(D$2,Table1[],3,0),IF($B655=2,VLOOKUP(D$2,Table1[],4,0),IF($B655=3,VLOOKUP(D$2,Table1[],5,0),IF($B655=4,VLOOKUP(D$2,Table1[],5,0),0))))","v":1000000},{"$f":"IF($B655=1,VLOOKUP(E$2,Table1[],3,0),IF($B655=2,VLOOKUP(E$2,Table1[],4,0),IF($B655=3,VLOOKUP(E$2,Table1[],5,0),IF($B655=4,VLOOKUP(E$2,Table1[],5,0),0))))","v":750000},{"$f":"IF($B655=1,VLOOKUP(F$2,Table1[],3,0),IF($B655=2,VLOOKUP(F$2,Table1[],4,0),IF($B655=3,VLOOKUP(F$2,Table1[],5,0),IF($B655=4,VLOOKUP(F$2,Table1[],5,0),0))))","v":500000}]
[3585,2,{"$f":"IF($B656=1,VLOOKUP(C$2,Table1[],3,0),IF($B656=2,VLOOKUP(C$2,Table1[],4,0),IF($B656=3,VLOOKUP(C$2,Table1[],5,0),IF($B656=4,VLOOKUP(C$2,Table1[],5,0),0))))","v":1000000},{"$f":"IF($B656=1,VLOOKUP(D$2,Table1[],3,0),IF($B656=2,VLOOKUP(D$2,Table1[],4,0),IF($B656=3,VLOOKUP(D$2,Table1[],5,0),IF($B656=4,VLOOKUP(D$2,Table1[],5,0),0))))","v":1000000},{"$f":"IF($B656=1,VLOOKUP(E$2,Table1[],3,0),IF($B656=2,VLOOKUP(E$2,Table1[],4,0),IF($B656=3,VLOOKUP(E$2,Table1[],5,0),IF($B656=4,VLOOKUP(E$2,Table1[],5,0),0))))","v":750000},{"$f":"IF($B656=1,VLOOKUP(F$2,Table1[],3,0),IF($B656=2,VLOOKUP(F$2,Table1[],4,0),IF($B656=3,VLOOKUP(F$2,Table1[],5,0),IF($B656=4,VLOOKUP(F$2,Table1[],5,0),0))))","v":500000}]
[3616,3,{"$f":"IF($B657=1,VLOOKUP(C$2,Table1[],3,0),IF($B657=2,VLOOKUP(C$2,Table1[],4,0),IF($B657=3,VLOOKUP(C$2,Table1[],5,0),IF($B657=4,VLOOKUP(C$2,Table1[],5,0),0))))","v":500000},{"$f":"IF($B657=1,VLOOKUP(D$2,Table1[],3,0),IF($B657=2,VLOOKUP(D$2,Table1[],4,0),IF($B657=3,VLOOKUP(D$2,Table1[],5,0),IF($B657=4,VLOOKUP(D$2,Table1[],5,0),0))))","v":400000},{"$f":"IF($B657=1,VLOOKUP(E$2,Table1[],3,0),IF($B657=2,VLOOKUP(E$2,Table1[],4,0),IF($B657=3,VLOOKUP(E$2,Table1[],5,0),IF($B657=4,VLOOKUP(E$2,Table1[],5,0),0))))","v":"N/A"},{"$f":"IF($B657=1,VLOOKUP(F$2,Table1[],3,0),IF($B657=2,VLOOKUP(F$2,Table1[],4,0),IF($B657=3,VLOOKUP(F$2,Table1[],5,0),IF($B657=4,VLOOKUP(F$2,Table1[],5,0),0))))","v":"N/A"}]
[3620,3,{"$f":"IF($B658=1,VLOOKUP(C$2,Table1[],3,0),IF($B658=2,VLOOKUP(C$2,Table1[],4,0),IF($B658=3,VLOOKUP(C$2,Table1[],5,0),IF($B658=4,VLOOKUP(C$2,Table1[],5,0),0))))","v":500000},{"$f":"IF($B658=1,VLOOKUP(D$2,Table1[],3,0),IF($B658=2,VLOOKUP(D$2,Table1[],4,0),IF($B658=3,VLOOKUP(D$2,Table1[],5,0),IF($B658=4,VLOOKUP(D$2,Table1[],5,0),0))))","v":400000},{"$f":"IF($B658=1,VLOOKUP(E$2,Table1[],3,0),IF($B658=2,VLOOKUP(E$2,Table1[],4,0),IF($B658=3,VLOOKUP(E$2,Table1[],5,0),IF($B658=4,VLOOKUP(E$2,Table1[],5,0),0))))","v":"N/A"},{"$f":"IF($B658=1,VLOOKUP(F$2,Table1[],3,0),IF($B658=2,VLOOKUP(F$2,Table1[],4,0),IF($B658=3,VLOOKUP(F$2,Table1[],5,0),IF($B658=4,VLOOKUP(F$2,Table1[],5,0),0))))","v":"N/A"}]
[3629,3,{"$f":"IF($B659=1,VLOOKUP(C$2,Table1[],3,0),IF($B659=2,VLOOKUP(C$2,Table1[],4,0),IF($B659=3,VLOOKUP(C$2,Table1[],5,0),IF($B659=4,VLOOKUP(C$2,Table1[],5,0),0))))","v":500000},{"$f":"IF($B659=1,VLOOKUP(D$2,Table1[],3,0),IF($B659=2,VLOOKUP(D$2,Table1[],4,0),IF($B659=3,VLOOKUP(D$2,Table1[],5,0),IF($B659=4,VLOOKUP(D$2,Table1[],5,0),0))))","v":400000},{"$f":"IF($B659=1,VLOOKUP(E$2,Table1[],3,0),IF($B659=2,VLOOKUP(E$2,Table1[],4,0),IF($B659=3,VLOOKUP(E$2,Table1[],5,0),IF($B659=4,VLOOKUP(E$2,Table1[],5,0),0))))","v":"N/A"},{"$f":"IF($B659=1,VLOOKUP(F$2,Table1[],3,0),IF($B659=2,VLOOKUP(F$2,Table1[],4,0),IF($B659=3,VLOOKUP(F$2,Table1[],5,0),IF($B659=4,VLOOKUP(F$2,Table1[],5,0),0))))","v":"N/A"}]
[3630,2,{"$f":"IF($B660=1,VLOOKUP(C$2,Table1[],3,0),IF($B660=2,VLOOKUP(C$2,Table1[],4,0),IF($B660=3,VLOOKUP(C$2,Table1[],5,0),IF($B660=4,VLOOKUP(C$2,Table1[],5,0),0))))","v":1000000},{"$f":"IF($B660=1,VLOOKUP(D$2,Table1[],3,0),IF($B660=2,VLOOKUP(D$2,Table1[],4,0),IF($B660=3,VLOOKUP(D$2,Table1[],5,0),IF($B660=4,VLOOKUP(D$2,Table1[],5,0),0))))","v":1000000},{"$f":"IF($B660=1,VLOOKUP(E$2,Table1[],3,0),IF($B660=2,VLOOKUP(E$2,Table1[],4,0),IF($B660=3,VLOOKUP(E$2,Table1[],5,0),IF($B660=4,VLOOKUP(E$2,Table1[],5,0),0))))","v":750000},{"$f":"IF($B660=1,VLOOKUP(F$2,Table1[],3,0),IF($B660=2,VLOOKUP(F$2,Table1[],4,0),IF($B660=3,VLOOKUP(F$2,Table1[],5,0),IF($B660=4,VLOOKUP(F$2,Table1[],5,0),0))))","v":500000}]
[3631,2,{"$f":"IF($B661=1,VLOOKUP(C$2,Table1[],3,0),IF($B661=2,VLOOKUP(C$2,Table1[],4,0),IF($B661=3,VLOOKUP(C$2,Table1[],5,0),IF($B661=4,VLOOKUP(C$2,Table1[],5,0),0))))","v":1000000},{"$f":"IF($B661=1,VLOOKUP(D$2,Table1[],3,0),IF($B661=2,VLOOKUP(D$2,Table1[],4,0),IF($B661=3,VLOOKUP(D$2,Table1[],5,0),IF($B661=4,VLOOKUP(D$2,Table1[],5,0),0))))","v":1000000},{"$f":"IF($B661=1,VLOOKUP(E$2,Table1[],3,0),IF($B661=2,VLOOKUP(E$2,Table1[],4,0),IF($B661=3,VLOOKUP(E$2,Table1[],5,0),IF($B661=4,VLOOKUP(E$2,Table1[],5,0),0))))","v":750000},{"$f":"IF($B661=1,VLOOKUP(F$2,Table1[],3,0),IF($B661=2,VLOOKUP(F$2,Table1[],4,0),IF($B661=3,VLOOKUP(F$2,Table1[],5,0),IF($B661=4,VLOOKUP(F$2,Table1[],5,0),0))))","v":500000}]
[3636,3,{"$f":"IF($B662=1,VLOOKUP(C$2,Table1[],3,0),IF($B662=2,VLOOKUP(C$2,Table1[],4,0),IF($B662=3,VLOOKUP(C$2,Table1[],5,0),IF($B662=4,VLOOKUP(C$2,Table1[],5,0),0))))","v":500000},{"$f":"IF($B662=1,VLOOKUP(D$2,Table1[],3,0),IF($B662=2,VLOOKUP(D$2,Table1[],4,0),IF($B662=3,VLOOKUP(D$2,Table1[],5,0),IF($B662=4,VLOOKUP(D$2,Table1[],5,0),0))))","v":400000},{"$f":"IF($B662=1,VLOOKUP(E$2,Table1[],3,0),IF($B662=2,VLOOKUP(E$2,Table1[],4,0),IF($B662=3,VLOOKUP(E$2,Table1[],5,0),IF($B662=4,VLOOKUP(E$2,Table1[],5,0),0))))","v":"N/A"},{"$f":"IF($B662=1,VLOOKUP(F$2,Table1[],3,0),IF($B662=2,VLOOKUP(F$2,Table1[],4,0),IF($B662=3,VLOOKUP(F$2,Table1[],5,0),IF($B662=4,VLOOKUP(F$2,Table1[],5,0),0))))","v":"N/A"}]
[3644,2,{"$f":"IF($B663=1,VLOOKUP(C$2,Table1[],3,0),IF($B663=2,VLOOKUP(C$2,Table1[],4,0),IF($B663=3,VLOOKUP(C$2,Table1[],5,0),IF($B663=4,VLOOKUP(C$2,Table1[],5,0),0))))","v":1000000},{"$f":"IF($B663=1,VLOOKUP(D$2,Table1[],3,0),IF($B663=2,VLOOKUP(D$2,Table1[],4,0),IF($B663=3,VLOOKUP(D$2,Table1[],5,0),IF($B663=4,VLOOKUP(D$2,Table1[],5,0),0))))","v":1000000},{"$f":"IF($B663=1,VLOOKUP(E$2,Table1[],3,0),IF($B663=2,VLOOKUP(E$2,Table1[],4,0),IF($B663=3,VLOOKUP(E$2,Table1[],5,0),IF($B663=4,VLOOKUP(E$2,Table1[],5,0),0))))","v":750000},{"$f":"IF($B663=1,VLOOKUP(F$2,Table1[],3,0),IF($B663=2,VLOOKUP(F$2,Table1[],4,0),IF($B663=3,VLOOKUP(F$2,Table1[],5,0),IF($B663=4,VLOOKUP(F$2,Table1[],5,0),0))))","v":500000}]
[3660,3,{"$f":"IF($B664=1,VLOOKUP(C$2,Table1[],3,0),IF($B664=2,VLOOKUP(C$2,Table1[],4,0),IF($B664=3,VLOOKUP(C$2,Table1[],5,0),IF($B664=4,VLOOKUP(C$2,Table1[],5,0),0))))","v":500000},{"$f":"IF($B664=1,VLOOKUP(D$2,Table1[],3,0),IF($B664=2,VLOOKUP(D$2,Table1[],4,0),IF($B664=3,VLOOKUP(D$2,Table1[],5,0),IF($B664=4,VLOOKUP(D$2,Table1[],5,0),0))))","v":400000},{"$f":"IF($B664=1,VLOOKUP(E$2,Table1[],3,0),IF($B664=2,VLOOKUP(E$2,Table1[],4,0),IF($B664=3,VLOOKUP(E$2,Table1[],5,0),IF($B664=4,VLOOKUP(E$2,Table1[],5,0),0))))","v":"N/A"},{"$f":"IF($B664=1,VLOOKUP(F$2,Table1[],3,0),IF($B664=2,VLOOKUP(F$2,Table1[],4,0),IF($B664=3,VLOOKUP(F$2,Table1[],5,0),IF($B664=4,VLOOKUP(F$2,Table1[],5,0),0))))","v":"N/A"}]
[3672,3,{"$f":"IF($B665=1,VLOOKUP(C$2,Table1[],3,0),IF($B665=2,VLOOKUP(C$2,Table1[],4,0),IF($B665=3,VLOOKUP(C$2,Table1[],5,0),IF($B665=4,VLOOKUP(C$2,Table1[],5,0),0))))","v":500000},{"$f":"IF($B665=1,VLOOKUP(D$2,Table1[],3,0),IF($B665=2,VLOOKUP(D$2,Table1[],4,0),IF($B665=3,VLOOKUP(D$2,Table1[],5,0),IF($B665=4,VLOOKUP(D$2,Table1[],5,0),0))))","v":400000},{"$f":"IF($B665=1,VLOOKUP(E$2,Table1[],3,0),IF($B665=2,VLOOKUP(E$2,Table1[],4,0),IF($B665=3,VLOOKUP(E$2,Table1[],5,0),IF($B665=4,VLOOKUP(E$2,Table1[],5,0),0))))","v":"N/A"},{"$f":"IF($B665=1,VLOOKUP(F$2,Table1[],3,0),IF($B665=2,VLOOKUP(F$2,Table1[],4,0),IF($B665=3,VLOOKUP(F$2,Table1[],5,0),IF($B665=4,VLOOKUP(F$2,Table1[],5,0),0))))","v":"N/A"}]
[3677,2,{"$f":"IF($B666=1,VLOOKUP(C$2,Table1[],3,0),IF($B666=2,VLOOKUP(C$2,Table1[],4,0),IF($B666=3,VLOOKUP(C$2,Table1[],5,0),IF($B666=4,VLOOKUP(C$2,Table1[],5,0),0))))","v":1000000},{"$f":"IF($B666=1,VLOOKUP(D$2,Table1[],3,0),IF($B666=2,VLOOKUP(D$2,Table1[],4,0),IF($B666=3,VLOOKUP(D$2,Table1[],5,0),IF($B666=4,VLOOKUP(D$2,Table1[],5,0),0))))","v":1000000},{"$f":"IF($B666=1,VLOOKUP(E$2,Table1[],3,0),IF($B666=2,VLOOKUP(E$2,Table1[],4,0),IF($B666=3,VLOOKUP(E$2,Table1[],5,0),IF($B666=4,VLOOKUP(E$2,Table1[],5,0),0))))","v":750000},{"$f":"IF($B666=1,VLOOKUP(F$2,Table1[],3,0),IF($B666=2,VLOOKUP(F$2,Table1[],4,0),IF($B666=3,VLOOKUP(F$2,Table1[],5,0),IF($B666=4,VLOOKUP(F$2,Table1[],5,0),0))))","v":500000}]
[3690,1,{"$f":"IF($B667=1,VLOOKUP(C$2,Table1[],3,0),IF($B667=2,VLOOKUP(C$2,Table1[],4,0),IF($B667=3,VLOOKUP(C$2,Table1[],5,0),IF($B667=4,VLOOKUP(C$2,Table1[],5,0),0))))","v":2000000},{"$f":"IF($B667=1,VLOOKUP(D$2,Table1[],3,0),IF($B667=2,VLOOKUP(D$2,Table1[],4,0),IF($B667=3,VLOOKUP(D$2,Table1[],5,0),IF($B667=4,VLOOKUP(D$2,Table1[],5,0),0))))","v":2000000},{"$f":"IF($B667=1,VLOOKUP(E$2,Table1[],3,0),IF($B667=2,VLOOKUP(E$2,Table1[],4,0),IF($B667=3,VLOOKUP(E$2,Table1[],5,0),IF($B667=4,VLOOKUP(E$2,Table1[],5,0),0))))","v":1500000},{"$f":"IF($B667=1,VLOOKUP(F$2,Table1[],3,0),IF($B667=2,VLOOKUP(F$2,Table1[],4,0),IF($B667=3,VLOOKUP(F$2,Table1[],5,0),IF($B667=4,VLOOKUP(F$2,Table1[],5,0),0))))","v":800000}]
[3691,2,{"$f":"IF($B668=1,VLOOKUP(C$2,Table1[],3,0),IF($B668=2,VLOOKUP(C$2,Table1[],4,0),IF($B668=3,VLOOKUP(C$2,Table1[],5,0),IF($B668=4,VLOOKUP(C$2,Table1[],5,0),0))))","v":1000000},{"$f":"IF($B668=1,VLOOKUP(D$2,Table1[],3,0),IF($B668=2,VLOOKUP(D$2,Table1[],4,0),IF($B668=3,VLOOKUP(D$2,Table1[],5,0),IF($B668=4,VLOOKUP(D$2,Table1[],5,0),0))))","v":1000000},{"$f":"IF($B668=1,VLOOKUP(E$2,Table1[],3,0),IF($B668=2,VLOOKUP(E$2,Table1[],4,0),IF($B668=3,VLOOKUP(E$2,Table1[],5,0),IF($B668=4,VLOOKUP(E$2,Table1[],5,0),0))))","v":750000},{"$f":"IF($B668=1,VLOOKUP(F$2,Table1[],3,0),IF($B668=2,VLOOKUP(F$2,Table1[],4,0),IF($B668=3,VLOOKUP(F$2,Table1[],5,0),IF($B668=4,VLOOKUP(F$2,Table1[],5,0),0))))","v":500000}]
[3730,2,{"$f":"IF($B669=1,VLOOKUP(C$2,Table1[],3,0),IF($B669=2,VLOOKUP(C$2,Table1[],4,0),IF($B669=3,VLOOKUP(C$2,Table1[],5,0),IF($B669=4,VLOOKUP(C$2,Table1[],5,0),0))))","v":1000000},{"$f":"IF($B669=1,VLOOKUP(D$2,Table1[],3,0),IF($B669=2,VLOOKUP(D$2,Table1[],4,0),IF($B669=3,VLOOKUP(D$2,Table1[],5,0),IF($B669=4,VLOOKUP(D$2,Table1[],5,0),0))))","v":1000000},{"$f":"IF($B669=1,VLOOKUP(E$2,Table1[],3,0),IF($B669=2,VLOOKUP(E$2,Table1[],4,0),IF($B669=3,VLOOKUP(E$2,Table1[],5,0),IF($B669=4,VLOOKUP(E$2,Table1[],5,0),0))))","v":750000},{"$f":"IF($B669=1,VLOOKUP(F$2,Table1[],3,0),IF($B669=2,VLOOKUP(F$2,Table1[],4,0),IF($B669=3,VLOOKUP(F$2,Table1[],5,0),IF($B669=4,VLOOKUP(F$2,Table1[],5,0),0))))","v":500000}]
[3750,1,{"$f":"IF($B670=1,VLOOKUP(C$2,Table1[],3,0),IF($B670=2,VLOOKUP(C$2,Table1[],4,0),IF($B670=3,VLOOKUP(C$2,Table1[],5,0),IF($B670=4,VLOOKUP(C$2,Table1[],5,0),0))))","v":2000000},{"$f":"IF($B670=1,VLOOKUP(D$2,Table1[],3,0),IF($B670=2,VLOOKUP(D$2,Table1[],4,0),IF($B670=3,VLOOKUP(D$2,Table1[],5,0),IF($B670=4,VLOOKUP(D$2,Table1[],5,0),0))))","v":2000000},{"$f":"IF($B670=1,VLOOKUP(E$2,Table1[],3,0),IF($B670=2,VLOOKUP(E$2,Table1[],4,0),IF($B670=3,VLOOKUP(E$2,Table1[],5,0),IF($B670=4,VLOOKUP(E$2,Table1[],5,0),0))))","v":1500000},{"$f":"IF($B670=1,VLOOKUP(F$2,Table1[],3,0),IF($B670=2,VLOOKUP(F$2,Table1[],4,0),IF($B670=3,VLOOKUP(F$2,Table1[],5,0),IF($B670=4,VLOOKUP(F$2,Table1[],5,0),0))))","v":800000}]
[3752,1,{"$f":"IF($B671=1,VLOOKUP(C$2,Table1[],3,0),IF($B671=2,VLOOKUP(C$2,Table1[],4,0),IF($B671=3,VLOOKUP(C$2,Table1[],5,0),IF($B671=4,VLOOKUP(C$2,Table1[],5,0),0))))","v":2000000},{"$f":"IF($B671=1,VLOOKUP(D$2,Table1[],3,0),IF($B671=2,VLOOKUP(D$2,Table1[],4,0),IF($B671=3,VLOOKUP(D$2,Table1[],5,0),IF($B671=4,VLOOKUP(D$2,Table1[],5,0),0))))","v":2000000},{"$f":"IF($B671=1,VLOOKUP(E$2,Table1[],3,0),IF($B671=2,VLOOKUP(E$2,Table1[],4,0),IF($B671=3,VLOOKUP(E$2,Table1[],5,0),IF($B671=4,VLOOKUP(E$2,Table1[],5,0),0))))","v":1500000},{"$f":"IF($B671=1,VLOOKUP(F$2,Table1[],3,0),IF($B671=2,VLOOKUP(F$2,Table1[],4,0),IF($B671=3,VLOOKUP(F$2,Table1[],5,0),IF($B671=4,VLOOKUP(F$2,Table1[],5,0),0))))","v":800000}]
[3753,2,{"$f":"IF($B672=1,VLOOKUP(C$2,Table1[],3,0),IF($B672=2,VLOOKUP(C$2,Table1[],4,0),IF($B672=3,VLOOKUP(C$2,Table1[],5,0),IF($B672=4,VLOOKUP(C$2,Table1[],5,0),0))))","v":1000000},{"$f":"IF($B672=1,VLOOKUP(D$2,Table1[],3,0),IF($B672=2,VLOOKUP(D$2,Table1[],4,0),IF($B672=3,VLOOKUP(D$2,Table1[],5,0),IF($B672=4,VLOOKUP(D$2,Table1[],5,0),0))))","v":1000000},{"$f":"IF($B672=1,VLOOKUP(E$2,Table1[],3,0),IF($B672=2,VLOOKUP(E$2,Table1[],4,0),IF($B672=3,VLOOKUP(E$2,Table1[],5,0),IF($B672=4,VLOOKUP(E$2,Table1[],5,0),0))))","v":750000},{"$f":"IF($B672=1,VLOOKUP(F$2,Table1[],3,0),IF($B672=2,VLOOKUP(F$2,Table1[],4,0),IF($B672=3,VLOOKUP(F$2,Table1[],5,0),IF($B672=4,VLOOKUP(F$2,Table1[],5,0),0))))","v":500000}]
[3754,1,{"$f":"IF($B673=1,VLOOKUP(C$2,Table1[],3,0),IF($B673=2,VLOOKUP(C$2,Table1[],4,0),IF($B673=3,VLOOKUP(C$2,Table1[],5,0),IF($B673=4,VLOOKUP(C$2,Table1[],5,0),0))))","v":2000000},{"$f":"IF($B673=1,VLOOKUP(D$2,Table1[],3,0),IF($B673=2,VLOOKUP(D$2,Table1[],4,0),IF($B673=3,VLOOKUP(D$2,Table1[],5,0),IF($B673=4,VLOOKUP(D$2,Table1[],5,0),0))))","v":2000000},{"$f":"IF($B673=1,VLOOKUP(E$2,Table1[],3,0),IF($B673=2,VLOOKUP(E$2,Table1[],4,0),IF($B673=3,VLOOKUP(E$2,Table1[],5,0),IF($B673=4,VLOOKUP(E$2,Table1[],5,0),0))))","v":1500000},{"$f":"IF($B673=1,VLOOKUP(F$2,Table1[],3,0),IF($B673=2,VLOOKUP(F$2,Table1[],4,0),IF($B673=3,VLOOKUP(F$2,Table1[],5,0),IF($B673=4,VLOOKUP(F$2,Table1[],5,0),0))))","v":800000}]
[3755,1,{"$f":"IF($B674=1,VLOOKUP(C$2,Table1[],3,0),IF($B674=2,VLOOKUP(C$2,Table1[],4,0),IF($B674=3,VLOOKUP(C$2,Table1[],5,0),IF($B674=4,VLOOKUP(C$2,Table1[],5,0),0))))","v":2000000},{"$f":"IF($B674=1,VLOOKUP(D$2,Table1[],3,0),IF($B674=2,VLOOKUP(D$2,Table1[],4,0),IF($B674=3,VLOOKUP(D$2,Table1[],5,0),IF($B674=4,VLOOKUP(D$2,Table1[],5,0),0))))","v":2000000},{"$f":"IF($B674=1,VLOOKUP(E$2,Table1[],3,0),IF($B674=2,VLOOKUP(E$2,Table1[],4,0),IF($B674=3,VLOOKUP(E$2,Table1[],5,0),IF($B674=4,VLOOKUP(E$2,Table1[],5,0),0))))","v":1500000},{"$f":"IF($B674=1,VLOOKUP(F$2,Table1[],3,0),IF($B674=2,VLOOKUP(F$2,Table1[],4,0),IF($B674=3,VLOOKUP(F$2,Table1[],5,0),IF($B674=4,VLOOKUP(F$2,Table1[],5,0),0))))","v":800000}]
[3756,2,{"$f":"IF($B675=1,VLOOKUP(C$2,Table1[],3,0),IF($B675=2,VLOOKUP(C$2,Table1[],4,0),IF($B675=3,VLOOKUP(C$2,Table1[],5,0),IF($B675=4,VLOOKUP(C$2,Table1[],5,0),0))))","v":1000000},{"$f":"IF($B675=1,VLOOKUP(D$2,Table1[],3,0),IF($B675=2,VLOOKUP(D$2,Table1[],4,0),IF($B675=3,VLOOKUP(D$2,Table1[],5,0),IF($B675=4,VLOOKUP(D$2,Table1[],5,0),0))))","v":1000000},{"$f":"IF($B675=1,VLOOKUP(E$2,Table1[],3,0),IF($B675=2,VLOOKUP(E$2,Table1[],4,0),IF($B675=3,VLOOKUP(E$2,Table1[],5,0),IF($B675=4,VLOOKUP(E$2,Table1[],5,0),0))))","v":750000},{"$f":"IF($B675=1,VLOOKUP(F$2,Table1[],3,0),IF($B675=2,VLOOKUP(F$2,Table1[],4,0),IF($B675=3,VLOOKUP(F$2,Table1[],5,0),IF($B675=4,VLOOKUP(F$2,Table1[],5,0),0))))","v":500000}]
[3757,2,{"$f":"IF($B676=1,VLOOKUP(C$2,Table1[],3,0),IF($B676=2,VLOOKUP(C$2,Table1[],4,0),IF($B676=3,VLOOKUP(C$2,Table1[],5,0),IF($B676=4,VLOOKUP(C$2,Table1[],5,0),0))))","v":1000000},{"$f":"IF($B676=1,VLOOKUP(D$2,Table1[],3,0),IF($B676=2,VLOOKUP(D$2,Table1[],4,0),IF($B676=3,VLOOKUP(D$2,Table1[],5,0),IF($B676=4,VLOOKUP(D$2,Table1[],5,0),0))))","v":1000000},{"$f":"IF($B676=1,VLOOKUP(E$2,Table1[],3,0),IF($B676=2,VLOOKUP(E$2,Table1[],4,0),IF($B676=3,VLOOKUP(E$2,Table1[],5,0),IF($B676=4,VLOOKUP(E$2,Table1[],5,0),0))))","v":750000},{"$f":"IF($B676=1,VLOOKUP(F$2,Table1[],3,0),IF($B676=2,VLOOKUP(F$2,Table1[],4,0),IF($B676=3,VLOOKUP(F$2,Table1[],5,0),IF($B676=4,VLOOKUP(F$2,Table1[],5,0),0))))","v":500000}]
[3758,3,{"$f":"IF($B677=1,VLOOKUP(C$2,Table1[],3,0),IF($B677=2,VLOOKUP(C$2,Table1[],4,0),IF($B677=3,VLOOKUP(C$2,Table1[],5,0),IF($B677=4,VLOOKUP(C$2,Table1[],5,0),0))))","v":500000},{"$f":"IF($B677=1,VLOOKUP(D$2,Table1[],3,0),IF($B677=2,VLOOKUP(D$2,Table1[],4,0),IF($B677=3,VLOOKUP(D$2,Table1[],5,0),IF($B677=4,VLOOKUP(D$2,Table1[],5,0),0))))","v":400000},{"$f":"IF($B677=1,VLOOKUP(E$2,Table1[],3,0),IF($B677=2,VLOOKUP(E$2,Table1[],4,0),IF($B677=3,VLOOKUP(E$2,Table1[],5,0),IF($B677=4,VLOOKUP(E$2,Table1[],5,0),0))))","v":"N/A"},{"$f":"IF($B677=1,VLOOKUP(F$2,Table1[],3,0),IF($B677=2,VLOOKUP(F$2,Table1[],4,0),IF($B677=3,VLOOKUP(F$2,Table1[],5,0),IF($B677=4,VLOOKUP(F$2,Table1[],5,0),0))))","v":"N/A"}]
[3759,1,{"$f":"IF($B678=1,VLOOKUP(C$2,Table1[],3,0),IF($B678=2,VLOOKUP(C$2,Table1[],4,0),IF($B678=3,VLOOKUP(C$2,Table1[],5,0),IF($B678=4,VLOOKUP(C$2,Table1[],5,0),0))))","v":2000000},{"$f":"IF($B678=1,VLOOKUP(D$2,Table1[],3,0),IF($B678=2,VLOOKUP(D$2,Table1[],4,0),IF($B678=3,VLOOKUP(D$2,Table1[],5,0),IF($B678=4,VLOOKUP(D$2,Table1[],5,0),0))))","v":2000000},{"$f":"IF($B678=1,VLOOKUP(E$2,Table1[],3,0),IF($B678=2,VLOOKUP(E$2,Table1[],4,0),IF($B678=3,VLOOKUP(E$2,Table1[],5,0),IF($B678=4,VLOOKUP(E$2,Table1[],5,0),0))))","v":1500000},{"$f":"IF($B678=1,VLOOKUP(F$2,Table1[],3,0),IF($B678=2,VLOOKUP(F$2,Table1[],4,0),IF($B678=3,VLOOKUP(F$2,Table1[],5,0),IF($B678=4,VLOOKUP(F$2,Table1[],5,0),0))))","v":800000}]
[3761,1,{"$f":"IF($B679=1,VLOOKUP(C$2,Table1[],3,0),IF($B679=2,VLOOKUP(C$2,Table1[],4,0),IF($B679=3,VLOOKUP(C$2,Table1[],5,0),IF($B679=4,VLOOKUP(C$2,Table1[],5,0),0))))","v":2000000},{"$f":"IF($B679=1,VLOOKUP(D$2,Table1[],3,0),IF($B679=2,VLOOKUP(D$2,Table1[],4,0),IF($B679=3,VLOOKUP(D$2,Table1[],5,0),IF($B679=4,VLOOKUP(D$2,Table1[],5,0),0))))","v":2000000},{"$f":"IF($B679=1,VLOOKUP(E$2,Table1[],3,0),IF($B679=2,VLOOKUP(E$2,Table1[],4,0),IF($B679=3,VLOOKUP(E$2,Table1[],5,0),IF($B679=4,VLOOKUP(E$2,Table1[],5,0),0))))","v":1500000},{"$f":"IF($B679=1,VLOOKUP(F$2,Table1[],3,0),IF($B679=2,VLOOKUP(F$2,Table1[],4,0),IF($B679=3,VLOOKUP(F$2,Table1[],5,0),IF($B679=4,VLOOKUP(F$2,Table1[],5,0),0))))","v":800000}]
[3764,1,{"$f":"IF($B680=1,VLOOKUP(C$2,Table1[],3,0),IF($B680=2,VLOOKUP(C$2,Table1[],4,0),IF($B680=3,VLOOKUP(C$2,Table1[],5,0),IF($B680=4,VLOOKUP(C$2,Table1[],5,0),0))))","v":2000000},{"$f":"IF($B680=1,VLOOKUP(D$2,Table1[],3,0),IF($B680=2,VLOOKUP(D$2,Table1[],4,0),IF($B680=3,VLOOKUP(D$2,Table1[],5,0),IF($B680=4,VLOOKUP(D$2,Table1[],5,0),0))))","v":2000000},{"$f":"IF($B680=1,VLOOKUP(E$2,Table1[],3,0),IF($B680=2,VLOOKUP(E$2,Table1[],4,0),IF($B680=3,VLOOKUP(E$2,Table1[],5,0),IF($B680=4,VLOOKUP(E$2,Table1[],5,0),0))))","v":1500000},{"$f":"IF($B680=1,VLOOKUP(F$2,Table1[],3,0),IF($B680=2,VLOOKUP(F$2,Table1[],4,0),IF($B680=3,VLOOKUP(F$2,Table1[],5,0),IF($B680=4,VLOOKUP(F$2,Table1[],5,0),0))))","v":800000}]
[3765,1,{"$f":"IF($B681=1,VLOOKUP(C$2,Table1[],3,0),IF($B681=2,VLOOKUP(C$2,Table1[],4,0),IF($B681=3,VLOOKUP(C$2,Table1[],5,0),IF($B681=4,VLOOKUP(C$2,Table1[],5,0),0))))","v":2000000},{"$f":"IF($B681=1,VLOOKUP(D$2,Table1[],3,0),IF($B681=2,VLOOKUP(D$2,Table1[],4,0),IF($B681=3,VLOOKUP(D$2,Table1[],5,0),IF($B681=4,VLOOKUP(D$2,Table1[],5,0),0))))","v":2000000},{"$f":"IF($B681=1,VLOOKUP(E$2,Table1[],3,0),IF($B681=2,VLOOKUP(E$2,Table1[],4,0),IF($B681=3,VLOOKUP(E$2,Table1[],5,0),IF($B681=4,VLOOKUP(E$2,Table1[],5,0),0))))","v":1500000},{"$f":"IF($B681=1,VLOOKUP(F$2,Table1[],3,0),IF($B681=2,VLOOKUP(F$2,Table1[],4,0),IF($B681=3,VLOOKUP(F$2,Table1[],5,0),IF($B681=4,VLOOKUP(F$2,Table1[],5,0),0))))","v":800000}]
[3766,1,{"$f":"IF($B682=1,VLOOKUP(C$2,Table1[],3,0),IF($B682=2,VLOOKUP(C$2,Table1[],4,0),IF($B682=3,VLOOKUP(C$2,Table1[],5,0),IF($B682=4,VLOOKUP(C$2,Table1[],5,0),0))))","v":2000000},{"$f":"IF($B682=1,VLOOKUP(D$2,Table1[],3,0),IF($B682=2,VLOOKUP(D$2,Table1[],4,0),IF($B682=3,VLOOKUP(D$2,Table1[],5,0),IF($B682=4,VLOOKUP(D$2,Table1[],5,0),0))))","v":2000000},{"$f":"IF($B682=1,VLOOKUP(E$2,Table1[],3,0),IF($B682=2,VLOOKUP(E$2,Table1[],4,0),IF($B682=3,VLOOKUP(E$2,Table1[],5,0),IF($B682=4,VLOOKUP(E$2,Table1[],5,0),0))))","v":1500000},{"$f":"IF($B682=1,VLOOKUP(F$2,Table1[],3,0),IF($B682=2,VLOOKUP(F$2,Table1[],4,0),IF($B682=3,VLOOKUP(F$2,Table1[],5,0),IF($B682=4,VLOOKUP(F$2,Table1[],5,0),0))))","v":800000}]
[3767,1,{"$f":"IF($B683=1,VLOOKUP(C$2,Table1[],3,0),IF($B683=2,VLOOKUP(C$2,Table1[],4,0),IF($B683=3,VLOOKUP(C$2,Table1[],5,0),IF($B683=4,VLOOKUP(C$2,Table1[],5,0),0))))","v":2000000},{"$f":"IF($B683=1,VLOOKUP(D$2,Table1[],3,0),IF($B683=2,VLOOKUP(D$2,Table1[],4,0),IF($B683=3,VLOOKUP(D$2,Table1[],5,0),IF($B683=4,VLOOKUP(D$2,Table1[],5,0),0))))","v":2000000},{"$f":"IF($B683=1,VLOOKUP(E$2,Table1[],3,0),IF($B683=2,VLOOKUP(E$2,Table1[],4,0),IF($B683=3,VLOOKUP(E$2,Table1[],5,0),IF($B683=4,VLOOKUP(E$2,Table1[],5,0),0))))","v":1500000},{"$f":"IF($B683=1,VLOOKUP(F$2,Table1[],3,0),IF($B683=2,VLOOKUP(F$2,Table1[],4,0),IF($B683=3,VLOOKUP(F$2,Table1[],5,0),IF($B683=4,VLOOKUP(F$2,Table1[],5,0),0))))","v":800000}]
[3770,1,{"$f":"IF($B684=1,VLOOKUP(C$2,Table1[],3,0),IF($B684=2,VLOOKUP(C$2,Table1[],4,0),IF($B684=3,VLOOKUP(C$2,Table1[],5,0),IF($B684=4,VLOOKUP(C$2,Table1[],5,0),0))))","v":2000000},{"$f":"IF($B684=1,VLOOKUP(D$2,Table1[],3,0),IF($B684=2,VLOOKUP(D$2,Table1[],4,0),IF($B684=3,VLOOKUP(D$2,Table1[],5,0),IF($B684=4,VLOOKUP(D$2,Table1[],5,0),0))))","v":2000000},{"$f":"IF($B684=1,VLOOKUP(E$2,Table1[],3,0),IF($B684=2,VLOOKUP(E$2,Table1[],4,0),IF($B684=3,VLOOKUP(E$2,Table1[],5,0),IF($B684=4,VLOOKUP(E$2,Table1[],5,0),0))))","v":1500000},{"$f":"IF($B684=1,VLOOKUP(F$2,Table1[],3,0),IF($B684=2,VLOOKUP(F$2,Table1[],4,0),IF($B684=3,VLOOKUP(F$2,Table1[],5,0),IF($B684=4,VLOOKUP(F$2,Table1[],5,0),0))))","v":800000}]
[3775,2,{"$f":"IF($B685=1,VLOOKUP(C$2,Table1[],3,0),IF($B685=2,VLOOKUP(C$2,Table1[],4,0),IF($B685=3,VLOOKUP(C$2,Table1[],5,0),IF($B685=4,VLOOKUP(C$2,Table1[],5,0),0))))","v":1000000},{"$f":"IF($B685=1,VLOOKUP(D$2,Table1[],3,0),IF($B685=2,VLOOKUP(D$2,Table1[],4,0),IF($B685=3,VLOOKUP(D$2,Table1[],5,0),IF($B685=4,VLOOKUP(D$2,Table1[],5,0),0))))","v":1000000},{"$f":"IF($B685=1,VLOOKUP(E$2,Table1[],3,0),IF($B685=2,VLOOKUP(E$2,Table1[],4,0),IF($B685=3,VLOOKUP(E$2,Table1[],5,0),IF($B685=4,VLOOKUP(E$2,Table1[],5,0),0))))","v":750000},{"$f":"IF($B685=1,VLOOKUP(F$2,Table1[],3,0),IF($B685=2,VLOOKUP(F$2,Table1[],4,0),IF($B685=3,VLOOKUP(F$2,Table1[],5,0),IF($B685=4,VLOOKUP(F$2,Table1[],5,0),0))))","v":500000}]
[3777,2,{"$f":"IF($B686=1,VLOOKUP(C$2,Table1[],3,0),IF($B686=2,VLOOKUP(C$2,Table1[],4,0),IF($B686=3,VLOOKUP(C$2,Table1[],5,0),IF($B686=4,VLOOKUP(C$2,Table1[],5,0),0))))","v":1000000},{"$f":"IF($B686=1,VLOOKUP(D$2,Table1[],3,0),IF($B686=2,VLOOKUP(D$2,Table1[],4,0),IF($B686=3,VLOOKUP(D$2,Table1[],5,0),IF($B686=4,VLOOKUP(D$2,Table1[],5,0),0))))","v":1000000},{"$f":"IF($B686=1,VLOOKUP(E$2,Table1[],3,0),IF($B686=2,VLOOKUP(E$2,Table1[],4,0),IF($B686=3,VLOOKUP(E$2,Table1[],5,0),IF($B686=4,VLOOKUP(E$2,Table1[],5,0),0))))","v":750000},{"$f":"IF($B686=1,VLOOKUP(F$2,Table1[],3,0),IF($B686=2,VLOOKUP(F$2,Table1[],4,0),IF($B686=3,VLOOKUP(F$2,Table1[],5,0),IF($B686=4,VLOOKUP(F$2,Table1[],5,0),0))))","v":500000}]
[3781,1,{"$f":"IF($B687=1,VLOOKUP(C$2,Table1[],3,0),IF($B687=2,VLOOKUP(C$2,Table1[],4,0),IF($B687=3,VLOOKUP(C$2,Table1[],5,0),IF($B687=4,VLOOKUP(C$2,Table1[],5,0),0))))","v":2000000},{"$f":"IF($B687=1,VLOOKUP(D$2,Table1[],3,0),IF($B687=2,VLOOKUP(D$2,Table1[],4,0),IF($B687=3,VLOOKUP(D$2,Table1[],5,0),IF($B687=4,VLOOKUP(D$2,Table1[],5,0),0))))","v":2000000},{"$f":"IF($B687=1,VLOOKUP(E$2,Table1[],3,0),IF($B687=2,VLOOKUP(E$2,Table1[],4,0),IF($B687=3,VLOOKUP(E$2,Table1[],5,0),IF($B687=4,VLOOKUP(E$2,Table1[],5,0),0))))","v":1500000},{"$f":"IF($B687=1,VLOOKUP(F$2,Table1[],3,0),IF($B687=2,VLOOKUP(F$2,Table1[],4,0),IF($B687=3,VLOOKUP(F$2,Table1[],5,0),IF($B687=4,VLOOKUP(F$2,Table1[],5,0),0))))","v":800000}]
[3782,1,{"$f":"IF($B688=1,VLOOKUP(C$2,Table1[],3,0),IF($B688=2,VLOOKUP(C$2,Table1[],4,0),IF($B688=3,VLOOKUP(C$2,Table1[],5,0),IF($B688=4,VLOOKUP(C$2,Table1[],5,0),0))))","v":2000000},{"$f":"IF($B688=1,VLOOKUP(D$2,Table1[],3,0),IF($B688=2,VLOOKUP(D$2,Table1[],4,0),IF($B688=3,VLOOKUP(D$2,Table1[],5,0),IF($B688=4,VLOOKUP(D$2,Table1[],5,0),0))))","v":2000000},{"$f":"IF($B688=1,VLOOKUP(E$2,Table1[],3,0),IF($B688=2,VLOOKUP(E$2,Table1[],4,0),IF($B688=3,VLOOKUP(E$2,Table1[],5,0),IF($B688=4,VLOOKUP(E$2,Table1[],5,0),0))))","v":1500000},{"$f":"IF($B688=1,VLOOKUP(F$2,Table1[],3,0),IF($B688=2,VLOOKUP(F$2,Table1[],4,0),IF($B688=3,VLOOKUP(F$2,Table1[],5,0),IF($B688=4,VLOOKUP(F$2,Table1[],5,0),0))))","v":800000}]
[3783,1,{"$f":"IF($B689=1,VLOOKUP(C$2,Table1[],3,0),IF($B689=2,VLOOKUP(C$2,Table1[],4,0),IF($B689=3,VLOOKUP(C$2,Table1[],5,0),IF($B689=4,VLOOKUP(C$2,Table1[],5,0),0))))","v":2000000},{"$f":"IF($B689=1,VLOOKUP(D$2,Table1[],3,0),IF($B689=2,VLOOKUP(D$2,Table1[],4,0),IF($B689=3,VLOOKUP(D$2,Table1[],5,0),IF($B689=4,VLOOKUP(D$2,Table1[],5,0),0))))","v":2000000},{"$f":"IF($B689=1,VLOOKUP(E$2,Table1[],3,0),IF($B689=2,VLOOKUP(E$2,Table1[],4,0),IF($B689=3,VLOOKUP(E$2,Table1[],5,0),IF($B689=4,VLOOKUP(E$2,Table1[],5,0),0))))","v":1500000},{"$f":"IF($B689=1,VLOOKUP(F$2,Table1[],3,0),IF($B689=2,VLOOKUP(F$2,Table1[],4,0),IF($B689=3,VLOOKUP(F$2,Table1[],5,0),IF($B689=4,VLOOKUP(F$2,Table1[],5,0),0))))","v":800000}]
[3785,1,{"$f":"IF($B690=1,VLOOKUP(C$2,Table1[],3,0),IF($B690=2,VLOOKUP(C$2,Table1[],4,0),IF($B690=3,VLOOKUP(C$2,Table1[],5,0),IF($B690=4,VLOOKUP(C$2,Table1[],5,0),0))))","v":2000000},{"$f":"IF($B690=1,VLOOKUP(D$2,Table1[],3,0),IF($B690=2,VLOOKUP(D$2,Table1[],4,0),IF($B690=3,VLOOKUP(D$2,Table1[],5,0),IF($B690=4,VLOOKUP(D$2,Table1[],5,0),0))))","v":2000000},{"$f":"IF($B690=1,VLOOKUP(E$2,Table1[],3,0),IF($B690=2,VLOOKUP(E$2,Table1[],4,0),IF($B690=3,VLOOKUP(E$2,Table1[],5,0),IF($B690=4,VLOOKUP(E$2,Table1[],5,0),0))))","v":1500000},{"$f":"IF($B690=1,VLOOKUP(F$2,Table1[],3,0),IF($B690=2,VLOOKUP(F$2,Table1[],4,0),IF($B690=3,VLOOKUP(F$2,Table1[],5,0),IF($B690=4,VLOOKUP(F$2,Table1[],5,0),0))))","v":800000}]
[3786,1,{"$f":"IF($B691=1,VLOOKUP(C$2,Table1[],3,0),IF($B691=2,VLOOKUP(C$2,Table1[],4,0),IF($B691=3,VLOOKUP(C$2,Table1[],5,0),IF($B691=4,VLOOKUP(C$2,Table1[],5,0),0))))","v":2000000},{"$f":"IF($B691=1,VLOOKUP(D$2,Table1[],3,0),IF($B691=2,VLOOKUP(D$2,Table1[],4,0),IF($B691=3,VLOOKUP(D$2,Table1[],5,0),IF($B691=4,VLOOKUP(D$2,Table1[],5,0),0))))","v":2000000},{"$f":"IF($B691=1,VLOOKUP(E$2,Table1[],3,0),IF($B691=2,VLOOKUP(E$2,Table1[],4,0),IF($B691=3,VLOOKUP(E$2,Table1[],5,0),IF($B691=4,VLOOKUP(E$2,Table1[],5,0),0))))","v":1500000},{"$f":"IF($B691=1,VLOOKUP(F$2,Table1[],3,0),IF($B691=2,VLOOKUP(F$2,Table1[],4,0),IF($B691=3,VLOOKUP(F$2,Table1[],5,0),IF($B691=4,VLOOKUP(F$2,Table1[],5,0),0))))","v":800000}]
[3787,1,{"$f":"IF($B692=1,VLOOKUP(C$2,Table1[],3,0),IF($B692=2,VLOOKUP(C$2,Table1[],4,0),IF($B692=3,VLOOKUP(C$2,Table1[],5,0),IF($B692=4,VLOOKUP(C$2,Table1[],5,0),0))))","v":2000000},{"$f":"IF($B692=1,VLOOKUP(D$2,Table1[],3,0),IF($B692=2,VLOOKUP(D$2,Table1[],4,0),IF($B692=3,VLOOKUP(D$2,Table1[],5,0),IF($B692=4,VLOOKUP(D$2,Table1[],5,0),0))))","v":2000000},{"$f":"IF($B692=1,VLOOKUP(E$2,Table1[],3,0),IF($B692=2,VLOOKUP(E$2,Table1[],4,0),IF($B692=3,VLOOKUP(E$2,Table1[],5,0),IF($B692=4,VLOOKUP(E$2,Table1[],5,0),0))))","v":1500000},{"$f":"IF($B692=1,VLOOKUP(F$2,Table1[],3,0),IF($B692=2,VLOOKUP(F$2,Table1[],4,0),IF($B692=3,VLOOKUP(F$2,Table1[],5,0),IF($B692=4,VLOOKUP(F$2,Table1[],5,0),0))))","v":800000}]
[3788,1,{"$f":"IF($B693=1,VLOOKUP(C$2,Table1[],3,0),IF($B693=2,VLOOKUP(C$2,Table1[],4,0),IF($B693=3,VLOOKUP(C$2,Table1[],5,0),IF($B693=4,VLOOKUP(C$2,Table1[],5,0),0))))","v":2000000},{"$f":"IF($B693=1,VLOOKUP(D$2,Table1[],3,0),IF($B693=2,VLOOKUP(D$2,Table1[],4,0),IF($B693=3,VLOOKUP(D$2,Table1[],5,0),IF($B693=4,VLOOKUP(D$2,Table1[],5,0),0))))","v":2000000},{"$f":"IF($B693=1,VLOOKUP(E$2,Table1[],3,0),IF($B693=2,VLOOKUP(E$2,Table1[],4,0),IF($B693=3,VLOOKUP(E$2,Table1[],5,0),IF($B693=4,VLOOKUP(E$2,Table1[],5,0),0))))","v":1500000},{"$f":"IF($B693=1,VLOOKUP(F$2,Table1[],3,0),IF($B693=2,VLOOKUP(F$2,Table1[],4,0),IF($B693=3,VLOOKUP(F$2,Table1[],5,0),IF($B693=4,VLOOKUP(F$2,Table1[],5,0),0))))","v":800000}]
[3789,1,{"$f":"IF($B694=1,VLOOKUP(C$2,Table1[],3,0),IF($B694=2,VLOOKUP(C$2,Table1[],4,0),IF($B694=3,VLOOKUP(C$2,Table1[],5,0),IF($B694=4,VLOOKUP(C$2,Table1[],5,0),0))))","v":2000000},{"$f":"IF($B694=1,VLOOKUP(D$2,Table1[],3,0),IF($B694=2,VLOOKUP(D$2,Table1[],4,0),IF($B694=3,VLOOKUP(D$2,Table1[],5,0),IF($B694=4,VLOOKUP(D$2,Table1[],5,0),0))))","v":2000000},{"$f":"IF($B694=1,VLOOKUP(E$2,Table1[],3,0),IF($B694=2,VLOOKUP(E$2,Table1[],4,0),IF($B694=3,VLOOKUP(E$2,Table1[],5,0),IF($B694=4,VLOOKUP(E$2,Table1[],5,0),0))))","v":1500000},{"$f":"IF($B694=1,VLOOKUP(F$2,Table1[],3,0),IF($B694=2,VLOOKUP(F$2,Table1[],4,0),IF($B694=3,VLOOKUP(F$2,Table1[],5,0),IF($B694=4,VLOOKUP(F$2,Table1[],5,0),0))))","v":800000}]
[3791,1,{"$f":"IF($B695=1,VLOOKUP(C$2,Table1[],3,0),IF($B695=2,VLOOKUP(C$2,Table1[],4,0),IF($B695=3,VLOOKUP(C$2,Table1[],5,0),IF($B695=4,VLOOKUP(C$2,Table1[],5,0),0))))","v":2000000},{"$f":"IF($B695=1,VLOOKUP(D$2,Table1[],3,0),IF($B695=2,VLOOKUP(D$2,Table1[],4,0),IF($B695=3,VLOOKUP(D$2,Table1[],5,0),IF($B695=4,VLOOKUP(D$2,Table1[],5,0),0))))","v":2000000},{"$f":"IF($B695=1,VLOOKUP(E$2,Table1[],3,0),IF($B695=2,VLOOKUP(E$2,Table1[],4,0),IF($B695=3,VLOOKUP(E$2,Table1[],5,0),IF($B695=4,VLOOKUP(E$2,Table1[],5,0),0))))","v":1500000},{"$f":"IF($B695=1,VLOOKUP(F$2,Table1[],3,0),IF($B695=2,VLOOKUP(F$2,Table1[],4,0),IF($B695=3,VLOOKUP(F$2,Table1[],5,0),IF($B695=4,VLOOKUP(F$2,Table1[],5,0),0))))","v":800000}]
[3792,1,{"$f":"IF($B696=1,VLOOKUP(C$2,Table1[],3,0),IF($B696=2,VLOOKUP(C$2,Table1[],4,0),IF($B696=3,VLOOKUP(C$2,Table1[],5,0),IF($B696=4,VLOOKUP(C$2,Table1[],5,0),0))))","v":2000000},{"$f":"IF($B696=1,VLOOKUP(D$2,Table1[],3,0),IF($B696=2,VLOOKUP(D$2,Table1[],4,0),IF($B696=3,VLOOKUP(D$2,Table1[],5,0),IF($B696=4,VLOOKUP(D$2,Table1[],5,0),0))))","v":2000000},{"$f":"IF($B696=1,VLOOKUP(E$2,Table1[],3,0),IF($B696=2,VLOOKUP(E$2,Table1[],4,0),IF($B696=3,VLOOKUP(E$2,Table1[],5,0),IF($B696=4,VLOOKUP(E$2,Table1[],5,0),0))))","v":1500000},{"$f":"IF($B696=1,VLOOKUP(F$2,Table1[],3,0),IF($B696=2,VLOOKUP(F$2,Table1[],4,0),IF($B696=3,VLOOKUP(F$2,Table1[],5,0),IF($B696=4,VLOOKUP(F$2,Table1[],5,0),0))))","v":800000}]
[3793,1,{"$f":"IF($B697=1,VLOOKUP(C$2,Table1[],3,0),IF($B697=2,VLOOKUP(C$2,Table1[],4,0),IF($B697=3,VLOOKUP(C$2,Table1[],5,0),IF($B697=4,VLOOKUP(C$2,Table1[],5,0),0))))","v":2000000},{"$f":"IF($B697=1,VLOOKUP(D$2,Table1[],3,0),IF($B697=2,VLOOKUP(D$2,Table1[],4,0),IF($B697=3,VLOOKUP(D$2,Table1[],5,0),IF($B697=4,VLOOKUP(D$2,Table1[],5,0),0))))","v":2000000},{"$f":"IF($B697=1,VLOOKUP(E$2,Table1[],3,0),IF($B697=2,VLOOKUP(E$2,Table1[],4,0),IF($B697=3,VLOOKUP(E$2,Table1[],5,0),IF($B697=4,VLOOKUP(E$2,Table1[],5,0),0))))","v":1500000},{"$f":"IF($B697=1,VLOOKUP(F$2,Table1[],3,0),IF($B697=2,VLOOKUP(F$2,Table1[],4,0),IF($B697=3,VLOOKUP(F$2,Table1[],5,0),IF($B697=4,VLOOKUP(F$2,Table1[],5,0),0))))","v":800000}]
[3795,1,{"$f":"IF($B698=1,VLOOKUP(C$2,Table1[],3,0),IF($B698=2,VLOOKUP(C$2,Table1[],4,0),IF($B698=3,VLOOKUP(C$2,Table1[],5,0),IF($B698=4,VLOOKUP(C$2,Table1[],5,0),0))))","v":2000000},{"$f":"IF($B698=1,VLOOKUP(D$2,Table1[],3,0),IF($B698=2,VLOOKUP(D$2,Table1[],4,0),IF($B698=3,VLOOKUP(D$2,Table1[],5,0),IF($B698=4,VLOOKUP(D$2,Table1[],5,0),0))))","v":2000000},{"$f":"IF($B698=1,VLOOKUP(E$2,Table1[],3,0),IF($B698=2,VLOOKUP(E$2,Table1[],4,0),IF($B698=3,VLOOKUP(E$2,Table1[],5,0),IF($B698=4,VLOOKUP(E$2,Table1[],5,0),0))))","v":1500000},{"$f":"IF($B698=1,VLOOKUP(F$2,Table1[],3,0),IF($B698=2,VLOOKUP(F$2,Table1[],4,0),IF($B698=3,VLOOKUP(F$2,Table1[],5,0),IF($B698=4,VLOOKUP(F$2,Table1[],5,0),0))))","v":800000}]
[3796,1,{"$f":"IF($B699=1,VLOOKUP(C$2,Table1[],3,0),IF($B699=2,VLOOKUP(C$2,Table1[],4,0),IF($B699=3,VLOOKUP(C$2,Table1[],5,0),IF($B699=4,VLOOKUP(C$2,Table1[],5,0),0))))","v":2000000},{"$f":"IF($B699=1,VLOOKUP(D$2,Table1[],3,0),IF($B699=2,VLOOKUP(D$2,Table1[],4,0),IF($B699=3,VLOOKUP(D$2,Table1[],5,0),IF($B699=4,VLOOKUP(D$2,Table1[],5,0),0))))","v":2000000},{"$f":"IF($B699=1,VLOOKUP(E$2,Table1[],3,0),IF($B699=2,VLOOKUP(E$2,Table1[],4,0),IF($B699=3,VLOOKUP(E$2,Table1[],5,0),IF($B699=4,VLOOKUP(E$2,Table1[],5,0),0))))","v":1500000},{"$f":"IF($B699=1,VLOOKUP(F$2,Table1[],3,0),IF($B699=2,VLOOKUP(F$2,Table1[],4,0),IF($B699=3,VLOOKUP(F$2,Table1[],5,0),IF($B699=4,VLOOKUP(F$2,Table1[],5,0),0))))","v":800000}]
[3799,2,{"$f":"IF($B700=1,VLOOKUP(C$2,Table1[],3,0),IF($B700=2,VLOOKUP(C$2,Table1[],4,0),IF($B700=3,VLOOKUP(C$2,Table1[],5,0),IF($B700=4,VLOOKUP(C$2,Table1[],5,0),0))))","v":1000000},{"$f":"IF($B700=1,VLOOKUP(D$2,Table1[],3,0),IF($B700=2,VLOOKUP(D$2,Table1[],4,0),IF($B700=3,VLOOKUP(D$2,Table1[],5,0),IF($B700=4,VLOOKUP(D$2,Table1[],5,0),0))))","v":1000000},{"$f":"IF($B700=1,VLOOKUP(E$2,Table1[],3,0),IF($B700=2,VLOOKUP(E$2,Table1[],4,0),IF($B700=3,VLOOKUP(E$2,Table1[],5,0),IF($B700=4,VLOOKUP(E$2,Table1[],5,0),0))))","v":750000},{"$f":"IF($B700=1,VLOOKUP(F$2,Table1[],3,0),IF($B700=2,VLOOKUP(F$2,Table1[],4,0),IF($B700=3,VLOOKUP(F$2,Table1[],5,0),IF($B700=4,VLOOKUP(F$2,Table1[],5,0),0))))","v":500000}]
[3802,1,{"$f":"IF($B701=1,VLOOKUP(C$2,Table1[],3,0),IF($B701=2,VLOOKUP(C$2,Table1[],4,0),IF($B701=3,VLOOKUP(C$2,Table1[],5,0),IF($B701=4,VLOOKUP(C$2,Table1[],5,0),0))))","v":2000000},{"$f":"IF($B701=1,VLOOKUP(D$2,Table1[],3,0),IF($B701=2,VLOOKUP(D$2,Table1[],4,0),IF($B701=3,VLOOKUP(D$2,Table1[],5,0),IF($B701=4,VLOOKUP(D$2,Table1[],5,0),0))))","v":2000000},{"$f":"IF($B701=1,VLOOKUP(E$2,Table1[],3,0),IF($B701=2,VLOOKUP(E$2,Table1[],4,0),IF($B701=3,VLOOKUP(E$2,Table1[],5,0),IF($B701=4,VLOOKUP(E$2,Table1[],5,0),0))))","v":1500000},{"$f":"IF($B701=1,VLOOKUP(F$2,Table1[],3,0),IF($B701=2,VLOOKUP(F$2,Table1[],4,0),IF($B701=3,VLOOKUP(F$2,Table1[],5,0),IF($B701=4,VLOOKUP(F$2,Table1[],5,0),0))))","v":800000}]
[3803,1,{"$f":"IF($B702=1,VLOOKUP(C$2,Table1[],3,0),IF($B702=2,VLOOKUP(C$2,Table1[],4,0),IF($B702=3,VLOOKUP(C$2,Table1[],5,0),IF($B702=4,VLOOKUP(C$2,Table1[],5,0),0))))","v":2000000},{"$f":"IF($B702=1,VLOOKUP(D$2,Table1[],3,0),IF($B702=2,VLOOKUP(D$2,Table1[],4,0),IF($B702=3,VLOOKUP(D$2,Table1[],5,0),IF($B702=4,VLOOKUP(D$2,Table1[],5,0),0))))","v":2000000},{"$f":"IF($B702=1,VLOOKUP(E$2,Table1[],3,0),IF($B702=2,VLOOKUP(E$2,Table1[],4,0),IF($B702=3,VLOOKUP(E$2,Table1[],5,0),IF($B702=4,VLOOKUP(E$2,Table1[],5,0),0))))","v":1500000},{"$f":"IF($B702=1,VLOOKUP(F$2,Table1[],3,0),IF($B702=2,VLOOKUP(F$2,Table1[],4,0),IF($B702=3,VLOOKUP(F$2,Table1[],5,0),IF($B702=4,VLOOKUP(F$2,Table1[],5,0),0))))","v":800000}]
[3804,1,{"$f":"IF($B703=1,VLOOKUP(C$2,Table1[],3,0),IF($B703=2,VLOOKUP(C$2,Table1[],4,0),IF($B703=3,VLOOKUP(C$2,Table1[],5,0),IF($B703=4,VLOOKUP(C$2,Table1[],5,0),0))))","v":2000000},{"$f":"IF($B703=1,VLOOKUP(D$2,Table1[],3,0),IF($B703=2,VLOOKUP(D$2,Table1[],4,0),IF($B703=3,VLOOKUP(D$2,Table1[],5,0),IF($B703=4,VLOOKUP(D$2,Table1[],5,0),0))))","v":2000000},{"$f":"IF($B703=1,VLOOKUP(E$2,Table1[],3,0),IF($B703=2,VLOOKUP(E$2,Table1[],4,0),IF($B703=3,VLOOKUP(E$2,Table1[],5,0),IF($B703=4,VLOOKUP(E$2,Table1[],5,0),0))))","v":1500000},{"$f":"IF($B703=1,VLOOKUP(F$2,Table1[],3,0),IF($B703=2,VLOOKUP(F$2,Table1[],4,0),IF($B703=3,VLOOKUP(F$2,Table1[],5,0),IF($B703=4,VLOOKUP(F$2,Table1[],5,0),0))))","v":800000}]
[3805,1,{"$f":"IF($B704=1,VLOOKUP(C$2,Table1[],3,0),IF($B704=2,VLOOKUP(C$2,Table1[],4,0),IF($B704=3,VLOOKUP(C$2,Table1[],5,0),IF($B704=4,VLOOKUP(C$2,Table1[],5,0),0))))","v":2000000},{"$f":"IF($B704=1,VLOOKUP(D$2,Table1[],3,0),IF($B704=2,VLOOKUP(D$2,Table1[],4,0),IF($B704=3,VLOOKUP(D$2,Table1[],5,0),IF($B704=4,VLOOKUP(D$2,Table1[],5,0),0))))","v":2000000},{"$f":"IF($B704=1,VLOOKUP(E$2,Table1[],3,0),IF($B704=2,VLOOKUP(E$2,Table1[],4,0),IF($B704=3,VLOOKUP(E$2,Table1[],5,0),IF($B704=4,VLOOKUP(E$2,Table1[],5,0),0))))","v":1500000},{"$f":"IF($B704=1,VLOOKUP(F$2,Table1[],3,0),IF($B704=2,VLOOKUP(F$2,Table1[],4,0),IF($B704=3,VLOOKUP(F$2,Table1[],5,0),IF($B704=4,VLOOKUP(F$2,Table1[],5,0),0))))","v":800000}]
[3806,1,{"$f":"IF($B705=1,VLOOKUP(C$2,Table1[],3,0),IF($B705=2,VLOOKUP(C$2,Table1[],4,0),IF($B705=3,VLOOKUP(C$2,Table1[],5,0),IF($B705=4,VLOOKUP(C$2,Table1[],5,0),0))))","v":2000000},{"$f":"IF($B705=1,VLOOKUP(D$2,Table1[],3,0),IF($B705=2,VLOOKUP(D$2,Table1[],4,0),IF($B705=3,VLOOKUP(D$2,Table1[],5,0),IF($B705=4,VLOOKUP(D$2,Table1[],5,0),0))))","v":2000000},{"$f":"IF($B705=1,VLOOKUP(E$2,Table1[],3,0),IF($B705=2,VLOOKUP(E$2,Table1[],4,0),IF($B705=3,VLOOKUP(E$2,Table1[],5,0),IF($B705=4,VLOOKUP(E$2,Table1[],5,0),0))))","v":1500000},{"$f":"IF($B705=1,VLOOKUP(F$2,Table1[],3,0),IF($B705=2,VLOOKUP(F$2,Table1[],4,0),IF($B705=3,VLOOKUP(F$2,Table1[],5,0),IF($B705=4,VLOOKUP(F$2,Table1[],5,0),0))))","v":800000}]
[3807,1,{"$f":"IF($B706=1,VLOOKUP(C$2,Table1[],3,0),IF($B706=2,VLOOKUP(C$2,Table1[],4,0),IF($B706=3,VLOOKUP(C$2,Table1[],5,0),IF($B706=4,VLOOKUP(C$2,Table1[],5,0),0))))","v":2000000},{"$f":"IF($B706=1,VLOOKUP(D$2,Table1[],3,0),IF($B706=2,VLOOKUP(D$2,Table1[],4,0),IF($B706=3,VLOOKUP(D$2,Table1[],5,0),IF($B706=4,VLOOKUP(D$2,Table1[],5,0),0))))","v":2000000},{"$f":"IF($B706=1,VLOOKUP(E$2,Table1[],3,0),IF($B706=2,VLOOKUP(E$2,Table1[],4,0),IF($B706=3,VLOOKUP(E$2,Table1[],5,0),IF($B706=4,VLOOKUP(E$2,Table1[],5,0),0))))","v":1500000},{"$f":"IF($B706=1,VLOOKUP(F$2,Table1[],3,0),IF($B706=2,VLOOKUP(F$2,Table1[],4,0),IF($B706=3,VLOOKUP(F$2,Table1[],5,0),IF($B706=4,VLOOKUP(F$2,Table1[],5,0),0))))","v":800000}]
[3808,1,{"$f":"IF($B707=1,VLOOKUP(C$2,Table1[],3,0),IF($B707=2,VLOOKUP(C$2,Table1[],4,0),IF($B707=3,VLOOKUP(C$2,Table1[],5,0),IF($B707=4,VLOOKUP(C$2,Table1[],5,0),0))))","v":2000000},{"$f":"IF($B707=1,VLOOKUP(D$2,Table1[],3,0),IF($B707=2,VLOOKUP(D$2,Table1[],4,0),IF($B707=3,VLOOKUP(D$2,Table1[],5,0),IF($B707=4,VLOOKUP(D$2,Table1[],5,0),0))))","v":2000000},{"$f":"IF($B707=1,VLOOKUP(E$2,Table1[],3,0),IF($B707=2,VLOOKUP(E$2,Table1[],4,0),IF($B707=3,VLOOKUP(E$2,Table1[],5,0),IF($B707=4,VLOOKUP(E$2,Table1[],5,0),0))))","v":1500000},{"$f":"IF($B707=1,VLOOKUP(F$2,Table1[],3,0),IF($B707=2,VLOOKUP(F$2,Table1[],4,0),IF($B707=3,VLOOKUP(F$2,Table1[],5,0),IF($B707=4,VLOOKUP(F$2,Table1[],5,0),0))))","v":800000}]
[3809,1,{"$f":"IF($B708=1,VLOOKUP(C$2,Table1[],3,0),IF($B708=2,VLOOKUP(C$2,Table1[],4,0),IF($B708=3,VLOOKUP(C$2,Table1[],5,0),IF($B708=4,VLOOKUP(C$2,Table1[],5,0),0))))","v":2000000},{"$f":"IF($B708=1,VLOOKUP(D$2,Table1[],3,0),IF($B708=2,VLOOKUP(D$2,Table1[],4,0),IF($B708=3,VLOOKUP(D$2,Table1[],5,0),IF($B708=4,VLOOKUP(D$2,Table1[],5,0),0))))","v":2000000},{"$f":"IF($B708=1,VLOOKUP(E$2,Table1[],3,0),IF($B708=2,VLOOKUP(E$2,Table1[],4,0),IF($B708=3,VLOOKUP(E$2,Table1[],5,0),IF($B708=4,VLOOKUP(E$2,Table1[],5,0),0))))","v":1500000},{"$f":"IF($B708=1,VLOOKUP(F$2,Table1[],3,0),IF($B708=2,VLOOKUP(F$2,Table1[],4,0),IF($B708=3,VLOOKUP(F$2,Table1[],5,0),IF($B708=4,VLOOKUP(F$2,Table1[],5,0),0))))","v":800000}]
[3810,1,{"$f":"IF($B709=1,VLOOKUP(C$2,Table1[],3,0),IF($B709=2,VLOOKUP(C$2,Table1[],4,0),IF($B709=3,VLOOKUP(C$2,Table1[],5,0),IF($B709=4,VLOOKUP(C$2,Table1[],5,0),0))))","v":2000000},{"$f":"IF($B709=1,VLOOKUP(D$2,Table1[],3,0),IF($B709=2,VLOOKUP(D$2,Table1[],4,0),IF($B709=3,VLOOKUP(D$2,Table1[],5,0),IF($B709=4,VLOOKUP(D$2,Table1[],5,0),0))))","v":2000000},{"$f":"IF($B709=1,VLOOKUP(E$2,Table1[],3,0),IF($B709=2,VLOOKUP(E$2,Table1[],4,0),IF($B709=3,VLOOKUP(E$2,Table1[],5,0),IF($B709=4,VLOOKUP(E$2,Table1[],5,0),0))))","v":1500000},{"$f":"IF($B709=1,VLOOKUP(F$2,Table1[],3,0),IF($B709=2,VLOOKUP(F$2,Table1[],4,0),IF($B709=3,VLOOKUP(F$2,Table1[],5,0),IF($B709=4,VLOOKUP(F$2,Table1[],5,0),0))))","v":800000}]
[3812,1,{"$f":"IF($B710=1,VLOOKUP(C$2,Table1[],3,0),IF($B710=2,VLOOKUP(C$2,Table1[],4,0),IF($B710=3,VLOOKUP(C$2,Table1[],5,0),IF($B710=4,VLOOKUP(C$2,Table1[],5,0),0))))","v":2000000},{"$f":"IF($B710=1,VLOOKUP(D$2,Table1[],3,0),IF($B710=2,VLOOKUP(D$2,Table1[],4,0),IF($B710=3,VLOOKUP(D$2,Table1[],5,0),IF($B710=4,VLOOKUP(D$2,Table1[],5,0),0))))","v":2000000},{"$f":"IF($B710=1,VLOOKUP(E$2,Table1[],3,0),IF($B710=2,VLOOKUP(E$2,Table1[],4,0),IF($B710=3,VLOOKUP(E$2,Table1[],5,0),IF($B710=4,VLOOKUP(E$2,Table1[],5,0),0))))","v":1500000},{"$f":"IF($B710=1,VLOOKUP(F$2,Table1[],3,0),IF($B710=2,VLOOKUP(F$2,Table1[],4,0),IF($B710=3,VLOOKUP(F$2,Table1[],5,0),IF($B710=4,VLOOKUP(F$2,Table1[],5,0),0))))","v":800000}]
[3814,3,{"$f":"IF($B711=1,VLOOKUP(C$2,Table1[],3,0),IF($B711=2,VLOOKUP(C$2,Table1[],4,0),IF($B711=3,VLOOKUP(C$2,Table1[],5,0),IF($B711=4,VLOOKUP(C$2,Table1[],5,0),0))))","v":500000},{"$f":"IF($B711=1,VLOOKUP(D$2,Table1[],3,0),IF($B711=2,VLOOKUP(D$2,Table1[],4,0),IF($B711=3,VLOOKUP(D$2,Table1[],5,0),IF($B711=4,VLOOKUP(D$2,Table1[],5,0),0))))","v":400000},{"$f":"IF($B711=1,VLOOKUP(E$2,Table1[],3,0),IF($B711=2,VLOOKUP(E$2,Table1[],4,0),IF($B711=3,VLOOKUP(E$2,Table1[],5,0),IF($B711=4,VLOOKUP(E$2,Table1[],5,0),0))))","v":"N/A"},{"$f":"IF($B711=1,VLOOKUP(F$2,Table1[],3,0),IF($B711=2,VLOOKUP(F$2,Table1[],4,0),IF($B711=3,VLOOKUP(F$2,Table1[],5,0),IF($B711=4,VLOOKUP(F$2,Table1[],5,0),0))))","v":"N/A"}]
[3815,3,{"$f":"IF($B712=1,VLOOKUP(C$2,Table1[],3,0),IF($B712=2,VLOOKUP(C$2,Table1[],4,0),IF($B712=3,VLOOKUP(C$2,Table1[],5,0),IF($B712=4,VLOOKUP(C$2,Table1[],5,0),0))))","v":500000},{"$f":"IF($B712=1,VLOOKUP(D$2,Table1[],3,0),IF($B712=2,VLOOKUP(D$2,Table1[],4,0),IF($B712=3,VLOOKUP(D$2,Table1[],5,0),IF($B712=4,VLOOKUP(D$2,Table1[],5,0),0))))","v":400000},{"$f":"IF($B712=1,VLOOKUP(E$2,Table1[],3,0),IF($B712=2,VLOOKUP(E$2,Table1[],4,0),IF($B712=3,VLOOKUP(E$2,Table1[],5,0),IF($B712=4,VLOOKUP(E$2,Table1[],5,0),0))))","v":"N/A"},{"$f":"IF($B712=1,VLOOKUP(F$2,Table1[],3,0),IF($B712=2,VLOOKUP(F$2,Table1[],4,0),IF($B712=3,VLOOKUP(F$2,Table1[],5,0),IF($B712=4,VLOOKUP(F$2,Table1[],5,0),0))))","v":"N/A"}]
[3816,3,{"$f":"IF($B713=1,VLOOKUP(C$2,Table1[],3,0),IF($B713=2,VLOOKUP(C$2,Table1[],4,0),IF($B713=3,VLOOKUP(C$2,Table1[],5,0),IF($B713=4,VLOOKUP(C$2,Table1[],5,0),0))))","v":500000},{"$f":"IF($B713=1,VLOOKUP(D$2,Table1[],3,0),IF($B713=2,VLOOKUP(D$2,Table1[],4,0),IF($B713=3,VLOOKUP(D$2,Table1[],5,0),IF($B713=4,VLOOKUP(D$2,Table1[],5,0),0))))","v":400000},{"$f":"IF($B713=1,VLOOKUP(E$2,Table1[],3,0),IF($B713=2,VLOOKUP(E$2,Table1[],4,0),IF($B713=3,VLOOKUP(E$2,Table1[],5,0),IF($B713=4,VLOOKUP(E$2,Table1[],5,0),0))))","v":"N/A"},{"$f":"IF($B713=1,VLOOKUP(F$2,Table1[],3,0),IF($B713=2,VLOOKUP(F$2,Table1[],4,0),IF($B713=3,VLOOKUP(F$2,Table1[],5,0),IF($B713=4,VLOOKUP(F$2,Table1[],5,0),0))))","v":"N/A"}]
[3818,2,{"$f":"IF($B714=1,VLOOKUP(C$2,Table1[],3,0),IF($B714=2,VLOOKUP(C$2,Table1[],4,0),IF($B714=3,VLOOKUP(C$2,Table1[],5,0),IF($B714=4,VLOOKUP(C$2,Table1[],5,0),0))))","v":1000000},{"$f":"IF($B714=1,VLOOKUP(D$2,Table1[],3,0),IF($B714=2,VLOOKUP(D$2,Table1[],4,0),IF($B714=3,VLOOKUP(D$2,Table1[],5,0),IF($B714=4,VLOOKUP(D$2,Table1[],5,0),0))))","v":1000000},{"$f":"IF($B714=1,VLOOKUP(E$2,Table1[],3,0),IF($B714=2,VLOOKUP(E$2,Table1[],4,0),IF($B714=3,VLOOKUP(E$2,Table1[],5,0),IF($B714=4,VLOOKUP(E$2,Table1[],5,0),0))))","v":750000},{"$f":"IF($B714=1,VLOOKUP(F$2,Table1[],3,0),IF($B714=2,VLOOKUP(F$2,Table1[],4,0),IF($B714=3,VLOOKUP(F$2,Table1[],5,0),IF($B714=4,VLOOKUP(F$2,Table1[],5,0),0))))","v":500000}]
[3820,2,{"$f":"IF($B715=1,VLOOKUP(C$2,Table1[],3,0),IF($B715=2,VLOOKUP(C$2,Table1[],4,0),IF($B715=3,VLOOKUP(C$2,Table1[],5,0),IF($B715=4,VLOOKUP(C$2,Table1[],5,0),0))))","v":1000000},{"$f":"IF($B715=1,VLOOKUP(D$2,Table1[],3,0),IF($B715=2,VLOOKUP(D$2,Table1[],4,0),IF($B715=3,VLOOKUP(D$2,Table1[],5,0),IF($B715=4,VLOOKUP(D$2,Table1[],5,0),0))))","v":1000000},{"$f":"IF($B715=1,VLOOKUP(E$2,Table1[],3,0),IF($B715=2,VLOOKUP(E$2,Table1[],4,0),IF($B715=3,VLOOKUP(E$2,Table1[],5,0),IF($B715=4,VLOOKUP(E$2,Table1[],5,0),0))))","v":750000},{"$f":"IF($B715=1,VLOOKUP(F$2,Table1[],3,0),IF($B715=2,VLOOKUP(F$2,Table1[],4,0),IF($B715=3,VLOOKUP(F$2,Table1[],5,0),IF($B715=4,VLOOKUP(F$2,Table1[],5,0),0))))","v":500000}]
[3823,3,{"$f":"IF($B716=1,VLOOKUP(C$2,Table1[],3,0),IF($B716=2,VLOOKUP(C$2,Table1[],4,0),IF($B716=3,VLOOKUP(C$2,Table1[],5,0),IF($B716=4,VLOOKUP(C$2,Table1[],5,0),0))))","v":500000},{"$f":"IF($B716=1,VLOOKUP(D$2,Table1[],3,0),IF($B716=2,VLOOKUP(D$2,Table1[],4,0),IF($B716=3,VLOOKUP(D$2,Table1[],5,0),IF($B716=4,VLOOKUP(D$2,Table1[],5,0),0))))","v":400000},{"$f":"IF($B716=1,VLOOKUP(E$2,Table1[],3,0),IF($B716=2,VLOOKUP(E$2,Table1[],4,0),IF($B716=3,VLOOKUP(E$2,Table1[],5,0),IF($B716=4,VLOOKUP(E$2,Table1[],5,0),0))))","v":"N/A"},{"$f":"IF($B716=1,VLOOKUP(F$2,Table1[],3,0),IF($B716=2,VLOOKUP(F$2,Table1[],4,0),IF($B716=3,VLOOKUP(F$2,Table1[],5,0),IF($B716=4,VLOOKUP(F$2,Table1[],5,0),0))))","v":"N/A"}]
[3824,3,{"$f":"IF($B717=1,VLOOKUP(C$2,Table1[],3,0),IF($B717=2,VLOOKUP(C$2,Table1[],4,0),IF($B717=3,VLOOKUP(C$2,Table1[],5,0),IF($B717=4,VLOOKUP(C$2,Table1[],5,0),0))))","v":500000},{"$f":"IF($B717=1,VLOOKUP(D$2,Table1[],3,0),IF($B717=2,VLOOKUP(D$2,Table1[],4,0),IF($B717=3,VLOOKUP(D$2,Table1[],5,0),IF($B717=4,VLOOKUP(D$2,Table1[],5,0),0))))","v":400000},{"$f":"IF($B717=1,VLOOKUP(E$2,Table1[],3,0),IF($B717=2,VLOOKUP(E$2,Table1[],4,0),IF($B717=3,VLOOKUP(E$2,Table1[],5,0),IF($B717=4,VLOOKUP(E$2,Table1[],5,0),0))))","v":"N/A"},{"$f":"IF($B717=1,VLOOKUP(F$2,Table1[],3,0),IF($B717=2,VLOOKUP(F$2,Table1[],4,0),IF($B717=3,VLOOKUP(F$2,Table1[],5,0),IF($B717=4,VLOOKUP(F$2,Table1[],5,0),0))))","v":"N/A"}]
[3825,2,{"$f":"IF($B718=1,VLOOKUP(C$2,Table1[],3,0),IF($B718=2,VLOOKUP(C$2,Table1[],4,0),IF($B718=3,VLOOKUP(C$2,Table1[],5,0),IF($B718=4,VLOOKUP(C$2,Table1[],5,0),0))))","v":1000000},{"$f":"IF($B718=1,VLOOKUP(D$2,Table1[],3,0),IF($B718=2,VLOOKUP(D$2,Table1[],4,0),IF($B718=3,VLOOKUP(D$2,Table1[],5,0),IF($B718=4,VLOOKUP(D$2,Table1[],5,0),0))))","v":1000000},{"$f":"IF($B718=1,VLOOKUP(E$2,Table1[],3,0),IF($B718=2,VLOOKUP(E$2,Table1[],4,0),IF($B718=3,VLOOKUP(E$2,Table1[],5,0),IF($B718=4,VLOOKUP(E$2,Table1[],5,0),0))))","v":750000},{"$f":"IF($B718=1,VLOOKUP(F$2,Table1[],3,0),IF($B718=2,VLOOKUP(F$2,Table1[],4,0),IF($B718=3,VLOOKUP(F$2,Table1[],5,0),IF($B718=4,VLOOKUP(F$2,Table1[],5,0),0))))","v":500000}]
[3840,2,{"$f":"IF($B719=1,VLOOKUP(C$2,Table1[],3,0),IF($B719=2,VLOOKUP(C$2,Table1[],4,0),IF($B719=3,VLOOKUP(C$2,Table1[],5,0),IF($B719=4,VLOOKUP(C$2,Table1[],5,0),0))))","v":1000000},{"$f":"IF($B719=1,VLOOKUP(D$2,Table1[],3,0),IF($B719=2,VLOOKUP(D$2,Table1[],4,0),IF($B719=3,VLOOKUP(D$2,Table1[],5,0),IF($B719=4,VLOOKUP(D$2,Table1[],5,0),0))))","v":1000000},{"$f":"IF($B719=1,VLOOKUP(E$2,Table1[],3,0),IF($B719=2,VLOOKUP(E$2,Table1[],4,0),IF($B719=3,VLOOKUP(E$2,Table1[],5,0),IF($B719=4,VLOOKUP(E$2,Table1[],5,0),0))))","v":750000},{"$f":"IF($B719=1,VLOOKUP(F$2,Table1[],3,0),IF($B719=2,VLOOKUP(F$2,Table1[],4,0),IF($B719=3,VLOOKUP(F$2,Table1[],5,0),IF($B719=4,VLOOKUP(F$2,Table1[],5,0),0))))","v":500000}]
[3842,2,{"$f":"IF($B720=1,VLOOKUP(C$2,Table1[],3,0),IF($B720=2,VLOOKUP(C$2,Table1[],4,0),IF($B720=3,VLOOKUP(C$2,Table1[],5,0),IF($B720=4,VLOOKUP(C$2,Table1[],5,0),0))))","v":1000000},{"$f":"IF($B720=1,VLOOKUP(D$2,Table1[],3,0),IF($B720=2,VLOOKUP(D$2,Table1[],4,0),IF($B720=3,VLOOKUP(D$2,Table1[],5,0),IF($B720=4,VLOOKUP(D$2,Table1[],5,0),0))))","v":1000000},{"$f":"IF($B720=1,VLOOKUP(E$2,Table1[],3,0),IF($B720=2,VLOOKUP(E$2,Table1[],4,0),IF($B720=3,VLOOKUP(E$2,Table1[],5,0),IF($B720=4,VLOOKUP(E$2,Table1[],5,0),0))))","v":750000},{"$f":"IF($B720=1,VLOOKUP(F$2,Table1[],3,0),IF($B720=2,VLOOKUP(F$2,Table1[],4,0),IF($B720=3,VLOOKUP(F$2,Table1[],5,0),IF($B720=4,VLOOKUP(F$2,Table1[],5,0),0))))","v":500000}]
[3844,2,{"$f":"IF($B721=1,VLOOKUP(C$2,Table1[],3,0),IF($B721=2,VLOOKUP(C$2,Table1[],4,0),IF($B721=3,VLOOKUP(C$2,Table1[],5,0),IF($B721=4,VLOOKUP(C$2,Table1[],5,0),0))))","v":1000000},{"$f":"IF($B721=1,VLOOKUP(D$2,Table1[],3,0),IF($B721=2,VLOOKUP(D$2,Table1[],4,0),IF($B721=3,VLOOKUP(D$2,Table1[],5,0),IF($B721=4,VLOOKUP(D$2,Table1[],5,0),0))))","v":1000000},{"$f":"IF($B721=1,VLOOKUP(E$2,Table1[],3,0),IF($B721=2,VLOOKUP(E$2,Table1[],4,0),IF($B721=3,VLOOKUP(E$2,Table1[],5,0),IF($B721=4,VLOOKUP(E$2,Table1[],5,0),0))))","v":750000},{"$f":"IF($B721=1,VLOOKUP(F$2,Table1[],3,0),IF($B721=2,VLOOKUP(F$2,Table1[],4,0),IF($B721=3,VLOOKUP(F$2,Table1[],5,0),IF($B721=4,VLOOKUP(F$2,Table1[],5,0),0))))","v":500000}]
[3850,2,{"$f":"IF($B722=1,VLOOKUP(C$2,Table1[],3,0),IF($B722=2,VLOOKUP(C$2,Table1[],4,0),IF($B722=3,VLOOKUP(C$2,Table1[],5,0),IF($B722=4,VLOOKUP(C$2,Table1[],5,0),0))))","v":1000000},{"$f":"IF($B722=1,VLOOKUP(D$2,Table1[],3,0),IF($B722=2,VLOOKUP(D$2,Table1[],4,0),IF($B722=3,VLOOKUP(D$2,Table1[],5,0),IF($B722=4,VLOOKUP(D$2,Table1[],5,0),0))))","v":1000000},{"$f":"IF($B722=1,VLOOKUP(E$2,Table1[],3,0),IF($B722=2,VLOOKUP(E$2,Table1[],4,0),IF($B722=3,VLOOKUP(E$2,Table1[],5,0),IF($B722=4,VLOOKUP(E$2,Table1[],5,0),0))))","v":750000},{"$f":"IF($B722=1,VLOOKUP(F$2,Table1[],3,0),IF($B722=2,VLOOKUP(F$2,Table1[],4,0),IF($B722=3,VLOOKUP(F$2,Table1[],5,0),IF($B722=4,VLOOKUP(F$2,Table1[],5,0),0))))","v":500000}]
[3875,2,{"$f":"IF($B723=1,VLOOKUP(C$2,Table1[],3,0),IF($B723=2,VLOOKUP(C$2,Table1[],4,0),IF($B723=3,VLOOKUP(C$2,Table1[],5,0),IF($B723=4,VLOOKUP(C$2,Table1[],5,0),0))))","v":1000000},{"$f":"IF($B723=1,VLOOKUP(D$2,Table1[],3,0),IF($B723=2,VLOOKUP(D$2,Table1[],4,0),IF($B723=3,VLOOKUP(D$2,Table1[],5,0),IF($B723=4,VLOOKUP(D$2,Table1[],5,0),0))))","v":1000000},{"$f":"IF($B723=1,VLOOKUP(E$2,Table1[],3,0),IF($B723=2,VLOOKUP(E$2,Table1[],4,0),IF($B723=3,VLOOKUP(E$2,Table1[],5,0),IF($B723=4,VLOOKUP(E$2,Table1[],5,0),0))))","v":750000},{"$f":"IF($B723=1,VLOOKUP(F$2,Table1[],3,0),IF($B723=2,VLOOKUP(F$2,Table1[],4,0),IF($B723=3,VLOOKUP(F$2,Table1[],5,0),IF($B723=4,VLOOKUP(F$2,Table1[],5,0),0))))","v":500000}]
[3880,3,{"$f":"IF($B724=1,VLOOKUP(C$2,Table1[],3,0),IF($B724=2,VLOOKUP(C$2,Table1[],4,0),IF($B724=3,VLOOKUP(C$2,Table1[],5,0),IF($B724=4,VLOOKUP(C$2,Table1[],5,0),0))))","v":500000},{"$f":"IF($B724=1,VLOOKUP(D$2,Table1[],3,0),IF($B724=2,VLOOKUP(D$2,Table1[],4,0),IF($B724=3,VLOOKUP(D$2,Table1[],5,0),IF($B724=4,VLOOKUP(D$2,Table1[],5,0),0))))","v":400000},{"$f":"IF($B724=1,VLOOKUP(E$2,Table1[],3,0),IF($B724=2,VLOOKUP(E$2,Table1[],4,0),IF($B724=3,VLOOKUP(E$2,Table1[],5,0),IF($B724=4,VLOOKUP(E$2,Table1[],5,0),0))))","v":"N/A"},{"$f":"IF($B724=1,VLOOKUP(F$2,Table1[],3,0),IF($B724=2,VLOOKUP(F$2,Table1[],4,0),IF($B724=3,VLOOKUP(F$2,Table1[],5,0),IF($B724=4,VLOOKUP(F$2,Table1[],5,0),0))))","v":"N/A"}]
[3909,3,{"$f":"IF($B725=1,VLOOKUP(C$2,Table1[],3,0),IF($B725=2,VLOOKUP(C$2,Table1[],4,0),IF($B725=3,VLOOKUP(C$2,Table1[],5,0),IF($B725=4,VLOOKUP(C$2,Table1[],5,0),0))))","v":500000},{"$f":"IF($B725=1,VLOOKUP(D$2,Table1[],3,0),IF($B725=2,VLOOKUP(D$2,Table1[],4,0),IF($B725=3,VLOOKUP(D$2,Table1[],5,0),IF($B725=4,VLOOKUP(D$2,Table1[],5,0),0))))","v":400000},{"$f":"IF($B725=1,VLOOKUP(E$2,Table1[],3,0),IF($B725=2,VLOOKUP(E$2,Table1[],4,0),IF($B725=3,VLOOKUP(E$2,Table1[],5,0),IF($B725=4,VLOOKUP(E$2,Table1[],5,0),0))))","v":"N/A"},{"$f":"IF($B725=1,VLOOKUP(F$2,Table1[],3,0),IF($B725=2,VLOOKUP(F$2,Table1[],4,0),IF($B725=3,VLOOKUP(F$2,Table1[],5,0),IF($B725=4,VLOOKUP(F$2,Table1[],5,0),0))))","v":"N/A"}]
[3910,1,{"$f":"IF($B726=1,VLOOKUP(C$2,Table1[],3,0),IF($B726=2,VLOOKUP(C$2,Table1[],4,0),IF($B726=3,VLOOKUP(C$2,Table1[],5,0),IF($B726=4,VLOOKUP(C$2,Table1[],5,0),0))))","v":2000000},{"$f":"IF($B726=1,VLOOKUP(D$2,Table1[],3,0),IF($B726=2,VLOOKUP(D$2,Table1[],4,0),IF($B726=3,VLOOKUP(D$2,Table1[],5,0),IF($B726=4,VLOOKUP(D$2,Table1[],5,0),0))))","v":2000000},{"$f":"IF($B726=1,VLOOKUP(E$2,Table1[],3,0),IF($B726=2,VLOOKUP(E$2,Table1[],4,0),IF($B726=3,VLOOKUP(E$2,Table1[],5,0),IF($B726=4,VLOOKUP(E$2,Table1[],5,0),0))))","v":1500000},{"$f":"IF($B726=1,VLOOKUP(F$2,Table1[],3,0),IF($B726=2,VLOOKUP(F$2,Table1[],4,0),IF($B726=3,VLOOKUP(F$2,Table1[],5,0),IF($B726=4,VLOOKUP(F$2,Table1[],5,0),0))))","v":800000}]
[3911,1,{"$f":"IF($B727=1,VLOOKUP(C$2,Table1[],3,0),IF($B727=2,VLOOKUP(C$2,Table1[],4,0),IF($B727=3,VLOOKUP(C$2,Table1[],5,0),IF($B727=4,VLOOKUP(C$2,Table1[],5,0),0))))","v":2000000},{"$f":"IF($B727=1,VLOOKUP(D$2,Table1[],3,0),IF($B727=2,VLOOKUP(D$2,Table1[],4,0),IF($B727=3,VLOOKUP(D$2,Table1[],5,0),IF($B727=4,VLOOKUP(D$2,Table1[],5,0),0))))","v":2000000},{"$f":"IF($B727=1,VLOOKUP(E$2,Table1[],3,0),IF($B727=2,VLOOKUP(E$2,Table1[],4,0),IF($B727=3,VLOOKUP(E$2,Table1[],5,0),IF($B727=4,VLOOKUP(E$2,Table1[],5,0),0))))","v":1500000},{"$f":"IF($B727=1,VLOOKUP(F$2,Table1[],3,0),IF($B727=2,VLOOKUP(F$2,Table1[],4,0),IF($B727=3,VLOOKUP(F$2,Table1[],5,0),IF($B727=4,VLOOKUP(F$2,Table1[],5,0),0))))","v":800000}]
[3912,1,{"$f":"IF($B728=1,VLOOKUP(C$2,Table1[],3,0),IF($B728=2,VLOOKUP(C$2,Table1[],4,0),IF($B728=3,VLOOKUP(C$2,Table1[],5,0),IF($B728=4,VLOOKUP(C$2,Table1[],5,0),0))))","v":2000000},{"$f":"IF($B728=1,VLOOKUP(D$2,Table1[],3,0),IF($B728=2,VLOOKUP(D$2,Table1[],4,0),IF($B728=3,VLOOKUP(D$2,Table1[],5,0),IF($B728=4,VLOOKUP(D$2,Table1[],5,0),0))))","v":2000000},{"$f":"IF($B728=1,VLOOKUP(E$2,Table1[],3,0),IF($B728=2,VLOOKUP(E$2,Table1[],4,0),IF($B728=3,VLOOKUP(E$2,Table1[],5,0),IF($B728=4,VLOOKUP(E$2,Table1[],5,0),0))))","v":1500000},{"$f":"IF($B728=1,VLOOKUP(F$2,Table1[],3,0),IF($B728=2,VLOOKUP(F$2,Table1[],4,0),IF($B728=3,VLOOKUP(F$2,Table1[],5,0),IF($B728=4,VLOOKUP(F$2,Table1[],5,0),0))))","v":800000}]
[3913,1,{"$f":"IF($B729=1,VLOOKUP(C$2,Table1[],3,0),IF($B729=2,VLOOKUP(C$2,Table1[],4,0),IF($B729=3,VLOOKUP(C$2,Table1[],5,0),IF($B729=4,VLOOKUP(C$2,Table1[],5,0),0))))","v":2000000},{"$f":"IF($B729=1,VLOOKUP(D$2,Table1[],3,0),IF($B729=2,VLOOKUP(D$2,Table1[],4,0),IF($B729=3,VLOOKUP(D$2,Table1[],5,0),IF($B729=4,VLOOKUP(D$2,Table1[],5,0),0))))","v":2000000},{"$f":"IF($B729=1,VLOOKUP(E$2,Table1[],3,0),IF($B729=2,VLOOKUP(E$2,Table1[],4,0),IF($B729=3,VLOOKUP(E$2,Table1[],5,0),IF($B729=4,VLOOKUP(E$2,Table1[],5,0),0))))","v":1500000},{"$f":"IF($B729=1,VLOOKUP(F$2,Table1[],3,0),IF($B729=2,VLOOKUP(F$2,Table1[],4,0),IF($B729=3,VLOOKUP(F$2,Table1[],5,0),IF($B729=4,VLOOKUP(F$2,Table1[],5,0),0))))","v":800000}]
[3915,1,{"$f":"IF($B730=1,VLOOKUP(C$2,Table1[],3,0),IF($B730=2,VLOOKUP(C$2,Table1[],4,0),IF($B730=3,VLOOKUP(C$2,Table1[],5,0),IF($B730=4,VLOOKUP(C$2,Table1[],5,0),0))))","v":2000000},{"$f":"IF($B730=1,VLOOKUP(D$2,Table1[],3,0),IF($B730=2,VLOOKUP(D$2,Table1[],4,0),IF($B730=3,VLOOKUP(D$2,Table1[],5,0),IF($B730=4,VLOOKUP(D$2,Table1[],5,0),0))))","v":2000000},{"$f":"IF($B730=1,VLOOKUP(E$2,Table1[],3,0),IF($B730=2,VLOOKUP(E$2,Table1[],4,0),IF($B730=3,VLOOKUP(E$2,Table1[],5,0),IF($B730=4,VLOOKUP(E$2,Table1[],5,0),0))))","v":1500000},{"$f":"IF($B730=1,VLOOKUP(F$2,Table1[],3,0),IF($B730=2,VLOOKUP(F$2,Table1[],4,0),IF($B730=3,VLOOKUP(F$2,Table1[],5,0),IF($B730=4,VLOOKUP(F$2,Table1[],5,0),0))))","v":800000}]
[3916,1,{"$f":"IF($B731=1,VLOOKUP(C$2,Table1[],3,0),IF($B731=2,VLOOKUP(C$2,Table1[],4,0),IF($B731=3,VLOOKUP(C$2,Table1[],5,0),IF($B731=4,VLOOKUP(C$2,Table1[],5,0),0))))","v":2000000},{"$f":"IF($B731=1,VLOOKUP(D$2,Table1[],3,0),IF($B731=2,VLOOKUP(D$2,Table1[],4,0),IF($B731=3,VLOOKUP(D$2,Table1[],5,0),IF($B731=4,VLOOKUP(D$2,Table1[],5,0),0))))","v":2000000},{"$f":"IF($B731=1,VLOOKUP(E$2,Table1[],3,0),IF($B731=2,VLOOKUP(E$2,Table1[],4,0),IF($B731=3,VLOOKUP(E$2,Table1[],5,0),IF($B731=4,VLOOKUP(E$2,Table1[],5,0),0))))","v":1500000},{"$f":"IF($B731=1,VLOOKUP(F$2,Table1[],3,0),IF($B731=2,VLOOKUP(F$2,Table1[],4,0),IF($B731=3,VLOOKUP(F$2,Table1[],5,0),IF($B731=4,VLOOKUP(F$2,Table1[],5,0),0))))","v":800000}]
[3918,1,{"$f":"IF($B732=1,VLOOKUP(C$2,Table1[],3,0),IF($B732=2,VLOOKUP(C$2,Table1[],4,0),IF($B732=3,VLOOKUP(C$2,Table1[],5,0),IF($B732=4,VLOOKUP(C$2,Table1[],5,0),0))))","v":2000000},{"$f":"IF($B732=1,VLOOKUP(D$2,Table1[],3,0),IF($B732=2,VLOOKUP(D$2,Table1[],4,0),IF($B732=3,VLOOKUP(D$2,Table1[],5,0),IF($B732=4,VLOOKUP(D$2,Table1[],5,0),0))))","v":2000000},{"$f":"IF($B732=1,VLOOKUP(E$2,Table1[],3,0),IF($B732=2,VLOOKUP(E$2,Table1[],4,0),IF($B732=3,VLOOKUP(E$2,Table1[],5,0),IF($B732=4,VLOOKUP(E$2,Table1[],5,0),0))))","v":1500000},{"$f":"IF($B732=1,VLOOKUP(F$2,Table1[],3,0),IF($B732=2,VLOOKUP(F$2,Table1[],4,0),IF($B732=3,VLOOKUP(F$2,Table1[],5,0),IF($B732=4,VLOOKUP(F$2,Table1[],5,0),0))))","v":800000}]
[3919,1,{"$f":"IF($B733=1,VLOOKUP(C$2,Table1[],3,0),IF($B733=2,VLOOKUP(C$2,Table1[],4,0),IF($B733=3,VLOOKUP(C$2,Table1[],5,0),IF($B733=4,VLOOKUP(C$2,Table1[],5,0),0))))","v":2000000},{"$f":"IF($B733=1,VLOOKUP(D$2,Table1[],3,0),IF($B733=2,VLOOKUP(D$2,Table1[],4,0),IF($B733=3,VLOOKUP(D$2,Table1[],5,0),IF($B733=4,VLOOKUP(D$2,Table1[],5,0),0))))","v":2000000},{"$f":"IF($B733=1,VLOOKUP(E$2,Table1[],3,0),IF($B733=2,VLOOKUP(E$2,Table1[],4,0),IF($B733=3,VLOOKUP(E$2,Table1[],5,0),IF($B733=4,VLOOKUP(E$2,Table1[],5,0),0))))","v":1500000},{"$f":"IF($B733=1,VLOOKUP(F$2,Table1[],3,0),IF($B733=2,VLOOKUP(F$2,Table1[],4,0),IF($B733=3,VLOOKUP(F$2,Table1[],5,0),IF($B733=4,VLOOKUP(F$2,Table1[],5,0),0))))","v":800000}]
[3921,4,{"$f":"IF($B734=1,VLOOKUP(C$2,Table1[],3,0),IF($B734=2,VLOOKUP(C$2,Table1[],4,0),IF($B734=3,VLOOKUP(C$2,Table1[],5,0),IF($B734=4,VLOOKUP(C$2,Table1[],5,0),0))))","v":500000},{"$f":"IF($B734=1,VLOOKUP(D$2,Table1[],3,0),IF($B734=2,VLOOKUP(D$2,Table1[],4,0),IF($B734=3,VLOOKUP(D$2,Table1[],5,0),IF($B734=4,VLOOKUP(D$2,Table1[],5,0),0))))","v":400000},{"$f":"IF($B734=1,VLOOKUP(E$2,Table1[],3,0),IF($B734=2,VLOOKUP(E$2,Table1[],4,0),IF($B734=3,VLOOKUP(E$2,Table1[],5,0),IF($B734=4,VLOOKUP(E$2,Table1[],5,0),0))))","v":"N/A"},{"$f":"IF($B734=1,VLOOKUP(F$2,Table1[],3,0),IF($B734=2,VLOOKUP(F$2,Table1[],4,0),IF($B734=3,VLOOKUP(F$2,Table1[],5,0),IF($B734=4,VLOOKUP(F$2,Table1[],5,0),0))))","v":"N/A"}]
[3922,2,{"$f":"IF($B735=1,VLOOKUP(C$2,Table1[],3,0),IF($B735=2,VLOOKUP(C$2,Table1[],4,0),IF($B735=3,VLOOKUP(C$2,Table1[],5,0),IF($B735=4,VLOOKUP(C$2,Table1[],5,0),0))))","v":1000000},{"$f":"IF($B735=1,VLOOKUP(D$2,Table1[],3,0),IF($B735=2,VLOOKUP(D$2,Table1[],4,0),IF($B735=3,VLOOKUP(D$2,Table1[],5,0),IF($B735=4,VLOOKUP(D$2,Table1[],5,0),0))))","v":1000000},{"$f":"IF($B735=1,VLOOKUP(E$2,Table1[],3,0),IF($B735=2,VLOOKUP(E$2,Table1[],4,0),IF($B735=3,VLOOKUP(E$2,Table1[],5,0),IF($B735=4,VLOOKUP(E$2,Table1[],5,0),0))))","v":750000},{"$f":"IF($B735=1,VLOOKUP(F$2,Table1[],3,0),IF($B735=2,VLOOKUP(F$2,Table1[],4,0),IF($B735=3,VLOOKUP(F$2,Table1[],5,0),IF($B735=4,VLOOKUP(F$2,Table1[],5,0),0))))","v":500000}]
[3926,1,{"$f":"IF($B736=1,VLOOKUP(C$2,Table1[],3,0),IF($B736=2,VLOOKUP(C$2,Table1[],4,0),IF($B736=3,VLOOKUP(C$2,Table1[],5,0),IF($B736=4,VLOOKUP(C$2,Table1[],5,0),0))))","v":2000000},{"$f":"IF($B736=1,VLOOKUP(D$2,Table1[],3,0),IF($B736=2,VLOOKUP(D$2,Table1[],4,0),IF($B736=3,VLOOKUP(D$2,Table1[],5,0),IF($B736=4,VLOOKUP(D$2,Table1[],5,0),0))))","v":2000000},{"$f":"IF($B736=1,VLOOKUP(E$2,Table1[],3,0),IF($B736=2,VLOOKUP(E$2,Table1[],4,0),IF($B736=3,VLOOKUP(E$2,Table1[],5,0),IF($B736=4,VLOOKUP(E$2,Table1[],5,0),0))))","v":1500000},{"$f":"IF($B736=1,VLOOKUP(F$2,Table1[],3,0),IF($B736=2,VLOOKUP(F$2,Table1[],4,0),IF($B736=3,VLOOKUP(F$2,Table1[],5,0),IF($B736=4,VLOOKUP(F$2,Table1[],5,0),0))))","v":800000}]
[3927,1,{"$f":"IF($B737=1,VLOOKUP(C$2,Table1[],3,0),IF($B737=2,VLOOKUP(C$2,Table1[],4,0),IF($B737=3,VLOOKUP(C$2,Table1[],5,0),IF($B737=4,VLOOKUP(C$2,Table1[],5,0),0))))","v":2000000},{"$f":"IF($B737=1,VLOOKUP(D$2,Table1[],3,0),IF($B737=2,VLOOKUP(D$2,Table1[],4,0),IF($B737=3,VLOOKUP(D$2,Table1[],5,0),IF($B737=4,VLOOKUP(D$2,Table1[],5,0),0))))","v":2000000},{"$f":"IF($B737=1,VLOOKUP(E$2,Table1[],3,0),IF($B737=2,VLOOKUP(E$2,Table1[],4,0),IF($B737=3,VLOOKUP(E$2,Table1[],5,0),IF($B737=4,VLOOKUP(E$2,Table1[],5,0),0))))","v":1500000},{"$f":"IF($B737=1,VLOOKUP(F$2,Table1[],3,0),IF($B737=2,VLOOKUP(F$2,Table1[],4,0),IF($B737=3,VLOOKUP(F$2,Table1[],5,0),IF($B737=4,VLOOKUP(F$2,Table1[],5,0),0))))","v":800000}]
[3928,1,{"$f":"IF($B738=1,VLOOKUP(C$2,Table1[],3,0),IF($B738=2,VLOOKUP(C$2,Table1[],4,0),IF($B738=3,VLOOKUP(C$2,Table1[],5,0),IF($B738=4,VLOOKUP(C$2,Table1[],5,0),0))))","v":2000000},{"$f":"IF($B738=1,VLOOKUP(D$2,Table1[],3,0),IF($B738=2,VLOOKUP(D$2,Table1[],4,0),IF($B738=3,VLOOKUP(D$2,Table1[],5,0),IF($B738=4,VLOOKUP(D$2,Table1[],5,0),0))))","v":2000000},{"$f":"IF($B738=1,VLOOKUP(E$2,Table1[],3,0),IF($B738=2,VLOOKUP(E$2,Table1[],4,0),IF($B738=3,VLOOKUP(E$2,Table1[],5,0),IF($B738=4,VLOOKUP(E$2,Table1[],5,0),0))))","v":1500000},{"$f":"IF($B738=1,VLOOKUP(F$2,Table1[],3,0),IF($B738=2,VLOOKUP(F$2,Table1[],4,0),IF($B738=3,VLOOKUP(F$2,Table1[],5,0),IF($B738=4,VLOOKUP(F$2,Table1[],5,0),0))))","v":800000}]
[3929,1,{"$f":"IF($B739=1,VLOOKUP(C$2,Table1[],3,0),IF($B739=2,VLOOKUP(C$2,Table1[],4,0),IF($B739=3,VLOOKUP(C$2,Table1[],5,0),IF($B739=4,VLOOKUP(C$2,Table1[],5,0),0))))","v":2000000},{"$f":"IF($B739=1,VLOOKUP(D$2,Table1[],3,0),IF($B739=2,VLOOKUP(D$2,Table1[],4,0),IF($B739=3,VLOOKUP(D$2,Table1[],5,0),IF($B739=4,VLOOKUP(D$2,Table1[],5,0),0))))","v":2000000},{"$f":"IF($B739=1,VLOOKUP(E$2,Table1[],3,0),IF($B739=2,VLOOKUP(E$2,Table1[],4,0),IF($B739=3,VLOOKUP(E$2,Table1[],5,0),IF($B739=4,VLOOKUP(E$2,Table1[],5,0),0))))","v":1500000},{"$f":"IF($B739=1,VLOOKUP(F$2,Table1[],3,0),IF($B739=2,VLOOKUP(F$2,Table1[],4,0),IF($B739=3,VLOOKUP(F$2,Table1[],5,0),IF($B739=4,VLOOKUP(F$2,Table1[],5,0),0))))","v":800000}]
[3930,1,{"$f":"IF($B740=1,VLOOKUP(C$2,Table1[],3,0),IF($B740=2,VLOOKUP(C$2,Table1[],4,0),IF($B740=3,VLOOKUP(C$2,Table1[],5,0),IF($B740=4,VLOOKUP(C$2,Table1[],5,0),0))))","v":2000000},{"$f":"IF($B740=1,VLOOKUP(D$2,Table1[],3,0),IF($B740=2,VLOOKUP(D$2,Table1[],4,0),IF($B740=3,VLOOKUP(D$2,Table1[],5,0),IF($B740=4,VLOOKUP(D$2,Table1[],5,0),0))))","v":2000000},{"$f":"IF($B740=1,VLOOKUP(E$2,Table1[],3,0),IF($B740=2,VLOOKUP(E$2,Table1[],4,0),IF($B740=3,VLOOKUP(E$2,Table1[],5,0),IF($B740=4,VLOOKUP(E$2,Table1[],5,0),0))))","v":1500000},{"$f":"IF($B740=1,VLOOKUP(F$2,Table1[],3,0),IF($B740=2,VLOOKUP(F$2,Table1[],4,0),IF($B740=3,VLOOKUP(F$2,Table1[],5,0),IF($B740=4,VLOOKUP(F$2,Table1[],5,0),0))))","v":800000}]
[3931,1,{"$f":"IF($B741=1,VLOOKUP(C$2,Table1[],3,0),IF($B741=2,VLOOKUP(C$2,Table1[],4,0),IF($B741=3,VLOOKUP(C$2,Table1[],5,0),IF($B741=4,VLOOKUP(C$2,Table1[],5,0),0))))","v":2000000},{"$f":"IF($B741=1,VLOOKUP(D$2,Table1[],3,0),IF($B741=2,VLOOKUP(D$2,Table1[],4,0),IF($B741=3,VLOOKUP(D$2,Table1[],5,0),IF($B741=4,VLOOKUP(D$2,Table1[],5,0),0))))","v":2000000},{"$f":"IF($B741=1,VLOOKUP(E$2,Table1[],3,0),IF($B741=2,VLOOKUP(E$2,Table1[],4,0),IF($B741=3,VLOOKUP(E$2,Table1[],5,0),IF($B741=4,VLOOKUP(E$2,Table1[],5,0),0))))","v":1500000},{"$f":"IF($B741=1,VLOOKUP(F$2,Table1[],3,0),IF($B741=2,VLOOKUP(F$2,Table1[],4,0),IF($B741=3,VLOOKUP(F$2,Table1[],5,0),IF($B741=4,VLOOKUP(F$2,Table1[],5,0),0))))","v":800000}]
[3933,1,{"$f":"IF($B742=1,VLOOKUP(C$2,Table1[],3,0),IF($B742=2,VLOOKUP(C$2,Table1[],4,0),IF($B742=3,VLOOKUP(C$2,Table1[],5,0),IF($B742=4,VLOOKUP(C$2,Table1[],5,0),0))))","v":2000000},{"$f":"IF($B742=1,VLOOKUP(D$2,Table1[],3,0),IF($B742=2,VLOOKUP(D$2,Table1[],4,0),IF($B742=3,VLOOKUP(D$2,Table1[],5,0),IF($B742=4,VLOOKUP(D$2,Table1[],5,0),0))))","v":2000000},{"$f":"IF($B742=1,VLOOKUP(E$2,Table1[],3,0),IF($B742=2,VLOOKUP(E$2,Table1[],4,0),IF($B742=3,VLOOKUP(E$2,Table1[],5,0),IF($B742=4,VLOOKUP(E$2,Table1[],5,0),0))))","v":1500000},{"$f":"IF($B742=1,VLOOKUP(F$2,Table1[],3,0),IF($B742=2,VLOOKUP(F$2,Table1[],4,0),IF($B742=3,VLOOKUP(F$2,Table1[],5,0),IF($B742=4,VLOOKUP(F$2,Table1[],5,0),0))))","v":800000}]
[3934,1,{"$f":"IF($B743=1,VLOOKUP(C$2,Table1[],3,0),IF($B743=2,VLOOKUP(C$2,Table1[],4,0),IF($B743=3,VLOOKUP(C$2,Table1[],5,0),IF($B743=4,VLOOKUP(C$2,Table1[],5,0),0))))","v":2000000},{"$f":"IF($B743=1,VLOOKUP(D$2,Table1[],3,0),IF($B743=2,VLOOKUP(D$2,Table1[],4,0),IF($B743=3,VLOOKUP(D$2,Table1[],5,0),IF($B743=4,VLOOKUP(D$2,Table1[],5,0),0))))","v":2000000},{"$f":"IF($B743=1,VLOOKUP(E$2,Table1[],3,0),IF($B743=2,VLOOKUP(E$2,Table1[],4,0),IF($B743=3,VLOOKUP(E$2,Table1[],5,0),IF($B743=4,VLOOKUP(E$2,Table1[],5,0),0))))","v":1500000},{"$f":"IF($B743=1,VLOOKUP(F$2,Table1[],3,0),IF($B743=2,VLOOKUP(F$2,Table1[],4,0),IF($B743=3,VLOOKUP(F$2,Table1[],5,0),IF($B743=4,VLOOKUP(F$2,Table1[],5,0),0))))","v":800000}]
[3936,1,{"$f":"IF($B744=1,VLOOKUP(C$2,Table1[],3,0),IF($B744=2,VLOOKUP(C$2,Table1[],4,0),IF($B744=3,VLOOKUP(C$2,Table1[],5,0),IF($B744=4,VLOOKUP(C$2,Table1[],5,0),0))))","v":2000000},{"$f":"IF($B744=1,VLOOKUP(D$2,Table1[],3,0),IF($B744=2,VLOOKUP(D$2,Table1[],4,0),IF($B744=3,VLOOKUP(D$2,Table1[],5,0),IF($B744=4,VLOOKUP(D$2,Table1[],5,0),0))))","v":2000000},{"$f":"IF($B744=1,VLOOKUP(E$2,Table1[],3,0),IF($B744=2,VLOOKUP(E$2,Table1[],4,0),IF($B744=3,VLOOKUP(E$2,Table1[],5,0),IF($B744=4,VLOOKUP(E$2,Table1[],5,0),0))))","v":1500000},{"$f":"IF($B744=1,VLOOKUP(F$2,Table1[],3,0),IF($B744=2,VLOOKUP(F$2,Table1[],4,0),IF($B744=3,VLOOKUP(F$2,Table1[],5,0),IF($B744=4,VLOOKUP(F$2,Table1[],5,0),0))))","v":800000}]
[3937,1,{"$f":"IF($B745=1,VLOOKUP(C$2,Table1[],3,0),IF($B745=2,VLOOKUP(C$2,Table1[],4,0),IF($B745=3,VLOOKUP(C$2,Table1[],5,0),IF($B745=4,VLOOKUP(C$2,Table1[],5,0),0))))","v":2000000},{"$f":"IF($B745=1,VLOOKUP(D$2,Table1[],3,0),IF($B745=2,VLOOKUP(D$2,Table1[],4,0),IF($B745=3,VLOOKUP(D$2,Table1[],5,0),IF($B745=4,VLOOKUP(D$2,Table1[],5,0),0))))","v":2000000},{"$f":"IF($B745=1,VLOOKUP(E$2,Table1[],3,0),IF($B745=2,VLOOKUP(E$2,Table1[],4,0),IF($B745=3,VLOOKUP(E$2,Table1[],5,0),IF($B745=4,VLOOKUP(E$2,Table1[],5,0),0))))","v":1500000},{"$f":"IF($B745=1,VLOOKUP(F$2,Table1[],3,0),IF($B745=2,VLOOKUP(F$2,Table1[],4,0),IF($B745=3,VLOOKUP(F$2,Table1[],5,0),IF($B745=4,VLOOKUP(F$2,Table1[],5,0),0))))","v":800000}]
[3938,1,{"$f":"IF($B746=1,VLOOKUP(C$2,Table1[],3,0),IF($B746=2,VLOOKUP(C$2,Table1[],4,0),IF($B746=3,VLOOKUP(C$2,Table1[],5,0),IF($B746=4,VLOOKUP(C$2,Table1[],5,0),0))))","v":2000000},{"$f":"IF($B746=1,VLOOKUP(D$2,Table1[],3,0),IF($B746=2,VLOOKUP(D$2,Table1[],4,0),IF($B746=3,VLOOKUP(D$2,Table1[],5,0),IF($B746=4,VLOOKUP(D$2,Table1[],5,0),0))))","v":2000000},{"$f":"IF($B746=1,VLOOKUP(E$2,Table1[],3,0),IF($B746=2,VLOOKUP(E$2,Table1[],4,0),IF($B746=3,VLOOKUP(E$2,Table1[],5,0),IF($B746=4,VLOOKUP(E$2,Table1[],5,0),0))))","v":1500000},{"$f":"IF($B746=1,VLOOKUP(F$2,Table1[],3,0),IF($B746=2,VLOOKUP(F$2,Table1[],4,0),IF($B746=3,VLOOKUP(F$2,Table1[],5,0),IF($B746=4,VLOOKUP(F$2,Table1[],5,0),0))))","v":800000}]
[3939,1,{"$f":"IF($B747=1,VLOOKUP(C$2,Table1[],3,0),IF($B747=2,VLOOKUP(C$2,Table1[],4,0),IF($B747=3,VLOOKUP(C$2,Table1[],5,0),IF($B747=4,VLOOKUP(C$2,Table1[],5,0),0))))","v":2000000},{"$f":"IF($B747=1,VLOOKUP(D$2,Table1[],3,0),IF($B747=2,VLOOKUP(D$2,Table1[],4,0),IF($B747=3,VLOOKUP(D$2,Table1[],5,0),IF($B747=4,VLOOKUP(D$2,Table1[],5,0),0))))","v":2000000},{"$f":"IF($B747=1,VLOOKUP(E$2,Table1[],3,0),IF($B747=2,VLOOKUP(E$2,Table1[],4,0),IF($B747=3,VLOOKUP(E$2,Table1[],5,0),IF($B747=4,VLOOKUP(E$2,Table1[],5,0),0))))","v":1500000},{"$f":"IF($B747=1,VLOOKUP(F$2,Table1[],3,0),IF($B747=2,VLOOKUP(F$2,Table1[],4,0),IF($B747=3,VLOOKUP(F$2,Table1[],5,0),IF($B747=4,VLOOKUP(F$2,Table1[],5,0),0))))","v":800000}]
[3940,1,{"$f":"IF($B748=1,VLOOKUP(C$2,Table1[],3,0),IF($B748=2,VLOOKUP(C$2,Table1[],4,0),IF($B748=3,VLOOKUP(C$2,Table1[],5,0),IF($B748=4,VLOOKUP(C$2,Table1[],5,0),0))))","v":2000000},{"$f":"IF($B748=1,VLOOKUP(D$2,Table1[],3,0),IF($B748=2,VLOOKUP(D$2,Table1[],4,0),IF($B748=3,VLOOKUP(D$2,Table1[],5,0),IF($B748=4,VLOOKUP(D$2,Table1[],5,0),0))))","v":2000000},{"$f":"IF($B748=1,VLOOKUP(E$2,Table1[],3,0),IF($B748=2,VLOOKUP(E$2,Table1[],4,0),IF($B748=3,VLOOKUP(E$2,Table1[],5,0),IF($B748=4,VLOOKUP(E$2,Table1[],5,0),0))))","v":1500000},{"$f":"IF($B748=1,VLOOKUP(F$2,Table1[],3,0),IF($B748=2,VLOOKUP(F$2,Table1[],4,0),IF($B748=3,VLOOKUP(F$2,Table1[],5,0),IF($B748=4,VLOOKUP(F$2,Table1[],5,0),0))))","v":800000}]
[3941,1,{"$f":"IF($B749=1,VLOOKUP(C$2,Table1[],3,0),IF($B749=2,VLOOKUP(C$2,Table1[],4,0),IF($B749=3,VLOOKUP(C$2,Table1[],5,0),IF($B749=4,VLOOKUP(C$2,Table1[],5,0),0))))","v":2000000},{"$f":"IF($B749=1,VLOOKUP(D$2,Table1[],3,0),IF($B749=2,VLOOKUP(D$2,Table1[],4,0),IF($B749=3,VLOOKUP(D$2,Table1[],5,0),IF($B749=4,VLOOKUP(D$2,Table1[],5,0),0))))","v":2000000},{"$f":"IF($B749=1,VLOOKUP(E$2,Table1[],3,0),IF($B749=2,VLOOKUP(E$2,Table1[],4,0),IF($B749=3,VLOOKUP(E$2,Table1[],5,0),IF($B749=4,VLOOKUP(E$2,Table1[],5,0),0))))","v":1500000},{"$f":"IF($B749=1,VLOOKUP(F$2,Table1[],3,0),IF($B749=2,VLOOKUP(F$2,Table1[],4,0),IF($B749=3,VLOOKUP(F$2,Table1[],5,0),IF($B749=4,VLOOKUP(F$2,Table1[],5,0),0))))","v":800000}]
[3942,1,{"$f":"IF($B750=1,VLOOKUP(C$2,Table1[],3,0),IF($B750=2,VLOOKUP(C$2,Table1[],4,0),IF($B750=3,VLOOKUP(C$2,Table1[],5,0),IF($B750=4,VLOOKUP(C$2,Table1[],5,0),0))))","v":2000000},{"$f":"IF($B750=1,VLOOKUP(D$2,Table1[],3,0),IF($B750=2,VLOOKUP(D$2,Table1[],4,0),IF($B750=3,VLOOKUP(D$2,Table1[],5,0),IF($B750=4,VLOOKUP(D$2,Table1[],5,0),0))))","v":2000000},{"$f":"IF($B750=1,VLOOKUP(E$2,Table1[],3,0),IF($B750=2,VLOOKUP(E$2,Table1[],4,0),IF($B750=3,VLOOKUP(E$2,Table1[],5,0),IF($B750=4,VLOOKUP(E$2,Table1[],5,0),0))))","v":1500000},{"$f":"IF($B750=1,VLOOKUP(F$2,Table1[],3,0),IF($B750=2,VLOOKUP(F$2,Table1[],4,0),IF($B750=3,VLOOKUP(F$2,Table1[],5,0),IF($B750=4,VLOOKUP(F$2,Table1[],5,0),0))))","v":800000}]
[3943,1,{"$f":"IF($B751=1,VLOOKUP(C$2,Table1[],3,0),IF($B751=2,VLOOKUP(C$2,Table1[],4,0),IF($B751=3,VLOOKUP(C$2,Table1[],5,0),IF($B751=4,VLOOKUP(C$2,Table1[],5,0),0))))","v":2000000},{"$f":"IF($B751=1,VLOOKUP(D$2,Table1[],3,0),IF($B751=2,VLOOKUP(D$2,Table1[],4,0),IF($B751=3,VLOOKUP(D$2,Table1[],5,0),IF($B751=4,VLOOKUP(D$2,Table1[],5,0),0))))","v":2000000},{"$f":"IF($B751=1,VLOOKUP(E$2,Table1[],3,0),IF($B751=2,VLOOKUP(E$2,Table1[],4,0),IF($B751=3,VLOOKUP(E$2,Table1[],5,0),IF($B751=4,VLOOKUP(E$2,Table1[],5,0),0))))","v":1500000},{"$f":"IF($B751=1,VLOOKUP(F$2,Table1[],3,0),IF($B751=2,VLOOKUP(F$2,Table1[],4,0),IF($B751=3,VLOOKUP(F$2,Table1[],5,0),IF($B751=4,VLOOKUP(F$2,Table1[],5,0),0))))","v":800000}]
[3944,1,{"$f":"IF($B752=1,VLOOKUP(C$2,Table1[],3,0),IF($B752=2,VLOOKUP(C$2,Table1[],4,0),IF($B752=3,VLOOKUP(C$2,Table1[],5,0),IF($B752=4,VLOOKUP(C$2,Table1[],5,0),0))))","v":2000000},{"$f":"IF($B752=1,VLOOKUP(D$2,Table1[],3,0),IF($B752=2,VLOOKUP(D$2,Table1[],4,0),IF($B752=3,VLOOKUP(D$2,Table1[],5,0),IF($B752=4,VLOOKUP(D$2,Table1[],5,0),0))))","v":2000000},{"$f":"IF($B752=1,VLOOKUP(E$2,Table1[],3,0),IF($B752=2,VLOOKUP(E$2,Table1[],4,0),IF($B752=3,VLOOKUP(E$2,Table1[],5,0),IF($B752=4,VLOOKUP(E$2,Table1[],5,0),0))))","v":1500000},{"$f":"IF($B752=1,VLOOKUP(F$2,Table1[],3,0),IF($B752=2,VLOOKUP(F$2,Table1[],4,0),IF($B752=3,VLOOKUP(F$2,Table1[],5,0),IF($B752=4,VLOOKUP(F$2,Table1[],5,0),0))))","v":800000}]
[3975,1,{"$f":"IF($B753=1,VLOOKUP(C$2,Table1[],3,0),IF($B753=2,VLOOKUP(C$2,Table1[],4,0),IF($B753=3,VLOOKUP(C$2,Table1[],5,0),IF($B753=4,VLOOKUP(C$2,Table1[],5,0),0))))","v":2000000},{"$f":"IF($B753=1,VLOOKUP(D$2,Table1[],3,0),IF($B753=2,VLOOKUP(D$2,Table1[],4,0),IF($B753=3,VLOOKUP(D$2,Table1[],5,0),IF($B753=4,VLOOKUP(D$2,Table1[],5,0),0))))","v":2000000},{"$f":"IF($B753=1,VLOOKUP(E$2,Table1[],3,0),IF($B753=2,VLOOKUP(E$2,Table1[],4,0),IF($B753=3,VLOOKUP(E$2,Table1[],5,0),IF($B753=4,VLOOKUP(E$2,Table1[],5,0),0))))","v":1500000},{"$f":"IF($B753=1,VLOOKUP(F$2,Table1[],3,0),IF($B753=2,VLOOKUP(F$2,Table1[],4,0),IF($B753=3,VLOOKUP(F$2,Table1[],5,0),IF($B753=4,VLOOKUP(F$2,Table1[],5,0),0))))","v":800000}]
[3976,1,{"$f":"IF($B754=1,VLOOKUP(C$2,Table1[],3,0),IF($B754=2,VLOOKUP(C$2,Table1[],4,0),IF($B754=3,VLOOKUP(C$2,Table1[],5,0),IF($B754=4,VLOOKUP(C$2,Table1[],5,0),0))))","v":2000000},{"$f":"IF($B754=1,VLOOKUP(D$2,Table1[],3,0),IF($B754=2,VLOOKUP(D$2,Table1[],4,0),IF($B754=3,VLOOKUP(D$2,Table1[],5,0),IF($B754=4,VLOOKUP(D$2,Table1[],5,0),0))))","v":2000000},{"$f":"IF($B754=1,VLOOKUP(E$2,Table1[],3,0),IF($B754=2,VLOOKUP(E$2,Table1[],4,0),IF($B754=3,VLOOKUP(E$2,Table1[],5,0),IF($B754=4,VLOOKUP(E$2,Table1[],5,0),0))))","v":1500000},{"$f":"IF($B754=1,VLOOKUP(F$2,Table1[],3,0),IF($B754=2,VLOOKUP(F$2,Table1[],4,0),IF($B754=3,VLOOKUP(F$2,Table1[],5,0),IF($B754=4,VLOOKUP(F$2,Table1[],5,0),0))))","v":800000}]
[3977,1,{"$f":"IF($B755=1,VLOOKUP(C$2,Table1[],3,0),IF($B755=2,VLOOKUP(C$2,Table1[],4,0),IF($B755=3,VLOOKUP(C$2,Table1[],5,0),IF($B755=4,VLOOKUP(C$2,Table1[],5,0),0))))","v":2000000},{"$f":"IF($B755=1,VLOOKUP(D$2,Table1[],3,0),IF($B755=2,VLOOKUP(D$2,Table1[],4,0),IF($B755=3,VLOOKUP(D$2,Table1[],5,0),IF($B755=4,VLOOKUP(D$2,Table1[],5,0),0))))","v":2000000},{"$f":"IF($B755=1,VLOOKUP(E$2,Table1[],3,0),IF($B755=2,VLOOKUP(E$2,Table1[],4,0),IF($B755=3,VLOOKUP(E$2,Table1[],5,0),IF($B755=4,VLOOKUP(E$2,Table1[],5,0),0))))","v":1500000},{"$f":"IF($B755=1,VLOOKUP(F$2,Table1[],3,0),IF($B755=2,VLOOKUP(F$2,Table1[],4,0),IF($B755=3,VLOOKUP(F$2,Table1[],5,0),IF($B755=4,VLOOKUP(F$2,Table1[],5,0),0))))","v":800000}]
[3978,1,{"$f":"IF($B756=1,VLOOKUP(C$2,Table1[],3,0),IF($B756=2,VLOOKUP(C$2,Table1[],4,0),IF($B756=3,VLOOKUP(C$2,Table1[],5,0),IF($B756=4,VLOOKUP(C$2,Table1[],5,0),0))))","v":2000000},{"$f":"IF($B756=1,VLOOKUP(D$2,Table1[],3,0),IF($B756=2,VLOOKUP(D$2,Table1[],4,0),IF($B756=3,VLOOKUP(D$2,Table1[],5,0),IF($B756=4,VLOOKUP(D$2,Table1[],5,0),0))))","v":2000000},{"$f":"IF($B756=1,VLOOKUP(E$2,Table1[],3,0),IF($B756=2,VLOOKUP(E$2,Table1[],4,0),IF($B756=3,VLOOKUP(E$2,Table1[],5,0),IF($B756=4,VLOOKUP(E$2,Table1[],5,0),0))))","v":1500000},{"$f":"IF($B756=1,VLOOKUP(F$2,Table1[],3,0),IF($B756=2,VLOOKUP(F$2,Table1[],4,0),IF($B756=3,VLOOKUP(F$2,Table1[],5,0),IF($B756=4,VLOOKUP(F$2,Table1[],5,0),0))))","v":800000}]
[3980,2,{"$f":"IF($B757=1,VLOOKUP(C$2,Table1[],3,0),IF($B757=2,VLOOKUP(C$2,Table1[],4,0),IF($B757=3,VLOOKUP(C$2,Table1[],5,0),IF($B757=4,VLOOKUP(C$2,Table1[],5,0),0))))","v":1000000},{"$f":"IF($B757=1,VLOOKUP(D$2,Table1[],3,0),IF($B757=2,VLOOKUP(D$2,Table1[],4,0),IF($B757=3,VLOOKUP(D$2,Table1[],5,0),IF($B757=4,VLOOKUP(D$2,Table1[],5,0),0))))","v":1000000},{"$f":"IF($B757=1,VLOOKUP(E$2,Table1[],3,0),IF($B757=2,VLOOKUP(E$2,Table1[],4,0),IF($B757=3,VLOOKUP(E$2,Table1[],5,0),IF($B757=4,VLOOKUP(E$2,Table1[],5,0),0))))","v":750000},{"$f":"IF($B757=1,VLOOKUP(F$2,Table1[],3,0),IF($B757=2,VLOOKUP(F$2,Table1[],4,0),IF($B757=3,VLOOKUP(F$2,Table1[],5,0),IF($B757=4,VLOOKUP(F$2,Table1[],5,0),0))))","v":500000}]
[3981,3,{"$f":"IF($B758=1,VLOOKUP(C$2,Table1[],3,0),IF($B758=2,VLOOKUP(C$2,Table1[],4,0),IF($B758=3,VLOOKUP(C$2,Table1[],5,0),IF($B758=4,VLOOKUP(C$2,Table1[],5,0),0))))","v":500000},{"$f":"IF($B758=1,VLOOKUP(D$2,Table1[],3,0),IF($B758=2,VLOOKUP(D$2,Table1[],4,0),IF($B758=3,VLOOKUP(D$2,Table1[],5,0),IF($B758=4,VLOOKUP(D$2,Table1[],5,0),0))))","v":400000},{"$f":"IF($B758=1,VLOOKUP(E$2,Table1[],3,0),IF($B758=2,VLOOKUP(E$2,Table1[],4,0),IF($B758=3,VLOOKUP(E$2,Table1[],5,0),IF($B758=4,VLOOKUP(E$2,Table1[],5,0),0))))","v":"N/A"},{"$f":"IF($B758=1,VLOOKUP(F$2,Table1[],3,0),IF($B758=2,VLOOKUP(F$2,Table1[],4,0),IF($B758=3,VLOOKUP(F$2,Table1[],5,0),IF($B758=4,VLOOKUP(F$2,Table1[],5,0),0))))","v":"N/A"}]
[3995,2,{"$f":"IF($B759=1,VLOOKUP(C$2,Table1[],3,0),IF($B759=2,VLOOKUP(C$2,Table1[],4,0),IF($B759=3,VLOOKUP(C$2,Table1[],5,0),IF($B759=4,VLOOKUP(C$2,Table1[],5,0),0))))","v":1000000},{"$f":"IF($B759=1,VLOOKUP(D$2,Table1[],3,0),IF($B759=2,VLOOKUP(D$2,Table1[],4,0),IF($B759=3,VLOOKUP(D$2,Table1[],5,0),IF($B759=4,VLOOKUP(D$2,Table1[],5,0),0))))","v":1000000},{"$f":"IF($B759=1,VLOOKUP(E$2,Table1[],3,0),IF($B759=2,VLOOKUP(E$2,Table1[],4,0),IF($B759=3,VLOOKUP(E$2,Table1[],5,0),IF($B759=4,VLOOKUP(E$2,Table1[],5,0),0))))","v":750000},{"$f":"IF($B759=1,VLOOKUP(F$2,Table1[],3,0),IF($B759=2,VLOOKUP(F$2,Table1[],4,0),IF($B759=3,VLOOKUP(F$2,Table1[],5,0),IF($B759=4,VLOOKUP(F$2,Table1[],5,0),0))))","v":500000}]
[3996,2,{"$f":"IF($B760=1,VLOOKUP(C$2,Table1[],3,0),IF($B760=2,VLOOKUP(C$2,Table1[],4,0),IF($B760=3,VLOOKUP(C$2,Table1[],5,0),IF($B760=4,VLOOKUP(C$2,Table1[],5,0),0))))","v":1000000},{"$f":"IF($B760=1,VLOOKUP(D$2,Table1[],3,0),IF($B760=2,VLOOKUP(D$2,Table1[],4,0),IF($B760=3,VLOOKUP(D$2,Table1[],5,0),IF($B760=4,VLOOKUP(D$2,Table1[],5,0),0))))","v":1000000},{"$f":"IF($B760=1,VLOOKUP(E$2,Table1[],3,0),IF($B760=2,VLOOKUP(E$2,Table1[],4,0),IF($B760=3,VLOOKUP(E$2,Table1[],5,0),IF($B760=4,VLOOKUP(E$2,Table1[],5,0),0))))","v":750000},{"$f":"IF($B760=1,VLOOKUP(F$2,Table1[],3,0),IF($B760=2,VLOOKUP(F$2,Table1[],4,0),IF($B760=3,VLOOKUP(F$2,Table1[],5,0),IF($B760=4,VLOOKUP(F$2,Table1[],5,0),0))))","v":500000}]
[4000,1,{"$f":"IF($B761=1,VLOOKUP(C$2,Table1[],3,0),IF($B761=2,VLOOKUP(C$2,Table1[],4,0),IF($B761=3,VLOOKUP(C$2,Table1[],5,0),IF($B761=4,VLOOKUP(C$2,Table1[],5,0),0))))","v":2000000},{"$f":"IF($B761=1,VLOOKUP(D$2,Table1[],3,0),IF($B761=2,VLOOKUP(D$2,Table1[],4,0),IF($B761=3,VLOOKUP(D$2,Table1[],5,0),IF($B761=4,VLOOKUP(D$2,Table1[],5,0),0))))","v":2000000},{"$f":"IF($B761=1,VLOOKUP(E$2,Table1[],3,0),IF($B761=2,VLOOKUP(E$2,Table1[],4,0),IF($B761=3,VLOOKUP(E$2,Table1[],5,0),IF($B761=4,VLOOKUP(E$2,Table1[],5,0),0))))","v":1500000},{"$f":"IF($B761=1,VLOOKUP(F$2,Table1[],3,0),IF($B761=2,VLOOKUP(F$2,Table1[],4,0),IF($B761=3,VLOOKUP(F$2,Table1[],5,0),IF($B761=4,VLOOKUP(F$2,Table1[],5,0),0))))","v":800000}]
[4005,1,{"$f":"IF($B762=1,VLOOKUP(C$2,Table1[],3,0),IF($B762=2,VLOOKUP(C$2,Table1[],4,0),IF($B762=3,VLOOKUP(C$2,Table1[],5,0),IF($B762=4,VLOOKUP(C$2,Table1[],5,0),0))))","v":2000000},{"$f":"IF($B762=1,VLOOKUP(D$2,Table1[],3,0),IF($B762=2,VLOOKUP(D$2,Table1[],4,0),IF($B762=3,VLOOKUP(D$2,Table1[],5,0),IF($B762=4,VLOOKUP(D$2,Table1[],5,0),0))))","v":2000000},{"$f":"IF($B762=1,VLOOKUP(E$2,Table1[],3,0),IF($B762=2,VLOOKUP(E$2,Table1[],4,0),IF($B762=3,VLOOKUP(E$2,Table1[],5,0),IF($B762=4,VLOOKUP(E$2,Table1[],5,0),0))))","v":1500000},{"$f":"IF($B762=1,VLOOKUP(F$2,Table1[],3,0),IF($B762=2,VLOOKUP(F$2,Table1[],4,0),IF($B762=3,VLOOKUP(F$2,Table1[],5,0),IF($B762=4,VLOOKUP(F$2,Table1[],5,0),0))))","v":800000}]
[4006,1,{"$f":"IF($B763=1,VLOOKUP(C$2,Table1[],3,0),IF($B763=2,VLOOKUP(C$2,Table1[],4,0),IF($B763=3,VLOOKUP(C$2,Table1[],5,0),IF($B763=4,VLOOKUP(C$2,Table1[],5,0),0))))","v":2000000},{"$f":"IF($B763=1,VLOOKUP(D$2,Table1[],3,0),IF($B763=2,VLOOKUP(D$2,Table1[],4,0),IF($B763=3,VLOOKUP(D$2,Table1[],5,0),IF($B763=4,VLOOKUP(D$2,Table1[],5,0),0))))","v":2000000},{"$f":"IF($B763=1,VLOOKUP(E$2,Table1[],3,0),IF($B763=2,VLOOKUP(E$2,Table1[],4,0),IF($B763=3,VLOOKUP(E$2,Table1[],5,0),IF($B763=4,VLOOKUP(E$2,Table1[],5,0),0))))","v":1500000},{"$f":"IF($B763=1,VLOOKUP(F$2,Table1[],3,0),IF($B763=2,VLOOKUP(F$2,Table1[],4,0),IF($B763=3,VLOOKUP(F$2,Table1[],5,0),IF($B763=4,VLOOKUP(F$2,Table1[],5,0),0))))","v":800000}]
[4007,1,{"$f":"IF($B764=1,VLOOKUP(C$2,Table1[],3,0),IF($B764=2,VLOOKUP(C$2,Table1[],4,0),IF($B764=3,VLOOKUP(C$2,Table1[],5,0),IF($B764=4,VLOOKUP(C$2,Table1[],5,0),0))))","v":2000000},{"$f":"IF($B764=1,VLOOKUP(D$2,Table1[],3,0),IF($B764=2,VLOOKUP(D$2,Table1[],4,0),IF($B764=3,VLOOKUP(D$2,Table1[],5,0),IF($B764=4,VLOOKUP(D$2,Table1[],5,0),0))))","v":2000000},{"$f":"IF($B764=1,VLOOKUP(E$2,Table1[],3,0),IF($B764=2,VLOOKUP(E$2,Table1[],4,0),IF($B764=3,VLOOKUP(E$2,Table1[],5,0),IF($B764=4,VLOOKUP(E$2,Table1[],5,0),0))))","v":1500000},{"$f":"IF($B764=1,VLOOKUP(F$2,Table1[],3,0),IF($B764=2,VLOOKUP(F$2,Table1[],4,0),IF($B764=3,VLOOKUP(F$2,Table1[],5,0),IF($B764=4,VLOOKUP(F$2,Table1[],5,0),0))))","v":800000}]
[4008,1,{"$f":"IF($B765=1,VLOOKUP(C$2,Table1[],3,0),IF($B765=2,VLOOKUP(C$2,Table1[],4,0),IF($B765=3,VLOOKUP(C$2,Table1[],5,0),IF($B765=4,VLOOKUP(C$2,Table1[],5,0),0))))","v":2000000},{"$f":"IF($B765=1,VLOOKUP(D$2,Table1[],3,0),IF($B765=2,VLOOKUP(D$2,Table1[],4,0),IF($B765=3,VLOOKUP(D$2,Table1[],5,0),IF($B765=4,VLOOKUP(D$2,Table1[],5,0),0))))","v":2000000},{"$f":"IF($B765=1,VLOOKUP(E$2,Table1[],3,0),IF($B765=2,VLOOKUP(E$2,Table1[],4,0),IF($B765=3,VLOOKUP(E$2,Table1[],5,0),IF($B765=4,VLOOKUP(E$2,Table1[],5,0),0))))","v":1500000},{"$f":"IF($B765=1,VLOOKUP(F$2,Table1[],3,0),IF($B765=2,VLOOKUP(F$2,Table1[],4,0),IF($B765=3,VLOOKUP(F$2,Table1[],5,0),IF($B765=4,VLOOKUP(F$2,Table1[],5,0),0))))","v":800000}]
[4009,1,{"$f":"IF($B766=1,VLOOKUP(C$2,Table1[],3,0),IF($B766=2,VLOOKUP(C$2,Table1[],4,0),IF($B766=3,VLOOKUP(C$2,Table1[],5,0),IF($B766=4,VLOOKUP(C$2,Table1[],5,0),0))))","v":2000000},{"$f":"IF($B766=1,VLOOKUP(D$2,Table1[],3,0),IF($B766=2,VLOOKUP(D$2,Table1[],4,0),IF($B766=3,VLOOKUP(D$2,Table1[],5,0),IF($B766=4,VLOOKUP(D$2,Table1[],5,0),0))))","v":2000000},{"$f":"IF($B766=1,VLOOKUP(E$2,Table1[],3,0),IF($B766=2,VLOOKUP(E$2,Table1[],4,0),IF($B766=3,VLOOKUP(E$2,Table1[],5,0),IF($B766=4,VLOOKUP(E$2,Table1[],5,0),0))))","v":1500000},{"$f":"IF($B766=1,VLOOKUP(F$2,Table1[],3,0),IF($B766=2,VLOOKUP(F$2,Table1[],4,0),IF($B766=3,VLOOKUP(F$2,Table1[],5,0),IF($B766=4,VLOOKUP(F$2,Table1[],5,0),0))))","v":800000}]
[4010,1,{"$f":"IF($B767=1,VLOOKUP(C$2,Table1[],3,0),IF($B767=2,VLOOKUP(C$2,Table1[],4,0),IF($B767=3,VLOOKUP(C$2,Table1[],5,0),IF($B767=4,VLOOKUP(C$2,Table1[],5,0),0))))","v":2000000},{"$f":"IF($B767=1,VLOOKUP(D$2,Table1[],3,0),IF($B767=2,VLOOKUP(D$2,Table1[],4,0),IF($B767=3,VLOOKUP(D$2,Table1[],5,0),IF($B767=4,VLOOKUP(D$2,Table1[],5,0),0))))","v":2000000},{"$f":"IF($B767=1,VLOOKUP(E$2,Table1[],3,0),IF($B767=2,VLOOKUP(E$2,Table1[],4,0),IF($B767=3,VLOOKUP(E$2,Table1[],5,0),IF($B767=4,VLOOKUP(E$2,Table1[],5,0),0))))","v":1500000},{"$f":"IF($B767=1,VLOOKUP(F$2,Table1[],3,0),IF($B767=2,VLOOKUP(F$2,Table1[],4,0),IF($B767=3,VLOOKUP(F$2,Table1[],5,0),IF($B767=4,VLOOKUP(F$2,Table1[],5,0),0))))","v":800000}]
[4011,1,{"$f":"IF($B768=1,VLOOKUP(C$2,Table1[],3,0),IF($B768=2,VLOOKUP(C$2,Table1[],4,0),IF($B768=3,VLOOKUP(C$2,Table1[],5,0),IF($B768=4,VLOOKUP(C$2,Table1[],5,0),0))))","v":2000000},{"$f":"IF($B768=1,VLOOKUP(D$2,Table1[],3,0),IF($B768=2,VLOOKUP(D$2,Table1[],4,0),IF($B768=3,VLOOKUP(D$2,Table1[],5,0),IF($B768=4,VLOOKUP(D$2,Table1[],5,0),0))))","v":2000000},{"$f":"IF($B768=1,VLOOKUP(E$2,Table1[],3,0),IF($B768=2,VLOOKUP(E$2,Table1[],4,0),IF($B768=3,VLOOKUP(E$2,Table1[],5,0),IF($B768=4,VLOOKUP(E$2,Table1[],5,0),0))))","v":1500000},{"$f":"IF($B768=1,VLOOKUP(F$2,Table1[],3,0),IF($B768=2,VLOOKUP(F$2,Table1[],4,0),IF($B768=3,VLOOKUP(F$2,Table1[],5,0),IF($B768=4,VLOOKUP(F$2,Table1[],5,0),0))))","v":800000}]
[4012,1,{"$f":"IF($B769=1,VLOOKUP(C$2,Table1[],3,0),IF($B769=2,VLOOKUP(C$2,Table1[],4,0),IF($B769=3,VLOOKUP(C$2,Table1[],5,0),IF($B769=4,VLOOKUP(C$2,Table1[],5,0),0))))","v":2000000},{"$f":"IF($B769=1,VLOOKUP(D$2,Table1[],3,0),IF($B769=2,VLOOKUP(D$2,Table1[],4,0),IF($B769=3,VLOOKUP(D$2,Table1[],5,0),IF($B769=4,VLOOKUP(D$2,Table1[],5,0),0))))","v":2000000},{"$f":"IF($B769=1,VLOOKUP(E$2,Table1[],3,0),IF($B769=2,VLOOKUP(E$2,Table1[],4,0),IF($B769=3,VLOOKUP(E$2,Table1[],5,0),IF($B769=4,VLOOKUP(E$2,Table1[],5,0),0))))","v":1500000},{"$f":"IF($B769=1,VLOOKUP(F$2,Table1[],3,0),IF($B769=2,VLOOKUP(F$2,Table1[],4,0),IF($B769=3,VLOOKUP(F$2,Table1[],5,0),IF($B769=4,VLOOKUP(F$2,Table1[],5,0),0))))","v":800000}]
[4013,1,{"$f":"IF($B770=1,VLOOKUP(C$2,Table1[],3,0),IF($B770=2,VLOOKUP(C$2,Table1[],4,0),IF($B770=3,VLOOKUP(C$2,Table1[],5,0),IF($B770=4,VLOOKUP(C$2,Table1[],5,0),0))))","v":2000000},{"$f":"IF($B770=1,VLOOKUP(D$2,Table1[],3,0),IF($B770=2,VLOOKUP(D$2,Table1[],4,0),IF($B770=3,VLOOKUP(D$2,Table1[],5,0),IF($B770=4,VLOOKUP(D$2,Table1[],5,0),0))))","v":2000000},{"$f":"IF($B770=1,VLOOKUP(E$2,Table1[],3,0),IF($B770=2,VLOOKUP(E$2,Table1[],4,0),IF($B770=3,VLOOKUP(E$2,Table1[],5,0),IF($B770=4,VLOOKUP(E$2,Table1[],5,0),0))))","v":1500000},{"$f":"IF($B770=1,VLOOKUP(F$2,Table1[],3,0),IF($B770=2,VLOOKUP(F$2,Table1[],4,0),IF($B770=3,VLOOKUP(F$2,Table1[],5,0),IF($B770=4,VLOOKUP(F$2,Table1[],5,0),0))))","v":800000}]
[4014,1,{"$f":"IF($B771=1,VLOOKUP(C$2,Table1[],3,0),IF($B771=2,VLOOKUP(C$2,Table1[],4,0),IF($B771=3,VLOOKUP(C$2,Table1[],5,0),IF($B771=4,VLOOKUP(C$2,Table1[],5,0),0))))","v":2000000},{"$f":"IF($B771=1,VLOOKUP(D$2,Table1[],3,0),IF($B771=2,VLOOKUP(D$2,Table1[],4,0),IF($B771=3,VLOOKUP(D$2,Table1[],5,0),IF($B771=4,VLOOKUP(D$2,Table1[],5,0),0))))","v":2000000},{"$f":"IF($B771=1,VLOOKUP(E$2,Table1[],3,0),IF($B771=2,VLOOKUP(E$2,Table1[],4,0),IF($B771=3,VLOOKUP(E$2,Table1[],5,0),IF($B771=4,VLOOKUP(E$2,Table1[],5,0),0))))","v":1500000},{"$f":"IF($B771=1,VLOOKUP(F$2,Table1[],3,0),IF($B771=2,VLOOKUP(F$2,Table1[],4,0),IF($B771=3,VLOOKUP(F$2,Table1[],5,0),IF($B771=4,VLOOKUP(F$2,Table1[],5,0),0))))","v":800000}]
[4017,1,{"$f":"IF($B772=1,VLOOKUP(C$2,Table1[],3,0),IF($B772=2,VLOOKUP(C$2,Table1[],4,0),IF($B772=3,VLOOKUP(C$2,Table1[],5,0),IF($B772=4,VLOOKUP(C$2,Table1[],5,0),0))))","v":2000000},{"$f":"IF($B772=1,VLOOKUP(D$2,Table1[],3,0),IF($B772=2,VLOOKUP(D$2,Table1[],4,0),IF($B772=3,VLOOKUP(D$2,Table1[],5,0),IF($B772=4,VLOOKUP(D$2,Table1[],5,0),0))))","v":2000000},{"$f":"IF($B772=1,VLOOKUP(E$2,Table1[],3,0),IF($B772=2,VLOOKUP(E$2,Table1[],4,0),IF($B772=3,VLOOKUP(E$2,Table1[],5,0),IF($B772=4,VLOOKUP(E$2,Table1[],5,0),0))))","v":1500000},{"$f":"IF($B772=1,VLOOKUP(F$2,Table1[],3,0),IF($B772=2,VLOOKUP(F$2,Table1[],4,0),IF($B772=3,VLOOKUP(F$2,Table1[],5,0),IF($B772=4,VLOOKUP(F$2,Table1[],5,0),0))))","v":800000}]
[4018,1,{"$f":"IF($B773=1,VLOOKUP(C$2,Table1[],3,0),IF($B773=2,VLOOKUP(C$2,Table1[],4,0),IF($B773=3,VLOOKUP(C$2,Table1[],5,0),IF($B773=4,VLOOKUP(C$2,Table1[],5,0),0))))","v":2000000},{"$f":"IF($B773=1,VLOOKUP(D$2,Table1[],3,0),IF($B773=2,VLOOKUP(D$2,Table1[],4,0),IF($B773=3,VLOOKUP(D$2,Table1[],5,0),IF($B773=4,VLOOKUP(D$2,Table1[],5,0),0))))","v":2000000},{"$f":"IF($B773=1,VLOOKUP(E$2,Table1[],3,0),IF($B773=2,VLOOKUP(E$2,Table1[],4,0),IF($B773=3,VLOOKUP(E$2,Table1[],5,0),IF($B773=4,VLOOKUP(E$2,Table1[],5,0),0))))","v":1500000},{"$f":"IF($B773=1,VLOOKUP(F$2,Table1[],3,0),IF($B773=2,VLOOKUP(F$2,Table1[],4,0),IF($B773=3,VLOOKUP(F$2,Table1[],5,0),IF($B773=4,VLOOKUP(F$2,Table1[],5,0),0))))","v":800000}]
[4019,1,{"$f":"IF($B774=1,VLOOKUP(C$2,Table1[],3,0),IF($B774=2,VLOOKUP(C$2,Table1[],4,0),IF($B774=3,VLOOKUP(C$2,Table1[],5,0),IF($B774=4,VLOOKUP(C$2,Table1[],5,0),0))))","v":2000000},{"$f":"IF($B774=1,VLOOKUP(D$2,Table1[],3,0),IF($B774=2,VLOOKUP(D$2,Table1[],4,0),IF($B774=3,VLOOKUP(D$2,Table1[],5,0),IF($B774=4,VLOOKUP(D$2,Table1[],5,0),0))))","v":2000000},{"$f":"IF($B774=1,VLOOKUP(E$2,Table1[],3,0),IF($B774=2,VLOOKUP(E$2,Table1[],4,0),IF($B774=3,VLOOKUP(E$2,Table1[],5,0),IF($B774=4,VLOOKUP(E$2,Table1[],5,0),0))))","v":1500000},{"$f":"IF($B774=1,VLOOKUP(F$2,Table1[],3,0),IF($B774=2,VLOOKUP(F$2,Table1[],4,0),IF($B774=3,VLOOKUP(F$2,Table1[],5,0),IF($B774=4,VLOOKUP(F$2,Table1[],5,0),0))))","v":800000}]
[4020,1,{"$f":"IF($B775=1,VLOOKUP(C$2,Table1[],3,0),IF($B775=2,VLOOKUP(C$2,Table1[],4,0),IF($B775=3,VLOOKUP(C$2,Table1[],5,0),IF($B775=4,VLOOKUP(C$2,Table1[],5,0),0))))","v":2000000},{"$f":"IF($B775=1,VLOOKUP(D$2,Table1[],3,0),IF($B775=2,VLOOKUP(D$2,Table1[],4,0),IF($B775=3,VLOOKUP(D$2,Table1[],5,0),IF($B775=4,VLOOKUP(D$2,Table1[],5,0),0))))","v":2000000},{"$f":"IF($B775=1,VLOOKUP(E$2,Table1[],3,0),IF($B775=2,VLOOKUP(E$2,Table1[],4,0),IF($B775=3,VLOOKUP(E$2,Table1[],5,0),IF($B775=4,VLOOKUP(E$2,Table1[],5,0),0))))","v":1500000},{"$f":"IF($B775=1,VLOOKUP(F$2,Table1[],3,0),IF($B775=2,VLOOKUP(F$2,Table1[],4,0),IF($B775=3,VLOOKUP(F$2,Table1[],5,0),IF($B775=4,VLOOKUP(F$2,Table1[],5,0),0))))","v":800000}]
[4021,1,{"$f":"IF($B776=1,VLOOKUP(C$2,Table1[],3,0),IF($B776=2,VLOOKUP(C$2,Table1[],4,0),IF($B776=3,VLOOKUP(C$2,Table1[],5,0),IF($B776=4,VLOOKUP(C$2,Table1[],5,0),0))))","v":2000000},{"$f":"IF($B776=1,VLOOKUP(D$2,Table1[],3,0),IF($B776=2,VLOOKUP(D$2,Table1[],4,0),IF($B776=3,VLOOKUP(D$2,Table1[],5,0),IF($B776=4,VLOOKUP(D$2,Table1[],5,0),0))))","v":2000000},{"$f":"IF($B776=1,VLOOKUP(E$2,Table1[],3,0),IF($B776=2,VLOOKUP(E$2,Table1[],4,0),IF($B776=3,VLOOKUP(E$2,Table1[],5,0),IF($B776=4,VLOOKUP(E$2,Table1[],5,0),0))))","v":1500000},{"$f":"IF($B776=1,VLOOKUP(F$2,Table1[],3,0),IF($B776=2,VLOOKUP(F$2,Table1[],4,0),IF($B776=3,VLOOKUP(F$2,Table1[],5,0),IF($B776=4,VLOOKUP(F$2,Table1[],5,0),0))))","v":800000}]
[4022,1,{"$f":"IF($B777=1,VLOOKUP(C$2,Table1[],3,0),IF($B777=2,VLOOKUP(C$2,Table1[],4,0),IF($B777=3,VLOOKUP(C$2,Table1[],5,0),IF($B777=4,VLOOKUP(C$2,Table1[],5,0),0))))","v":2000000},{"$f":"IF($B777=1,VLOOKUP(D$2,Table1[],3,0),IF($B777=2,VLOOKUP(D$2,Table1[],4,0),IF($B777=3,VLOOKUP(D$2,Table1[],5,0),IF($B777=4,VLOOKUP(D$2,Table1[],5,0),0))))","v":2000000},{"$f":"IF($B777=1,VLOOKUP(E$2,Table1[],3,0),IF($B777=2,VLOOKUP(E$2,Table1[],4,0),IF($B777=3,VLOOKUP(E$2,Table1[],5,0),IF($B777=4,VLOOKUP(E$2,Table1[],5,0),0))))","v":1500000},{"$f":"IF($B777=1,VLOOKUP(F$2,Table1[],3,0),IF($B777=2,VLOOKUP(F$2,Table1[],4,0),IF($B777=3,VLOOKUP(F$2,Table1[],5,0),IF($B777=4,VLOOKUP(F$2,Table1[],5,0),0))))","v":800000}]
[4025,4,{"$f":"IF($B778=1,VLOOKUP(C$2,Table1[],3,0),IF($B778=2,VLOOKUP(C$2,Table1[],4,0),IF($B778=3,VLOOKUP(C$2,Table1[],5,0),IF($B778=4,VLOOKUP(C$2,Table1[],5,0),0))))","v":500000},{"$f":"IF($B778=1,VLOOKUP(D$2,Table1[],3,0),IF($B778=2,VLOOKUP(D$2,Table1[],4,0),IF($B778=3,VLOOKUP(D$2,Table1[],5,0),IF($B778=4,VLOOKUP(D$2,Table1[],5,0),0))))","v":400000},{"$f":"IF($B778=1,VLOOKUP(E$2,Table1[],3,0),IF($B778=2,VLOOKUP(E$2,Table1[],4,0),IF($B778=3,VLOOKUP(E$2,Table1[],5,0),IF($B778=4,VLOOKUP(E$2,Table1[],5,0),0))))","v":"N/A"},{"$f":"IF($B778=1,VLOOKUP(F$2,Table1[],3,0),IF($B778=2,VLOOKUP(F$2,Table1[],4,0),IF($B778=3,VLOOKUP(F$2,Table1[],5,0),IF($B778=4,VLOOKUP(F$2,Table1[],5,0),0))))","v":"N/A"}]
[4030,1,{"$f":"IF($B779=1,VLOOKUP(C$2,Table1[],3,0),IF($B779=2,VLOOKUP(C$2,Table1[],4,0),IF($B779=3,VLOOKUP(C$2,Table1[],5,0),IF($B779=4,VLOOKUP(C$2,Table1[],5,0),0))))","v":2000000},{"$f":"IF($B779=1,VLOOKUP(D$2,Table1[],3,0),IF($B779=2,VLOOKUP(D$2,Table1[],4,0),IF($B779=3,VLOOKUP(D$2,Table1[],5,0),IF($B779=4,VLOOKUP(D$2,Table1[],5,0),0))))","v":2000000},{"$f":"IF($B779=1,VLOOKUP(E$2,Table1[],3,0),IF($B779=2,VLOOKUP(E$2,Table1[],4,0),IF($B779=3,VLOOKUP(E$2,Table1[],5,0),IF($B779=4,VLOOKUP(E$2,Table1[],5,0),0))))","v":1500000},{"$f":"IF($B779=1,VLOOKUP(F$2,Table1[],3,0),IF($B779=2,VLOOKUP(F$2,Table1[],4,0),IF($B779=3,VLOOKUP(F$2,Table1[],5,0),IF($B779=4,VLOOKUP(F$2,Table1[],5,0),0))))","v":800000}]
[4031,1,{"$f":"IF($B780=1,VLOOKUP(C$2,Table1[],3,0),IF($B780=2,VLOOKUP(C$2,Table1[],4,0),IF($B780=3,VLOOKUP(C$2,Table1[],5,0),IF($B780=4,VLOOKUP(C$2,Table1[],5,0),0))))","v":2000000},{"$f":"IF($B780=1,VLOOKUP(D$2,Table1[],3,0),IF($B780=2,VLOOKUP(D$2,Table1[],4,0),IF($B780=3,VLOOKUP(D$2,Table1[],5,0),IF($B780=4,VLOOKUP(D$2,Table1[],5,0),0))))","v":2000000},{"$f":"IF($B780=1,VLOOKUP(E$2,Table1[],3,0),IF($B780=2,VLOOKUP(E$2,Table1[],4,0),IF($B780=3,VLOOKUP(E$2,Table1[],5,0),IF($B780=4,VLOOKUP(E$2,Table1[],5,0),0))))","v":1500000},{"$f":"IF($B780=1,VLOOKUP(F$2,Table1[],3,0),IF($B780=2,VLOOKUP(F$2,Table1[],4,0),IF($B780=3,VLOOKUP(F$2,Table1[],5,0),IF($B780=4,VLOOKUP(F$2,Table1[],5,0),0))))","v":800000}]
[4032,1,{"$f":"IF($B781=1,VLOOKUP(C$2,Table1[],3,0),IF($B781=2,VLOOKUP(C$2,Table1[],4,0),IF($B781=3,VLOOKUP(C$2,Table1[],5,0),IF($B781=4,VLOOKUP(C$2,Table1[],5,0),0))))","v":2000000},{"$f":"IF($B781=1,VLOOKUP(D$2,Table1[],3,0),IF($B781=2,VLOOKUP(D$2,Table1[],4,0),IF($B781=3,VLOOKUP(D$2,Table1[],5,0),IF($B781=4,VLOOKUP(D$2,Table1[],5,0),0))))","v":2000000},{"$f":"IF($B781=1,VLOOKUP(E$2,Table1[],3,0),IF($B781=2,VLOOKUP(E$2,Table1[],4,0),IF($B781=3,VLOOKUP(E$2,Table1[],5,0),IF($B781=4,VLOOKUP(E$2,Table1[],5,0),0))))","v":1500000},{"$f":"IF($B781=1,VLOOKUP(F$2,Table1[],3,0),IF($B781=2,VLOOKUP(F$2,Table1[],4,0),IF($B781=3,VLOOKUP(F$2,Table1[],5,0),IF($B781=4,VLOOKUP(F$2,Table1[],5,0),0))))","v":800000}]
[4034,1,{"$f":"IF($B782=1,VLOOKUP(C$2,Table1[],3,0),IF($B782=2,VLOOKUP(C$2,Table1[],4,0),IF($B782=3,VLOOKUP(C$2,Table1[],5,0),IF($B782=4,VLOOKUP(C$2,Table1[],5,0),0))))","v":2000000},{"$f":"IF($B782=1,VLOOKUP(D$2,Table1[],3,0),IF($B782=2,VLOOKUP(D$2,Table1[],4,0),IF($B782=3,VLOOKUP(D$2,Table1[],5,0),IF($B782=4,VLOOKUP(D$2,Table1[],5,0),0))))","v":2000000},{"$f":"IF($B782=1,VLOOKUP(E$2,Table1[],3,0),IF($B782=2,VLOOKUP(E$2,Table1[],4,0),IF($B782=3,VLOOKUP(E$2,Table1[],5,0),IF($B782=4,VLOOKUP(E$2,Table1[],5,0),0))))","v":1500000},{"$f":"IF($B782=1,VLOOKUP(F$2,Table1[],3,0),IF($B782=2,VLOOKUP(F$2,Table1[],4,0),IF($B782=3,VLOOKUP(F$2,Table1[],5,0),IF($B782=4,VLOOKUP(F$2,Table1[],5,0),0))))","v":800000}]
[4035,1,{"$f":"IF($B783=1,VLOOKUP(C$2,Table1[],3,0),IF($B783=2,VLOOKUP(C$2,Table1[],4,0),IF($B783=3,VLOOKUP(C$2,Table1[],5,0),IF($B783=4,VLOOKUP(C$2,Table1[],5,0),0))))","v":2000000},{"$f":"IF($B783=1,VLOOKUP(D$2,Table1[],3,0),IF($B783=2,VLOOKUP(D$2,Table1[],4,0),IF($B783=3,VLOOKUP(D$2,Table1[],5,0),IF($B783=4,VLOOKUP(D$2,Table1[],5,0),0))))","v":2000000},{"$f":"IF($B783=1,VLOOKUP(E$2,Table1[],3,0),IF($B783=2,VLOOKUP(E$2,Table1[],4,0),IF($B783=3,VLOOKUP(E$2,Table1[],5,0),IF($B783=4,VLOOKUP(E$2,Table1[],5,0),0))))","v":1500000},{"$f":"IF($B783=1,VLOOKUP(F$2,Table1[],3,0),IF($B783=2,VLOOKUP(F$2,Table1[],4,0),IF($B783=3,VLOOKUP(F$2,Table1[],5,0),IF($B783=4,VLOOKUP(F$2,Table1[],5,0),0))))","v":800000}]
[4036,1,{"$f":"IF($B784=1,VLOOKUP(C$2,Table1[],3,0),IF($B784=2,VLOOKUP(C$2,Table1[],4,0),IF($B784=3,VLOOKUP(C$2,Table1[],5,0),IF($B784=4,VLOOKUP(C$2,Table1[],5,0),0))))","v":2000000},{"$f":"IF($B784=1,VLOOKUP(D$2,Table1[],3,0),IF($B784=2,VLOOKUP(D$2,Table1[],4,0),IF($B784=3,VLOOKUP(D$2,Table1[],5,0),IF($B784=4,VLOOKUP(D$2,Table1[],5,0),0))))","v":2000000},{"$f":"IF($B784=1,VLOOKUP(E$2,Table1[],3,0),IF($B784=2,VLOOKUP(E$2,Table1[],4,0),IF($B784=3,VLOOKUP(E$2,Table1[],5,0),IF($B784=4,VLOOKUP(E$2,Table1[],5,0),0))))","v":1500000},{"$f":"IF($B784=1,VLOOKUP(F$2,Table1[],3,0),IF($B784=2,VLOOKUP(F$2,Table1[],4,0),IF($B784=3,VLOOKUP(F$2,Table1[],5,0),IF($B784=4,VLOOKUP(F$2,Table1[],5,0),0))))","v":800000}]
[4037,1,{"$f":"IF($B785=1,VLOOKUP(C$2,Table1[],3,0),IF($B785=2,VLOOKUP(C$2,Table1[],4,0),IF($B785=3,VLOOKUP(C$2,Table1[],5,0),IF($B785=4,VLOOKUP(C$2,Table1[],5,0),0))))","v":2000000},{"$f":"IF($B785=1,VLOOKUP(D$2,Table1[],3,0),IF($B785=2,VLOOKUP(D$2,Table1[],4,0),IF($B785=3,VLOOKUP(D$2,Table1[],5,0),IF($B785=4,VLOOKUP(D$2,Table1[],5,0),0))))","v":2000000},{"$f":"IF($B785=1,VLOOKUP(E$2,Table1[],3,0),IF($B785=2,VLOOKUP(E$2,Table1[],4,0),IF($B785=3,VLOOKUP(E$2,Table1[],5,0),IF($B785=4,VLOOKUP(E$2,Table1[],5,0),0))))","v":1500000},{"$f":"IF($B785=1,VLOOKUP(F$2,Table1[],3,0),IF($B785=2,VLOOKUP(F$2,Table1[],4,0),IF($B785=3,VLOOKUP(F$2,Table1[],5,0),IF($B785=4,VLOOKUP(F$2,Table1[],5,0),0))))","v":800000}]
[4051,1,{"$f":"IF($B786=1,VLOOKUP(C$2,Table1[],3,0),IF($B786=2,VLOOKUP(C$2,Table1[],4,0),IF($B786=3,VLOOKUP(C$2,Table1[],5,0),IF($B786=4,VLOOKUP(C$2,Table1[],5,0),0))))","v":2000000},{"$f":"IF($B786=1,VLOOKUP(D$2,Table1[],3,0),IF($B786=2,VLOOKUP(D$2,Table1[],4,0),IF($B786=3,VLOOKUP(D$2,Table1[],5,0),IF($B786=4,VLOOKUP(D$2,Table1[],5,0),0))))","v":2000000},{"$f":"IF($B786=1,VLOOKUP(E$2,Table1[],3,0),IF($B786=2,VLOOKUP(E$2,Table1[],4,0),IF($B786=3,VLOOKUP(E$2,Table1[],5,0),IF($B786=4,VLOOKUP(E$2,Table1[],5,0),0))))","v":1500000},{"$f":"IF($B786=1,VLOOKUP(F$2,Table1[],3,0),IF($B786=2,VLOOKUP(F$2,Table1[],4,0),IF($B786=3,VLOOKUP(F$2,Table1[],5,0),IF($B786=4,VLOOKUP(F$2,Table1[],5,0),0))))","v":800000}]
[4053,1,{"$f":"IF($B787=1,VLOOKUP(C$2,Table1[],3,0),IF($B787=2,VLOOKUP(C$2,Table1[],4,0),IF($B787=3,VLOOKUP(C$2,Table1[],5,0),IF($B787=4,VLOOKUP(C$2,Table1[],5,0),0))))","v":2000000},{"$f":"IF($B787=1,VLOOKUP(D$2,Table1[],3,0),IF($B787=2,VLOOKUP(D$2,Table1[],4,0),IF($B787=3,VLOOKUP(D$2,Table1[],5,0),IF($B787=4,VLOOKUP(D$2,Table1[],5,0),0))))","v":2000000},{"$f":"IF($B787=1,VLOOKUP(E$2,Table1[],3,0),IF($B787=2,VLOOKUP(E$2,Table1[],4,0),IF($B787=3,VLOOKUP(E$2,Table1[],5,0),IF($B787=4,VLOOKUP(E$2,Table1[],5,0),0))))","v":1500000},{"$f":"IF($B787=1,VLOOKUP(F$2,Table1[],3,0),IF($B787=2,VLOOKUP(F$2,Table1[],4,0),IF($B787=3,VLOOKUP(F$2,Table1[],5,0),IF($B787=4,VLOOKUP(F$2,Table1[],5,0),0))))","v":800000}]
[4054,1,{"$f":"IF($B788=1,VLOOKUP(C$2,Table1[],3,0),IF($B788=2,VLOOKUP(C$2,Table1[],4,0),IF($B788=3,VLOOKUP(C$2,Table1[],5,0),IF($B788=4,VLOOKUP(C$2,Table1[],5,0),0))))","v":2000000},{"$f":"IF($B788=1,VLOOKUP(D$2,Table1[],3,0),IF($B788=2,VLOOKUP(D$2,Table1[],4,0),IF($B788=3,VLOOKUP(D$2,Table1[],5,0),IF($B788=4,VLOOKUP(D$2,Table1[],5,0),0))))","v":2000000},{"$f":"IF($B788=1,VLOOKUP(E$2,Table1[],3,0),IF($B788=2,VLOOKUP(E$2,Table1[],4,0),IF($B788=3,VLOOKUP(E$2,Table1[],5,0),IF($B788=4,VLOOKUP(E$2,Table1[],5,0),0))))","v":1500000},{"$f":"IF($B788=1,VLOOKUP(F$2,Table1[],3,0),IF($B788=2,VLOOKUP(F$2,Table1[],4,0),IF($B788=3,VLOOKUP(F$2,Table1[],5,0),IF($B788=4,VLOOKUP(F$2,Table1[],5,0),0))))","v":800000}]
[4055,1,{"$f":"IF($B789=1,VLOOKUP(C$2,Table1[],3,0),IF($B789=2,VLOOKUP(C$2,Table1[],4,0),IF($B789=3,VLOOKUP(C$2,Table1[],5,0),IF($B789=4,VLOOKUP(C$2,Table1[],5,0),0))))","v":2000000},{"$f":"IF($B789=1,VLOOKUP(D$2,Table1[],3,0),IF($B789=2,VLOOKUP(D$2,Table1[],4,0),IF($B789=3,VLOOKUP(D$2,Table1[],5,0),IF($B789=4,VLOOKUP(D$2,Table1[],5,0),0))))","v":2000000},{"$f":"IF($B789=1,VLOOKUP(E$2,Table1[],3,0),IF($B789=2,VLOOKUP(E$2,Table1[],4,0),IF($B789=3,VLOOKUP(E$2,Table1[],5,0),IF($B789=4,VLOOKUP(E$2,Table1[],5,0),0))))","v":1500000},{"$f":"IF($B789=1,VLOOKUP(F$2,Table1[],3,0),IF($B789=2,VLOOKUP(F$2,Table1[],4,0),IF($B789=3,VLOOKUP(F$2,Table1[],5,0),IF($B789=4,VLOOKUP(F$2,Table1[],5,0),0))))","v":800000}]
[4059,1,{"$f":"IF($B790=1,VLOOKUP(C$2,Table1[],3,0),IF($B790=2,VLOOKUP(C$2,Table1[],4,0),IF($B790=3,VLOOKUP(C$2,Table1[],5,0),IF($B790=4,VLOOKUP(C$2,Table1[],5,0),0))))","v":2000000},{"$f":"IF($B790=1,VLOOKUP(D$2,Table1[],3,0),IF($B790=2,VLOOKUP(D$2,Table1[],4,0),IF($B790=3,VLOOKUP(D$2,Table1[],5,0),IF($B790=4,VLOOKUP(D$2,Table1[],5,0),0))))","v":2000000},{"$f":"IF($B790=1,VLOOKUP(E$2,Table1[],3,0),IF($B790=2,VLOOKUP(E$2,Table1[],4,0),IF($B790=3,VLOOKUP(E$2,Table1[],5,0),IF($B790=4,VLOOKUP(E$2,Table1[],5,0),0))))","v":1500000},{"$f":"IF($B790=1,VLOOKUP(F$2,Table1[],3,0),IF($B790=2,VLOOKUP(F$2,Table1[],4,0),IF($B790=3,VLOOKUP(F$2,Table1[],5,0),IF($B790=4,VLOOKUP(F$2,Table1[],5,0),0))))","v":800000}]
[4060,1,{"$f":"IF($B791=1,VLOOKUP(C$2,Table1[],3,0),IF($B791=2,VLOOKUP(C$2,Table1[],4,0),IF($B791=3,VLOOKUP(C$2,Table1[],5,0),IF($B791=4,VLOOKUP(C$2,Table1[],5,0),0))))","v":2000000},{"$f":"IF($B791=1,VLOOKUP(D$2,Table1[],3,0),IF($B791=2,VLOOKUP(D$2,Table1[],4,0),IF($B791=3,VLOOKUP(D$2,Table1[],5,0),IF($B791=4,VLOOKUP(D$2,Table1[],5,0),0))))","v":2000000},{"$f":"IF($B791=1,VLOOKUP(E$2,Table1[],3,0),IF($B791=2,VLOOKUP(E$2,Table1[],4,0),IF($B791=3,VLOOKUP(E$2,Table1[],5,0),IF($B791=4,VLOOKUP(E$2,Table1[],5,0),0))))","v":1500000},{"$f":"IF($B791=1,VLOOKUP(F$2,Table1[],3,0),IF($B791=2,VLOOKUP(F$2,Table1[],4,0),IF($B791=3,VLOOKUP(F$2,Table1[],5,0),IF($B791=4,VLOOKUP(F$2,Table1[],5,0),0))))","v":800000}]
[4061,1,{"$f":"IF($B792=1,VLOOKUP(C$2,Table1[],3,0),IF($B792=2,VLOOKUP(C$2,Table1[],4,0),IF($B792=3,VLOOKUP(C$2,Table1[],5,0),IF($B792=4,VLOOKUP(C$2,Table1[],5,0),0))))","v":2000000},{"$f":"IF($B792=1,VLOOKUP(D$2,Table1[],3,0),IF($B792=2,VLOOKUP(D$2,Table1[],4,0),IF($B792=3,VLOOKUP(D$2,Table1[],5,0),IF($B792=4,VLOOKUP(D$2,Table1[],5,0),0))))","v":2000000},{"$f":"IF($B792=1,VLOOKUP(E$2,Table1[],3,0),IF($B792=2,VLOOKUP(E$2,Table1[],4,0),IF($B792=3,VLOOKUP(E$2,Table1[],5,0),IF($B792=4,VLOOKUP(E$2,Table1[],5,0),0))))","v":1500000},{"$f":"IF($B792=1,VLOOKUP(F$2,Table1[],3,0),IF($B792=2,VLOOKUP(F$2,Table1[],4,0),IF($B792=3,VLOOKUP(F$2,Table1[],5,0),IF($B792=4,VLOOKUP(F$2,Table1[],5,0),0))))","v":800000}]
[4064,1,{"$f":"IF($B793=1,VLOOKUP(C$2,Table1[],3,0),IF($B793=2,VLOOKUP(C$2,Table1[],4,0),IF($B793=3,VLOOKUP(C$2,Table1[],5,0),IF($B793=4,VLOOKUP(C$2,Table1[],5,0),0))))","v":2000000},{"$f":"IF($B793=1,VLOOKUP(D$2,Table1[],3,0),IF($B793=2,VLOOKUP(D$2,Table1[],4,0),IF($B793=3,VLOOKUP(D$2,Table1[],5,0),IF($B793=4,VLOOKUP(D$2,Table1[],5,0),0))))","v":2000000},{"$f":"IF($B793=1,VLOOKUP(E$2,Table1[],3,0),IF($B793=2,VLOOKUP(E$2,Table1[],4,0),IF($B793=3,VLOOKUP(E$2,Table1[],5,0),IF($B793=4,VLOOKUP(E$2,Table1[],5,0),0))))","v":1500000},{"$f":"IF($B793=1,VLOOKUP(F$2,Table1[],3,0),IF($B793=2,VLOOKUP(F$2,Table1[],4,0),IF($B793=3,VLOOKUP(F$2,Table1[],5,0),IF($B793=4,VLOOKUP(F$2,Table1[],5,0),0))))","v":800000}]
[4065,1,{"$f":"IF($B794=1,VLOOKUP(C$2,Table1[],3,0),IF($B794=2,VLOOKUP(C$2,Table1[],4,0),IF($B794=3,VLOOKUP(C$2,Table1[],5,0),IF($B794=4,VLOOKUP(C$2,Table1[],5,0),0))))","v":2000000},{"$f":"IF($B794=1,VLOOKUP(D$2,Table1[],3,0),IF($B794=2,VLOOKUP(D$2,Table1[],4,0),IF($B794=3,VLOOKUP(D$2,Table1[],5,0),IF($B794=4,VLOOKUP(D$2,Table1[],5,0),0))))","v":2000000},{"$f":"IF($B794=1,VLOOKUP(E$2,Table1[],3,0),IF($B794=2,VLOOKUP(E$2,Table1[],4,0),IF($B794=3,VLOOKUP(E$2,Table1[],5,0),IF($B794=4,VLOOKUP(E$2,Table1[],5,0),0))))","v":1500000},{"$f":"IF($B794=1,VLOOKUP(F$2,Table1[],3,0),IF($B794=2,VLOOKUP(F$2,Table1[],4,0),IF($B794=3,VLOOKUP(F$2,Table1[],5,0),IF($B794=4,VLOOKUP(F$2,Table1[],5,0),0))))","v":800000}]
[4066,1,{"$f":"IF($B795=1,VLOOKUP(C$2,Table1[],3,0),IF($B795=2,VLOOKUP(C$2,Table1[],4,0),IF($B795=3,VLOOKUP(C$2,Table1[],5,0),IF($B795=4,VLOOKUP(C$2,Table1[],5,0),0))))","v":2000000},{"$f":"IF($B795=1,VLOOKUP(D$2,Table1[],3,0),IF($B795=2,VLOOKUP(D$2,Table1[],4,0),IF($B795=3,VLOOKUP(D$2,Table1[],5,0),IF($B795=4,VLOOKUP(D$2,Table1[],5,0),0))))","v":2000000},{"$f":"IF($B795=1,VLOOKUP(E$2,Table1[],3,0),IF($B795=2,VLOOKUP(E$2,Table1[],4,0),IF($B795=3,VLOOKUP(E$2,Table1[],5,0),IF($B795=4,VLOOKUP(E$2,Table1[],5,0),0))))","v":1500000},{"$f":"IF($B795=1,VLOOKUP(F$2,Table1[],3,0),IF($B795=2,VLOOKUP(F$2,Table1[],4,0),IF($B795=3,VLOOKUP(F$2,Table1[],5,0),IF($B795=4,VLOOKUP(F$2,Table1[],5,0),0))))","v":800000}]
[4067,1,{"$f":"IF($B796=1,VLOOKUP(C$2,Table1[],3,0),IF($B796=2,VLOOKUP(C$2,Table1[],4,0),IF($B796=3,VLOOKUP(C$2,Table1[],5,0),IF($B796=4,VLOOKUP(C$2,Table1[],5,0),0))))","v":2000000},{"$f":"IF($B796=1,VLOOKUP(D$2,Table1[],3,0),IF($B796=2,VLOOKUP(D$2,Table1[],4,0),IF($B796=3,VLOOKUP(D$2,Table1[],5,0),IF($B796=4,VLOOKUP(D$2,Table1[],5,0),0))))","v":2000000},{"$f":"IF($B796=1,VLOOKUP(E$2,Table1[],3,0),IF($B796=2,VLOOKUP(E$2,Table1[],4,0),IF($B796=3,VLOOKUP(E$2,Table1[],5,0),IF($B796=4,VLOOKUP(E$2,Table1[],5,0),0))))","v":1500000},{"$f":"IF($B796=1,VLOOKUP(F$2,Table1[],3,0),IF($B796=2,VLOOKUP(F$2,Table1[],4,0),IF($B796=3,VLOOKUP(F$2,Table1[],5,0),IF($B796=4,VLOOKUP(F$2,Table1[],5,0),0))))","v":800000}]
[4068,1,{"$f":"IF($B797=1,VLOOKUP(C$2,Table1[],3,0),IF($B797=2,VLOOKUP(C$2,Table1[],4,0),IF($B797=3,VLOOKUP(C$2,Table1[],5,0),IF($B797=4,VLOOKUP(C$2,Table1[],5,0),0))))","v":2000000},{"$f":"IF($B797=1,VLOOKUP(D$2,Table1[],3,0),IF($B797=2,VLOOKUP(D$2,Table1[],4,0),IF($B797=3,VLOOKUP(D$2,Table1[],5,0),IF($B797=4,VLOOKUP(D$2,Table1[],5,0),0))))","v":2000000},{"$f":"IF($B797=1,VLOOKUP(E$2,Table1[],3,0),IF($B797=2,VLOOKUP(E$2,Table1[],4,0),IF($B797=3,VLOOKUP(E$2,Table1[],5,0),IF($B797=4,VLOOKUP(E$2,Table1[],5,0),0))))","v":1500000},{"$f":"IF($B797=1,VLOOKUP(F$2,Table1[],3,0),IF($B797=2,VLOOKUP(F$2,Table1[],4,0),IF($B797=3,VLOOKUP(F$2,Table1[],5,0),IF($B797=4,VLOOKUP(F$2,Table1[],5,0),0))))","v":800000}]
[4069,1,{"$f":"IF($B798=1,VLOOKUP(C$2,Table1[],3,0),IF($B798=2,VLOOKUP(C$2,Table1[],4,0),IF($B798=3,VLOOKUP(C$2,Table1[],5,0),IF($B798=4,VLOOKUP(C$2,Table1[],5,0),0))))","v":2000000},{"$f":"IF($B798=1,VLOOKUP(D$2,Table1[],3,0),IF($B798=2,VLOOKUP(D$2,Table1[],4,0),IF($B798=3,VLOOKUP(D$2,Table1[],5,0),IF($B798=4,VLOOKUP(D$2,Table1[],5,0),0))))","v":2000000},{"$f":"IF($B798=1,VLOOKUP(E$2,Table1[],3,0),IF($B798=2,VLOOKUP(E$2,Table1[],4,0),IF($B798=3,VLOOKUP(E$2,Table1[],5,0),IF($B798=4,VLOOKUP(E$2,Table1[],5,0),0))))","v":1500000},{"$f":"IF($B798=1,VLOOKUP(F$2,Table1[],3,0),IF($B798=2,VLOOKUP(F$2,Table1[],4,0),IF($B798=3,VLOOKUP(F$2,Table1[],5,0),IF($B798=4,VLOOKUP(F$2,Table1[],5,0),0))))","v":800000}]
[4070,1,{"$f":"IF($B799=1,VLOOKUP(C$2,Table1[],3,0),IF($B799=2,VLOOKUP(C$2,Table1[],4,0),IF($B799=3,VLOOKUP(C$2,Table1[],5,0),IF($B799=4,VLOOKUP(C$2,Table1[],5,0),0))))","v":2000000},{"$f":"IF($B799=1,VLOOKUP(D$2,Table1[],3,0),IF($B799=2,VLOOKUP(D$2,Table1[],4,0),IF($B799=3,VLOOKUP(D$2,Table1[],5,0),IF($B799=4,VLOOKUP(D$2,Table1[],5,0),0))))","v":2000000},{"$f":"IF($B799=1,VLOOKUP(E$2,Table1[],3,0),IF($B799=2,VLOOKUP(E$2,Table1[],4,0),IF($B799=3,VLOOKUP(E$2,Table1[],5,0),IF($B799=4,VLOOKUP(E$2,Table1[],5,0),0))))","v":1500000},{"$f":"IF($B799=1,VLOOKUP(F$2,Table1[],3,0),IF($B799=2,VLOOKUP(F$2,Table1[],4,0),IF($B799=3,VLOOKUP(F$2,Table1[],5,0),IF($B799=4,VLOOKUP(F$2,Table1[],5,0),0))))","v":800000}]
[4073,1,{"$f":"IF($B800=1,VLOOKUP(C$2,Table1[],3,0),IF($B800=2,VLOOKUP(C$2,Table1[],4,0),IF($B800=3,VLOOKUP(C$2,Table1[],5,0),IF($B800=4,VLOOKUP(C$2,Table1[],5,0),0))))","v":2000000},{"$f":"IF($B800=1,VLOOKUP(D$2,Table1[],3,0),IF($B800=2,VLOOKUP(D$2,Table1[],4,0),IF($B800=3,VLOOKUP(D$2,Table1[],5,0),IF($B800=4,VLOOKUP(D$2,Table1[],5,0),0))))","v":2000000},{"$f":"IF($B800=1,VLOOKUP(E$2,Table1[],3,0),IF($B800=2,VLOOKUP(E$2,Table1[],4,0),IF($B800=3,VLOOKUP(E$2,Table1[],5,0),IF($B800=4,VLOOKUP(E$2,Table1[],5,0),0))))","v":1500000},{"$f":"IF($B800=1,VLOOKUP(F$2,Table1[],3,0),IF($B800=2,VLOOKUP(F$2,Table1[],4,0),IF($B800=3,VLOOKUP(F$2,Table1[],5,0),IF($B800=4,VLOOKUP(F$2,Table1[],5,0),0))))","v":800000}]
[4074,1,{"$f":"IF($B801=1,VLOOKUP(C$2,Table1[],3,0),IF($B801=2,VLOOKUP(C$2,Table1[],4,0),IF($B801=3,VLOOKUP(C$2,Table1[],5,0),IF($B801=4,VLOOKUP(C$2,Table1[],5,0),0))))","v":2000000},{"$f":"IF($B801=1,VLOOKUP(D$2,Table1[],3,0),IF($B801=2,VLOOKUP(D$2,Table1[],4,0),IF($B801=3,VLOOKUP(D$2,Table1[],5,0),IF($B801=4,VLOOKUP(D$2,Table1[],5,0),0))))","v":2000000},{"$f":"IF($B801=1,VLOOKUP(E$2,Table1[],3,0),IF($B801=2,VLOOKUP(E$2,Table1[],4,0),IF($B801=3,VLOOKUP(E$2,Table1[],5,0),IF($B801=4,VLOOKUP(E$2,Table1[],5,0),0))))","v":1500000},{"$f":"IF($B801=1,VLOOKUP(F$2,Table1[],3,0),IF($B801=2,VLOOKUP(F$2,Table1[],4,0),IF($B801=3,VLOOKUP(F$2,Table1[],5,0),IF($B801=4,VLOOKUP(F$2,Table1[],5,0),0))))","v":800000}]
[4075,1,{"$f":"IF($B802=1,VLOOKUP(C$2,Table1[],3,0),IF($B802=2,VLOOKUP(C$2,Table1[],4,0),IF($B802=3,VLOOKUP(C$2,Table1[],5,0),IF($B802=4,VLOOKUP(C$2,Table1[],5,0),0))))","v":2000000},{"$f":"IF($B802=1,VLOOKUP(D$2,Table1[],3,0),IF($B802=2,VLOOKUP(D$2,Table1[],4,0),IF($B802=3,VLOOKUP(D$2,Table1[],5,0),IF($B802=4,VLOOKUP(D$2,Table1[],5,0),0))))","v":2000000},{"$f":"IF($B802=1,VLOOKUP(E$2,Table1[],3,0),IF($B802=2,VLOOKUP(E$2,Table1[],4,0),IF($B802=3,VLOOKUP(E$2,Table1[],5,0),IF($B802=4,VLOOKUP(E$2,Table1[],5,0),0))))","v":1500000},{"$f":"IF($B802=1,VLOOKUP(F$2,Table1[],3,0),IF($B802=2,VLOOKUP(F$2,Table1[],4,0),IF($B802=3,VLOOKUP(F$2,Table1[],5,0),IF($B802=4,VLOOKUP(F$2,Table1[],5,0),0))))","v":800000}]
[4076,1,{"$f":"IF($B803=1,VLOOKUP(C$2,Table1[],3,0),IF($B803=2,VLOOKUP(C$2,Table1[],4,0),IF($B803=3,VLOOKUP(C$2,Table1[],5,0),IF($B803=4,VLOOKUP(C$2,Table1[],5,0),0))))","v":2000000},{"$f":"IF($B803=1,VLOOKUP(D$2,Table1[],3,0),IF($B803=2,VLOOKUP(D$2,Table1[],4,0),IF($B803=3,VLOOKUP(D$2,Table1[],5,0),IF($B803=4,VLOOKUP(D$2,Table1[],5,0),0))))","v":2000000},{"$f":"IF($B803=1,VLOOKUP(E$2,Table1[],3,0),IF($B803=2,VLOOKUP(E$2,Table1[],4,0),IF($B803=3,VLOOKUP(E$2,Table1[],5,0),IF($B803=4,VLOOKUP(E$2,Table1[],5,0),0))))","v":1500000},{"$f":"IF($B803=1,VLOOKUP(F$2,Table1[],3,0),IF($B803=2,VLOOKUP(F$2,Table1[],4,0),IF($B803=3,VLOOKUP(F$2,Table1[],5,0),IF($B803=4,VLOOKUP(F$2,Table1[],5,0),0))))","v":800000}]
[4077,1,{"$f":"IF($B804=1,VLOOKUP(C$2,Table1[],3,0),IF($B804=2,VLOOKUP(C$2,Table1[],4,0),IF($B804=3,VLOOKUP(C$2,Table1[],5,0),IF($B804=4,VLOOKUP(C$2,Table1[],5,0),0))))","v":2000000},{"$f":"IF($B804=1,VLOOKUP(D$2,Table1[],3,0),IF($B804=2,VLOOKUP(D$2,Table1[],4,0),IF($B804=3,VLOOKUP(D$2,Table1[],5,0),IF($B804=4,VLOOKUP(D$2,Table1[],5,0),0))))","v":2000000},{"$f":"IF($B804=1,VLOOKUP(E$2,Table1[],3,0),IF($B804=2,VLOOKUP(E$2,Table1[],4,0),IF($B804=3,VLOOKUP(E$2,Table1[],5,0),IF($B804=4,VLOOKUP(E$2,Table1[],5,0),0))))","v":1500000},{"$f":"IF($B804=1,VLOOKUP(F$2,Table1[],3,0),IF($B804=2,VLOOKUP(F$2,Table1[],4,0),IF($B804=3,VLOOKUP(F$2,Table1[],5,0),IF($B804=4,VLOOKUP(F$2,Table1[],5,0),0))))","v":800000}]
[4078,1,{"$f":"IF($B805=1,VLOOKUP(C$2,Table1[],3,0),IF($B805=2,VLOOKUP(C$2,Table1[],4,0),IF($B805=3,VLOOKUP(C$2,Table1[],5,0),IF($B805=4,VLOOKUP(C$2,Table1[],5,0),0))))","v":2000000},{"$f":"IF($B805=1,VLOOKUP(D$2,Table1[],3,0),IF($B805=2,VLOOKUP(D$2,Table1[],4,0),IF($B805=3,VLOOKUP(D$2,Table1[],5,0),IF($B805=4,VLOOKUP(D$2,Table1[],5,0),0))))","v":2000000},{"$f":"IF($B805=1,VLOOKUP(E$2,Table1[],3,0),IF($B805=2,VLOOKUP(E$2,Table1[],4,0),IF($B805=3,VLOOKUP(E$2,Table1[],5,0),IF($B805=4,VLOOKUP(E$2,Table1[],5,0),0))))","v":1500000},{"$f":"IF($B805=1,VLOOKUP(F$2,Table1[],3,0),IF($B805=2,VLOOKUP(F$2,Table1[],4,0),IF($B805=3,VLOOKUP(F$2,Table1[],5,0),IF($B805=4,VLOOKUP(F$2,Table1[],5,0),0))))","v":800000}]
[4101,1,{"$f":"IF($B806=1,VLOOKUP(C$2,Table1[],3,0),IF($B806=2,VLOOKUP(C$2,Table1[],4,0),IF($B806=3,VLOOKUP(C$2,Table1[],5,0),IF($B806=4,VLOOKUP(C$2,Table1[],5,0),0))))","v":2000000},{"$f":"IF($B806=1,VLOOKUP(D$2,Table1[],3,0),IF($B806=2,VLOOKUP(D$2,Table1[],4,0),IF($B806=3,VLOOKUP(D$2,Table1[],5,0),IF($B806=4,VLOOKUP(D$2,Table1[],5,0),0))))","v":2000000},{"$f":"IF($B806=1,VLOOKUP(E$2,Table1[],3,0),IF($B806=2,VLOOKUP(E$2,Table1[],4,0),IF($B806=3,VLOOKUP(E$2,Table1[],5,0),IF($B806=4,VLOOKUP(E$2,Table1[],5,0),0))))","v":1500000},{"$f":"IF($B806=1,VLOOKUP(F$2,Table1[],3,0),IF($B806=2,VLOOKUP(F$2,Table1[],4,0),IF($B806=3,VLOOKUP(F$2,Table1[],5,0),IF($B806=4,VLOOKUP(F$2,Table1[],5,0),0))))","v":800000}]
[4102,1,{"$f":"IF($B807=1,VLOOKUP(C$2,Table1[],3,0),IF($B807=2,VLOOKUP(C$2,Table1[],4,0),IF($B807=3,VLOOKUP(C$2,Table1[],5,0),IF($B807=4,VLOOKUP(C$2,Table1[],5,0),0))))","v":2000000},{"$f":"IF($B807=1,VLOOKUP(D$2,Table1[],3,0),IF($B807=2,VLOOKUP(D$2,Table1[],4,0),IF($B807=3,VLOOKUP(D$2,Table1[],5,0),IF($B807=4,VLOOKUP(D$2,Table1[],5,0),0))))","v":2000000},{"$f":"IF($B807=1,VLOOKUP(E$2,Table1[],3,0),IF($B807=2,VLOOKUP(E$2,Table1[],4,0),IF($B807=3,VLOOKUP(E$2,Table1[],5,0),IF($B807=4,VLOOKUP(E$2,Table1[],5,0),0))))","v":1500000},{"$f":"IF($B807=1,VLOOKUP(F$2,Table1[],3,0),IF($B807=2,VLOOKUP(F$2,Table1[],4,0),IF($B807=3,VLOOKUP(F$2,Table1[],5,0),IF($B807=4,VLOOKUP(F$2,Table1[],5,0),0))))","v":800000}]
[4103,1,{"$f":"IF($B808=1,VLOOKUP(C$2,Table1[],3,0),IF($B808=2,VLOOKUP(C$2,Table1[],4,0),IF($B808=3,VLOOKUP(C$2,Table1[],5,0),IF($B808=4,VLOOKUP(C$2,Table1[],5,0),0))))","v":2000000},{"$f":"IF($B808=1,VLOOKUP(D$2,Table1[],3,0),IF($B808=2,VLOOKUP(D$2,Table1[],4,0),IF($B808=3,VLOOKUP(D$2,Table1[],5,0),IF($B808=4,VLOOKUP(D$2,Table1[],5,0),0))))","v":2000000},{"$f":"IF($B808=1,VLOOKUP(E$2,Table1[],3,0),IF($B808=2,VLOOKUP(E$2,Table1[],4,0),IF($B808=3,VLOOKUP(E$2,Table1[],5,0),IF($B808=4,VLOOKUP(E$2,Table1[],5,0),0))))","v":1500000},{"$f":"IF($B808=1,VLOOKUP(F$2,Table1[],3,0),IF($B808=2,VLOOKUP(F$2,Table1[],4,0),IF($B808=3,VLOOKUP(F$2,Table1[],5,0),IF($B808=4,VLOOKUP(F$2,Table1[],5,0),0))))","v":800000}]
[4104,1,{"$f":"IF($B809=1,VLOOKUP(C$2,Table1[],3,0),IF($B809=2,VLOOKUP(C$2,Table1[],4,0),IF($B809=3,VLOOKUP(C$2,Table1[],5,0),IF($B809=4,VLOOKUP(C$2,Table1[],5,0),0))))","v":2000000},{"$f":"IF($B809=1,VLOOKUP(D$2,Table1[],3,0),IF($B809=2,VLOOKUP(D$2,Table1[],4,0),IF($B809=3,VLOOKUP(D$2,Table1[],5,0),IF($B809=4,VLOOKUP(D$2,Table1[],5,0),0))))","v":2000000},{"$f":"IF($B809=1,VLOOKUP(E$2,Table1[],3,0),IF($B809=2,VLOOKUP(E$2,Table1[],4,0),IF($B809=3,VLOOKUP(E$2,Table1[],5,0),IF($B809=4,VLOOKUP(E$2,Table1[],5,0),0))))","v":1500000},{"$f":"IF($B809=1,VLOOKUP(F$2,Table1[],3,0),IF($B809=2,VLOOKUP(F$2,Table1[],4,0),IF($B809=3,VLOOKUP(F$2,Table1[],5,0),IF($B809=4,VLOOKUP(F$2,Table1[],5,0),0))))","v":800000}]
[4105,1,{"$f":"IF($B810=1,VLOOKUP(C$2,Table1[],3,0),IF($B810=2,VLOOKUP(C$2,Table1[],4,0),IF($B810=3,VLOOKUP(C$2,Table1[],5,0),IF($B810=4,VLOOKUP(C$2,Table1[],5,0),0))))","v":2000000},{"$f":"IF($B810=1,VLOOKUP(D$2,Table1[],3,0),IF($B810=2,VLOOKUP(D$2,Table1[],4,0),IF($B810=3,VLOOKUP(D$2,Table1[],5,0),IF($B810=4,VLOOKUP(D$2,Table1[],5,0),0))))","v":2000000},{"$f":"IF($B810=1,VLOOKUP(E$2,Table1[],3,0),IF($B810=2,VLOOKUP(E$2,Table1[],4,0),IF($B810=3,VLOOKUP(E$2,Table1[],5,0),IF($B810=4,VLOOKUP(E$2,Table1[],5,0),0))))","v":1500000},{"$f":"IF($B810=1,VLOOKUP(F$2,Table1[],3,0),IF($B810=2,VLOOKUP(F$2,Table1[],4,0),IF($B810=3,VLOOKUP(F$2,Table1[],5,0),IF($B810=4,VLOOKUP(F$2,Table1[],5,0),0))))","v":800000}]
[4106,1,{"$f":"IF($B811=1,VLOOKUP(C$2,Table1[],3,0),IF($B811=2,VLOOKUP(C$2,Table1[],4,0),IF($B811=3,VLOOKUP(C$2,Table1[],5,0),IF($B811=4,VLOOKUP(C$2,Table1[],5,0),0))))","v":2000000},{"$f":"IF($B811=1,VLOOKUP(D$2,Table1[],3,0),IF($B811=2,VLOOKUP(D$2,Table1[],4,0),IF($B811=3,VLOOKUP(D$2,Table1[],5,0),IF($B811=4,VLOOKUP(D$2,Table1[],5,0),0))))","v":2000000},{"$f":"IF($B811=1,VLOOKUP(E$2,Table1[],3,0),IF($B811=2,VLOOKUP(E$2,Table1[],4,0),IF($B811=3,VLOOKUP(E$2,Table1[],5,0),IF($B811=4,VLOOKUP(E$2,Table1[],5,0),0))))","v":1500000},{"$f":"IF($B811=1,VLOOKUP(F$2,Table1[],3,0),IF($B811=2,VLOOKUP(F$2,Table1[],4,0),IF($B811=3,VLOOKUP(F$2,Table1[],5,0),IF($B811=4,VLOOKUP(F$2,Table1[],5,0),0))))","v":800000}]
[4107,1,{"$f":"IF($B812=1,VLOOKUP(C$2,Table1[],3,0),IF($B812=2,VLOOKUP(C$2,Table1[],4,0),IF($B812=3,VLOOKUP(C$2,Table1[],5,0),IF($B812=4,VLOOKUP(C$2,Table1[],5,0),0))))","v":2000000},{"$f":"IF($B812=1,VLOOKUP(D$2,Table1[],3,0),IF($B812=2,VLOOKUP(D$2,Table1[],4,0),IF($B812=3,VLOOKUP(D$2,Table1[],5,0),IF($B812=4,VLOOKUP(D$2,Table1[],5,0),0))))","v":2000000},{"$f":"IF($B812=1,VLOOKUP(E$2,Table1[],3,0),IF($B812=2,VLOOKUP(E$2,Table1[],4,0),IF($B812=3,VLOOKUP(E$2,Table1[],5,0),IF($B812=4,VLOOKUP(E$2,Table1[],5,0),0))))","v":1500000},{"$f":"IF($B812=1,VLOOKUP(F$2,Table1[],3,0),IF($B812=2,VLOOKUP(F$2,Table1[],4,0),IF($B812=3,VLOOKUP(F$2,Table1[],5,0),IF($B812=4,VLOOKUP(F$2,Table1[],5,0),0))))","v":800000}]
[4108,1,{"$f":"IF($B813=1,VLOOKUP(C$2,Table1[],3,0),IF($B813=2,VLOOKUP(C$2,Table1[],4,0),IF($B813=3,VLOOKUP(C$2,Table1[],5,0),IF($B813=4,VLOOKUP(C$2,Table1[],5,0),0))))","v":2000000},{"$f":"IF($B813=1,VLOOKUP(D$2,Table1[],3,0),IF($B813=2,VLOOKUP(D$2,Table1[],4,0),IF($B813=3,VLOOKUP(D$2,Table1[],5,0),IF($B813=4,VLOOKUP(D$2,Table1[],5,0),0))))","v":2000000},{"$f":"IF($B813=1,VLOOKUP(E$2,Table1[],3,0),IF($B813=2,VLOOKUP(E$2,Table1[],4,0),IF($B813=3,VLOOKUP(E$2,Table1[],5,0),IF($B813=4,VLOOKUP(E$2,Table1[],5,0),0))))","v":1500000},{"$f":"IF($B813=1,VLOOKUP(F$2,Table1[],3,0),IF($B813=2,VLOOKUP(F$2,Table1[],4,0),IF($B813=3,VLOOKUP(F$2,Table1[],5,0),IF($B813=4,VLOOKUP(F$2,Table1[],5,0),0))))","v":800000}]
[4109,1,{"$f":"IF($B814=1,VLOOKUP(C$2,Table1[],3,0),IF($B814=2,VLOOKUP(C$2,Table1[],4,0),IF($B814=3,VLOOKUP(C$2,Table1[],5,0),IF($B814=4,VLOOKUP(C$2,Table1[],5,0),0))))","v":2000000},{"$f":"IF($B814=1,VLOOKUP(D$2,Table1[],3,0),IF($B814=2,VLOOKUP(D$2,Table1[],4,0),IF($B814=3,VLOOKUP(D$2,Table1[],5,0),IF($B814=4,VLOOKUP(D$2,Table1[],5,0),0))))","v":2000000},{"$f":"IF($B814=1,VLOOKUP(E$2,Table1[],3,0),IF($B814=2,VLOOKUP(E$2,Table1[],4,0),IF($B814=3,VLOOKUP(E$2,Table1[],5,0),IF($B814=4,VLOOKUP(E$2,Table1[],5,0),0))))","v":1500000},{"$f":"IF($B814=1,VLOOKUP(F$2,Table1[],3,0),IF($B814=2,VLOOKUP(F$2,Table1[],4,0),IF($B814=3,VLOOKUP(F$2,Table1[],5,0),IF($B814=4,VLOOKUP(F$2,Table1[],5,0),0))))","v":800000}]
[4110,1,{"$f":"IF($B815=1,VLOOKUP(C$2,Table1[],3,0),IF($B815=2,VLOOKUP(C$2,Table1[],4,0),IF($B815=3,VLOOKUP(C$2,Table1[],5,0),IF($B815=4,VLOOKUP(C$2,Table1[],5,0),0))))","v":2000000},{"$f":"IF($B815=1,VLOOKUP(D$2,Table1[],3,0),IF($B815=2,VLOOKUP(D$2,Table1[],4,0),IF($B815=3,VLOOKUP(D$2,Table1[],5,0),IF($B815=4,VLOOKUP(D$2,Table1[],5,0),0))))","v":2000000},{"$f":"IF($B815=1,VLOOKUP(E$2,Table1[],3,0),IF($B815=2,VLOOKUP(E$2,Table1[],4,0),IF($B815=3,VLOOKUP(E$2,Table1[],5,0),IF($B815=4,VLOOKUP(E$2,Table1[],5,0),0))))","v":1500000},{"$f":"IF($B815=1,VLOOKUP(F$2,Table1[],3,0),IF($B815=2,VLOOKUP(F$2,Table1[],4,0),IF($B815=3,VLOOKUP(F$2,Table1[],5,0),IF($B815=4,VLOOKUP(F$2,Table1[],5,0),0))))","v":800000}]
[4111,1,{"$f":"IF($B816=1,VLOOKUP(C$2,Table1[],3,0),IF($B816=2,VLOOKUP(C$2,Table1[],4,0),IF($B816=3,VLOOKUP(C$2,Table1[],5,0),IF($B816=4,VLOOKUP(C$2,Table1[],5,0),0))))","v":2000000},{"$f":"IF($B816=1,VLOOKUP(D$2,Table1[],3,0),IF($B816=2,VLOOKUP(D$2,Table1[],4,0),IF($B816=3,VLOOKUP(D$2,Table1[],5,0),IF($B816=4,VLOOKUP(D$2,Table1[],5,0),0))))","v":2000000},{"$f":"IF($B816=1,VLOOKUP(E$2,Table1[],3,0),IF($B816=2,VLOOKUP(E$2,Table1[],4,0),IF($B816=3,VLOOKUP(E$2,Table1[],5,0),IF($B816=4,VLOOKUP(E$2,Table1[],5,0),0))))","v":1500000},{"$f":"IF($B816=1,VLOOKUP(F$2,Table1[],3,0),IF($B816=2,VLOOKUP(F$2,Table1[],4,0),IF($B816=3,VLOOKUP(F$2,Table1[],5,0),IF($B816=4,VLOOKUP(F$2,Table1[],5,0),0))))","v":800000}]
[4112,1,{"$f":"IF($B817=1,VLOOKUP(C$2,Table1[],3,0),IF($B817=2,VLOOKUP(C$2,Table1[],4,0),IF($B817=3,VLOOKUP(C$2,Table1[],5,0),IF($B817=4,VLOOKUP(C$2,Table1[],5,0),0))))","v":2000000},{"$f":"IF($B817=1,VLOOKUP(D$2,Table1[],3,0),IF($B817=2,VLOOKUP(D$2,Table1[],4,0),IF($B817=3,VLOOKUP(D$2,Table1[],5,0),IF($B817=4,VLOOKUP(D$2,Table1[],5,0),0))))","v":2000000},{"$f":"IF($B817=1,VLOOKUP(E$2,Table1[],3,0),IF($B817=2,VLOOKUP(E$2,Table1[],4,0),IF($B817=3,VLOOKUP(E$2,Table1[],5,0),IF($B817=4,VLOOKUP(E$2,Table1[],5,0),0))))","v":1500000},{"$f":"IF($B817=1,VLOOKUP(F$2,Table1[],3,0),IF($B817=2,VLOOKUP(F$2,Table1[],4,0),IF($B817=3,VLOOKUP(F$2,Table1[],5,0),IF($B817=4,VLOOKUP(F$2,Table1[],5,0),0))))","v":800000}]
[4113,1,{"$f":"IF($B818=1,VLOOKUP(C$2,Table1[],3,0),IF($B818=2,VLOOKUP(C$2,Table1[],4,0),IF($B818=3,VLOOKUP(C$2,Table1[],5,0),IF($B818=4,VLOOKUP(C$2,Table1[],5,0),0))))","v":2000000},{"$f":"IF($B818=1,VLOOKUP(D$2,Table1[],3,0),IF($B818=2,VLOOKUP(D$2,Table1[],4,0),IF($B818=3,VLOOKUP(D$2,Table1[],5,0),IF($B818=4,VLOOKUP(D$2,Table1[],5,0),0))))","v":2000000},{"$f":"IF($B818=1,VLOOKUP(E$2,Table1[],3,0),IF($B818=2,VLOOKUP(E$2,Table1[],4,0),IF($B818=3,VLOOKUP(E$2,Table1[],5,0),IF($B818=4,VLOOKUP(E$2,Table1[],5,0),0))))","v":1500000},{"$f":"IF($B818=1,VLOOKUP(F$2,Table1[],3,0),IF($B818=2,VLOOKUP(F$2,Table1[],4,0),IF($B818=3,VLOOKUP(F$2,Table1[],5,0),IF($B818=4,VLOOKUP(F$2,Table1[],5,0),0))))","v":800000}]
[4114,1,{"$f":"IF($B819=1,VLOOKUP(C$2,Table1[],3,0),IF($B819=2,VLOOKUP(C$2,Table1[],4,0),IF($B819=3,VLOOKUP(C$2,Table1[],5,0),IF($B819=4,VLOOKUP(C$2,Table1[],5,0),0))))","v":2000000},{"$f":"IF($B819=1,VLOOKUP(D$2,Table1[],3,0),IF($B819=2,VLOOKUP(D$2,Table1[],4,0),IF($B819=3,VLOOKUP(D$2,Table1[],5,0),IF($B819=4,VLOOKUP(D$2,Table1[],5,0),0))))","v":2000000},{"$f":"IF($B819=1,VLOOKUP(E$2,Table1[],3,0),IF($B819=2,VLOOKUP(E$2,Table1[],4,0),IF($B819=3,VLOOKUP(E$2,Table1[],5,0),IF($B819=4,VLOOKUP(E$2,Table1[],5,0),0))))","v":1500000},{"$f":"IF($B819=1,VLOOKUP(F$2,Table1[],3,0),IF($B819=2,VLOOKUP(F$2,Table1[],4,0),IF($B819=3,VLOOKUP(F$2,Table1[],5,0),IF($B819=4,VLOOKUP(F$2,Table1[],5,0),0))))","v":800000}]
[4115,1,{"$f":"IF($B820=1,VLOOKUP(C$2,Table1[],3,0),IF($B820=2,VLOOKUP(C$2,Table1[],4,0),IF($B820=3,VLOOKUP(C$2,Table1[],5,0),IF($B820=4,VLOOKUP(C$2,Table1[],5,0),0))))","v":2000000},{"$f":"IF($B820=1,VLOOKUP(D$2,Table1[],3,0),IF($B820=2,VLOOKUP(D$2,Table1[],4,0),IF($B820=3,VLOOKUP(D$2,Table1[],5,0),IF($B820=4,VLOOKUP(D$2,Table1[],5,0),0))))","v":2000000},{"$f":"IF($B820=1,VLOOKUP(E$2,Table1[],3,0),IF($B820=2,VLOOKUP(E$2,Table1[],4,0),IF($B820=3,VLOOKUP(E$2,Table1[],5,0),IF($B820=4,VLOOKUP(E$2,Table1[],5,0),0))))","v":1500000},{"$f":"IF($B820=1,VLOOKUP(F$2,Table1[],3,0),IF($B820=2,VLOOKUP(F$2,Table1[],4,0),IF($B820=3,VLOOKUP(F$2,Table1[],5,0),IF($B820=4,VLOOKUP(F$2,Table1[],5,0),0))))","v":800000}]
[4116,1,{"$f":"IF($B821=1,VLOOKUP(C$2,Table1[],3,0),IF($B821=2,VLOOKUP(C$2,Table1[],4,0),IF($B821=3,VLOOKUP(C$2,Table1[],5,0),IF($B821=4,VLOOKUP(C$2,Table1[],5,0),0))))","v":2000000},{"$f":"IF($B821=1,VLOOKUP(D$2,Table1[],3,0),IF($B821=2,VLOOKUP(D$2,Table1[],4,0),IF($B821=3,VLOOKUP(D$2,Table1[],5,0),IF($B821=4,VLOOKUP(D$2,Table1[],5,0),0))))","v":2000000},{"$f":"IF($B821=1,VLOOKUP(E$2,Table1[],3,0),IF($B821=2,VLOOKUP(E$2,Table1[],4,0),IF($B821=3,VLOOKUP(E$2,Table1[],5,0),IF($B821=4,VLOOKUP(E$2,Table1[],5,0),0))))","v":1500000},{"$f":"IF($B821=1,VLOOKUP(F$2,Table1[],3,0),IF($B821=2,VLOOKUP(F$2,Table1[],4,0),IF($B821=3,VLOOKUP(F$2,Table1[],5,0),IF($B821=4,VLOOKUP(F$2,Table1[],5,0),0))))","v":800000}]
[4117,1,{"$f":"IF($B822=1,VLOOKUP(C$2,Table1[],3,0),IF($B822=2,VLOOKUP(C$2,Table1[],4,0),IF($B822=3,VLOOKUP(C$2,Table1[],5,0),IF($B822=4,VLOOKUP(C$2,Table1[],5,0),0))))","v":2000000},{"$f":"IF($B822=1,VLOOKUP(D$2,Table1[],3,0),IF($B822=2,VLOOKUP(D$2,Table1[],4,0),IF($B822=3,VLOOKUP(D$2,Table1[],5,0),IF($B822=4,VLOOKUP(D$2,Table1[],5,0),0))))","v":2000000},{"$f":"IF($B822=1,VLOOKUP(E$2,Table1[],3,0),IF($B822=2,VLOOKUP(E$2,Table1[],4,0),IF($B822=3,VLOOKUP(E$2,Table1[],5,0),IF($B822=4,VLOOKUP(E$2,Table1[],5,0),0))))","v":1500000},{"$f":"IF($B822=1,VLOOKUP(F$2,Table1[],3,0),IF($B822=2,VLOOKUP(F$2,Table1[],4,0),IF($B822=3,VLOOKUP(F$2,Table1[],5,0),IF($B822=4,VLOOKUP(F$2,Table1[],5,0),0))))","v":800000}]
[4118,1,{"$f":"IF($B823=1,VLOOKUP(C$2,Table1[],3,0),IF($B823=2,VLOOKUP(C$2,Table1[],4,0),IF($B823=3,VLOOKUP(C$2,Table1[],5,0),IF($B823=4,VLOOKUP(C$2,Table1[],5,0),0))))","v":2000000},{"$f":"IF($B823=1,VLOOKUP(D$2,Table1[],3,0),IF($B823=2,VLOOKUP(D$2,Table1[],4,0),IF($B823=3,VLOOKUP(D$2,Table1[],5,0),IF($B823=4,VLOOKUP(D$2,Table1[],5,0),0))))","v":2000000},{"$f":"IF($B823=1,VLOOKUP(E$2,Table1[],3,0),IF($B823=2,VLOOKUP(E$2,Table1[],4,0),IF($B823=3,VLOOKUP(E$2,Table1[],5,0),IF($B823=4,VLOOKUP(E$2,Table1[],5,0),0))))","v":1500000},{"$f":"IF($B823=1,VLOOKUP(F$2,Table1[],3,0),IF($B823=2,VLOOKUP(F$2,Table1[],4,0),IF($B823=3,VLOOKUP(F$2,Table1[],5,0),IF($B823=4,VLOOKUP(F$2,Table1[],5,0),0))))","v":800000}]
[4119,1,{"$f":"IF($B824=1,VLOOKUP(C$2,Table1[],3,0),IF($B824=2,VLOOKUP(C$2,Table1[],4,0),IF($B824=3,VLOOKUP(C$2,Table1[],5,0),IF($B824=4,VLOOKUP(C$2,Table1[],5,0),0))))","v":2000000},{"$f":"IF($B824=1,VLOOKUP(D$2,Table1[],3,0),IF($B824=2,VLOOKUP(D$2,Table1[],4,0),IF($B824=3,VLOOKUP(D$2,Table1[],5,0),IF($B824=4,VLOOKUP(D$2,Table1[],5,0),0))))","v":2000000},{"$f":"IF($B824=1,VLOOKUP(E$2,Table1[],3,0),IF($B824=2,VLOOKUP(E$2,Table1[],4,0),IF($B824=3,VLOOKUP(E$2,Table1[],5,0),IF($B824=4,VLOOKUP(E$2,Table1[],5,0),0))))","v":1500000},{"$f":"IF($B824=1,VLOOKUP(F$2,Table1[],3,0),IF($B824=2,VLOOKUP(F$2,Table1[],4,0),IF($B824=3,VLOOKUP(F$2,Table1[],5,0),IF($B824=4,VLOOKUP(F$2,Table1[],5,0),0))))","v":800000}]
[4120,1,{"$f":"IF($B825=1,VLOOKUP(C$2,Table1[],3,0),IF($B825=2,VLOOKUP(C$2,Table1[],4,0),IF($B825=3,VLOOKUP(C$2,Table1[],5,0),IF($B825=4,VLOOKUP(C$2,Table1[],5,0),0))))","v":2000000},{"$f":"IF($B825=1,VLOOKUP(D$2,Table1[],3,0),IF($B825=2,VLOOKUP(D$2,Table1[],4,0),IF($B825=3,VLOOKUP(D$2,Table1[],5,0),IF($B825=4,VLOOKUP(D$2,Table1[],5,0),0))))","v":2000000},{"$f":"IF($B825=1,VLOOKUP(E$2,Table1[],3,0),IF($B825=2,VLOOKUP(E$2,Table1[],4,0),IF($B825=3,VLOOKUP(E$2,Table1[],5,0),IF($B825=4,VLOOKUP(E$2,Table1[],5,0),0))))","v":1500000},{"$f":"IF($B825=1,VLOOKUP(F$2,Table1[],3,0),IF($B825=2,VLOOKUP(F$2,Table1[],4,0),IF($B825=3,VLOOKUP(F$2,Table1[],5,0),IF($B825=4,VLOOKUP(F$2,Table1[],5,0),0))))","v":800000}]
[4121,1,{"$f":"IF($B826=1,VLOOKUP(C$2,Table1[],3,0),IF($B826=2,VLOOKUP(C$2,Table1[],4,0),IF($B826=3,VLOOKUP(C$2,Table1[],5,0),IF($B826=4,VLOOKUP(C$2,Table1[],5,0),0))))","v":2000000},{"$f":"IF($B826=1,VLOOKUP(D$2,Table1[],3,0),IF($B826=2,VLOOKUP(D$2,Table1[],4,0),IF($B826=3,VLOOKUP(D$2,Table1[],5,0),IF($B826=4,VLOOKUP(D$2,Table1[],5,0),0))))","v":2000000},{"$f":"IF($B826=1,VLOOKUP(E$2,Table1[],3,0),IF($B826=2,VLOOKUP(E$2,Table1[],4,0),IF($B826=3,VLOOKUP(E$2,Table1[],5,0),IF($B826=4,VLOOKUP(E$2,Table1[],5,0),0))))","v":1500000},{"$f":"IF($B826=1,VLOOKUP(F$2,Table1[],3,0),IF($B826=2,VLOOKUP(F$2,Table1[],4,0),IF($B826=3,VLOOKUP(F$2,Table1[],5,0),IF($B826=4,VLOOKUP(F$2,Table1[],5,0),0))))","v":800000}]
[4122,1,{"$f":"IF($B827=1,VLOOKUP(C$2,Table1[],3,0),IF($B827=2,VLOOKUP(C$2,Table1[],4,0),IF($B827=3,VLOOKUP(C$2,Table1[],5,0),IF($B827=4,VLOOKUP(C$2,Table1[],5,0),0))))","v":2000000},{"$f":"IF($B827=1,VLOOKUP(D$2,Table1[],3,0),IF($B827=2,VLOOKUP(D$2,Table1[],4,0),IF($B827=3,VLOOKUP(D$2,Table1[],5,0),IF($B827=4,VLOOKUP(D$2,Table1[],5,0),0))))","v":2000000},{"$f":"IF($B827=1,VLOOKUP(E$2,Table1[],3,0),IF($B827=2,VLOOKUP(E$2,Table1[],4,0),IF($B827=3,VLOOKUP(E$2,Table1[],5,0),IF($B827=4,VLOOKUP(E$2,Table1[],5,0),0))))","v":1500000},{"$f":"IF($B827=1,VLOOKUP(F$2,Table1[],3,0),IF($B827=2,VLOOKUP(F$2,Table1[],4,0),IF($B827=3,VLOOKUP(F$2,Table1[],5,0),IF($B827=4,VLOOKUP(F$2,Table1[],5,0),0))))","v":800000}]
[4123,1,{"$f":"IF($B828=1,VLOOKUP(C$2,Table1[],3,0),IF($B828=2,VLOOKUP(C$2,Table1[],4,0),IF($B828=3,VLOOKUP(C$2,Table1[],5,0),IF($B828=4,VLOOKUP(C$2,Table1[],5,0),0))))","v":2000000},{"$f":"IF($B828=1,VLOOKUP(D$2,Table1[],3,0),IF($B828=2,VLOOKUP(D$2,Table1[],4,0),IF($B828=3,VLOOKUP(D$2,Table1[],5,0),IF($B828=4,VLOOKUP(D$2,Table1[],5,0),0))))","v":2000000},{"$f":"IF($B828=1,VLOOKUP(E$2,Table1[],3,0),IF($B828=2,VLOOKUP(E$2,Table1[],4,0),IF($B828=3,VLOOKUP(E$2,Table1[],5,0),IF($B828=4,VLOOKUP(E$2,Table1[],5,0),0))))","v":1500000},{"$f":"IF($B828=1,VLOOKUP(F$2,Table1[],3,0),IF($B828=2,VLOOKUP(F$2,Table1[],4,0),IF($B828=3,VLOOKUP(F$2,Table1[],5,0),IF($B828=4,VLOOKUP(F$2,Table1[],5,0),0))))","v":800000}]
[4124,1,{"$f":"IF($B829=1,VLOOKUP(C$2,Table1[],3,0),IF($B829=2,VLOOKUP(C$2,Table1[],4,0),IF($B829=3,VLOOKUP(C$2,Table1[],5,0),IF($B829=4,VLOOKUP(C$2,Table1[],5,0),0))))","v":2000000},{"$f":"IF($B829=1,VLOOKUP(D$2,Table1[],3,0),IF($B829=2,VLOOKUP(D$2,Table1[],4,0),IF($B829=3,VLOOKUP(D$2,Table1[],5,0),IF($B829=4,VLOOKUP(D$2,Table1[],5,0),0))))","v":2000000},{"$f":"IF($B829=1,VLOOKUP(E$2,Table1[],3,0),IF($B829=2,VLOOKUP(E$2,Table1[],4,0),IF($B829=3,VLOOKUP(E$2,Table1[],5,0),IF($B829=4,VLOOKUP(E$2,Table1[],5,0),0))))","v":1500000},{"$f":"IF($B829=1,VLOOKUP(F$2,Table1[],3,0),IF($B829=2,VLOOKUP(F$2,Table1[],4,0),IF($B829=3,VLOOKUP(F$2,Table1[],5,0),IF($B829=4,VLOOKUP(F$2,Table1[],5,0),0))))","v":800000}]
[4125,1,{"$f":"IF($B830=1,VLOOKUP(C$2,Table1[],3,0),IF($B830=2,VLOOKUP(C$2,Table1[],4,0),IF($B830=3,VLOOKUP(C$2,Table1[],5,0),IF($B830=4,VLOOKUP(C$2,Table1[],5,0),0))))","v":2000000},{"$f":"IF($B830=1,VLOOKUP(D$2,Table1[],3,0),IF($B830=2,VLOOKUP(D$2,Table1[],4,0),IF($B830=3,VLOOKUP(D$2,Table1[],5,0),IF($B830=4,VLOOKUP(D$2,Table1[],5,0),0))))","v":2000000},{"$f":"IF($B830=1,VLOOKUP(E$2,Table1[],3,0),IF($B830=2,VLOOKUP(E$2,Table1[],4,0),IF($B830=3,VLOOKUP(E$2,Table1[],5,0),IF($B830=4,VLOOKUP(E$2,Table1[],5,0),0))))","v":1500000},{"$f":"IF($B830=1,VLOOKUP(F$2,Table1[],3,0),IF($B830=2,VLOOKUP(F$2,Table1[],4,0),IF($B830=3,VLOOKUP(F$2,Table1[],5,0),IF($B830=4,VLOOKUP(F$2,Table1[],5,0),0))))","v":800000}]
[4127,1,{"$f":"IF($B831=1,VLOOKUP(C$2,Table1[],3,0),IF($B831=2,VLOOKUP(C$2,Table1[],4,0),IF($B831=3,VLOOKUP(C$2,Table1[],5,0),IF($B831=4,VLOOKUP(C$2,Table1[],5,0),0))))","v":2000000},{"$f":"IF($B831=1,VLOOKUP(D$2,Table1[],3,0),IF($B831=2,VLOOKUP(D$2,Table1[],4,0),IF($B831=3,VLOOKUP(D$2,Table1[],5,0),IF($B831=4,VLOOKUP(D$2,Table1[],5,0),0))))","v":2000000},{"$f":"IF($B831=1,VLOOKUP(E$2,Table1[],3,0),IF($B831=2,VLOOKUP(E$2,Table1[],4,0),IF($B831=3,VLOOKUP(E$2,Table1[],5,0),IF($B831=4,VLOOKUP(E$2,Table1[],5,0),0))))","v":1500000},{"$f":"IF($B831=1,VLOOKUP(F$2,Table1[],3,0),IF($B831=2,VLOOKUP(F$2,Table1[],4,0),IF($B831=3,VLOOKUP(F$2,Table1[],5,0),IF($B831=4,VLOOKUP(F$2,Table1[],5,0),0))))","v":800000}]
[4128,1,{"$f":"IF($B832=1,VLOOKUP(C$2,Table1[],3,0),IF($B832=2,VLOOKUP(C$2,Table1[],4,0),IF($B832=3,VLOOKUP(C$2,Table1[],5,0),IF($B832=4,VLOOKUP(C$2,Table1[],5,0),0))))","v":2000000},{"$f":"IF($B832=1,VLOOKUP(D$2,Table1[],3,0),IF($B832=2,VLOOKUP(D$2,Table1[],4,0),IF($B832=3,VLOOKUP(D$2,Table1[],5,0),IF($B832=4,VLOOKUP(D$2,Table1[],5,0),0))))","v":2000000},{"$f":"IF($B832=1,VLOOKUP(E$2,Table1[],3,0),IF($B832=2,VLOOKUP(E$2,Table1[],4,0),IF($B832=3,VLOOKUP(E$2,Table1[],5,0),IF($B832=4,VLOOKUP(E$2,Table1[],5,0),0))))","v":1500000},{"$f":"IF($B832=1,VLOOKUP(F$2,Table1[],3,0),IF($B832=2,VLOOKUP(F$2,Table1[],4,0),IF($B832=3,VLOOKUP(F$2,Table1[],5,0),IF($B832=4,VLOOKUP(F$2,Table1[],5,0),0))))","v":800000}]
[4129,1,{"$f":"IF($B833=1,VLOOKUP(C$2,Table1[],3,0),IF($B833=2,VLOOKUP(C$2,Table1[],4,0),IF($B833=3,VLOOKUP(C$2,Table1[],5,0),IF($B833=4,VLOOKUP(C$2,Table1[],5,0),0))))","v":2000000},{"$f":"IF($B833=1,VLOOKUP(D$2,Table1[],3,0),IF($B833=2,VLOOKUP(D$2,Table1[],4,0),IF($B833=3,VLOOKUP(D$2,Table1[],5,0),IF($B833=4,VLOOKUP(D$2,Table1[],5,0),0))))","v":2000000},{"$f":"IF($B833=1,VLOOKUP(E$2,Table1[],3,0),IF($B833=2,VLOOKUP(E$2,Table1[],4,0),IF($B833=3,VLOOKUP(E$2,Table1[],5,0),IF($B833=4,VLOOKUP(E$2,Table1[],5,0),0))))","v":1500000},{"$f":"IF($B833=1,VLOOKUP(F$2,Table1[],3,0),IF($B833=2,VLOOKUP(F$2,Table1[],4,0),IF($B833=3,VLOOKUP(F$2,Table1[],5,0),IF($B833=4,VLOOKUP(F$2,Table1[],5,0),0))))","v":800000}]
[4130,1,{"$f":"IF($B834=1,VLOOKUP(C$2,Table1[],3,0),IF($B834=2,VLOOKUP(C$2,Table1[],4,0),IF($B834=3,VLOOKUP(C$2,Table1[],5,0),IF($B834=4,VLOOKUP(C$2,Table1[],5,0),0))))","v":2000000},{"$f":"IF($B834=1,VLOOKUP(D$2,Table1[],3,0),IF($B834=2,VLOOKUP(D$2,Table1[],4,0),IF($B834=3,VLOOKUP(D$2,Table1[],5,0),IF($B834=4,VLOOKUP(D$2,Table1[],5,0),0))))","v":2000000},{"$f":"IF($B834=1,VLOOKUP(E$2,Table1[],3,0),IF($B834=2,VLOOKUP(E$2,Table1[],4,0),IF($B834=3,VLOOKUP(E$2,Table1[],5,0),IF($B834=4,VLOOKUP(E$2,Table1[],5,0),0))))","v":1500000},{"$f":"IF($B834=1,VLOOKUP(F$2,Table1[],3,0),IF($B834=2,VLOOKUP(F$2,Table1[],4,0),IF($B834=3,VLOOKUP(F$2,Table1[],5,0),IF($B834=4,VLOOKUP(F$2,Table1[],5,0),0))))","v":800000}]
[4131,1,{"$f":"IF($B835=1,VLOOKUP(C$2,Table1[],3,0),IF($B835=2,VLOOKUP(C$2,Table1[],4,0),IF($B835=3,VLOOKUP(C$2,Table1[],5,0),IF($B835=4,VLOOKUP(C$2,Table1[],5,0),0))))","v":2000000},{"$f":"IF($B835=1,VLOOKUP(D$2,Table1[],3,0),IF($B835=2,VLOOKUP(D$2,Table1[],4,0),IF($B835=3,VLOOKUP(D$2,Table1[],5,0),IF($B835=4,VLOOKUP(D$2,Table1[],5,0),0))))","v":2000000},{"$f":"IF($B835=1,VLOOKUP(E$2,Table1[],3,0),IF($B835=2,VLOOKUP(E$2,Table1[],4,0),IF($B835=3,VLOOKUP(E$2,Table1[],5,0),IF($B835=4,VLOOKUP(E$2,Table1[],5,0),0))))","v":1500000},{"$f":"IF($B835=1,VLOOKUP(F$2,Table1[],3,0),IF($B835=2,VLOOKUP(F$2,Table1[],4,0),IF($B835=3,VLOOKUP(F$2,Table1[],5,0),IF($B835=4,VLOOKUP(F$2,Table1[],5,0),0))))","v":800000}]
[4132,1,{"$f":"IF($B836=1,VLOOKUP(C$2,Table1[],3,0),IF($B836=2,VLOOKUP(C$2,Table1[],4,0),IF($B836=3,VLOOKUP(C$2,Table1[],5,0),IF($B836=4,VLOOKUP(C$2,Table1[],5,0),0))))","v":2000000},{"$f":"IF($B836=1,VLOOKUP(D$2,Table1[],3,0),IF($B836=2,VLOOKUP(D$2,Table1[],4,0),IF($B836=3,VLOOKUP(D$2,Table1[],5,0),IF($B836=4,VLOOKUP(D$2,Table1[],5,0),0))))","v":2000000},{"$f":"IF($B836=1,VLOOKUP(E$2,Table1[],3,0),IF($B836=2,VLOOKUP(E$2,Table1[],4,0),IF($B836=3,VLOOKUP(E$2,Table1[],5,0),IF($B836=4,VLOOKUP(E$2,Table1[],5,0),0))))","v":1500000},{"$f":"IF($B836=1,VLOOKUP(F$2,Table1[],3,0),IF($B836=2,VLOOKUP(F$2,Table1[],4,0),IF($B836=3,VLOOKUP(F$2,Table1[],5,0),IF($B836=4,VLOOKUP(F$2,Table1[],5,0),0))))","v":800000}]
[4133,1,{"$f":"IF($B837=1,VLOOKUP(C$2,Table1[],3,0),IF($B837=2,VLOOKUP(C$2,Table1[],4,0),IF($B837=3,VLOOKUP(C$2,Table1[],5,0),IF($B837=4,VLOOKUP(C$2,Table1[],5,0),0))))","v":2000000},{"$f":"IF($B837=1,VLOOKUP(D$2,Table1[],3,0),IF($B837=2,VLOOKUP(D$2,Table1[],4,0),IF($B837=3,VLOOKUP(D$2,Table1[],5,0),IF($B837=4,VLOOKUP(D$2,Table1[],5,0),0))))","v":2000000},{"$f":"IF($B837=1,VLOOKUP(E$2,Table1[],3,0),IF($B837=2,VLOOKUP(E$2,Table1[],4,0),IF($B837=3,VLOOKUP(E$2,Table1[],5,0),IF($B837=4,VLOOKUP(E$2,Table1[],5,0),0))))","v":1500000},{"$f":"IF($B837=1,VLOOKUP(F$2,Table1[],3,0),IF($B837=2,VLOOKUP(F$2,Table1[],4,0),IF($B837=3,VLOOKUP(F$2,Table1[],5,0),IF($B837=4,VLOOKUP(F$2,Table1[],5,0),0))))","v":800000}]
[4151,1,{"$f":"IF($B838=1,VLOOKUP(C$2,Table1[],3,0),IF($B838=2,VLOOKUP(C$2,Table1[],4,0),IF($B838=3,VLOOKUP(C$2,Table1[],5,0),IF($B838=4,VLOOKUP(C$2,Table1[],5,0),0))))","v":2000000},{"$f":"IF($B838=1,VLOOKUP(D$2,Table1[],3,0),IF($B838=2,VLOOKUP(D$2,Table1[],4,0),IF($B838=3,VLOOKUP(D$2,Table1[],5,0),IF($B838=4,VLOOKUP(D$2,Table1[],5,0),0))))","v":2000000},{"$f":"IF($B838=1,VLOOKUP(E$2,Table1[],3,0),IF($B838=2,VLOOKUP(E$2,Table1[],4,0),IF($B838=3,VLOOKUP(E$2,Table1[],5,0),IF($B838=4,VLOOKUP(E$2,Table1[],5,0),0))))","v":1500000},{"$f":"IF($B838=1,VLOOKUP(F$2,Table1[],3,0),IF($B838=2,VLOOKUP(F$2,Table1[],4,0),IF($B838=3,VLOOKUP(F$2,Table1[],5,0),IF($B838=4,VLOOKUP(F$2,Table1[],5,0),0))))","v":800000}]
[4152,1,{"$f":"IF($B839=1,VLOOKUP(C$2,Table1[],3,0),IF($B839=2,VLOOKUP(C$2,Table1[],4,0),IF($B839=3,VLOOKUP(C$2,Table1[],5,0),IF($B839=4,VLOOKUP(C$2,Table1[],5,0),0))))","v":2000000},{"$f":"IF($B839=1,VLOOKUP(D$2,Table1[],3,0),IF($B839=2,VLOOKUP(D$2,Table1[],4,0),IF($B839=3,VLOOKUP(D$2,Table1[],5,0),IF($B839=4,VLOOKUP(D$2,Table1[],5,0),0))))","v":2000000},{"$f":"IF($B839=1,VLOOKUP(E$2,Table1[],3,0),IF($B839=2,VLOOKUP(E$2,Table1[],4,0),IF($B839=3,VLOOKUP(E$2,Table1[],5,0),IF($B839=4,VLOOKUP(E$2,Table1[],5,0),0))))","v":1500000},{"$f":"IF($B839=1,VLOOKUP(F$2,Table1[],3,0),IF($B839=2,VLOOKUP(F$2,Table1[],4,0),IF($B839=3,VLOOKUP(F$2,Table1[],5,0),IF($B839=4,VLOOKUP(F$2,Table1[],5,0),0))))","v":800000}]
[4153,1,{"$f":"IF($B840=1,VLOOKUP(C$2,Table1[],3,0),IF($B840=2,VLOOKUP(C$2,Table1[],4,0),IF($B840=3,VLOOKUP(C$2,Table1[],5,0),IF($B840=4,VLOOKUP(C$2,Table1[],5,0),0))))","v":2000000},{"$f":"IF($B840=1,VLOOKUP(D$2,Table1[],3,0),IF($B840=2,VLOOKUP(D$2,Table1[],4,0),IF($B840=3,VLOOKUP(D$2,Table1[],5,0),IF($B840=4,VLOOKUP(D$2,Table1[],5,0),0))))","v":2000000},{"$f":"IF($B840=1,VLOOKUP(E$2,Table1[],3,0),IF($B840=2,VLOOKUP(E$2,Table1[],4,0),IF($B840=3,VLOOKUP(E$2,Table1[],5,0),IF($B840=4,VLOOKUP(E$2,Table1[],5,0),0))))","v":1500000},{"$f":"IF($B840=1,VLOOKUP(F$2,Table1[],3,0),IF($B840=2,VLOOKUP(F$2,Table1[],4,0),IF($B840=3,VLOOKUP(F$2,Table1[],5,0),IF($B840=4,VLOOKUP(F$2,Table1[],5,0),0))))","v":800000}]
[4154,1,{"$f":"IF($B841=1,VLOOKUP(C$2,Table1[],3,0),IF($B841=2,VLOOKUP(C$2,Table1[],4,0),IF($B841=3,VLOOKUP(C$2,Table1[],5,0),IF($B841=4,VLOOKUP(C$2,Table1[],5,0),0))))","v":2000000},{"$f":"IF($B841=1,VLOOKUP(D$2,Table1[],3,0),IF($B841=2,VLOOKUP(D$2,Table1[],4,0),IF($B841=3,VLOOKUP(D$2,Table1[],5,0),IF($B841=4,VLOOKUP(D$2,Table1[],5,0),0))))","v":2000000},{"$f":"IF($B841=1,VLOOKUP(E$2,Table1[],3,0),IF($B841=2,VLOOKUP(E$2,Table1[],4,0),IF($B841=3,VLOOKUP(E$2,Table1[],5,0),IF($B841=4,VLOOKUP(E$2,Table1[],5,0),0))))","v":1500000},{"$f":"IF($B841=1,VLOOKUP(F$2,Table1[],3,0),IF($B841=2,VLOOKUP(F$2,Table1[],4,0),IF($B841=3,VLOOKUP(F$2,Table1[],5,0),IF($B841=4,VLOOKUP(F$2,Table1[],5,0),0))))","v":800000}]
[4155,1,{"$f":"IF($B842=1,VLOOKUP(C$2,Table1[],3,0),IF($B842=2,VLOOKUP(C$2,Table1[],4,0),IF($B842=3,VLOOKUP(C$2,Table1[],5,0),IF($B842=4,VLOOKUP(C$2,Table1[],5,0),0))))","v":2000000},{"$f":"IF($B842=1,VLOOKUP(D$2,Table1[],3,0),IF($B842=2,VLOOKUP(D$2,Table1[],4,0),IF($B842=3,VLOOKUP(D$2,Table1[],5,0),IF($B842=4,VLOOKUP(D$2,Table1[],5,0),0))))","v":2000000},{"$f":"IF($B842=1,VLOOKUP(E$2,Table1[],3,0),IF($B842=2,VLOOKUP(E$2,Table1[],4,0),IF($B842=3,VLOOKUP(E$2,Table1[],5,0),IF($B842=4,VLOOKUP(E$2,Table1[],5,0),0))))","v":1500000},{"$f":"IF($B842=1,VLOOKUP(F$2,Table1[],3,0),IF($B842=2,VLOOKUP(F$2,Table1[],4,0),IF($B842=3,VLOOKUP(F$2,Table1[],5,0),IF($B842=4,VLOOKUP(F$2,Table1[],5,0),0))))","v":800000}]
[4156,1,{"$f":"IF($B843=1,VLOOKUP(C$2,Table1[],3,0),IF($B843=2,VLOOKUP(C$2,Table1[],4,0),IF($B843=3,VLOOKUP(C$2,Table1[],5,0),IF($B843=4,VLOOKUP(C$2,Table1[],5,0),0))))","v":2000000},{"$f":"IF($B843=1,VLOOKUP(D$2,Table1[],3,0),IF($B843=2,VLOOKUP(D$2,Table1[],4,0),IF($B843=3,VLOOKUP(D$2,Table1[],5,0),IF($B843=4,VLOOKUP(D$2,Table1[],5,0),0))))","v":2000000},{"$f":"IF($B843=1,VLOOKUP(E$2,Table1[],3,0),IF($B843=2,VLOOKUP(E$2,Table1[],4,0),IF($B843=3,VLOOKUP(E$2,Table1[],5,0),IF($B843=4,VLOOKUP(E$2,Table1[],5,0),0))))","v":1500000},{"$f":"IF($B843=1,VLOOKUP(F$2,Table1[],3,0),IF($B843=2,VLOOKUP(F$2,Table1[],4,0),IF($B843=3,VLOOKUP(F$2,Table1[],5,0),IF($B843=4,VLOOKUP(F$2,Table1[],5,0),0))))","v":800000}]
[4157,1,{"$f":"IF($B844=1,VLOOKUP(C$2,Table1[],3,0),IF($B844=2,VLOOKUP(C$2,Table1[],4,0),IF($B844=3,VLOOKUP(C$2,Table1[],5,0),IF($B844=4,VLOOKUP(C$2,Table1[],5,0),0))))","v":2000000},{"$f":"IF($B844=1,VLOOKUP(D$2,Table1[],3,0),IF($B844=2,VLOOKUP(D$2,Table1[],4,0),IF($B844=3,VLOOKUP(D$2,Table1[],5,0),IF($B844=4,VLOOKUP(D$2,Table1[],5,0),0))))","v":2000000},{"$f":"IF($B844=1,VLOOKUP(E$2,Table1[],3,0),IF($B844=2,VLOOKUP(E$2,Table1[],4,0),IF($B844=3,VLOOKUP(E$2,Table1[],5,0),IF($B844=4,VLOOKUP(E$2,Table1[],5,0),0))))","v":1500000},{"$f":"IF($B844=1,VLOOKUP(F$2,Table1[],3,0),IF($B844=2,VLOOKUP(F$2,Table1[],4,0),IF($B844=3,VLOOKUP(F$2,Table1[],5,0),IF($B844=4,VLOOKUP(F$2,Table1[],5,0),0))))","v":800000}]
[4158,1,{"$f":"IF($B845=1,VLOOKUP(C$2,Table1[],3,0),IF($B845=2,VLOOKUP(C$2,Table1[],4,0),IF($B845=3,VLOOKUP(C$2,Table1[],5,0),IF($B845=4,VLOOKUP(C$2,Table1[],5,0),0))))","v":2000000},{"$f":"IF($B845=1,VLOOKUP(D$2,Table1[],3,0),IF($B845=2,VLOOKUP(D$2,Table1[],4,0),IF($B845=3,VLOOKUP(D$2,Table1[],5,0),IF($B845=4,VLOOKUP(D$2,Table1[],5,0),0))))","v":2000000},{"$f":"IF($B845=1,VLOOKUP(E$2,Table1[],3,0),IF($B845=2,VLOOKUP(E$2,Table1[],4,0),IF($B845=3,VLOOKUP(E$2,Table1[],5,0),IF($B845=4,VLOOKUP(E$2,Table1[],5,0),0))))","v":1500000},{"$f":"IF($B845=1,VLOOKUP(F$2,Table1[],3,0),IF($B845=2,VLOOKUP(F$2,Table1[],4,0),IF($B845=3,VLOOKUP(F$2,Table1[],5,0),IF($B845=4,VLOOKUP(F$2,Table1[],5,0),0))))","v":800000}]
[4159,1,{"$f":"IF($B846=1,VLOOKUP(C$2,Table1[],3,0),IF($B846=2,VLOOKUP(C$2,Table1[],4,0),IF($B846=3,VLOOKUP(C$2,Table1[],5,0),IF($B846=4,VLOOKUP(C$2,Table1[],5,0),0))))","v":2000000},{"$f":"IF($B846=1,VLOOKUP(D$2,Table1[],3,0),IF($B846=2,VLOOKUP(D$2,Table1[],4,0),IF($B846=3,VLOOKUP(D$2,Table1[],5,0),IF($B846=4,VLOOKUP(D$2,Table1[],5,0),0))))","v":2000000},{"$f":"IF($B846=1,VLOOKUP(E$2,Table1[],3,0),IF($B846=2,VLOOKUP(E$2,Table1[],4,0),IF($B846=3,VLOOKUP(E$2,Table1[],5,0),IF($B846=4,VLOOKUP(E$2,Table1[],5,0),0))))","v":1500000},{"$f":"IF($B846=1,VLOOKUP(F$2,Table1[],3,0),IF($B846=2,VLOOKUP(F$2,Table1[],4,0),IF($B846=3,VLOOKUP(F$2,Table1[],5,0),IF($B846=4,VLOOKUP(F$2,Table1[],5,0),0))))","v":800000}]
[4160,1,{"$f":"IF($B847=1,VLOOKUP(C$2,Table1[],3,0),IF($B847=2,VLOOKUP(C$2,Table1[],4,0),IF($B847=3,VLOOKUP(C$2,Table1[],5,0),IF($B847=4,VLOOKUP(C$2,Table1[],5,0),0))))","v":2000000},{"$f":"IF($B847=1,VLOOKUP(D$2,Table1[],3,0),IF($B847=2,VLOOKUP(D$2,Table1[],4,0),IF($B847=3,VLOOKUP(D$2,Table1[],5,0),IF($B847=4,VLOOKUP(D$2,Table1[],5,0),0))))","v":2000000},{"$f":"IF($B847=1,VLOOKUP(E$2,Table1[],3,0),IF($B847=2,VLOOKUP(E$2,Table1[],4,0),IF($B847=3,VLOOKUP(E$2,Table1[],5,0),IF($B847=4,VLOOKUP(E$2,Table1[],5,0),0))))","v":1500000},{"$f":"IF($B847=1,VLOOKUP(F$2,Table1[],3,0),IF($B847=2,VLOOKUP(F$2,Table1[],4,0),IF($B847=3,VLOOKUP(F$2,Table1[],5,0),IF($B847=4,VLOOKUP(F$2,Table1[],5,0),0))))","v":800000}]
[4161,1,{"$f":"IF($B848=1,VLOOKUP(C$2,Table1[],3,0),IF($B848=2,VLOOKUP(C$2,Table1[],4,0),IF($B848=3,VLOOKUP(C$2,Table1[],5,0),IF($B848=4,VLOOKUP(C$2,Table1[],5,0),0))))","v":2000000},{"$f":"IF($B848=1,VLOOKUP(D$2,Table1[],3,0),IF($B848=2,VLOOKUP(D$2,Table1[],4,0),IF($B848=3,VLOOKUP(D$2,Table1[],5,0),IF($B848=4,VLOOKUP(D$2,Table1[],5,0),0))))","v":2000000},{"$f":"IF($B848=1,VLOOKUP(E$2,Table1[],3,0),IF($B848=2,VLOOKUP(E$2,Table1[],4,0),IF($B848=3,VLOOKUP(E$2,Table1[],5,0),IF($B848=4,VLOOKUP(E$2,Table1[],5,0),0))))","v":1500000},{"$f":"IF($B848=1,VLOOKUP(F$2,Table1[],3,0),IF($B848=2,VLOOKUP(F$2,Table1[],4,0),IF($B848=3,VLOOKUP(F$2,Table1[],5,0),IF($B848=4,VLOOKUP(F$2,Table1[],5,0),0))))","v":800000}]
[4163,1,{"$f":"IF($B849=1,VLOOKUP(C$2,Table1[],3,0),IF($B849=2,VLOOKUP(C$2,Table1[],4,0),IF($B849=3,VLOOKUP(C$2,Table1[],5,0),IF($B849=4,VLOOKUP(C$2,Table1[],5,0),0))))","v":2000000},{"$f":"IF($B849=1,VLOOKUP(D$2,Table1[],3,0),IF($B849=2,VLOOKUP(D$2,Table1[],4,0),IF($B849=3,VLOOKUP(D$2,Table1[],5,0),IF($B849=4,VLOOKUP(D$2,Table1[],5,0),0))))","v":2000000},{"$f":"IF($B849=1,VLOOKUP(E$2,Table1[],3,0),IF($B849=2,VLOOKUP(E$2,Table1[],4,0),IF($B849=3,VLOOKUP(E$2,Table1[],5,0),IF($B849=4,VLOOKUP(E$2,Table1[],5,0),0))))","v":1500000},{"$f":"IF($B849=1,VLOOKUP(F$2,Table1[],3,0),IF($B849=2,VLOOKUP(F$2,Table1[],4,0),IF($B849=3,VLOOKUP(F$2,Table1[],5,0),IF($B849=4,VLOOKUP(F$2,Table1[],5,0),0))))","v":800000}]
[4164,1,{"$f":"IF($B850=1,VLOOKUP(C$2,Table1[],3,0),IF($B850=2,VLOOKUP(C$2,Table1[],4,0),IF($B850=3,VLOOKUP(C$2,Table1[],5,0),IF($B850=4,VLOOKUP(C$2,Table1[],5,0),0))))","v":2000000},{"$f":"IF($B850=1,VLOOKUP(D$2,Table1[],3,0),IF($B850=2,VLOOKUP(D$2,Table1[],4,0),IF($B850=3,VLOOKUP(D$2,Table1[],5,0),IF($B850=4,VLOOKUP(D$2,Table1[],5,0),0))))","v":2000000},{"$f":"IF($B850=1,VLOOKUP(E$2,Table1[],3,0),IF($B850=2,VLOOKUP(E$2,Table1[],4,0),IF($B850=3,VLOOKUP(E$2,Table1[],5,0),IF($B850=4,VLOOKUP(E$2,Table1[],5,0),0))))","v":1500000},{"$f":"IF($B850=1,VLOOKUP(F$2,Table1[],3,0),IF($B850=2,VLOOKUP(F$2,Table1[],4,0),IF($B850=3,VLOOKUP(F$2,Table1[],5,0),IF($B850=4,VLOOKUP(F$2,Table1[],5,0),0))))","v":800000}]
[4165,1,{"$f":"IF($B851=1,VLOOKUP(C$2,Table1[],3,0),IF($B851=2,VLOOKUP(C$2,Table1[],4,0),IF($B851=3,VLOOKUP(C$2,Table1[],5,0),IF($B851=4,VLOOKUP(C$2,Table1[],5,0),0))))","v":2000000},{"$f":"IF($B851=1,VLOOKUP(D$2,Table1[],3,0),IF($B851=2,VLOOKUP(D$2,Table1[],4,0),IF($B851=3,VLOOKUP(D$2,Table1[],5,0),IF($B851=4,VLOOKUP(D$2,Table1[],5,0),0))))","v":2000000},{"$f":"IF($B851=1,VLOOKUP(E$2,Table1[],3,0),IF($B851=2,VLOOKUP(E$2,Table1[],4,0),IF($B851=3,VLOOKUP(E$2,Table1[],5,0),IF($B851=4,VLOOKUP(E$2,Table1[],5,0),0))))","v":1500000},{"$f":"IF($B851=1,VLOOKUP(F$2,Table1[],3,0),IF($B851=2,VLOOKUP(F$2,Table1[],4,0),IF($B851=3,VLOOKUP(F$2,Table1[],5,0),IF($B851=4,VLOOKUP(F$2,Table1[],5,0),0))))","v":800000}]
[4169,1,{"$f":"IF($B852=1,VLOOKUP(C$2,Table1[],3,0),IF($B852=2,VLOOKUP(C$2,Table1[],4,0),IF($B852=3,VLOOKUP(C$2,Table1[],5,0),IF($B852=4,VLOOKUP(C$2,Table1[],5,0),0))))","v":2000000},{"$f":"IF($B852=1,VLOOKUP(D$2,Table1[],3,0),IF($B852=2,VLOOKUP(D$2,Table1[],4,0),IF($B852=3,VLOOKUP(D$2,Table1[],5,0),IF($B852=4,VLOOKUP(D$2,Table1[],5,0),0))))","v":2000000},{"$f":"IF($B852=1,VLOOKUP(E$2,Table1[],3,0),IF($B852=2,VLOOKUP(E$2,Table1[],4,0),IF($B852=3,VLOOKUP(E$2,Table1[],5,0),IF($B852=4,VLOOKUP(E$2,Table1[],5,0),0))))","v":1500000},{"$f":"IF($B852=1,VLOOKUP(F$2,Table1[],3,0),IF($B852=2,VLOOKUP(F$2,Table1[],4,0),IF($B852=3,VLOOKUP(F$2,Table1[],5,0),IF($B852=4,VLOOKUP(F$2,Table1[],5,0),0))))","v":800000}]
[4170,1,{"$f":"IF($B853=1,VLOOKUP(C$2,Table1[],3,0),IF($B853=2,VLOOKUP(C$2,Table1[],4,0),IF($B853=3,VLOOKUP(C$2,Table1[],5,0),IF($B853=4,VLOOKUP(C$2,Table1[],5,0),0))))","v":2000000},{"$f":"IF($B853=1,VLOOKUP(D$2,Table1[],3,0),IF($B853=2,VLOOKUP(D$2,Table1[],4,0),IF($B853=3,VLOOKUP(D$2,Table1[],5,0),IF($B853=4,VLOOKUP(D$2,Table1[],5,0),0))))","v":2000000},{"$f":"IF($B853=1,VLOOKUP(E$2,Table1[],3,0),IF($B853=2,VLOOKUP(E$2,Table1[],4,0),IF($B853=3,VLOOKUP(E$2,Table1[],5,0),IF($B853=4,VLOOKUP(E$2,Table1[],5,0),0))))","v":1500000},{"$f":"IF($B853=1,VLOOKUP(F$2,Table1[],3,0),IF($B853=2,VLOOKUP(F$2,Table1[],4,0),IF($B853=3,VLOOKUP(F$2,Table1[],5,0),IF($B853=4,VLOOKUP(F$2,Table1[],5,0),0))))","v":800000}]
[4171,1,{"$f":"IF($B854=1,VLOOKUP(C$2,Table1[],3,0),IF($B854=2,VLOOKUP(C$2,Table1[],4,0),IF($B854=3,VLOOKUP(C$2,Table1[],5,0),IF($B854=4,VLOOKUP(C$2,Table1[],5,0),0))))","v":2000000},{"$f":"IF($B854=1,VLOOKUP(D$2,Table1[],3,0),IF($B854=2,VLOOKUP(D$2,Table1[],4,0),IF($B854=3,VLOOKUP(D$2,Table1[],5,0),IF($B854=4,VLOOKUP(D$2,Table1[],5,0),0))))","v":2000000},{"$f":"IF($B854=1,VLOOKUP(E$2,Table1[],3,0),IF($B854=2,VLOOKUP(E$2,Table1[],4,0),IF($B854=3,VLOOKUP(E$2,Table1[],5,0),IF($B854=4,VLOOKUP(E$2,Table1[],5,0),0))))","v":1500000},{"$f":"IF($B854=1,VLOOKUP(F$2,Table1[],3,0),IF($B854=2,VLOOKUP(F$2,Table1[],4,0),IF($B854=3,VLOOKUP(F$2,Table1[],5,0),IF($B854=4,VLOOKUP(F$2,Table1[],5,0),0))))","v":800000}]
[4172,1,{"$f":"IF($B855=1,VLOOKUP(C$2,Table1[],3,0),IF($B855=2,VLOOKUP(C$2,Table1[],4,0),IF($B855=3,VLOOKUP(C$2,Table1[],5,0),IF($B855=4,VLOOKUP(C$2,Table1[],5,0),0))))","v":2000000},{"$f":"IF($B855=1,VLOOKUP(D$2,Table1[],3,0),IF($B855=2,VLOOKUP(D$2,Table1[],4,0),IF($B855=3,VLOOKUP(D$2,Table1[],5,0),IF($B855=4,VLOOKUP(D$2,Table1[],5,0),0))))","v":2000000},{"$f":"IF($B855=1,VLOOKUP(E$2,Table1[],3,0),IF($B855=2,VLOOKUP(E$2,Table1[],4,0),IF($B855=3,VLOOKUP(E$2,Table1[],5,0),IF($B855=4,VLOOKUP(E$2,Table1[],5,0),0))))","v":1500000},{"$f":"IF($B855=1,VLOOKUP(F$2,Table1[],3,0),IF($B855=2,VLOOKUP(F$2,Table1[],4,0),IF($B855=3,VLOOKUP(F$2,Table1[],5,0),IF($B855=4,VLOOKUP(F$2,Table1[],5,0),0))))","v":800000}]
[4173,1,{"$f":"IF($B856=1,VLOOKUP(C$2,Table1[],3,0),IF($B856=2,VLOOKUP(C$2,Table1[],4,0),IF($B856=3,VLOOKUP(C$2,Table1[],5,0),IF($B856=4,VLOOKUP(C$2,Table1[],5,0),0))))","v":2000000},{"$f":"IF($B856=1,VLOOKUP(D$2,Table1[],3,0),IF($B856=2,VLOOKUP(D$2,Table1[],4,0),IF($B856=3,VLOOKUP(D$2,Table1[],5,0),IF($B856=4,VLOOKUP(D$2,Table1[],5,0),0))))","v":2000000},{"$f":"IF($B856=1,VLOOKUP(E$2,Table1[],3,0),IF($B856=2,VLOOKUP(E$2,Table1[],4,0),IF($B856=3,VLOOKUP(E$2,Table1[],5,0),IF($B856=4,VLOOKUP(E$2,Table1[],5,0),0))))","v":1500000},{"$f":"IF($B856=1,VLOOKUP(F$2,Table1[],3,0),IF($B856=2,VLOOKUP(F$2,Table1[],4,0),IF($B856=3,VLOOKUP(F$2,Table1[],5,0),IF($B856=4,VLOOKUP(F$2,Table1[],5,0),0))))","v":800000}]
[4174,1,{"$f":"IF($B857=1,VLOOKUP(C$2,Table1[],3,0),IF($B857=2,VLOOKUP(C$2,Table1[],4,0),IF($B857=3,VLOOKUP(C$2,Table1[],5,0),IF($B857=4,VLOOKUP(C$2,Table1[],5,0),0))))","v":2000000},{"$f":"IF($B857=1,VLOOKUP(D$2,Table1[],3,0),IF($B857=2,VLOOKUP(D$2,Table1[],4,0),IF($B857=3,VLOOKUP(D$2,Table1[],5,0),IF($B857=4,VLOOKUP(D$2,Table1[],5,0),0))))","v":2000000},{"$f":"IF($B857=1,VLOOKUP(E$2,Table1[],3,0),IF($B857=2,VLOOKUP(E$2,Table1[],4,0),IF($B857=3,VLOOKUP(E$2,Table1[],5,0),IF($B857=4,VLOOKUP(E$2,Table1[],5,0),0))))","v":1500000},{"$f":"IF($B857=1,VLOOKUP(F$2,Table1[],3,0),IF($B857=2,VLOOKUP(F$2,Table1[],4,0),IF($B857=3,VLOOKUP(F$2,Table1[],5,0),IF($B857=4,VLOOKUP(F$2,Table1[],5,0),0))))","v":800000}]
[4178,1,{"$f":"IF($B858=1,VLOOKUP(C$2,Table1[],3,0),IF($B858=2,VLOOKUP(C$2,Table1[],4,0),IF($B858=3,VLOOKUP(C$2,Table1[],5,0),IF($B858=4,VLOOKUP(C$2,Table1[],5,0),0))))","v":2000000},{"$f":"IF($B858=1,VLOOKUP(D$2,Table1[],3,0),IF($B858=2,VLOOKUP(D$2,Table1[],4,0),IF($B858=3,VLOOKUP(D$2,Table1[],5,0),IF($B858=4,VLOOKUP(D$2,Table1[],5,0),0))))","v":2000000},{"$f":"IF($B858=1,VLOOKUP(E$2,Table1[],3,0),IF($B858=2,VLOOKUP(E$2,Table1[],4,0),IF($B858=3,VLOOKUP(E$2,Table1[],5,0),IF($B858=4,VLOOKUP(E$2,Table1[],5,0),0))))","v":1500000},{"$f":"IF($B858=1,VLOOKUP(F$2,Table1[],3,0),IF($B858=2,VLOOKUP(F$2,Table1[],4,0),IF($B858=3,VLOOKUP(F$2,Table1[],5,0),IF($B858=4,VLOOKUP(F$2,Table1[],5,0),0))))","v":800000}]
[4179,1,{"$f":"IF($B859=1,VLOOKUP(C$2,Table1[],3,0),IF($B859=2,VLOOKUP(C$2,Table1[],4,0),IF($B859=3,VLOOKUP(C$2,Table1[],5,0),IF($B859=4,VLOOKUP(C$2,Table1[],5,0),0))))","v":2000000},{"$f":"IF($B859=1,VLOOKUP(D$2,Table1[],3,0),IF($B859=2,VLOOKUP(D$2,Table1[],4,0),IF($B859=3,VLOOKUP(D$2,Table1[],5,0),IF($B859=4,VLOOKUP(D$2,Table1[],5,0),0))))","v":2000000},{"$f":"IF($B859=1,VLOOKUP(E$2,Table1[],3,0),IF($B859=2,VLOOKUP(E$2,Table1[],4,0),IF($B859=3,VLOOKUP(E$2,Table1[],5,0),IF($B859=4,VLOOKUP(E$2,Table1[],5,0),0))))","v":1500000},{"$f":"IF($B859=1,VLOOKUP(F$2,Table1[],3,0),IF($B859=2,VLOOKUP(F$2,Table1[],4,0),IF($B859=3,VLOOKUP(F$2,Table1[],5,0),IF($B859=4,VLOOKUP(F$2,Table1[],5,0),0))))","v":800000}]
[4183,4,{"$f":"IF($B860=1,VLOOKUP(C$2,Table1[],3,0),IF($B860=2,VLOOKUP(C$2,Table1[],4,0),IF($B860=3,VLOOKUP(C$2,Table1[],5,0),IF($B860=4,VLOOKUP(C$2,Table1[],5,0),0))))","v":500000},{"$f":"IF($B860=1,VLOOKUP(D$2,Table1[],3,0),IF($B860=2,VLOOKUP(D$2,Table1[],4,0),IF($B860=3,VLOOKUP(D$2,Table1[],5,0),IF($B860=4,VLOOKUP(D$2,Table1[],5,0),0))))","v":400000},{"$f":"IF($B860=1,VLOOKUP(E$2,Table1[],3,0),IF($B860=2,VLOOKUP(E$2,Table1[],4,0),IF($B860=3,VLOOKUP(E$2,Table1[],5,0),IF($B860=4,VLOOKUP(E$2,Table1[],5,0),0))))","v":"N/A"},{"$f":"IF($B860=1,VLOOKUP(F$2,Table1[],3,0),IF($B860=2,VLOOKUP(F$2,Table1[],4,0),IF($B860=3,VLOOKUP(F$2,Table1[],5,0),IF($B860=4,VLOOKUP(F$2,Table1[],5,0),0))))","v":"N/A"}]
[4184,4,{"$f":"IF($B861=1,VLOOKUP(C$2,Table1[],3,0),IF($B861=2,VLOOKUP(C$2,Table1[],4,0),IF($B861=3,VLOOKUP(C$2,Table1[],5,0),IF($B861=4,VLOOKUP(C$2,Table1[],5,0),0))))","v":500000},{"$f":"IF($B861=1,VLOOKUP(D$2,Table1[],3,0),IF($B861=2,VLOOKUP(D$2,Table1[],4,0),IF($B861=3,VLOOKUP(D$2,Table1[],5,0),IF($B861=4,VLOOKUP(D$2,Table1[],5,0),0))))","v":400000},{"$f":"IF($B861=1,VLOOKUP(E$2,Table1[],3,0),IF($B861=2,VLOOKUP(E$2,Table1[],4,0),IF($B861=3,VLOOKUP(E$2,Table1[],5,0),IF($B861=4,VLOOKUP(E$2,Table1[],5,0),0))))","v":"N/A"},{"$f":"IF($B861=1,VLOOKUP(F$2,Table1[],3,0),IF($B861=2,VLOOKUP(F$2,Table1[],4,0),IF($B861=3,VLOOKUP(F$2,Table1[],5,0),IF($B861=4,VLOOKUP(F$2,Table1[],5,0),0))))","v":"N/A"}]
[4205,1,{"$f":"IF($B862=1,VLOOKUP(C$2,Table1[],3,0),IF($B862=2,VLOOKUP(C$2,Table1[],4,0),IF($B862=3,VLOOKUP(C$2,Table1[],5,0),IF($B862=4,VLOOKUP(C$2,Table1[],5,0),0))))","v":2000000},{"$f":"IF($B862=1,VLOOKUP(D$2,Table1[],3,0),IF($B862=2,VLOOKUP(D$2,Table1[],4,0),IF($B862=3,VLOOKUP(D$2,Table1[],5,0),IF($B862=4,VLOOKUP(D$2,Table1[],5,0),0))))","v":2000000},{"$f":"IF($B862=1,VLOOKUP(E$2,Table1[],3,0),IF($B862=2,VLOOKUP(E$2,Table1[],4,0),IF($B862=3,VLOOKUP(E$2,Table1[],5,0),IF($B862=4,VLOOKUP(E$2,Table1[],5,0),0))))","v":1500000},{"$f":"IF($B862=1,VLOOKUP(F$2,Table1[],3,0),IF($B862=2,VLOOKUP(F$2,Table1[],4,0),IF($B862=3,VLOOKUP(F$2,Table1[],5,0),IF($B862=4,VLOOKUP(F$2,Table1[],5,0),0))))","v":800000}]
[4207,1,{"$f":"IF($B863=1,VLOOKUP(C$2,Table1[],3,0),IF($B863=2,VLOOKUP(C$2,Table1[],4,0),IF($B863=3,VLOOKUP(C$2,Table1[],5,0),IF($B863=4,VLOOKUP(C$2,Table1[],5,0),0))))","v":2000000},{"$f":"IF($B863=1,VLOOKUP(D$2,Table1[],3,0),IF($B863=2,VLOOKUP(D$2,Table1[],4,0),IF($B863=3,VLOOKUP(D$2,Table1[],5,0),IF($B863=4,VLOOKUP(D$2,Table1[],5,0),0))))","v":2000000},{"$f":"IF($B863=1,VLOOKUP(E$2,Table1[],3,0),IF($B863=2,VLOOKUP(E$2,Table1[],4,0),IF($B863=3,VLOOKUP(E$2,Table1[],5,0),IF($B863=4,VLOOKUP(E$2,Table1[],5,0),0))))","v":1500000},{"$f":"IF($B863=1,VLOOKUP(F$2,Table1[],3,0),IF($B863=2,VLOOKUP(F$2,Table1[],4,0),IF($B863=3,VLOOKUP(F$2,Table1[],5,0),IF($B863=4,VLOOKUP(F$2,Table1[],5,0),0))))","v":800000}]
[4208,1,{"$f":"IF($B864=1,VLOOKUP(C$2,Table1[],3,0),IF($B864=2,VLOOKUP(C$2,Table1[],4,0),IF($B864=3,VLOOKUP(C$2,Table1[],5,0),IF($B864=4,VLOOKUP(C$2,Table1[],5,0),0))))","v":2000000},{"$f":"IF($B864=1,VLOOKUP(D$2,Table1[],3,0),IF($B864=2,VLOOKUP(D$2,Table1[],4,0),IF($B864=3,VLOOKUP(D$2,Table1[],5,0),IF($B864=4,VLOOKUP(D$2,Table1[],5,0),0))))","v":2000000},{"$f":"IF($B864=1,VLOOKUP(E$2,Table1[],3,0),IF($B864=2,VLOOKUP(E$2,Table1[],4,0),IF($B864=3,VLOOKUP(E$2,Table1[],5,0),IF($B864=4,VLOOKUP(E$2,Table1[],5,0),0))))","v":1500000},{"$f":"IF($B864=1,VLOOKUP(F$2,Table1[],3,0),IF($B864=2,VLOOKUP(F$2,Table1[],4,0),IF($B864=3,VLOOKUP(F$2,Table1[],5,0),IF($B864=4,VLOOKUP(F$2,Table1[],5,0),0))))","v":800000}]
[4209,1,{"$f":"IF($B865=1,VLOOKUP(C$2,Table1[],3,0),IF($B865=2,VLOOKUP(C$2,Table1[],4,0),IF($B865=3,VLOOKUP(C$2,Table1[],5,0),IF($B865=4,VLOOKUP(C$2,Table1[],5,0),0))))","v":2000000},{"$f":"IF($B865=1,VLOOKUP(D$2,Table1[],3,0),IF($B865=2,VLOOKUP(D$2,Table1[],4,0),IF($B865=3,VLOOKUP(D$2,Table1[],5,0),IF($B865=4,VLOOKUP(D$2,Table1[],5,0),0))))","v":2000000},{"$f":"IF($B865=1,VLOOKUP(E$2,Table1[],3,0),IF($B865=2,VLOOKUP(E$2,Table1[],4,0),IF($B865=3,VLOOKUP(E$2,Table1[],5,0),IF($B865=4,VLOOKUP(E$2,Table1[],5,0),0))))","v":1500000},{"$f":"IF($B865=1,VLOOKUP(F$2,Table1[],3,0),IF($B865=2,VLOOKUP(F$2,Table1[],4,0),IF($B865=3,VLOOKUP(F$2,Table1[],5,0),IF($B865=4,VLOOKUP(F$2,Table1[],5,0),0))))","v":800000}]
[4210,1,{"$f":"IF($B866=1,VLOOKUP(C$2,Table1[],3,0),IF($B866=2,VLOOKUP(C$2,Table1[],4,0),IF($B866=3,VLOOKUP(C$2,Table1[],5,0),IF($B866=4,VLOOKUP(C$2,Table1[],5,0),0))))","v":2000000},{"$f":"IF($B866=1,VLOOKUP(D$2,Table1[],3,0),IF($B866=2,VLOOKUP(D$2,Table1[],4,0),IF($B866=3,VLOOKUP(D$2,Table1[],5,0),IF($B866=4,VLOOKUP(D$2,Table1[],5,0),0))))","v":2000000},{"$f":"IF($B866=1,VLOOKUP(E$2,Table1[],3,0),IF($B866=2,VLOOKUP(E$2,Table1[],4,0),IF($B866=3,VLOOKUP(E$2,Table1[],5,0),IF($B866=4,VLOOKUP(E$2,Table1[],5,0),0))))","v":1500000},{"$f":"IF($B866=1,VLOOKUP(F$2,Table1[],3,0),IF($B866=2,VLOOKUP(F$2,Table1[],4,0),IF($B866=3,VLOOKUP(F$2,Table1[],5,0),IF($B866=4,VLOOKUP(F$2,Table1[],5,0),0))))","v":800000}]
[4211,1,{"$f":"IF($B867=1,VLOOKUP(C$2,Table1[],3,0),IF($B867=2,VLOOKUP(C$2,Table1[],4,0),IF($B867=3,VLOOKUP(C$2,Table1[],5,0),IF($B867=4,VLOOKUP(C$2,Table1[],5,0),0))))","v":2000000},{"$f":"IF($B867=1,VLOOKUP(D$2,Table1[],3,0),IF($B867=2,VLOOKUP(D$2,Table1[],4,0),IF($B867=3,VLOOKUP(D$2,Table1[],5,0),IF($B867=4,VLOOKUP(D$2,Table1[],5,0),0))))","v":2000000},{"$f":"IF($B867=1,VLOOKUP(E$2,Table1[],3,0),IF($B867=2,VLOOKUP(E$2,Table1[],4,0),IF($B867=3,VLOOKUP(E$2,Table1[],5,0),IF($B867=4,VLOOKUP(E$2,Table1[],5,0),0))))","v":1500000},{"$f":"IF($B867=1,VLOOKUP(F$2,Table1[],3,0),IF($B867=2,VLOOKUP(F$2,Table1[],4,0),IF($B867=3,VLOOKUP(F$2,Table1[],5,0),IF($B867=4,VLOOKUP(F$2,Table1[],5,0),0))))","v":800000}]
[4212,1,{"$f":"IF($B868=1,VLOOKUP(C$2,Table1[],3,0),IF($B868=2,VLOOKUP(C$2,Table1[],4,0),IF($B868=3,VLOOKUP(C$2,Table1[],5,0),IF($B868=4,VLOOKUP(C$2,Table1[],5,0),0))))","v":2000000},{"$f":"IF($B868=1,VLOOKUP(D$2,Table1[],3,0),IF($B868=2,VLOOKUP(D$2,Table1[],4,0),IF($B868=3,VLOOKUP(D$2,Table1[],5,0),IF($B868=4,VLOOKUP(D$2,Table1[],5,0),0))))","v":2000000},{"$f":"IF($B868=1,VLOOKUP(E$2,Table1[],3,0),IF($B868=2,VLOOKUP(E$2,Table1[],4,0),IF($B868=3,VLOOKUP(E$2,Table1[],5,0),IF($B868=4,VLOOKUP(E$2,Table1[],5,0),0))))","v":1500000},{"$f":"IF($B868=1,VLOOKUP(F$2,Table1[],3,0),IF($B868=2,VLOOKUP(F$2,Table1[],4,0),IF($B868=3,VLOOKUP(F$2,Table1[],5,0),IF($B868=4,VLOOKUP(F$2,Table1[],5,0),0))))","v":800000}]
[4213,1,{"$f":"IF($B869=1,VLOOKUP(C$2,Table1[],3,0),IF($B869=2,VLOOKUP(C$2,Table1[],4,0),IF($B869=3,VLOOKUP(C$2,Table1[],5,0),IF($B869=4,VLOOKUP(C$2,Table1[],5,0),0))))","v":2000000},{"$f":"IF($B869=1,VLOOKUP(D$2,Table1[],3,0),IF($B869=2,VLOOKUP(D$2,Table1[],4,0),IF($B869=3,VLOOKUP(D$2,Table1[],5,0),IF($B869=4,VLOOKUP(D$2,Table1[],5,0),0))))","v":2000000},{"$f":"IF($B869=1,VLOOKUP(E$2,Table1[],3,0),IF($B869=2,VLOOKUP(E$2,Table1[],4,0),IF($B869=3,VLOOKUP(E$2,Table1[],5,0),IF($B869=4,VLOOKUP(E$2,Table1[],5,0),0))))","v":1500000},{"$f":"IF($B869=1,VLOOKUP(F$2,Table1[],3,0),IF($B869=2,VLOOKUP(F$2,Table1[],4,0),IF($B869=3,VLOOKUP(F$2,Table1[],5,0),IF($B869=4,VLOOKUP(F$2,Table1[],5,0),0))))","v":800000}]
[4214,1,{"$f":"IF($B870=1,VLOOKUP(C$2,Table1[],3,0),IF($B870=2,VLOOKUP(C$2,Table1[],4,0),IF($B870=3,VLOOKUP(C$2,Table1[],5,0),IF($B870=4,VLOOKUP(C$2,Table1[],5,0),0))))","v":2000000},{"$f":"IF($B870=1,VLOOKUP(D$2,Table1[],3,0),IF($B870=2,VLOOKUP(D$2,Table1[],4,0),IF($B870=3,VLOOKUP(D$2,Table1[],5,0),IF($B870=4,VLOOKUP(D$2,Table1[],5,0),0))))","v":2000000},{"$f":"IF($B870=1,VLOOKUP(E$2,Table1[],3,0),IF($B870=2,VLOOKUP(E$2,Table1[],4,0),IF($B870=3,VLOOKUP(E$2,Table1[],5,0),IF($B870=4,VLOOKUP(E$2,Table1[],5,0),0))))","v":1500000},{"$f":"IF($B870=1,VLOOKUP(F$2,Table1[],3,0),IF($B870=2,VLOOKUP(F$2,Table1[],4,0),IF($B870=3,VLOOKUP(F$2,Table1[],5,0),IF($B870=4,VLOOKUP(F$2,Table1[],5,0),0))))","v":800000}]
[4215,1,{"$f":"IF($B871=1,VLOOKUP(C$2,Table1[],3,0),IF($B871=2,VLOOKUP(C$2,Table1[],4,0),IF($B871=3,VLOOKUP(C$2,Table1[],5,0),IF($B871=4,VLOOKUP(C$2,Table1[],5,0),0))))","v":2000000},{"$f":"IF($B871=1,VLOOKUP(D$2,Table1[],3,0),IF($B871=2,VLOOKUP(D$2,Table1[],4,0),IF($B871=3,VLOOKUP(D$2,Table1[],5,0),IF($B871=4,VLOOKUP(D$2,Table1[],5,0),0))))","v":2000000},{"$f":"IF($B871=1,VLOOKUP(E$2,Table1[],3,0),IF($B871=2,VLOOKUP(E$2,Table1[],4,0),IF($B871=3,VLOOKUP(E$2,Table1[],5,0),IF($B871=4,VLOOKUP(E$2,Table1[],5,0),0))))","v":1500000},{"$f":"IF($B871=1,VLOOKUP(F$2,Table1[],3,0),IF($B871=2,VLOOKUP(F$2,Table1[],4,0),IF($B871=3,VLOOKUP(F$2,Table1[],5,0),IF($B871=4,VLOOKUP(F$2,Table1[],5,0),0))))","v":800000}]
[4216,1,{"$f":"IF($B872=1,VLOOKUP(C$2,Table1[],3,0),IF($B872=2,VLOOKUP(C$2,Table1[],4,0),IF($B872=3,VLOOKUP(C$2,Table1[],5,0),IF($B872=4,VLOOKUP(C$2,Table1[],5,0),0))))","v":2000000},{"$f":"IF($B872=1,VLOOKUP(D$2,Table1[],3,0),IF($B872=2,VLOOKUP(D$2,Table1[],4,0),IF($B872=3,VLOOKUP(D$2,Table1[],5,0),IF($B872=4,VLOOKUP(D$2,Table1[],5,0),0))))","v":2000000},{"$f":"IF($B872=1,VLOOKUP(E$2,Table1[],3,0),IF($B872=2,VLOOKUP(E$2,Table1[],4,0),IF($B872=3,VLOOKUP(E$2,Table1[],5,0),IF($B872=4,VLOOKUP(E$2,Table1[],5,0),0))))","v":1500000},{"$f":"IF($B872=1,VLOOKUP(F$2,Table1[],3,0),IF($B872=2,VLOOKUP(F$2,Table1[],4,0),IF($B872=3,VLOOKUP(F$2,Table1[],5,0),IF($B872=4,VLOOKUP(F$2,Table1[],5,0),0))))","v":800000}]
[4217,1,{"$f":"IF($B873=1,VLOOKUP(C$2,Table1[],3,0),IF($B873=2,VLOOKUP(C$2,Table1[],4,0),IF($B873=3,VLOOKUP(C$2,Table1[],5,0),IF($B873=4,VLOOKUP(C$2,Table1[],5,0),0))))","v":2000000},{"$f":"IF($B873=1,VLOOKUP(D$2,Table1[],3,0),IF($B873=2,VLOOKUP(D$2,Table1[],4,0),IF($B873=3,VLOOKUP(D$2,Table1[],5,0),IF($B873=4,VLOOKUP(D$2,Table1[],5,0),0))))","v":2000000},{"$f":"IF($B873=1,VLOOKUP(E$2,Table1[],3,0),IF($B873=2,VLOOKUP(E$2,Table1[],4,0),IF($B873=3,VLOOKUP(E$2,Table1[],5,0),IF($B873=4,VLOOKUP(E$2,Table1[],5,0),0))))","v":1500000},{"$f":"IF($B873=1,VLOOKUP(F$2,Table1[],3,0),IF($B873=2,VLOOKUP(F$2,Table1[],4,0),IF($B873=3,VLOOKUP(F$2,Table1[],5,0),IF($B873=4,VLOOKUP(F$2,Table1[],5,0),0))))","v":800000}]
[4218,1,{"$f":"IF($B874=1,VLOOKUP(C$2,Table1[],3,0),IF($B874=2,VLOOKUP(C$2,Table1[],4,0),IF($B874=3,VLOOKUP(C$2,Table1[],5,0),IF($B874=4,VLOOKUP(C$2,Table1[],5,0),0))))","v":2000000},{"$f":"IF($B874=1,VLOOKUP(D$2,Table1[],3,0),IF($B874=2,VLOOKUP(D$2,Table1[],4,0),IF($B874=3,VLOOKUP(D$2,Table1[],5,0),IF($B874=4,VLOOKUP(D$2,Table1[],5,0),0))))","v":2000000},{"$f":"IF($B874=1,VLOOKUP(E$2,Table1[],3,0),IF($B874=2,VLOOKUP(E$2,Table1[],4,0),IF($B874=3,VLOOKUP(E$2,Table1[],5,0),IF($B874=4,VLOOKUP(E$2,Table1[],5,0),0))))","v":1500000},{"$f":"IF($B874=1,VLOOKUP(F$2,Table1[],3,0),IF($B874=2,VLOOKUP(F$2,Table1[],4,0),IF($B874=3,VLOOKUP(F$2,Table1[],5,0),IF($B874=4,VLOOKUP(F$2,Table1[],5,0),0))))","v":800000}]
[4219,1,{"$f":"IF($B875=1,VLOOKUP(C$2,Table1[],3,0),IF($B875=2,VLOOKUP(C$2,Table1[],4,0),IF($B875=3,VLOOKUP(C$2,Table1[],5,0),IF($B875=4,VLOOKUP(C$2,Table1[],5,0),0))))","v":2000000},{"$f":"IF($B875=1,VLOOKUP(D$2,Table1[],3,0),IF($B875=2,VLOOKUP(D$2,Table1[],4,0),IF($B875=3,VLOOKUP(D$2,Table1[],5,0),IF($B875=4,VLOOKUP(D$2,Table1[],5,0),0))))","v":2000000},{"$f":"IF($B875=1,VLOOKUP(E$2,Table1[],3,0),IF($B875=2,VLOOKUP(E$2,Table1[],4,0),IF($B875=3,VLOOKUP(E$2,Table1[],5,0),IF($B875=4,VLOOKUP(E$2,Table1[],5,0),0))))","v":1500000},{"$f":"IF($B875=1,VLOOKUP(F$2,Table1[],3,0),IF($B875=2,VLOOKUP(F$2,Table1[],4,0),IF($B875=3,VLOOKUP(F$2,Table1[],5,0),IF($B875=4,VLOOKUP(F$2,Table1[],5,0),0))))","v":800000}]
[4220,1,{"$f":"IF($B876=1,VLOOKUP(C$2,Table1[],3,0),IF($B876=2,VLOOKUP(C$2,Table1[],4,0),IF($B876=3,VLOOKUP(C$2,Table1[],5,0),IF($B876=4,VLOOKUP(C$2,Table1[],5,0),0))))","v":2000000},{"$f":"IF($B876=1,VLOOKUP(D$2,Table1[],3,0),IF($B876=2,VLOOKUP(D$2,Table1[],4,0),IF($B876=3,VLOOKUP(D$2,Table1[],5,0),IF($B876=4,VLOOKUP(D$2,Table1[],5,0),0))))","v":2000000},{"$f":"IF($B876=1,VLOOKUP(E$2,Table1[],3,0),IF($B876=2,VLOOKUP(E$2,Table1[],4,0),IF($B876=3,VLOOKUP(E$2,Table1[],5,0),IF($B876=4,VLOOKUP(E$2,Table1[],5,0),0))))","v":1500000},{"$f":"IF($B876=1,VLOOKUP(F$2,Table1[],3,0),IF($B876=2,VLOOKUP(F$2,Table1[],4,0),IF($B876=3,VLOOKUP(F$2,Table1[],5,0),IF($B876=4,VLOOKUP(F$2,Table1[],5,0),0))))","v":800000}]
[4221,1,{"$f":"IF($B877=1,VLOOKUP(C$2,Table1[],3,0),IF($B877=2,VLOOKUP(C$2,Table1[],4,0),IF($B877=3,VLOOKUP(C$2,Table1[],5,0),IF($B877=4,VLOOKUP(C$2,Table1[],5,0),0))))","v":2000000},{"$f":"IF($B877=1,VLOOKUP(D$2,Table1[],3,0),IF($B877=2,VLOOKUP(D$2,Table1[],4,0),IF($B877=3,VLOOKUP(D$2,Table1[],5,0),IF($B877=4,VLOOKUP(D$2,Table1[],5,0),0))))","v":2000000},{"$f":"IF($B877=1,VLOOKUP(E$2,Table1[],3,0),IF($B877=2,VLOOKUP(E$2,Table1[],4,0),IF($B877=3,VLOOKUP(E$2,Table1[],5,0),IF($B877=4,VLOOKUP(E$2,Table1[],5,0),0))))","v":1500000},{"$f":"IF($B877=1,VLOOKUP(F$2,Table1[],3,0),IF($B877=2,VLOOKUP(F$2,Table1[],4,0),IF($B877=3,VLOOKUP(F$2,Table1[],5,0),IF($B877=4,VLOOKUP(F$2,Table1[],5,0),0))))","v":800000}]
[4223,1,{"$f":"IF($B878=1,VLOOKUP(C$2,Table1[],3,0),IF($B878=2,VLOOKUP(C$2,Table1[],4,0),IF($B878=3,VLOOKUP(C$2,Table1[],5,0),IF($B878=4,VLOOKUP(C$2,Table1[],5,0),0))))","v":2000000},{"$f":"IF($B878=1,VLOOKUP(D$2,Table1[],3,0),IF($B878=2,VLOOKUP(D$2,Table1[],4,0),IF($B878=3,VLOOKUP(D$2,Table1[],5,0),IF($B878=4,VLOOKUP(D$2,Table1[],5,0),0))))","v":2000000},{"$f":"IF($B878=1,VLOOKUP(E$2,Table1[],3,0),IF($B878=2,VLOOKUP(E$2,Table1[],4,0),IF($B878=3,VLOOKUP(E$2,Table1[],5,0),IF($B878=4,VLOOKUP(E$2,Table1[],5,0),0))))","v":1500000},{"$f":"IF($B878=1,VLOOKUP(F$2,Table1[],3,0),IF($B878=2,VLOOKUP(F$2,Table1[],4,0),IF($B878=3,VLOOKUP(F$2,Table1[],5,0),IF($B878=4,VLOOKUP(F$2,Table1[],5,0),0))))","v":800000}]
[4224,1,{"$f":"IF($B879=1,VLOOKUP(C$2,Table1[],3,0),IF($B879=2,VLOOKUP(C$2,Table1[],4,0),IF($B879=3,VLOOKUP(C$2,Table1[],5,0),IF($B879=4,VLOOKUP(C$2,Table1[],5,0),0))))","v":2000000},{"$f":"IF($B879=1,VLOOKUP(D$2,Table1[],3,0),IF($B879=2,VLOOKUP(D$2,Table1[],4,0),IF($B879=3,VLOOKUP(D$2,Table1[],5,0),IF($B879=4,VLOOKUP(D$2,Table1[],5,0),0))))","v":2000000},{"$f":"IF($B879=1,VLOOKUP(E$2,Table1[],3,0),IF($B879=2,VLOOKUP(E$2,Table1[],4,0),IF($B879=3,VLOOKUP(E$2,Table1[],5,0),IF($B879=4,VLOOKUP(E$2,Table1[],5,0),0))))","v":1500000},{"$f":"IF($B879=1,VLOOKUP(F$2,Table1[],3,0),IF($B879=2,VLOOKUP(F$2,Table1[],4,0),IF($B879=3,VLOOKUP(F$2,Table1[],5,0),IF($B879=4,VLOOKUP(F$2,Table1[],5,0),0))))","v":800000}]
[4225,1,{"$f":"IF($B880=1,VLOOKUP(C$2,Table1[],3,0),IF($B880=2,VLOOKUP(C$2,Table1[],4,0),IF($B880=3,VLOOKUP(C$2,Table1[],5,0),IF($B880=4,VLOOKUP(C$2,Table1[],5,0),0))))","v":2000000},{"$f":"IF($B880=1,VLOOKUP(D$2,Table1[],3,0),IF($B880=2,VLOOKUP(D$2,Table1[],4,0),IF($B880=3,VLOOKUP(D$2,Table1[],5,0),IF($B880=4,VLOOKUP(D$2,Table1[],5,0),0))))","v":2000000},{"$f":"IF($B880=1,VLOOKUP(E$2,Table1[],3,0),IF($B880=2,VLOOKUP(E$2,Table1[],4,0),IF($B880=3,VLOOKUP(E$2,Table1[],5,0),IF($B880=4,VLOOKUP(E$2,Table1[],5,0),0))))","v":1500000},{"$f":"IF($B880=1,VLOOKUP(F$2,Table1[],3,0),IF($B880=2,VLOOKUP(F$2,Table1[],4,0),IF($B880=3,VLOOKUP(F$2,Table1[],5,0),IF($B880=4,VLOOKUP(F$2,Table1[],5,0),0))))","v":800000}]
[4226,1,{"$f":"IF($B881=1,VLOOKUP(C$2,Table1[],3,0),IF($B881=2,VLOOKUP(C$2,Table1[],4,0),IF($B881=3,VLOOKUP(C$2,Table1[],5,0),IF($B881=4,VLOOKUP(C$2,Table1[],5,0),0))))","v":2000000},{"$f":"IF($B881=1,VLOOKUP(D$2,Table1[],3,0),IF($B881=2,VLOOKUP(D$2,Table1[],4,0),IF($B881=3,VLOOKUP(D$2,Table1[],5,0),IF($B881=4,VLOOKUP(D$2,Table1[],5,0),0))))","v":2000000},{"$f":"IF($B881=1,VLOOKUP(E$2,Table1[],3,0),IF($B881=2,VLOOKUP(E$2,Table1[],4,0),IF($B881=3,VLOOKUP(E$2,Table1[],5,0),IF($B881=4,VLOOKUP(E$2,Table1[],5,0),0))))","v":1500000},{"$f":"IF($B881=1,VLOOKUP(F$2,Table1[],3,0),IF($B881=2,VLOOKUP(F$2,Table1[],4,0),IF($B881=3,VLOOKUP(F$2,Table1[],5,0),IF($B881=4,VLOOKUP(F$2,Table1[],5,0),0))))","v":800000}]
[4227,1,{"$f":"IF($B882=1,VLOOKUP(C$2,Table1[],3,0),IF($B882=2,VLOOKUP(C$2,Table1[],4,0),IF($B882=3,VLOOKUP(C$2,Table1[],5,0),IF($B882=4,VLOOKUP(C$2,Table1[],5,0),0))))","v":2000000},{"$f":"IF($B882=1,VLOOKUP(D$2,Table1[],3,0),IF($B882=2,VLOOKUP(D$2,Table1[],4,0),IF($B882=3,VLOOKUP(D$2,Table1[],5,0),IF($B882=4,VLOOKUP(D$2,Table1[],5,0),0))))","v":2000000},{"$f":"IF($B882=1,VLOOKUP(E$2,Table1[],3,0),IF($B882=2,VLOOKUP(E$2,Table1[],4,0),IF($B882=3,VLOOKUP(E$2,Table1[],5,0),IF($B882=4,VLOOKUP(E$2,Table1[],5,0),0))))","v":1500000},{"$f":"IF($B882=1,VLOOKUP(F$2,Table1[],3,0),IF($B882=2,VLOOKUP(F$2,Table1[],4,0),IF($B882=3,VLOOKUP(F$2,Table1[],5,0),IF($B882=4,VLOOKUP(F$2,Table1[],5,0),0))))","v":800000}]
[4228,1,{"$f":"IF($B883=1,VLOOKUP(C$2,Table1[],3,0),IF($B883=2,VLOOKUP(C$2,Table1[],4,0),IF($B883=3,VLOOKUP(C$2,Table1[],5,0),IF($B883=4,VLOOKUP(C$2,Table1[],5,0),0))))","v":2000000},{"$f":"IF($B883=1,VLOOKUP(D$2,Table1[],3,0),IF($B883=2,VLOOKUP(D$2,Table1[],4,0),IF($B883=3,VLOOKUP(D$2,Table1[],5,0),IF($B883=4,VLOOKUP(D$2,Table1[],5,0),0))))","v":2000000},{"$f":"IF($B883=1,VLOOKUP(E$2,Table1[],3,0),IF($B883=2,VLOOKUP(E$2,Table1[],4,0),IF($B883=3,VLOOKUP(E$2,Table1[],5,0),IF($B883=4,VLOOKUP(E$2,Table1[],5,0),0))))","v":1500000},{"$f":"IF($B883=1,VLOOKUP(F$2,Table1[],3,0),IF($B883=2,VLOOKUP(F$2,Table1[],4,0),IF($B883=3,VLOOKUP(F$2,Table1[],5,0),IF($B883=4,VLOOKUP(F$2,Table1[],5,0),0))))","v":800000}]
[4270,1,{"$f":"IF($B884=1,VLOOKUP(C$2,Table1[],3,0),IF($B884=2,VLOOKUP(C$2,Table1[],4,0),IF($B884=3,VLOOKUP(C$2,Table1[],5,0),IF($B884=4,VLOOKUP(C$2,Table1[],5,0),0))))","v":2000000},{"$f":"IF($B884=1,VLOOKUP(D$2,Table1[],3,0),IF($B884=2,VLOOKUP(D$2,Table1[],4,0),IF($B884=3,VLOOKUP(D$2,Table1[],5,0),IF($B884=4,VLOOKUP(D$2,Table1[],5,0),0))))","v":2000000},{"$f":"IF($B884=1,VLOOKUP(E$2,Table1[],3,0),IF($B884=2,VLOOKUP(E$2,Table1[],4,0),IF($B884=3,VLOOKUP(E$2,Table1[],5,0),IF($B884=4,VLOOKUP(E$2,Table1[],5,0),0))))","v":1500000},{"$f":"IF($B884=1,VLOOKUP(F$2,Table1[],3,0),IF($B884=2,VLOOKUP(F$2,Table1[],4,0),IF($B884=3,VLOOKUP(F$2,Table1[],5,0),IF($B884=4,VLOOKUP(F$2,Table1[],5,0),0))))","v":800000}]
[4271,1,{"$f":"IF($B885=1,VLOOKUP(C$2,Table1[],3,0),IF($B885=2,VLOOKUP(C$2,Table1[],4,0),IF($B885=3,VLOOKUP(C$2,Table1[],5,0),IF($B885=4,VLOOKUP(C$2,Table1[],5,0),0))))","v":2000000},{"$f":"IF($B885=1,VLOOKUP(D$2,Table1[],3,0),IF($B885=2,VLOOKUP(D$2,Table1[],4,0),IF($B885=3,VLOOKUP(D$2,Table1[],5,0),IF($B885=4,VLOOKUP(D$2,Table1[],5,0),0))))","v":2000000},{"$f":"IF($B885=1,VLOOKUP(E$2,Table1[],3,0),IF($B885=2,VLOOKUP(E$2,Table1[],4,0),IF($B885=3,VLOOKUP(E$2,Table1[],5,0),IF($B885=4,VLOOKUP(E$2,Table1[],5,0),0))))","v":1500000},{"$f":"IF($B885=1,VLOOKUP(F$2,Table1[],3,0),IF($B885=2,VLOOKUP(F$2,Table1[],4,0),IF($B885=3,VLOOKUP(F$2,Table1[],5,0),IF($B885=4,VLOOKUP(F$2,Table1[],5,0),0))))","v":800000}]
[4272,1,{"$f":"IF($B886=1,VLOOKUP(C$2,Table1[],3,0),IF($B886=2,VLOOKUP(C$2,Table1[],4,0),IF($B886=3,VLOOKUP(C$2,Table1[],5,0),IF($B886=4,VLOOKUP(C$2,Table1[],5,0),0))))","v":2000000},{"$f":"IF($B886=1,VLOOKUP(D$2,Table1[],3,0),IF($B886=2,VLOOKUP(D$2,Table1[],4,0),IF($B886=3,VLOOKUP(D$2,Table1[],5,0),IF($B886=4,VLOOKUP(D$2,Table1[],5,0),0))))","v":2000000},{"$f":"IF($B886=1,VLOOKUP(E$2,Table1[],3,0),IF($B886=2,VLOOKUP(E$2,Table1[],4,0),IF($B886=3,VLOOKUP(E$2,Table1[],5,0),IF($B886=4,VLOOKUP(E$2,Table1[],5,0),0))))","v":1500000},{"$f":"IF($B886=1,VLOOKUP(F$2,Table1[],3,0),IF($B886=2,VLOOKUP(F$2,Table1[],4,0),IF($B886=3,VLOOKUP(F$2,Table1[],5,0),IF($B886=4,VLOOKUP(F$2,Table1[],5,0),0))))","v":800000}]
[4280,1,{"$f":"IF($B887=1,VLOOKUP(C$2,Table1[],3,0),IF($B887=2,VLOOKUP(C$2,Table1[],4,0),IF($B887=3,VLOOKUP(C$2,Table1[],5,0),IF($B887=4,VLOOKUP(C$2,Table1[],5,0),0))))","v":2000000},{"$f":"IF($B887=1,VLOOKUP(D$2,Table1[],3,0),IF($B887=2,VLOOKUP(D$2,Table1[],4,0),IF($B887=3,VLOOKUP(D$2,Table1[],5,0),IF($B887=4,VLOOKUP(D$2,Table1[],5,0),0))))","v":2000000},{"$f":"IF($B887=1,VLOOKUP(E$2,Table1[],3,0),IF($B887=2,VLOOKUP(E$2,Table1[],4,0),IF($B887=3,VLOOKUP(E$2,Table1[],5,0),IF($B887=4,VLOOKUP(E$2,Table1[],5,0),0))))","v":1500000},{"$f":"IF($B887=1,VLOOKUP(F$2,Table1[],3,0),IF($B887=2,VLOOKUP(F$2,Table1[],4,0),IF($B887=3,VLOOKUP(F$2,Table1[],5,0),IF($B887=4,VLOOKUP(F$2,Table1[],5,0),0))))","v":800000}]
[4285,2,{"$f":"IF($B888=1,VLOOKUP(C$2,Table1[],3,0),IF($B888=2,VLOOKUP(C$2,Table1[],4,0),IF($B888=3,VLOOKUP(C$2,Table1[],5,0),IF($B888=4,VLOOKUP(C$2,Table1[],5,0),0))))","v":1000000},{"$f":"IF($B888=1,VLOOKUP(D$2,Table1[],3,0),IF($B888=2,VLOOKUP(D$2,Table1[],4,0),IF($B888=3,VLOOKUP(D$2,Table1[],5,0),IF($B888=4,VLOOKUP(D$2,Table1[],5,0),0))))","v":1000000},{"$f":"IF($B888=1,VLOOKUP(E$2,Table1[],3,0),IF($B888=2,VLOOKUP(E$2,Table1[],4,0),IF($B888=3,VLOOKUP(E$2,Table1[],5,0),IF($B888=4,VLOOKUP(E$2,Table1[],5,0),0))))","v":750000},{"$f":"IF($B888=1,VLOOKUP(F$2,Table1[],3,0),IF($B888=2,VLOOKUP(F$2,Table1[],4,0),IF($B888=3,VLOOKUP(F$2,Table1[],5,0),IF($B888=4,VLOOKUP(F$2,Table1[],5,0),0))))","v":500000}]
[4300,1,{"$f":"IF($B889=1,VLOOKUP(C$2,Table1[],3,0),IF($B889=2,VLOOKUP(C$2,Table1[],4,0),IF($B889=3,VLOOKUP(C$2,Table1[],5,0),IF($B889=4,VLOOKUP(C$2,Table1[],5,0),0))))","v":2000000},{"$f":"IF($B889=1,VLOOKUP(D$2,Table1[],3,0),IF($B889=2,VLOOKUP(D$2,Table1[],4,0),IF($B889=3,VLOOKUP(D$2,Table1[],5,0),IF($B889=4,VLOOKUP(D$2,Table1[],5,0),0))))","v":2000000},{"$f":"IF($B889=1,VLOOKUP(E$2,Table1[],3,0),IF($B889=2,VLOOKUP(E$2,Table1[],4,0),IF($B889=3,VLOOKUP(E$2,Table1[],5,0),IF($B889=4,VLOOKUP(E$2,Table1[],5,0),0))))","v":1500000},{"$f":"IF($B889=1,VLOOKUP(F$2,Table1[],3,0),IF($B889=2,VLOOKUP(F$2,Table1[],4,0),IF($B889=3,VLOOKUP(F$2,Table1[],5,0),IF($B889=4,VLOOKUP(F$2,Table1[],5,0),0))))","v":800000}]
[4301,1,{"$f":"IF($B890=1,VLOOKUP(C$2,Table1[],3,0),IF($B890=2,VLOOKUP(C$2,Table1[],4,0),IF($B890=3,VLOOKUP(C$2,Table1[],5,0),IF($B890=4,VLOOKUP(C$2,Table1[],5,0),0))))","v":2000000},{"$f":"IF($B890=1,VLOOKUP(D$2,Table1[],3,0),IF($B890=2,VLOOKUP(D$2,Table1[],4,0),IF($B890=3,VLOOKUP(D$2,Table1[],5,0),IF($B890=4,VLOOKUP(D$2,Table1[],5,0),0))))","v":2000000},{"$f":"IF($B890=1,VLOOKUP(E$2,Table1[],3,0),IF($B890=2,VLOOKUP(E$2,Table1[],4,0),IF($B890=3,VLOOKUP(E$2,Table1[],5,0),IF($B890=4,VLOOKUP(E$2,Table1[],5,0),0))))","v":1500000},{"$f":"IF($B890=1,VLOOKUP(F$2,Table1[],3,0),IF($B890=2,VLOOKUP(F$2,Table1[],4,0),IF($B890=3,VLOOKUP(F$2,Table1[],5,0),IF($B890=4,VLOOKUP(F$2,Table1[],5,0),0))))","v":800000}]
[4303,1,{"$f":"IF($B891=1,VLOOKUP(C$2,Table1[],3,0),IF($B891=2,VLOOKUP(C$2,Table1[],4,0),IF($B891=3,VLOOKUP(C$2,Table1[],5,0),IF($B891=4,VLOOKUP(C$2,Table1[],5,0),0))))","v":2000000},{"$f":"IF($B891=1,VLOOKUP(D$2,Table1[],3,0),IF($B891=2,VLOOKUP(D$2,Table1[],4,0),IF($B891=3,VLOOKUP(D$2,Table1[],5,0),IF($B891=4,VLOOKUP(D$2,Table1[],5,0),0))))","v":2000000},{"$f":"IF($B891=1,VLOOKUP(E$2,Table1[],3,0),IF($B891=2,VLOOKUP(E$2,Table1[],4,0),IF($B891=3,VLOOKUP(E$2,Table1[],5,0),IF($B891=4,VLOOKUP(E$2,Table1[],5,0),0))))","v":1500000},{"$f":"IF($B891=1,VLOOKUP(F$2,Table1[],3,0),IF($B891=2,VLOOKUP(F$2,Table1[],4,0),IF($B891=3,VLOOKUP(F$2,Table1[],5,0),IF($B891=4,VLOOKUP(F$2,Table1[],5,0),0))))","v":800000}]
[4304,1,{"$f":"IF($B892=1,VLOOKUP(C$2,Table1[],3,0),IF($B892=2,VLOOKUP(C$2,Table1[],4,0),IF($B892=3,VLOOKUP(C$2,Table1[],5,0),IF($B892=4,VLOOKUP(C$2,Table1[],5,0),0))))","v":2000000},{"$f":"IF($B892=1,VLOOKUP(D$2,Table1[],3,0),IF($B892=2,VLOOKUP(D$2,Table1[],4,0),IF($B892=3,VLOOKUP(D$2,Table1[],5,0),IF($B892=4,VLOOKUP(D$2,Table1[],5,0),0))))","v":2000000},{"$f":"IF($B892=1,VLOOKUP(E$2,Table1[],3,0),IF($B892=2,VLOOKUP(E$2,Table1[],4,0),IF($B892=3,VLOOKUP(E$2,Table1[],5,0),IF($B892=4,VLOOKUP(E$2,Table1[],5,0),0))))","v":1500000},{"$f":"IF($B892=1,VLOOKUP(F$2,Table1[],3,0),IF($B892=2,VLOOKUP(F$2,Table1[],4,0),IF($B892=3,VLOOKUP(F$2,Table1[],5,0),IF($B892=4,VLOOKUP(F$2,Table1[],5,0),0))))","v":800000}]
[4305,1,{"$f":"IF($B893=1,VLOOKUP(C$2,Table1[],3,0),IF($B893=2,VLOOKUP(C$2,Table1[],4,0),IF($B893=3,VLOOKUP(C$2,Table1[],5,0),IF($B893=4,VLOOKUP(C$2,Table1[],5,0),0))))","v":2000000},{"$f":"IF($B893=1,VLOOKUP(D$2,Table1[],3,0),IF($B893=2,VLOOKUP(D$2,Table1[],4,0),IF($B893=3,VLOOKUP(D$2,Table1[],5,0),IF($B893=4,VLOOKUP(D$2,Table1[],5,0),0))))","v":2000000},{"$f":"IF($B893=1,VLOOKUP(E$2,Table1[],3,0),IF($B893=2,VLOOKUP(E$2,Table1[],4,0),IF($B893=3,VLOOKUP(E$2,Table1[],5,0),IF($B893=4,VLOOKUP(E$2,Table1[],5,0),0))))","v":1500000},{"$f":"IF($B893=1,VLOOKUP(F$2,Table1[],3,0),IF($B893=2,VLOOKUP(F$2,Table1[],4,0),IF($B893=3,VLOOKUP(F$2,Table1[],5,0),IF($B893=4,VLOOKUP(F$2,Table1[],5,0),0))))","v":800000}]
[4306,1,{"$f":"IF($B894=1,VLOOKUP(C$2,Table1[],3,0),IF($B894=2,VLOOKUP(C$2,Table1[],4,0),IF($B894=3,VLOOKUP(C$2,Table1[],5,0),IF($B894=4,VLOOKUP(C$2,Table1[],5,0),0))))","v":2000000},{"$f":"IF($B894=1,VLOOKUP(D$2,Table1[],3,0),IF($B894=2,VLOOKUP(D$2,Table1[],4,0),IF($B894=3,VLOOKUP(D$2,Table1[],5,0),IF($B894=4,VLOOKUP(D$2,Table1[],5,0),0))))","v":2000000},{"$f":"IF($B894=1,VLOOKUP(E$2,Table1[],3,0),IF($B894=2,VLOOKUP(E$2,Table1[],4,0),IF($B894=3,VLOOKUP(E$2,Table1[],5,0),IF($B894=4,VLOOKUP(E$2,Table1[],5,0),0))))","v":1500000},{"$f":"IF($B894=1,VLOOKUP(F$2,Table1[],3,0),IF($B894=2,VLOOKUP(F$2,Table1[],4,0),IF($B894=3,VLOOKUP(F$2,Table1[],5,0),IF($B894=4,VLOOKUP(F$2,Table1[],5,0),0))))","v":800000}]
[4343,3,{"$f":"IF($B895=1,VLOOKUP(C$2,Table1[],3,0),IF($B895=2,VLOOKUP(C$2,Table1[],4,0),IF($B895=3,VLOOKUP(C$2,Table1[],5,0),IF($B895=4,VLOOKUP(C$2,Table1[],5,0),0))))","v":500000},{"$f":"IF($B895=1,VLOOKUP(D$2,Table1[],3,0),IF($B895=2,VLOOKUP(D$2,Table1[],4,0),IF($B895=3,VLOOKUP(D$2,Table1[],5,0),IF($B895=4,VLOOKUP(D$2,Table1[],5,0),0))))","v":400000},{"$f":"IF($B895=1,VLOOKUP(E$2,Table1[],3,0),IF($B895=2,VLOOKUP(E$2,Table1[],4,0),IF($B895=3,VLOOKUP(E$2,Table1[],5,0),IF($B895=4,VLOOKUP(E$2,Table1[],5,0),0))))","v":"N/A"},{"$f":"IF($B895=1,VLOOKUP(F$2,Table1[],3,0),IF($B895=2,VLOOKUP(F$2,Table1[],4,0),IF($B895=3,VLOOKUP(F$2,Table1[],5,0),IF($B895=4,VLOOKUP(F$2,Table1[],5,0),0))))","v":"N/A"}]
[4350,1,{"$f":"IF($B896=1,VLOOKUP(C$2,Table1[],3,0),IF($B896=2,VLOOKUP(C$2,Table1[],4,0),IF($B896=3,VLOOKUP(C$2,Table1[],5,0),IF($B896=4,VLOOKUP(C$2,Table1[],5,0),0))))","v":2000000},{"$f":"IF($B896=1,VLOOKUP(D$2,Table1[],3,0),IF($B896=2,VLOOKUP(D$2,Table1[],4,0),IF($B896=3,VLOOKUP(D$2,Table1[],5,0),IF($B896=4,VLOOKUP(D$2,Table1[],5,0),0))))","v":2000000},{"$f":"IF($B896=1,VLOOKUP(E$2,Table1[],3,0),IF($B896=2,VLOOKUP(E$2,Table1[],4,0),IF($B896=3,VLOOKUP(E$2,Table1[],5,0),IF($B896=4,VLOOKUP(E$2,Table1[],5,0),0))))","v":1500000},{"$f":"IF($B896=1,VLOOKUP(F$2,Table1[],3,0),IF($B896=2,VLOOKUP(F$2,Table1[],4,0),IF($B896=3,VLOOKUP(F$2,Table1[],5,0),IF($B896=4,VLOOKUP(F$2,Table1[],5,0),0))))","v":800000}]
[4352,2,{"$f":"IF($B897=1,VLOOKUP(C$2,Table1[],3,0),IF($B897=2,VLOOKUP(C$2,Table1[],4,0),IF($B897=3,VLOOKUP(C$2,Table1[],5,0),IF($B897=4,VLOOKUP(C$2,Table1[],5,0),0))))","v":1000000},{"$f":"IF($B897=1,VLOOKUP(D$2,Table1[],3,0),IF($B897=2,VLOOKUP(D$2,Table1[],4,0),IF($B897=3,VLOOKUP(D$2,Table1[],5,0),IF($B897=4,VLOOKUP(D$2,Table1[],5,0),0))))","v":1000000},{"$f":"IF($B897=1,VLOOKUP(E$2,Table1[],3,0),IF($B897=2,VLOOKUP(E$2,Table1[],4,0),IF($B897=3,VLOOKUP(E$2,Table1[],5,0),IF($B897=4,VLOOKUP(E$2,Table1[],5,0),0))))","v":750000},{"$f":"IF($B897=1,VLOOKUP(F$2,Table1[],3,0),IF($B897=2,VLOOKUP(F$2,Table1[],4,0),IF($B897=3,VLOOKUP(F$2,Table1[],5,0),IF($B897=4,VLOOKUP(F$2,Table1[],5,0),0))))","v":500000}]
[4370,2,{"$f":"IF($B898=1,VLOOKUP(C$2,Table1[],3,0),IF($B898=2,VLOOKUP(C$2,Table1[],4,0),IF($B898=3,VLOOKUP(C$2,Table1[],5,0),IF($B898=4,VLOOKUP(C$2,Table1[],5,0),0))))","v":1000000},{"$f":"IF($B898=1,VLOOKUP(D$2,Table1[],3,0),IF($B898=2,VLOOKUP(D$2,Table1[],4,0),IF($B898=3,VLOOKUP(D$2,Table1[],5,0),IF($B898=4,VLOOKUP(D$2,Table1[],5,0),0))))","v":1000000},{"$f":"IF($B898=1,VLOOKUP(E$2,Table1[],3,0),IF($B898=2,VLOOKUP(E$2,Table1[],4,0),IF($B898=3,VLOOKUP(E$2,Table1[],5,0),IF($B898=4,VLOOKUP(E$2,Table1[],5,0),0))))","v":750000},{"$f":"IF($B898=1,VLOOKUP(F$2,Table1[],3,0),IF($B898=2,VLOOKUP(F$2,Table1[],4,0),IF($B898=3,VLOOKUP(F$2,Table1[],5,0),IF($B898=4,VLOOKUP(F$2,Table1[],5,0),0))))","v":500000}]
[4405,4,{"$f":"IF($B899=1,VLOOKUP(C$2,Table1[],3,0),IF($B899=2,VLOOKUP(C$2,Table1[],4,0),IF($B899=3,VLOOKUP(C$2,Table1[],5,0),IF($B899=4,VLOOKUP(C$2,Table1[],5,0),0))))","v":500000},{"$f":"IF($B899=1,VLOOKUP(D$2,Table1[],3,0),IF($B899=2,VLOOKUP(D$2,Table1[],4,0),IF($B899=3,VLOOKUP(D$2,Table1[],5,0),IF($B899=4,VLOOKUP(D$2,Table1[],5,0),0))))","v":400000},{"$f":"IF($B899=1,VLOOKUP(E$2,Table1[],3,0),IF($B899=2,VLOOKUP(E$2,Table1[],4,0),IF($B899=3,VLOOKUP(E$2,Table1[],5,0),IF($B899=4,VLOOKUP(E$2,Table1[],5,0),0))))","v":"N/A"},{"$f":"IF($B899=1,VLOOKUP(F$2,Table1[],3,0),IF($B899=2,VLOOKUP(F$2,Table1[],4,0),IF($B899=3,VLOOKUP(F$2,Table1[],5,0),IF($B899=4,VLOOKUP(F$2,Table1[],5,0),0))))","v":"N/A"}]
[4413,4,{"$f":"IF($B900=1,VLOOKUP(C$2,Table1[],3,0),IF($B900=2,VLOOKUP(C$2,Table1[],4,0),IF($B900=3,VLOOKUP(C$2,Table1[],5,0),IF($B900=4,VLOOKUP(C$2,Table1[],5,0),0))))","v":500000},{"$f":"IF($B900=1,VLOOKUP(D$2,Table1[],3,0),IF($B900=2,VLOOKUP(D$2,Table1[],4,0),IF($B900=3,VLOOKUP(D$2,Table1[],5,0),IF($B900=4,VLOOKUP(D$2,Table1[],5,0),0))))","v":400000},{"$f":"IF($B900=1,VLOOKUP(E$2,Table1[],3,0),IF($B900=2,VLOOKUP(E$2,Table1[],4,0),IF($B900=3,VLOOKUP(E$2,Table1[],5,0),IF($B900=4,VLOOKUP(E$2,Table1[],5,0),0))))","v":"N/A"},{"$f":"IF($B900=1,VLOOKUP(F$2,Table1[],3,0),IF($B900=2,VLOOKUP(F$2,Table1[],4,0),IF($B900=3,VLOOKUP(F$2,Table1[],5,0),IF($B900=4,VLOOKUP(F$2,Table1[],5,0),0))))","v":"N/A"}]
[4415,4,{"$f":"IF($B901=1,VLOOKUP(C$2,Table1[],3,0),IF($B901=2,VLOOKUP(C$2,Table1[],4,0),IF($B901=3,VLOOKUP(C$2,Table1[],5,0),IF($B901=4,VLOOKUP(C$2,Table1[],5,0),0))))","v":500000},{"$f":"IF($B901=1,VLOOKUP(D$2,Table1[],3,0),IF($B901=2,VLOOKUP(D$2,Table1[],4,0),IF($B901=3,VLOOKUP(D$2,Table1[],5,0),IF($B901=4,VLOOKUP(D$2,Table1[],5,0),0))))","v":400000},{"$f":"IF($B901=1,VLOOKUP(E$2,Table1[],3,0),IF($B901=2,VLOOKUP(E$2,Table1[],4,0),IF($B901=3,VLOOKUP(E$2,Table1[],5,0),IF($B901=4,VLOOKUP(E$2,Table1[],5,0),0))))","v":"N/A"},{"$f":"IF($B901=1,VLOOKUP(F$2,Table1[],3,0),IF($B901=2,VLOOKUP(F$2,Table1[],4,0),IF($B901=3,VLOOKUP(F$2,Table1[],5,0),IF($B901=4,VLOOKUP(F$2,Table1[],5,0),0))))","v":"N/A"}]
[4420,4,{"$f":"IF($B902=1,VLOOKUP(C$2,Table1[],3,0),IF($B902=2,VLOOKUP(C$2,Table1[],4,0),IF($B902=3,VLOOKUP(C$2,Table1[],5,0),IF($B902=4,VLOOKUP(C$2,Table1[],5,0),0))))","v":500000},{"$f":"IF($B902=1,VLOOKUP(D$2,Table1[],3,0),IF($B902=2,VLOOKUP(D$2,Table1[],4,0),IF($B902=3,VLOOKUP(D$2,Table1[],5,0),IF($B902=4,VLOOKUP(D$2,Table1[],5,0),0))))","v":400000},{"$f":"IF($B902=1,VLOOKUP(E$2,Table1[],3,0),IF($B902=2,VLOOKUP(E$2,Table1[],4,0),IF($B902=3,VLOOKUP(E$2,Table1[],5,0),IF($B902=4,VLOOKUP(E$2,Table1[],5,0),0))))","v":"N/A"},{"$f":"IF($B902=1,VLOOKUP(F$2,Table1[],3,0),IF($B902=2,VLOOKUP(F$2,Table1[],4,0),IF($B902=3,VLOOKUP(F$2,Table1[],5,0),IF($B902=4,VLOOKUP(F$2,Table1[],5,0),0))))","v":"N/A"}]
[4455,4,{"$f":"IF($B903=1,VLOOKUP(C$2,Table1[],3,0),IF($B903=2,VLOOKUP(C$2,Table1[],4,0),IF($B903=3,VLOOKUP(C$2,Table1[],5,0),IF($B903=4,VLOOKUP(C$2,Table1[],5,0),0))))","v":500000},{"$f":"IF($B903=1,VLOOKUP(D$2,Table1[],3,0),IF($B903=2,VLOOKUP(D$2,Table1[],4,0),IF($B903=3,VLOOKUP(D$2,Table1[],5,0),IF($B903=4,VLOOKUP(D$2,Table1[],5,0),0))))","v":400000},{"$f":"IF($B903=1,VLOOKUP(E$2,Table1[],3,0),IF($B903=2,VLOOKUP(E$2,Table1[],4,0),IF($B903=3,VLOOKUP(E$2,Table1[],5,0),IF($B903=4,VLOOKUP(E$2,Table1[],5,0),0))))","v":"N/A"},{"$f":"IF($B903=1,VLOOKUP(F$2,Table1[],3,0),IF($B903=2,VLOOKUP(F$2,Table1[],4,0),IF($B903=3,VLOOKUP(F$2,Table1[],5,0),IF($B903=4,VLOOKUP(F$2,Table1[],5,0),0))))","v":"N/A"}]
[4472,4,{"$f":"IF($B904=1,VLOOKUP(C$2,Table1[],3,0),IF($B904=2,VLOOKUP(C$2,Table1[],4,0),IF($B904=3,VLOOKUP(C$2,Table1[],5,0),IF($B904=4,VLOOKUP(C$2,Table1[],5,0),0))))","v":500000},{"$f":"IF($B904=1,VLOOKUP(D$2,Table1[],3,0),IF($B904=2,VLOOKUP(D$2,Table1[],4,0),IF($B904=3,VLOOKUP(D$2,Table1[],5,0),IF($B904=4,VLOOKUP(D$2,Table1[],5,0),0))))","v":400000},{"$f":"IF($B904=1,VLOOKUP(E$2,Table1[],3,0),IF($B904=2,VLOOKUP(E$2,Table1[],4,0),IF($B904=3,VLOOKUP(E$2,Table1[],5,0),IF($B904=4,VLOOKUP(E$2,Table1[],5,0),0))))","v":"N/A"},{"$f":"IF($B904=1,VLOOKUP(F$2,Table1[],3,0),IF($B904=2,VLOOKUP(F$2,Table1[],4,0),IF($B904=3,VLOOKUP(F$2,Table1[],5,0),IF($B904=4,VLOOKUP(F$2,Table1[],5,0),0))))","v":"N/A"}]
[4480,4,{"$f":"IF($B905=1,VLOOKUP(C$2,Table1[],3,0),IF($B905=2,VLOOKUP(C$2,Table1[],4,0),IF($B905=3,VLOOKUP(C$2,Table1[],5,0),IF($B905=4,VLOOKUP(C$2,Table1[],5,0),0))))","v":500000},{"$f":"IF($B905=1,VLOOKUP(D$2,Table1[],3,0),IF($B905=2,VLOOKUP(D$2,Table1[],4,0),IF($B905=3,VLOOKUP(D$2,Table1[],5,0),IF($B905=4,VLOOKUP(D$2,Table1[],5,0),0))))","v":400000},{"$f":"IF($B905=1,VLOOKUP(E$2,Table1[],3,0),IF($B905=2,VLOOKUP(E$2,Table1[],4,0),IF($B905=3,VLOOKUP(E$2,Table1[],5,0),IF($B905=4,VLOOKUP(E$2,Table1[],5,0),0))))","v":"N/A"},{"$f":"IF($B905=1,VLOOKUP(F$2,Table1[],3,0),IF($B905=2,VLOOKUP(F$2,Table1[],4,0),IF($B905=3,VLOOKUP(F$2,Table1[],5,0),IF($B905=4,VLOOKUP(F$2,Table1[],5,0),0))))","v":"N/A"}]
[4500,1,{"$f":"IF($B906=1,VLOOKUP(C$2,Table1[],3,0),IF($B906=2,VLOOKUP(C$2,Table1[],4,0),IF($B906=3,VLOOKUP(C$2,Table1[],5,0),IF($B906=4,VLOOKUP(C$2,Table1[],5,0),0))))","v":2000000},{"$f":"IF($B906=1,VLOOKUP(D$2,Table1[],3,0),IF($B906=2,VLOOKUP(D$2,Table1[],4,0),IF($B906=3,VLOOKUP(D$2,Table1[],5,0),IF($B906=4,VLOOKUP(D$2,Table1[],5,0),0))))","v":2000000},{"$f":"IF($B906=1,VLOOKUP(E$2,Table1[],3,0),IF($B906=2,VLOOKUP(E$2,Table1[],4,0),IF($B906=3,VLOOKUP(E$2,Table1[],5,0),IF($B906=4,VLOOKUP(E$2,Table1[],5,0),0))))","v":1500000},{"$f":"IF($B906=1,VLOOKUP(F$2,Table1[],3,0),IF($B906=2,VLOOKUP(F$2,Table1[],4,0),IF($B906=3,VLOOKUP(F$2,Table1[],5,0),IF($B906=4,VLOOKUP(F$2,Table1[],5,0),0))))","v":800000}]
[4501,1,{"$f":"IF($B907=1,VLOOKUP(C$2,Table1[],3,0),IF($B907=2,VLOOKUP(C$2,Table1[],4,0),IF($B907=3,VLOOKUP(C$2,Table1[],5,0),IF($B907=4,VLOOKUP(C$2,Table1[],5,0),0))))","v":2000000},{"$f":"IF($B907=1,VLOOKUP(D$2,Table1[],3,0),IF($B907=2,VLOOKUP(D$2,Table1[],4,0),IF($B907=3,VLOOKUP(D$2,Table1[],5,0),IF($B907=4,VLOOKUP(D$2,Table1[],5,0),0))))","v":2000000},{"$f":"IF($B907=1,VLOOKUP(E$2,Table1[],3,0),IF($B907=2,VLOOKUP(E$2,Table1[],4,0),IF($B907=3,VLOOKUP(E$2,Table1[],5,0),IF($B907=4,VLOOKUP(E$2,Table1[],5,0),0))))","v":1500000},{"$f":"IF($B907=1,VLOOKUP(F$2,Table1[],3,0),IF($B907=2,VLOOKUP(F$2,Table1[],4,0),IF($B907=3,VLOOKUP(F$2,Table1[],5,0),IF($B907=4,VLOOKUP(F$2,Table1[],5,0),0))))","v":800000}]
[4502,1,{"$f":"IF($B908=1,VLOOKUP(C$2,Table1[],3,0),IF($B908=2,VLOOKUP(C$2,Table1[],4,0),IF($B908=3,VLOOKUP(C$2,Table1[],5,0),IF($B908=4,VLOOKUP(C$2,Table1[],5,0),0))))","v":2000000},{"$f":"IF($B908=1,VLOOKUP(D$2,Table1[],3,0),IF($B908=2,VLOOKUP(D$2,Table1[],4,0),IF($B908=3,VLOOKUP(D$2,Table1[],5,0),IF($B908=4,VLOOKUP(D$2,Table1[],5,0),0))))","v":2000000},{"$f":"IF($B908=1,VLOOKUP(E$2,Table1[],3,0),IF($B908=2,VLOOKUP(E$2,Table1[],4,0),IF($B908=3,VLOOKUP(E$2,Table1[],5,0),IF($B908=4,VLOOKUP(E$2,Table1[],5,0),0))))","v":1500000},{"$f":"IF($B908=1,VLOOKUP(F$2,Table1[],3,0),IF($B908=2,VLOOKUP(F$2,Table1[],4,0),IF($B908=3,VLOOKUP(F$2,Table1[],5,0),IF($B908=4,VLOOKUP(F$2,Table1[],5,0),0))))","v":800000}]
[4503,1,{"$f":"IF($B909=1,VLOOKUP(C$2,Table1[],3,0),IF($B909=2,VLOOKUP(C$2,Table1[],4,0),IF($B909=3,VLOOKUP(C$2,Table1[],5,0),IF($B909=4,VLOOKUP(C$2,Table1[],5,0),0))))","v":2000000},{"$f":"IF($B909=1,VLOOKUP(D$2,Table1[],3,0),IF($B909=2,VLOOKUP(D$2,Table1[],4,0),IF($B909=3,VLOOKUP(D$2,Table1[],5,0),IF($B909=4,VLOOKUP(D$2,Table1[],5,0),0))))","v":2000000},{"$f":"IF($B909=1,VLOOKUP(E$2,Table1[],3,0),IF($B909=2,VLOOKUP(E$2,Table1[],4,0),IF($B909=3,VLOOKUP(E$2,Table1[],5,0),IF($B909=4,VLOOKUP(E$2,Table1[],5,0),0))))","v":1500000},{"$f":"IF($B909=1,VLOOKUP(F$2,Table1[],3,0),IF($B909=2,VLOOKUP(F$2,Table1[],4,0),IF($B909=3,VLOOKUP(F$2,Table1[],5,0),IF($B909=4,VLOOKUP(F$2,Table1[],5,0),0))))","v":800000}]
[4504,1,{"$f":"IF($B910=1,VLOOKUP(C$2,Table1[],3,0),IF($B910=2,VLOOKUP(C$2,Table1[],4,0),IF($B910=3,VLOOKUP(C$2,Table1[],5,0),IF($B910=4,VLOOKUP(C$2,Table1[],5,0),0))))","v":2000000},{"$f":"IF($B910=1,VLOOKUP(D$2,Table1[],3,0),IF($B910=2,VLOOKUP(D$2,Table1[],4,0),IF($B910=3,VLOOKUP(D$2,Table1[],5,0),IF($B910=4,VLOOKUP(D$2,Table1[],5,0),0))))","v":2000000},{"$f":"IF($B910=1,VLOOKUP(E$2,Table1[],3,0),IF($B910=2,VLOOKUP(E$2,Table1[],4,0),IF($B910=3,VLOOKUP(E$2,Table1[],5,0),IF($B910=4,VLOOKUP(E$2,Table1[],5,0),0))))","v":1500000},{"$f":"IF($B910=1,VLOOKUP(F$2,Table1[],3,0),IF($B910=2,VLOOKUP(F$2,Table1[],4,0),IF($B910=3,VLOOKUP(F$2,Table1[],5,0),IF($B910=4,VLOOKUP(F$2,Table1[],5,0),0))))","v":800000}]
[4505,1,{"$f":"IF($B911=1,VLOOKUP(C$2,Table1[],3,0),IF($B911=2,VLOOKUP(C$2,Table1[],4,0),IF($B911=3,VLOOKUP(C$2,Table1[],5,0),IF($B911=4,VLOOKUP(C$2,Table1[],5,0),0))))","v":2000000},{"$f":"IF($B911=1,VLOOKUP(D$2,Table1[],3,0),IF($B911=2,VLOOKUP(D$2,Table1[],4,0),IF($B911=3,VLOOKUP(D$2,Table1[],5,0),IF($B911=4,VLOOKUP(D$2,Table1[],5,0),0))))","v":2000000},{"$f":"IF($B911=1,VLOOKUP(E$2,Table1[],3,0),IF($B911=2,VLOOKUP(E$2,Table1[],4,0),IF($B911=3,VLOOKUP(E$2,Table1[],5,0),IF($B911=4,VLOOKUP(E$2,Table1[],5,0),0))))","v":1500000},{"$f":"IF($B911=1,VLOOKUP(F$2,Table1[],3,0),IF($B911=2,VLOOKUP(F$2,Table1[],4,0),IF($B911=3,VLOOKUP(F$2,Table1[],5,0),IF($B911=4,VLOOKUP(F$2,Table1[],5,0),0))))","v":800000}]
[4506,1,{"$f":"IF($B912=1,VLOOKUP(C$2,Table1[],3,0),IF($B912=2,VLOOKUP(C$2,Table1[],4,0),IF($B912=3,VLOOKUP(C$2,Table1[],5,0),IF($B912=4,VLOOKUP(C$2,Table1[],5,0),0))))","v":2000000},{"$f":"IF($B912=1,VLOOKUP(D$2,Table1[],3,0),IF($B912=2,VLOOKUP(D$2,Table1[],4,0),IF($B912=3,VLOOKUP(D$2,Table1[],5,0),IF($B912=4,VLOOKUP(D$2,Table1[],5,0),0))))","v":2000000},{"$f":"IF($B912=1,VLOOKUP(E$2,Table1[],3,0),IF($B912=2,VLOOKUP(E$2,Table1[],4,0),IF($B912=3,VLOOKUP(E$2,Table1[],5,0),IF($B912=4,VLOOKUP(E$2,Table1[],5,0),0))))","v":1500000},{"$f":"IF($B912=1,VLOOKUP(F$2,Table1[],3,0),IF($B912=2,VLOOKUP(F$2,Table1[],4,0),IF($B912=3,VLOOKUP(F$2,Table1[],5,0),IF($B912=4,VLOOKUP(F$2,Table1[],5,0),0))))","v":800000}]
[4507,1,{"$f":"IF($B913=1,VLOOKUP(C$2,Table1[],3,0),IF($B913=2,VLOOKUP(C$2,Table1[],4,0),IF($B913=3,VLOOKUP(C$2,Table1[],5,0),IF($B913=4,VLOOKUP(C$2,Table1[],5,0),0))))","v":2000000},{"$f":"IF($B913=1,VLOOKUP(D$2,Table1[],3,0),IF($B913=2,VLOOKUP(D$2,Table1[],4,0),IF($B913=3,VLOOKUP(D$2,Table1[],5,0),IF($B913=4,VLOOKUP(D$2,Table1[],5,0),0))))","v":2000000},{"$f":"IF($B913=1,VLOOKUP(E$2,Table1[],3,0),IF($B913=2,VLOOKUP(E$2,Table1[],4,0),IF($B913=3,VLOOKUP(E$2,Table1[],5,0),IF($B913=4,VLOOKUP(E$2,Table1[],5,0),0))))","v":1500000},{"$f":"IF($B913=1,VLOOKUP(F$2,Table1[],3,0),IF($B913=2,VLOOKUP(F$2,Table1[],4,0),IF($B913=3,VLOOKUP(F$2,Table1[],5,0),IF($B913=4,VLOOKUP(F$2,Table1[],5,0),0))))","v":800000}]
[4508,1,{"$f":"IF($B914=1,VLOOKUP(C$2,Table1[],3,0),IF($B914=2,VLOOKUP(C$2,Table1[],4,0),IF($B914=3,VLOOKUP(C$2,Table1[],5,0),IF($B914=4,VLOOKUP(C$2,Table1[],5,0),0))))","v":2000000},{"$f":"IF($B914=1,VLOOKUP(D$2,Table1[],3,0),IF($B914=2,VLOOKUP(D$2,Table1[],4,0),IF($B914=3,VLOOKUP(D$2,Table1[],5,0),IF($B914=4,VLOOKUP(D$2,Table1[],5,0),0))))","v":2000000},{"$f":"IF($B914=1,VLOOKUP(E$2,Table1[],3,0),IF($B914=2,VLOOKUP(E$2,Table1[],4,0),IF($B914=3,VLOOKUP(E$2,Table1[],5,0),IF($B914=4,VLOOKUP(E$2,Table1[],5,0),0))))","v":1500000},{"$f":"IF($B914=1,VLOOKUP(F$2,Table1[],3,0),IF($B914=2,VLOOKUP(F$2,Table1[],4,0),IF($B914=3,VLOOKUP(F$2,Table1[],5,0),IF($B914=4,VLOOKUP(F$2,Table1[],5,0),0))))","v":800000}]
[4509,1,{"$f":"IF($B915=1,VLOOKUP(C$2,Table1[],3,0),IF($B915=2,VLOOKUP(C$2,Table1[],4,0),IF($B915=3,VLOOKUP(C$2,Table1[],5,0),IF($B915=4,VLOOKUP(C$2,Table1[],5,0),0))))","v":2000000},{"$f":"IF($B915=1,VLOOKUP(D$2,Table1[],3,0),IF($B915=2,VLOOKUP(D$2,Table1[],4,0),IF($B915=3,VLOOKUP(D$2,Table1[],5,0),IF($B915=4,VLOOKUP(D$2,Table1[],5,0),0))))","v":2000000},{"$f":"IF($B915=1,VLOOKUP(E$2,Table1[],3,0),IF($B915=2,VLOOKUP(E$2,Table1[],4,0),IF($B915=3,VLOOKUP(E$2,Table1[],5,0),IF($B915=4,VLOOKUP(E$2,Table1[],5,0),0))))","v":1500000},{"$f":"IF($B915=1,VLOOKUP(F$2,Table1[],3,0),IF($B915=2,VLOOKUP(F$2,Table1[],4,0),IF($B915=3,VLOOKUP(F$2,Table1[],5,0),IF($B915=4,VLOOKUP(F$2,Table1[],5,0),0))))","v":800000}]
[4510,1,{"$f":"IF($B916=1,VLOOKUP(C$2,Table1[],3,0),IF($B916=2,VLOOKUP(C$2,Table1[],4,0),IF($B916=3,VLOOKUP(C$2,Table1[],5,0),IF($B916=4,VLOOKUP(C$2,Table1[],5,0),0))))","v":2000000},{"$f":"IF($B916=1,VLOOKUP(D$2,Table1[],3,0),IF($B916=2,VLOOKUP(D$2,Table1[],4,0),IF($B916=3,VLOOKUP(D$2,Table1[],5,0),IF($B916=4,VLOOKUP(D$2,Table1[],5,0),0))))","v":2000000},{"$f":"IF($B916=1,VLOOKUP(E$2,Table1[],3,0),IF($B916=2,VLOOKUP(E$2,Table1[],4,0),IF($B916=3,VLOOKUP(E$2,Table1[],5,0),IF($B916=4,VLOOKUP(E$2,Table1[],5,0),0))))","v":1500000},{"$f":"IF($B916=1,VLOOKUP(F$2,Table1[],3,0),IF($B916=2,VLOOKUP(F$2,Table1[],4,0),IF($B916=3,VLOOKUP(F$2,Table1[],5,0),IF($B916=4,VLOOKUP(F$2,Table1[],5,0),0))))","v":800000}]
[4511,1,{"$f":"IF($B917=1,VLOOKUP(C$2,Table1[],3,0),IF($B917=2,VLOOKUP(C$2,Table1[],4,0),IF($B917=3,VLOOKUP(C$2,Table1[],5,0),IF($B917=4,VLOOKUP(C$2,Table1[],5,0),0))))","v":2000000},{"$f":"IF($B917=1,VLOOKUP(D$2,Table1[],3,0),IF($B917=2,VLOOKUP(D$2,Table1[],4,0),IF($B917=3,VLOOKUP(D$2,Table1[],5,0),IF($B917=4,VLOOKUP(D$2,Table1[],5,0),0))))","v":2000000},{"$f":"IF($B917=1,VLOOKUP(E$2,Table1[],3,0),IF($B917=2,VLOOKUP(E$2,Table1[],4,0),IF($B917=3,VLOOKUP(E$2,Table1[],5,0),IF($B917=4,VLOOKUP(E$2,Table1[],5,0),0))))","v":1500000},{"$f":"IF($B917=1,VLOOKUP(F$2,Table1[],3,0),IF($B917=2,VLOOKUP(F$2,Table1[],4,0),IF($B917=3,VLOOKUP(F$2,Table1[],5,0),IF($B917=4,VLOOKUP(F$2,Table1[],5,0),0))))","v":800000}]
[4512,1,{"$f":"IF($B918=1,VLOOKUP(C$2,Table1[],3,0),IF($B918=2,VLOOKUP(C$2,Table1[],4,0),IF($B918=3,VLOOKUP(C$2,Table1[],5,0),IF($B918=4,VLOOKUP(C$2,Table1[],5,0),0))))","v":2000000},{"$f":"IF($B918=1,VLOOKUP(D$2,Table1[],3,0),IF($B918=2,VLOOKUP(D$2,Table1[],4,0),IF($B918=3,VLOOKUP(D$2,Table1[],5,0),IF($B918=4,VLOOKUP(D$2,Table1[],5,0),0))))","v":2000000},{"$f":"IF($B918=1,VLOOKUP(E$2,Table1[],3,0),IF($B918=2,VLOOKUP(E$2,Table1[],4,0),IF($B918=3,VLOOKUP(E$2,Table1[],5,0),IF($B918=4,VLOOKUP(E$2,Table1[],5,0),0))))","v":1500000},{"$f":"IF($B918=1,VLOOKUP(F$2,Table1[],3,0),IF($B918=2,VLOOKUP(F$2,Table1[],4,0),IF($B918=3,VLOOKUP(F$2,Table1[],5,0),IF($B918=4,VLOOKUP(F$2,Table1[],5,0),0))))","v":800000}]
[4514,2,{"$f":"IF($B919=1,VLOOKUP(C$2,Table1[],3,0),IF($B919=2,VLOOKUP(C$2,Table1[],4,0),IF($B919=3,VLOOKUP(C$2,Table1[],5,0),IF($B919=4,VLOOKUP(C$2,Table1[],5,0),0))))","v":1000000},{"$f":"IF($B919=1,VLOOKUP(D$2,Table1[],3,0),IF($B919=2,VLOOKUP(D$2,Table1[],4,0),IF($B919=3,VLOOKUP(D$2,Table1[],5,0),IF($B919=4,VLOOKUP(D$2,Table1[],5,0),0))))","v":1000000},{"$f":"IF($B919=1,VLOOKUP(E$2,Table1[],3,0),IF($B919=2,VLOOKUP(E$2,Table1[],4,0),IF($B919=3,VLOOKUP(E$2,Table1[],5,0),IF($B919=4,VLOOKUP(E$2,Table1[],5,0),0))))","v":750000},{"$f":"IF($B919=1,VLOOKUP(F$2,Table1[],3,0),IF($B919=2,VLOOKUP(F$2,Table1[],4,0),IF($B919=3,VLOOKUP(F$2,Table1[],5,0),IF($B919=4,VLOOKUP(F$2,Table1[],5,0),0))))","v":500000}]
[4515,2,{"$f":"IF($B920=1,VLOOKUP(C$2,Table1[],3,0),IF($B920=2,VLOOKUP(C$2,Table1[],4,0),IF($B920=3,VLOOKUP(C$2,Table1[],5,0),IF($B920=4,VLOOKUP(C$2,Table1[],5,0),0))))","v":1000000},{"$f":"IF($B920=1,VLOOKUP(D$2,Table1[],3,0),IF($B920=2,VLOOKUP(D$2,Table1[],4,0),IF($B920=3,VLOOKUP(D$2,Table1[],5,0),IF($B920=4,VLOOKUP(D$2,Table1[],5,0),0))))","v":1000000},{"$f":"IF($B920=1,VLOOKUP(E$2,Table1[],3,0),IF($B920=2,VLOOKUP(E$2,Table1[],4,0),IF($B920=3,VLOOKUP(E$2,Table1[],5,0),IF($B920=4,VLOOKUP(E$2,Table1[],5,0),0))))","v":750000},{"$f":"IF($B920=1,VLOOKUP(F$2,Table1[],3,0),IF($B920=2,VLOOKUP(F$2,Table1[],4,0),IF($B920=3,VLOOKUP(F$2,Table1[],5,0),IF($B920=4,VLOOKUP(F$2,Table1[],5,0),0))))","v":500000}]
[4516,1,{"$f":"IF($B921=1,VLOOKUP(C$2,Table1[],3,0),IF($B921=2,VLOOKUP(C$2,Table1[],4,0),IF($B921=3,VLOOKUP(C$2,Table1[],5,0),IF($B921=4,VLOOKUP(C$2,Table1[],5,0),0))))","v":2000000},{"$f":"IF($B921=1,VLOOKUP(D$2,Table1[],3,0),IF($B921=2,VLOOKUP(D$2,Table1[],4,0),IF($B921=3,VLOOKUP(D$2,Table1[],5,0),IF($B921=4,VLOOKUP(D$2,Table1[],5,0),0))))","v":2000000},{"$f":"IF($B921=1,VLOOKUP(E$2,Table1[],3,0),IF($B921=2,VLOOKUP(E$2,Table1[],4,0),IF($B921=3,VLOOKUP(E$2,Table1[],5,0),IF($B921=4,VLOOKUP(E$2,Table1[],5,0),0))))","v":1500000},{"$f":"IF($B921=1,VLOOKUP(F$2,Table1[],3,0),IF($B921=2,VLOOKUP(F$2,Table1[],4,0),IF($B921=3,VLOOKUP(F$2,Table1[],5,0),IF($B921=4,VLOOKUP(F$2,Table1[],5,0),0))))","v":800000}]
[4517,1,{"$f":"IF($B922=1,VLOOKUP(C$2,Table1[],3,0),IF($B922=2,VLOOKUP(C$2,Table1[],4,0),IF($B922=3,VLOOKUP(C$2,Table1[],5,0),IF($B922=4,VLOOKUP(C$2,Table1[],5,0),0))))","v":2000000},{"$f":"IF($B922=1,VLOOKUP(D$2,Table1[],3,0),IF($B922=2,VLOOKUP(D$2,Table1[],4,0),IF($B922=3,VLOOKUP(D$2,Table1[],5,0),IF($B922=4,VLOOKUP(D$2,Table1[],5,0),0))))","v":2000000},{"$f":"IF($B922=1,VLOOKUP(E$2,Table1[],3,0),IF($B922=2,VLOOKUP(E$2,Table1[],4,0),IF($B922=3,VLOOKUP(E$2,Table1[],5,0),IF($B922=4,VLOOKUP(E$2,Table1[],5,0),0))))","v":1500000},{"$f":"IF($B922=1,VLOOKUP(F$2,Table1[],3,0),IF($B922=2,VLOOKUP(F$2,Table1[],4,0),IF($B922=3,VLOOKUP(F$2,Table1[],5,0),IF($B922=4,VLOOKUP(F$2,Table1[],5,0),0))))","v":800000}]
[4518,1,{"$f":"IF($B923=1,VLOOKUP(C$2,Table1[],3,0),IF($B923=2,VLOOKUP(C$2,Table1[],4,0),IF($B923=3,VLOOKUP(C$2,Table1[],5,0),IF($B923=4,VLOOKUP(C$2,Table1[],5,0),0))))","v":2000000},{"$f":"IF($B923=1,VLOOKUP(D$2,Table1[],3,0),IF($B923=2,VLOOKUP(D$2,Table1[],4,0),IF($B923=3,VLOOKUP(D$2,Table1[],5,0),IF($B923=4,VLOOKUP(D$2,Table1[],5,0),0))))","v":2000000},{"$f":"IF($B923=1,VLOOKUP(E$2,Table1[],3,0),IF($B923=2,VLOOKUP(E$2,Table1[],4,0),IF($B923=3,VLOOKUP(E$2,Table1[],5,0),IF($B923=4,VLOOKUP(E$2,Table1[],5,0),0))))","v":1500000},{"$f":"IF($B923=1,VLOOKUP(F$2,Table1[],3,0),IF($B923=2,VLOOKUP(F$2,Table1[],4,0),IF($B923=3,VLOOKUP(F$2,Table1[],5,0),IF($B923=4,VLOOKUP(F$2,Table1[],5,0),0))))","v":800000}]
[4519,1,{"$f":"IF($B924=1,VLOOKUP(C$2,Table1[],3,0),IF($B924=2,VLOOKUP(C$2,Table1[],4,0),IF($B924=3,VLOOKUP(C$2,Table1[],5,0),IF($B924=4,VLOOKUP(C$2,Table1[],5,0),0))))","v":2000000},{"$f":"IF($B924=1,VLOOKUP(D$2,Table1[],3,0),IF($B924=2,VLOOKUP(D$2,Table1[],4,0),IF($B924=3,VLOOKUP(D$2,Table1[],5,0),IF($B924=4,VLOOKUP(D$2,Table1[],5,0),0))))","v":2000000},{"$f":"IF($B924=1,VLOOKUP(E$2,Table1[],3,0),IF($B924=2,VLOOKUP(E$2,Table1[],4,0),IF($B924=3,VLOOKUP(E$2,Table1[],5,0),IF($B924=4,VLOOKUP(E$2,Table1[],5,0),0))))","v":1500000},{"$f":"IF($B924=1,VLOOKUP(F$2,Table1[],3,0),IF($B924=2,VLOOKUP(F$2,Table1[],4,0),IF($B924=3,VLOOKUP(F$2,Table1[],5,0),IF($B924=4,VLOOKUP(F$2,Table1[],5,0),0))))","v":800000}]
[4520,1,{"$f":"IF($B925=1,VLOOKUP(C$2,Table1[],3,0),IF($B925=2,VLOOKUP(C$2,Table1[],4,0),IF($B925=3,VLOOKUP(C$2,Table1[],5,0),IF($B925=4,VLOOKUP(C$2,Table1[],5,0),0))))","v":2000000},{"$f":"IF($B925=1,VLOOKUP(D$2,Table1[],3,0),IF($B925=2,VLOOKUP(D$2,Table1[],4,0),IF($B925=3,VLOOKUP(D$2,Table1[],5,0),IF($B925=4,VLOOKUP(D$2,Table1[],5,0),0))))","v":2000000},{"$f":"IF($B925=1,VLOOKUP(E$2,Table1[],3,0),IF($B925=2,VLOOKUP(E$2,Table1[],4,0),IF($B925=3,VLOOKUP(E$2,Table1[],5,0),IF($B925=4,VLOOKUP(E$2,Table1[],5,0),0))))","v":1500000},{"$f":"IF($B925=1,VLOOKUP(F$2,Table1[],3,0),IF($B925=2,VLOOKUP(F$2,Table1[],4,0),IF($B925=3,VLOOKUP(F$2,Table1[],5,0),IF($B925=4,VLOOKUP(F$2,Table1[],5,0),0))))","v":800000}]
[4521,1,{"$f":"IF($B926=1,VLOOKUP(C$2,Table1[],3,0),IF($B926=2,VLOOKUP(C$2,Table1[],4,0),IF($B926=3,VLOOKUP(C$2,Table1[],5,0),IF($B926=4,VLOOKUP(C$2,Table1[],5,0),0))))","v":2000000},{"$f":"IF($B926=1,VLOOKUP(D$2,Table1[],3,0),IF($B926=2,VLOOKUP(D$2,Table1[],4,0),IF($B926=3,VLOOKUP(D$2,Table1[],5,0),IF($B926=4,VLOOKUP(D$2,Table1[],5,0),0))))","v":2000000},{"$f":"IF($B926=1,VLOOKUP(E$2,Table1[],3,0),IF($B926=2,VLOOKUP(E$2,Table1[],4,0),IF($B926=3,VLOOKUP(E$2,Table1[],5,0),IF($B926=4,VLOOKUP(E$2,Table1[],5,0),0))))","v":1500000},{"$f":"IF($B926=1,VLOOKUP(F$2,Table1[],3,0),IF($B926=2,VLOOKUP(F$2,Table1[],4,0),IF($B926=3,VLOOKUP(F$2,Table1[],5,0),IF($B926=4,VLOOKUP(F$2,Table1[],5,0),0))))","v":800000}]
[4550,1,{"$f":"IF($B927=1,VLOOKUP(C$2,Table1[],3,0),IF($B927=2,VLOOKUP(C$2,Table1[],4,0),IF($B927=3,VLOOKUP(C$2,Table1[],5,0),IF($B927=4,VLOOKUP(C$2,Table1[],5,0),0))))","v":2000000},{"$f":"IF($B927=1,VLOOKUP(D$2,Table1[],3,0),IF($B927=2,VLOOKUP(D$2,Table1[],4,0),IF($B927=3,VLOOKUP(D$2,Table1[],5,0),IF($B927=4,VLOOKUP(D$2,Table1[],5,0),0))))","v":2000000},{"$f":"IF($B927=1,VLOOKUP(E$2,Table1[],3,0),IF($B927=2,VLOOKUP(E$2,Table1[],4,0),IF($B927=3,VLOOKUP(E$2,Table1[],5,0),IF($B927=4,VLOOKUP(E$2,Table1[],5,0),0))))","v":1500000},{"$f":"IF($B927=1,VLOOKUP(F$2,Table1[],3,0),IF($B927=2,VLOOKUP(F$2,Table1[],4,0),IF($B927=3,VLOOKUP(F$2,Table1[],5,0),IF($B927=4,VLOOKUP(F$2,Table1[],5,0),0))))","v":800000}]
[4551,1,{"$f":"IF($B928=1,VLOOKUP(C$2,Table1[],3,0),IF($B928=2,VLOOKUP(C$2,Table1[],4,0),IF($B928=3,VLOOKUP(C$2,Table1[],5,0),IF($B928=4,VLOOKUP(C$2,Table1[],5,0),0))))","v":2000000},{"$f":"IF($B928=1,VLOOKUP(D$2,Table1[],3,0),IF($B928=2,VLOOKUP(D$2,Table1[],4,0),IF($B928=3,VLOOKUP(D$2,Table1[],5,0),IF($B928=4,VLOOKUP(D$2,Table1[],5,0),0))))","v":2000000},{"$f":"IF($B928=1,VLOOKUP(E$2,Table1[],3,0),IF($B928=2,VLOOKUP(E$2,Table1[],4,0),IF($B928=3,VLOOKUP(E$2,Table1[],5,0),IF($B928=4,VLOOKUP(E$2,Table1[],5,0),0))))","v":1500000},{"$f":"IF($B928=1,VLOOKUP(F$2,Table1[],3,0),IF($B928=2,VLOOKUP(F$2,Table1[],4,0),IF($B928=3,VLOOKUP(F$2,Table1[],5,0),IF($B928=4,VLOOKUP(F$2,Table1[],5,0),0))))","v":800000}]
[4552,1,{"$f":"IF($B929=1,VLOOKUP(C$2,Table1[],3,0),IF($B929=2,VLOOKUP(C$2,Table1[],4,0),IF($B929=3,VLOOKUP(C$2,Table1[],5,0),IF($B929=4,VLOOKUP(C$2,Table1[],5,0),0))))","v":2000000},{"$f":"IF($B929=1,VLOOKUP(D$2,Table1[],3,0),IF($B929=2,VLOOKUP(D$2,Table1[],4,0),IF($B929=3,VLOOKUP(D$2,Table1[],5,0),IF($B929=4,VLOOKUP(D$2,Table1[],5,0),0))))","v":2000000},{"$f":"IF($B929=1,VLOOKUP(E$2,Table1[],3,0),IF($B929=2,VLOOKUP(E$2,Table1[],4,0),IF($B929=3,VLOOKUP(E$2,Table1[],5,0),IF($B929=4,VLOOKUP(E$2,Table1[],5,0),0))))","v":1500000},{"$f":"IF($B929=1,VLOOKUP(F$2,Table1[],3,0),IF($B929=2,VLOOKUP(F$2,Table1[],4,0),IF($B929=3,VLOOKUP(F$2,Table1[],5,0),IF($B929=4,VLOOKUP(F$2,Table1[],5,0),0))))","v":800000}]
[4553,1,{"$f":"IF($B930=1,VLOOKUP(C$2,Table1[],3,0),IF($B930=2,VLOOKUP(C$2,Table1[],4,0),IF($B930=3,VLOOKUP(C$2,Table1[],5,0),IF($B930=4,VLOOKUP(C$2,Table1[],5,0),0))))","v":2000000},{"$f":"IF($B930=1,VLOOKUP(D$2,Table1[],3,0),IF($B930=2,VLOOKUP(D$2,Table1[],4,0),IF($B930=3,VLOOKUP(D$2,Table1[],5,0),IF($B930=4,VLOOKUP(D$2,Table1[],5,0),0))))","v":2000000},{"$f":"IF($B930=1,VLOOKUP(E$2,Table1[],3,0),IF($B930=2,VLOOKUP(E$2,Table1[],4,0),IF($B930=3,VLOOKUP(E$2,Table1[],5,0),IF($B930=4,VLOOKUP(E$2,Table1[],5,0),0))))","v":1500000},{"$f":"IF($B930=1,VLOOKUP(F$2,Table1[],3,0),IF($B930=2,VLOOKUP(F$2,Table1[],4,0),IF($B930=3,VLOOKUP(F$2,Table1[],5,0),IF($B930=4,VLOOKUP(F$2,Table1[],5,0),0))))","v":800000}]
[4554,1,{"$f":"IF($B931=1,VLOOKUP(C$2,Table1[],3,0),IF($B931=2,VLOOKUP(C$2,Table1[],4,0),IF($B931=3,VLOOKUP(C$2,Table1[],5,0),IF($B931=4,VLOOKUP(C$2,Table1[],5,0),0))))","v":2000000},{"$f":"IF($B931=1,VLOOKUP(D$2,Table1[],3,0),IF($B931=2,VLOOKUP(D$2,Table1[],4,0),IF($B931=3,VLOOKUP(D$2,Table1[],5,0),IF($B931=4,VLOOKUP(D$2,Table1[],5,0),0))))","v":2000000},{"$f":"IF($B931=1,VLOOKUP(E$2,Table1[],3,0),IF($B931=2,VLOOKUP(E$2,Table1[],4,0),IF($B931=3,VLOOKUP(E$2,Table1[],5,0),IF($B931=4,VLOOKUP(E$2,Table1[],5,0),0))))","v":1500000},{"$f":"IF($B931=1,VLOOKUP(F$2,Table1[],3,0),IF($B931=2,VLOOKUP(F$2,Table1[],4,0),IF($B931=3,VLOOKUP(F$2,Table1[],5,0),IF($B931=4,VLOOKUP(F$2,Table1[],5,0),0))))","v":800000}]
[4555,1,{"$f":"IF($B932=1,VLOOKUP(C$2,Table1[],3,0),IF($B932=2,VLOOKUP(C$2,Table1[],4,0),IF($B932=3,VLOOKUP(C$2,Table1[],5,0),IF($B932=4,VLOOKUP(C$2,Table1[],5,0),0))))","v":2000000},{"$f":"IF($B932=1,VLOOKUP(D$2,Table1[],3,0),IF($B932=2,VLOOKUP(D$2,Table1[],4,0),IF($B932=3,VLOOKUP(D$2,Table1[],5,0),IF($B932=4,VLOOKUP(D$2,Table1[],5,0),0))))","v":2000000},{"$f":"IF($B932=1,VLOOKUP(E$2,Table1[],3,0),IF($B932=2,VLOOKUP(E$2,Table1[],4,0),IF($B932=3,VLOOKUP(E$2,Table1[],5,0),IF($B932=4,VLOOKUP(E$2,Table1[],5,0),0))))","v":1500000},{"$f":"IF($B932=1,VLOOKUP(F$2,Table1[],3,0),IF($B932=2,VLOOKUP(F$2,Table1[],4,0),IF($B932=3,VLOOKUP(F$2,Table1[],5,0),IF($B932=4,VLOOKUP(F$2,Table1[],5,0),0))))","v":800000}]
[4556,1,{"$f":"IF($B933=1,VLOOKUP(C$2,Table1[],3,0),IF($B933=2,VLOOKUP(C$2,Table1[],4,0),IF($B933=3,VLOOKUP(C$2,Table1[],5,0),IF($B933=4,VLOOKUP(C$2,Table1[],5,0),0))))","v":2000000},{"$f":"IF($B933=1,VLOOKUP(D$2,Table1[],3,0),IF($B933=2,VLOOKUP(D$2,Table1[],4,0),IF($B933=3,VLOOKUP(D$2,Table1[],5,0),IF($B933=4,VLOOKUP(D$2,Table1[],5,0),0))))","v":2000000},{"$f":"IF($B933=1,VLOOKUP(E$2,Table1[],3,0),IF($B933=2,VLOOKUP(E$2,Table1[],4,0),IF($B933=3,VLOOKUP(E$2,Table1[],5,0),IF($B933=4,VLOOKUP(E$2,Table1[],5,0),0))))","v":1500000},{"$f":"IF($B933=1,VLOOKUP(F$2,Table1[],3,0),IF($B933=2,VLOOKUP(F$2,Table1[],4,0),IF($B933=3,VLOOKUP(F$2,Table1[],5,0),IF($B933=4,VLOOKUP(F$2,Table1[],5,0),0))))","v":800000}]
[4557,1,{"$f":"IF($B934=1,VLOOKUP(C$2,Table1[],3,0),IF($B934=2,VLOOKUP(C$2,Table1[],4,0),IF($B934=3,VLOOKUP(C$2,Table1[],5,0),IF($B934=4,VLOOKUP(C$2,Table1[],5,0),0))))","v":2000000},{"$f":"IF($B934=1,VLOOKUP(D$2,Table1[],3,0),IF($B934=2,VLOOKUP(D$2,Table1[],4,0),IF($B934=3,VLOOKUP(D$2,Table1[],5,0),IF($B934=4,VLOOKUP(D$2,Table1[],5,0),0))))","v":2000000},{"$f":"IF($B934=1,VLOOKUP(E$2,Table1[],3,0),IF($B934=2,VLOOKUP(E$2,Table1[],4,0),IF($B934=3,VLOOKUP(E$2,Table1[],5,0),IF($B934=4,VLOOKUP(E$2,Table1[],5,0),0))))","v":1500000},{"$f":"IF($B934=1,VLOOKUP(F$2,Table1[],3,0),IF($B934=2,VLOOKUP(F$2,Table1[],4,0),IF($B934=3,VLOOKUP(F$2,Table1[],5,0),IF($B934=4,VLOOKUP(F$2,Table1[],5,0),0))))","v":800000}]
[4558,1,{"$f":"IF($B935=1,VLOOKUP(C$2,Table1[],3,0),IF($B935=2,VLOOKUP(C$2,Table1[],4,0),IF($B935=3,VLOOKUP(C$2,Table1[],5,0),IF($B935=4,VLOOKUP(C$2,Table1[],5,0),0))))","v":2000000},{"$f":"IF($B935=1,VLOOKUP(D$2,Table1[],3,0),IF($B935=2,VLOOKUP(D$2,Table1[],4,0),IF($B935=3,VLOOKUP(D$2,Table1[],5,0),IF($B935=4,VLOOKUP(D$2,Table1[],5,0),0))))","v":2000000},{"$f":"IF($B935=1,VLOOKUP(E$2,Table1[],3,0),IF($B935=2,VLOOKUP(E$2,Table1[],4,0),IF($B935=3,VLOOKUP(E$2,Table1[],5,0),IF($B935=4,VLOOKUP(E$2,Table1[],5,0),0))))","v":1500000},{"$f":"IF($B935=1,VLOOKUP(F$2,Table1[],3,0),IF($B935=2,VLOOKUP(F$2,Table1[],4,0),IF($B935=3,VLOOKUP(F$2,Table1[],5,0),IF($B935=4,VLOOKUP(F$2,Table1[],5,0),0))))","v":800000}]
[4559,1,{"$f":"IF($B936=1,VLOOKUP(C$2,Table1[],3,0),IF($B936=2,VLOOKUP(C$2,Table1[],4,0),IF($B936=3,VLOOKUP(C$2,Table1[],5,0),IF($B936=4,VLOOKUP(C$2,Table1[],5,0),0))))","v":2000000},{"$f":"IF($B936=1,VLOOKUP(D$2,Table1[],3,0),IF($B936=2,VLOOKUP(D$2,Table1[],4,0),IF($B936=3,VLOOKUP(D$2,Table1[],5,0),IF($B936=4,VLOOKUP(D$2,Table1[],5,0),0))))","v":2000000},{"$f":"IF($B936=1,VLOOKUP(E$2,Table1[],3,0),IF($B936=2,VLOOKUP(E$2,Table1[],4,0),IF($B936=3,VLOOKUP(E$2,Table1[],5,0),IF($B936=4,VLOOKUP(E$2,Table1[],5,0),0))))","v":1500000},{"$f":"IF($B936=1,VLOOKUP(F$2,Table1[],3,0),IF($B936=2,VLOOKUP(F$2,Table1[],4,0),IF($B936=3,VLOOKUP(F$2,Table1[],5,0),IF($B936=4,VLOOKUP(F$2,Table1[],5,0),0))))","v":800000}]
[4560,1,{"$f":"IF($B937=1,VLOOKUP(C$2,Table1[],3,0),IF($B937=2,VLOOKUP(C$2,Table1[],4,0),IF($B937=3,VLOOKUP(C$2,Table1[],5,0),IF($B937=4,VLOOKUP(C$2,Table1[],5,0),0))))","v":2000000},{"$f":"IF($B937=1,VLOOKUP(D$2,Table1[],3,0),IF($B937=2,VLOOKUP(D$2,Table1[],4,0),IF($B937=3,VLOOKUP(D$2,Table1[],5,0),IF($B937=4,VLOOKUP(D$2,Table1[],5,0),0))))","v":2000000},{"$f":"IF($B937=1,VLOOKUP(E$2,Table1[],3,0),IF($B937=2,VLOOKUP(E$2,Table1[],4,0),IF($B937=3,VLOOKUP(E$2,Table1[],5,0),IF($B937=4,VLOOKUP(E$2,Table1[],5,0),0))))","v":1500000},{"$f":"IF($B937=1,VLOOKUP(F$2,Table1[],3,0),IF($B937=2,VLOOKUP(F$2,Table1[],4,0),IF($B937=3,VLOOKUP(F$2,Table1[],5,0),IF($B937=4,VLOOKUP(F$2,Table1[],5,0),0))))","v":800000}]
[4561,1,{"$f":"IF($B938=1,VLOOKUP(C$2,Table1[],3,0),IF($B938=2,VLOOKUP(C$2,Table1[],4,0),IF($B938=3,VLOOKUP(C$2,Table1[],5,0),IF($B938=4,VLOOKUP(C$2,Table1[],5,0),0))))","v":2000000},{"$f":"IF($B938=1,VLOOKUP(D$2,Table1[],3,0),IF($B938=2,VLOOKUP(D$2,Table1[],4,0),IF($B938=3,VLOOKUP(D$2,Table1[],5,0),IF($B938=4,VLOOKUP(D$2,Table1[],5,0),0))))","v":2000000},{"$f":"IF($B938=1,VLOOKUP(E$2,Table1[],3,0),IF($B938=2,VLOOKUP(E$2,Table1[],4,0),IF($B938=3,VLOOKUP(E$2,Table1[],5,0),IF($B938=4,VLOOKUP(E$2,Table1[],5,0),0))))","v":1500000},{"$f":"IF($B938=1,VLOOKUP(F$2,Table1[],3,0),IF($B938=2,VLOOKUP(F$2,Table1[],4,0),IF($B938=3,VLOOKUP(F$2,Table1[],5,0),IF($B938=4,VLOOKUP(F$2,Table1[],5,0),0))))","v":800000}]
[4562,1,{"$f":"IF($B939=1,VLOOKUP(C$2,Table1[],3,0),IF($B939=2,VLOOKUP(C$2,Table1[],4,0),IF($B939=3,VLOOKUP(C$2,Table1[],5,0),IF($B939=4,VLOOKUP(C$2,Table1[],5,0),0))))","v":2000000},{"$f":"IF($B939=1,VLOOKUP(D$2,Table1[],3,0),IF($B939=2,VLOOKUP(D$2,Table1[],4,0),IF($B939=3,VLOOKUP(D$2,Table1[],5,0),IF($B939=4,VLOOKUP(D$2,Table1[],5,0),0))))","v":2000000},{"$f":"IF($B939=1,VLOOKUP(E$2,Table1[],3,0),IF($B939=2,VLOOKUP(E$2,Table1[],4,0),IF($B939=3,VLOOKUP(E$2,Table1[],5,0),IF($B939=4,VLOOKUP(E$2,Table1[],5,0),0))))","v":1500000},{"$f":"IF($B939=1,VLOOKUP(F$2,Table1[],3,0),IF($B939=2,VLOOKUP(F$2,Table1[],4,0),IF($B939=3,VLOOKUP(F$2,Table1[],5,0),IF($B939=4,VLOOKUP(F$2,Table1[],5,0),0))))","v":800000}]
[4563,1,{"$f":"IF($B940=1,VLOOKUP(C$2,Table1[],3,0),IF($B940=2,VLOOKUP(C$2,Table1[],4,0),IF($B940=3,VLOOKUP(C$2,Table1[],5,0),IF($B940=4,VLOOKUP(C$2,Table1[],5,0),0))))","v":2000000},{"$f":"IF($B940=1,VLOOKUP(D$2,Table1[],3,0),IF($B940=2,VLOOKUP(D$2,Table1[],4,0),IF($B940=3,VLOOKUP(D$2,Table1[],5,0),IF($B940=4,VLOOKUP(D$2,Table1[],5,0),0))))","v":2000000},{"$f":"IF($B940=1,VLOOKUP(E$2,Table1[],3,0),IF($B940=2,VLOOKUP(E$2,Table1[],4,0),IF($B940=3,VLOOKUP(E$2,Table1[],5,0),IF($B940=4,VLOOKUP(E$2,Table1[],5,0),0))))","v":1500000},{"$f":"IF($B940=1,VLOOKUP(F$2,Table1[],3,0),IF($B940=2,VLOOKUP(F$2,Table1[],4,0),IF($B940=3,VLOOKUP(F$2,Table1[],5,0),IF($B940=4,VLOOKUP(F$2,Table1[],5,0),0))))","v":800000}]
[4564,1,{"$f":"IF($B941=1,VLOOKUP(C$2,Table1[],3,0),IF($B941=2,VLOOKUP(C$2,Table1[],4,0),IF($B941=3,VLOOKUP(C$2,Table1[],5,0),IF($B941=4,VLOOKUP(C$2,Table1[],5,0),0))))","v":2000000},{"$f":"IF($B941=1,VLOOKUP(D$2,Table1[],3,0),IF($B941=2,VLOOKUP(D$2,Table1[],4,0),IF($B941=3,VLOOKUP(D$2,Table1[],5,0),IF($B941=4,VLOOKUP(D$2,Table1[],5,0),0))))","v":2000000},{"$f":"IF($B941=1,VLOOKUP(E$2,Table1[],3,0),IF($B941=2,VLOOKUP(E$2,Table1[],4,0),IF($B941=3,VLOOKUP(E$2,Table1[],5,0),IF($B941=4,VLOOKUP(E$2,Table1[],5,0),0))))","v":1500000},{"$f":"IF($B941=1,VLOOKUP(F$2,Table1[],3,0),IF($B941=2,VLOOKUP(F$2,Table1[],4,0),IF($B941=3,VLOOKUP(F$2,Table1[],5,0),IF($B941=4,VLOOKUP(F$2,Table1[],5,0),0))))","v":800000}]
[4565,1,{"$f":"IF($B942=1,VLOOKUP(C$2,Table1[],3,0),IF($B942=2,VLOOKUP(C$2,Table1[],4,0),IF($B942=3,VLOOKUP(C$2,Table1[],5,0),IF($B942=4,VLOOKUP(C$2,Table1[],5,0),0))))","v":2000000},{"$f":"IF($B942=1,VLOOKUP(D$2,Table1[],3,0),IF($B942=2,VLOOKUP(D$2,Table1[],4,0),IF($B942=3,VLOOKUP(D$2,Table1[],5,0),IF($B942=4,VLOOKUP(D$2,Table1[],5,0),0))))","v":2000000},{"$f":"IF($B942=1,VLOOKUP(E$2,Table1[],3,0),IF($B942=2,VLOOKUP(E$2,Table1[],4,0),IF($B942=3,VLOOKUP(E$2,Table1[],5,0),IF($B942=4,VLOOKUP(E$2,Table1[],5,0),0))))","v":1500000},{"$f":"IF($B942=1,VLOOKUP(F$2,Table1[],3,0),IF($B942=2,VLOOKUP(F$2,Table1[],4,0),IF($B942=3,VLOOKUP(F$2,Table1[],5,0),IF($B942=4,VLOOKUP(F$2,Table1[],5,0),0))))","v":800000}]
[4566,1,{"$f":"IF($B943=1,VLOOKUP(C$2,Table1[],3,0),IF($B943=2,VLOOKUP(C$2,Table1[],4,0),IF($B943=3,VLOOKUP(C$2,Table1[],5,0),IF($B943=4,VLOOKUP(C$2,Table1[],5,0),0))))","v":2000000},{"$f":"IF($B943=1,VLOOKUP(D$2,Table1[],3,0),IF($B943=2,VLOOKUP(D$2,Table1[],4,0),IF($B943=3,VLOOKUP(D$2,Table1[],5,0),IF($B943=4,VLOOKUP(D$2,Table1[],5,0),0))))","v":2000000},{"$f":"IF($B943=1,VLOOKUP(E$2,Table1[],3,0),IF($B943=2,VLOOKUP(E$2,Table1[],4,0),IF($B943=3,VLOOKUP(E$2,Table1[],5,0),IF($B943=4,VLOOKUP(E$2,Table1[],5,0),0))))","v":1500000},{"$f":"IF($B943=1,VLOOKUP(F$2,Table1[],3,0),IF($B943=2,VLOOKUP(F$2,Table1[],4,0),IF($B943=3,VLOOKUP(F$2,Table1[],5,0),IF($B943=4,VLOOKUP(F$2,Table1[],5,0),0))))","v":800000}]
[4567,1,{"$f":"IF($B944=1,VLOOKUP(C$2,Table1[],3,0),IF($B944=2,VLOOKUP(C$2,Table1[],4,0),IF($B944=3,VLOOKUP(C$2,Table1[],5,0),IF($B944=4,VLOOKUP(C$2,Table1[],5,0),0))))","v":2000000},{"$f":"IF($B944=1,VLOOKUP(D$2,Table1[],3,0),IF($B944=2,VLOOKUP(D$2,Table1[],4,0),IF($B944=3,VLOOKUP(D$2,Table1[],5,0),IF($B944=4,VLOOKUP(D$2,Table1[],5,0),0))))","v":2000000},{"$f":"IF($B944=1,VLOOKUP(E$2,Table1[],3,0),IF($B944=2,VLOOKUP(E$2,Table1[],4,0),IF($B944=3,VLOOKUP(E$2,Table1[],5,0),IF($B944=4,VLOOKUP(E$2,Table1[],5,0),0))))","v":1500000},{"$f":"IF($B944=1,VLOOKUP(F$2,Table1[],3,0),IF($B944=2,VLOOKUP(F$2,Table1[],4,0),IF($B944=3,VLOOKUP(F$2,Table1[],5,0),IF($B944=4,VLOOKUP(F$2,Table1[],5,0),0))))","v":800000}]
[4568,2,{"$f":"IF($B945=1,VLOOKUP(C$2,Table1[],3,0),IF($B945=2,VLOOKUP(C$2,Table1[],4,0),IF($B945=3,VLOOKUP(C$2,Table1[],5,0),IF($B945=4,VLOOKUP(C$2,Table1[],5,0),0))))","v":1000000},{"$f":"IF($B945=1,VLOOKUP(D$2,Table1[],3,0),IF($B945=2,VLOOKUP(D$2,Table1[],4,0),IF($B945=3,VLOOKUP(D$2,Table1[],5,0),IF($B945=4,VLOOKUP(D$2,Table1[],5,0),0))))","v":1000000},{"$f":"IF($B945=1,VLOOKUP(E$2,Table1[],3,0),IF($B945=2,VLOOKUP(E$2,Table1[],4,0),IF($B945=3,VLOOKUP(E$2,Table1[],5,0),IF($B945=4,VLOOKUP(E$2,Table1[],5,0),0))))","v":750000},{"$f":"IF($B945=1,VLOOKUP(F$2,Table1[],3,0),IF($B945=2,VLOOKUP(F$2,Table1[],4,0),IF($B945=3,VLOOKUP(F$2,Table1[],5,0),IF($B945=4,VLOOKUP(F$2,Table1[],5,0),0))))","v":500000}]
[4570,2,{"$f":"IF($B946=1,VLOOKUP(C$2,Table1[],3,0),IF($B946=2,VLOOKUP(C$2,Table1[],4,0),IF($B946=3,VLOOKUP(C$2,Table1[],5,0),IF($B946=4,VLOOKUP(C$2,Table1[],5,0),0))))","v":1000000},{"$f":"IF($B946=1,VLOOKUP(D$2,Table1[],3,0),IF($B946=2,VLOOKUP(D$2,Table1[],4,0),IF($B946=3,VLOOKUP(D$2,Table1[],5,0),IF($B946=4,VLOOKUP(D$2,Table1[],5,0),0))))","v":1000000},{"$f":"IF($B946=1,VLOOKUP(E$2,Table1[],3,0),IF($B946=2,VLOOKUP(E$2,Table1[],4,0),IF($B946=3,VLOOKUP(E$2,Table1[],5,0),IF($B946=4,VLOOKUP(E$2,Table1[],5,0),0))))","v":750000},{"$f":"IF($B946=1,VLOOKUP(F$2,Table1[],3,0),IF($B946=2,VLOOKUP(F$2,Table1[],4,0),IF($B946=3,VLOOKUP(F$2,Table1[],5,0),IF($B946=4,VLOOKUP(F$2,Table1[],5,0),0))))","v":500000}]
[4572,1,{"$f":"IF($B947=1,VLOOKUP(C$2,Table1[],3,0),IF($B947=2,VLOOKUP(C$2,Table1[],4,0),IF($B947=3,VLOOKUP(C$2,Table1[],5,0),IF($B947=4,VLOOKUP(C$2,Table1[],5,0),0))))","v":2000000},{"$f":"IF($B947=1,VLOOKUP(D$2,Table1[],3,0),IF($B947=2,VLOOKUP(D$2,Table1[],4,0),IF($B947=3,VLOOKUP(D$2,Table1[],5,0),IF($B947=4,VLOOKUP(D$2,Table1[],5,0),0))))","v":2000000},{"$f":"IF($B947=1,VLOOKUP(E$2,Table1[],3,0),IF($B947=2,VLOOKUP(E$2,Table1[],4,0),IF($B947=3,VLOOKUP(E$2,Table1[],5,0),IF($B947=4,VLOOKUP(E$2,Table1[],5,0),0))))","v":1500000},{"$f":"IF($B947=1,VLOOKUP(F$2,Table1[],3,0),IF($B947=2,VLOOKUP(F$2,Table1[],4,0),IF($B947=3,VLOOKUP(F$2,Table1[],5,0),IF($B947=4,VLOOKUP(F$2,Table1[],5,0),0))))","v":800000}]
[4573,1,{"$f":"IF($B948=1,VLOOKUP(C$2,Table1[],3,0),IF($B948=2,VLOOKUP(C$2,Table1[],4,0),IF($B948=3,VLOOKUP(C$2,Table1[],5,0),IF($B948=4,VLOOKUP(C$2,Table1[],5,0),0))))","v":2000000},{"$f":"IF($B948=1,VLOOKUP(D$2,Table1[],3,0),IF($B948=2,VLOOKUP(D$2,Table1[],4,0),IF($B948=3,VLOOKUP(D$2,Table1[],5,0),IF($B948=4,VLOOKUP(D$2,Table1[],5,0),0))))","v":2000000},{"$f":"IF($B948=1,VLOOKUP(E$2,Table1[],3,0),IF($B948=2,VLOOKUP(E$2,Table1[],4,0),IF($B948=3,VLOOKUP(E$2,Table1[],5,0),IF($B948=4,VLOOKUP(E$2,Table1[],5,0),0))))","v":1500000},{"$f":"IF($B948=1,VLOOKUP(F$2,Table1[],3,0),IF($B948=2,VLOOKUP(F$2,Table1[],4,0),IF($B948=3,VLOOKUP(F$2,Table1[],5,0),IF($B948=4,VLOOKUP(F$2,Table1[],5,0),0))))","v":800000}]
[4575,1,{"$f":"IF($B949=1,VLOOKUP(C$2,Table1[],3,0),IF($B949=2,VLOOKUP(C$2,Table1[],4,0),IF($B949=3,VLOOKUP(C$2,Table1[],5,0),IF($B949=4,VLOOKUP(C$2,Table1[],5,0),0))))","v":2000000},{"$f":"IF($B949=1,VLOOKUP(D$2,Table1[],3,0),IF($B949=2,VLOOKUP(D$2,Table1[],4,0),IF($B949=3,VLOOKUP(D$2,Table1[],5,0),IF($B949=4,VLOOKUP(D$2,Table1[],5,0),0))))","v":2000000},{"$f":"IF($B949=1,VLOOKUP(E$2,Table1[],3,0),IF($B949=2,VLOOKUP(E$2,Table1[],4,0),IF($B949=3,VLOOKUP(E$2,Table1[],5,0),IF($B949=4,VLOOKUP(E$2,Table1[],5,0),0))))","v":1500000},{"$f":"IF($B949=1,VLOOKUP(F$2,Table1[],3,0),IF($B949=2,VLOOKUP(F$2,Table1[],4,0),IF($B949=3,VLOOKUP(F$2,Table1[],5,0),IF($B949=4,VLOOKUP(F$2,Table1[],5,0),0))))","v":800000}]
[4581,4,{"$f":"IF($B950=1,VLOOKUP(C$2,Table1[],3,0),IF($B950=2,VLOOKUP(C$2,Table1[],4,0),IF($B950=3,VLOOKUP(C$2,Table1[],5,0),IF($B950=4,VLOOKUP(C$2,Table1[],5,0),0))))","v":500000},{"$f":"IF($B950=1,VLOOKUP(D$2,Table1[],3,0),IF($B950=2,VLOOKUP(D$2,Table1[],4,0),IF($B950=3,VLOOKUP(D$2,Table1[],5,0),IF($B950=4,VLOOKUP(D$2,Table1[],5,0),0))))","v":400000},{"$f":"IF($B950=1,VLOOKUP(E$2,Table1[],3,0),IF($B950=2,VLOOKUP(E$2,Table1[],4,0),IF($B950=3,VLOOKUP(E$2,Table1[],5,0),IF($B950=4,VLOOKUP(E$2,Table1[],5,0),0))))","v":"N/A"},{"$f":"IF($B950=1,VLOOKUP(F$2,Table1[],3,0),IF($B950=2,VLOOKUP(F$2,Table1[],4,0),IF($B950=3,VLOOKUP(F$2,Table1[],5,0),IF($B950=4,VLOOKUP(F$2,Table1[],5,0),0))))","v":"N/A"}]
[4610,2,{"$f":"IF($B951=1,VLOOKUP(C$2,Table1[],3,0),IF($B951=2,VLOOKUP(C$2,Table1[],4,0),IF($B951=3,VLOOKUP(C$2,Table1[],5,0),IF($B951=4,VLOOKUP(C$2,Table1[],5,0),0))))","v":1000000},{"$f":"IF($B951=1,VLOOKUP(D$2,Table1[],3,0),IF($B951=2,VLOOKUP(D$2,Table1[],4,0),IF($B951=3,VLOOKUP(D$2,Table1[],5,0),IF($B951=4,VLOOKUP(D$2,Table1[],5,0),0))))","v":1000000},{"$f":"IF($B951=1,VLOOKUP(E$2,Table1[],3,0),IF($B951=2,VLOOKUP(E$2,Table1[],4,0),IF($B951=3,VLOOKUP(E$2,Table1[],5,0),IF($B951=4,VLOOKUP(E$2,Table1[],5,0),0))))","v":750000},{"$f":"IF($B951=1,VLOOKUP(F$2,Table1[],3,0),IF($B951=2,VLOOKUP(F$2,Table1[],4,0),IF($B951=3,VLOOKUP(F$2,Table1[],5,0),IF($B951=4,VLOOKUP(F$2,Table1[],5,0),0))))","v":500000}]
[4650,2,{"$f":"IF($B952=1,VLOOKUP(C$2,Table1[],3,0),IF($B952=2,VLOOKUP(C$2,Table1[],4,0),IF($B952=3,VLOOKUP(C$2,Table1[],5,0),IF($B952=4,VLOOKUP(C$2,Table1[],5,0),0))))","v":1000000},{"$f":"IF($B952=1,VLOOKUP(D$2,Table1[],3,0),IF($B952=2,VLOOKUP(D$2,Table1[],4,0),IF($B952=3,VLOOKUP(D$2,Table1[],5,0),IF($B952=4,VLOOKUP(D$2,Table1[],5,0),0))))","v":1000000},{"$f":"IF($B952=1,VLOOKUP(E$2,Table1[],3,0),IF($B952=2,VLOOKUP(E$2,Table1[],4,0),IF($B952=3,VLOOKUP(E$2,Table1[],5,0),IF($B952=4,VLOOKUP(E$2,Table1[],5,0),0))))","v":750000},{"$f":"IF($B952=1,VLOOKUP(F$2,Table1[],3,0),IF($B952=2,VLOOKUP(F$2,Table1[],4,0),IF($B952=3,VLOOKUP(F$2,Table1[],5,0),IF($B952=4,VLOOKUP(F$2,Table1[],5,0),0))))","v":500000}]
[4655,2,{"$f":"IF($B953=1,VLOOKUP(C$2,Table1[],3,0),IF($B953=2,VLOOKUP(C$2,Table1[],4,0),IF($B953=3,VLOOKUP(C$2,Table1[],5,0),IF($B953=4,VLOOKUP(C$2,Table1[],5,0),0))))","v":1000000},{"$f":"IF($B953=1,VLOOKUP(D$2,Table1[],3,0),IF($B953=2,VLOOKUP(D$2,Table1[],4,0),IF($B953=3,VLOOKUP(D$2,Table1[],5,0),IF($B953=4,VLOOKUP(D$2,Table1[],5,0),0))))","v":1000000},{"$f":"IF($B953=1,VLOOKUP(E$2,Table1[],3,0),IF($B953=2,VLOOKUP(E$2,Table1[],4,0),IF($B953=3,VLOOKUP(E$2,Table1[],5,0),IF($B953=4,VLOOKUP(E$2,Table1[],5,0),0))))","v":750000},{"$f":"IF($B953=1,VLOOKUP(F$2,Table1[],3,0),IF($B953=2,VLOOKUP(F$2,Table1[],4,0),IF($B953=3,VLOOKUP(F$2,Table1[],5,0),IF($B953=4,VLOOKUP(F$2,Table1[],5,0),0))))","v":500000}]
[4659,2,{"$f":"IF($B954=1,VLOOKUP(C$2,Table1[],3,0),IF($B954=2,VLOOKUP(C$2,Table1[],4,0),IF($B954=3,VLOOKUP(C$2,Table1[],5,0),IF($B954=4,VLOOKUP(C$2,Table1[],5,0),0))))","v":1000000},{"$f":"IF($B954=1,VLOOKUP(D$2,Table1[],3,0),IF($B954=2,VLOOKUP(D$2,Table1[],4,0),IF($B954=3,VLOOKUP(D$2,Table1[],5,0),IF($B954=4,VLOOKUP(D$2,Table1[],5,0),0))))","v":1000000},{"$f":"IF($B954=1,VLOOKUP(E$2,Table1[],3,0),IF($B954=2,VLOOKUP(E$2,Table1[],4,0),IF($B954=3,VLOOKUP(E$2,Table1[],5,0),IF($B954=4,VLOOKUP(E$2,Table1[],5,0),0))))","v":750000},{"$f":"IF($B954=1,VLOOKUP(F$2,Table1[],3,0),IF($B954=2,VLOOKUP(F$2,Table1[],4,0),IF($B954=3,VLOOKUP(F$2,Table1[],5,0),IF($B954=4,VLOOKUP(F$2,Table1[],5,0),0))))","v":500000}]
[4670,2,{"$f":"IF($B955=1,VLOOKUP(C$2,Table1[],3,0),IF($B955=2,VLOOKUP(C$2,Table1[],4,0),IF($B955=3,VLOOKUP(C$2,Table1[],5,0),IF($B955=4,VLOOKUP(C$2,Table1[],5,0),0))))","v":1000000},{"$f":"IF($B955=1,VLOOKUP(D$2,Table1[],3,0),IF($B955=2,VLOOKUP(D$2,Table1[],4,0),IF($B955=3,VLOOKUP(D$2,Table1[],5,0),IF($B955=4,VLOOKUP(D$2,Table1[],5,0),0))))","v":1000000},{"$f":"IF($B955=1,VLOOKUP(E$2,Table1[],3,0),IF($B955=2,VLOOKUP(E$2,Table1[],4,0),IF($B955=3,VLOOKUP(E$2,Table1[],5,0),IF($B955=4,VLOOKUP(E$2,Table1[],5,0),0))))","v":750000},{"$f":"IF($B955=1,VLOOKUP(F$2,Table1[],3,0),IF($B955=2,VLOOKUP(F$2,Table1[],4,0),IF($B955=3,VLOOKUP(F$2,Table1[],5,0),IF($B955=4,VLOOKUP(F$2,Table1[],5,0),0))))","v":500000}]
[4677,2,{"$f":"IF($B956=1,VLOOKUP(C$2,Table1[],3,0),IF($B956=2,VLOOKUP(C$2,Table1[],4,0),IF($B956=3,VLOOKUP(C$2,Table1[],5,0),IF($B956=4,VLOOKUP(C$2,Table1[],5,0),0))))","v":1000000},{"$f":"IF($B956=1,VLOOKUP(D$2,Table1[],3,0),IF($B956=2,VLOOKUP(D$2,Table1[],4,0),IF($B956=3,VLOOKUP(D$2,Table1[],5,0),IF($B956=4,VLOOKUP(D$2,Table1[],5,0),0))))","v":1000000},{"$f":"IF($B956=1,VLOOKUP(E$2,Table1[],3,0),IF($B956=2,VLOOKUP(E$2,Table1[],4,0),IF($B956=3,VLOOKUP(E$2,Table1[],5,0),IF($B956=4,VLOOKUP(E$2,Table1[],5,0),0))))","v":750000},{"$f":"IF($B956=1,VLOOKUP(F$2,Table1[],3,0),IF($B956=2,VLOOKUP(F$2,Table1[],4,0),IF($B956=3,VLOOKUP(F$2,Table1[],5,0),IF($B956=4,VLOOKUP(F$2,Table1[],5,0),0))))","v":500000}]
[4680,3,{"$f":"IF($B957=1,VLOOKUP(C$2,Table1[],3,0),IF($B957=2,VLOOKUP(C$2,Table1[],4,0),IF($B957=3,VLOOKUP(C$2,Table1[],5,0),IF($B957=4,VLOOKUP(C$2,Table1[],5,0),0))))","v":500000},{"$f":"IF($B957=1,VLOOKUP(D$2,Table1[],3,0),IF($B957=2,VLOOKUP(D$2,Table1[],4,0),IF($B957=3,VLOOKUP(D$2,Table1[],5,0),IF($B957=4,VLOOKUP(D$2,Table1[],5,0),0))))","v":400000},{"$f":"IF($B957=1,VLOOKUP(E$2,Table1[],3,0),IF($B957=2,VLOOKUP(E$2,Table1[],4,0),IF($B957=3,VLOOKUP(E$2,Table1[],5,0),IF($B957=4,VLOOKUP(E$2,Table1[],5,0),0))))","v":"N/A"},{"$f":"IF($B957=1,VLOOKUP(F$2,Table1[],3,0),IF($B957=2,VLOOKUP(F$2,Table1[],4,0),IF($B957=3,VLOOKUP(F$2,Table1[],5,0),IF($B957=4,VLOOKUP(F$2,Table1[],5,0),0))))","v":"N/A"}]
[4700,1,{"$f":"IF($B958=1,VLOOKUP(C$2,Table1[],3,0),IF($B958=2,VLOOKUP(C$2,Table1[],4,0),IF($B958=3,VLOOKUP(C$2,Table1[],5,0),IF($B958=4,VLOOKUP(C$2,Table1[],5,0),0))))","v":2000000},{"$f":"IF($B958=1,VLOOKUP(D$2,Table1[],3,0),IF($B958=2,VLOOKUP(D$2,Table1[],4,0),IF($B958=3,VLOOKUP(D$2,Table1[],5,0),IF($B958=4,VLOOKUP(D$2,Table1[],5,0),0))))","v":2000000},{"$f":"IF($B958=1,VLOOKUP(E$2,Table1[],3,0),IF($B958=2,VLOOKUP(E$2,Table1[],4,0),IF($B958=3,VLOOKUP(E$2,Table1[],5,0),IF($B958=4,VLOOKUP(E$2,Table1[],5,0),0))))","v":1500000},{"$f":"IF($B958=1,VLOOKUP(F$2,Table1[],3,0),IF($B958=2,VLOOKUP(F$2,Table1[],4,0),IF($B958=3,VLOOKUP(F$2,Table1[],5,0),IF($B958=4,VLOOKUP(F$2,Table1[],5,0),0))))","v":800000}]
[4701,1,{"$f":"IF($B959=1,VLOOKUP(C$2,Table1[],3,0),IF($B959=2,VLOOKUP(C$2,Table1[],4,0),IF($B959=3,VLOOKUP(C$2,Table1[],5,0),IF($B959=4,VLOOKUP(C$2,Table1[],5,0),0))))","v":2000000},{"$f":"IF($B959=1,VLOOKUP(D$2,Table1[],3,0),IF($B959=2,VLOOKUP(D$2,Table1[],4,0),IF($B959=3,VLOOKUP(D$2,Table1[],5,0),IF($B959=4,VLOOKUP(D$2,Table1[],5,0),0))))","v":2000000},{"$f":"IF($B959=1,VLOOKUP(E$2,Table1[],3,0),IF($B959=2,VLOOKUP(E$2,Table1[],4,0),IF($B959=3,VLOOKUP(E$2,Table1[],5,0),IF($B959=4,VLOOKUP(E$2,Table1[],5,0),0))))","v":1500000},{"$f":"IF($B959=1,VLOOKUP(F$2,Table1[],3,0),IF($B959=2,VLOOKUP(F$2,Table1[],4,0),IF($B959=3,VLOOKUP(F$2,Table1[],5,0),IF($B959=4,VLOOKUP(F$2,Table1[],5,0),0))))","v":800000}]
[4702,2,{"$f":"IF($B960=1,VLOOKUP(C$2,Table1[],3,0),IF($B960=2,VLOOKUP(C$2,Table1[],4,0),IF($B960=3,VLOOKUP(C$2,Table1[],5,0),IF($B960=4,VLOOKUP(C$2,Table1[],5,0),0))))","v":1000000},{"$f":"IF($B960=1,VLOOKUP(D$2,Table1[],3,0),IF($B960=2,VLOOKUP(D$2,Table1[],4,0),IF($B960=3,VLOOKUP(D$2,Table1[],5,0),IF($B960=4,VLOOKUP(D$2,Table1[],5,0),0))))","v":1000000},{"$f":"IF($B960=1,VLOOKUP(E$2,Table1[],3,0),IF($B960=2,VLOOKUP(E$2,Table1[],4,0),IF($B960=3,VLOOKUP(E$2,Table1[],5,0),IF($B960=4,VLOOKUP(E$2,Table1[],5,0),0))))","v":750000},{"$f":"IF($B960=1,VLOOKUP(F$2,Table1[],3,0),IF($B960=2,VLOOKUP(F$2,Table1[],4,0),IF($B960=3,VLOOKUP(F$2,Table1[],5,0),IF($B960=4,VLOOKUP(F$2,Table1[],5,0),0))))","v":500000}]
[4703,2,{"$f":"IF($B961=1,VLOOKUP(C$2,Table1[],3,0),IF($B961=2,VLOOKUP(C$2,Table1[],4,0),IF($B961=3,VLOOKUP(C$2,Table1[],5,0),IF($B961=4,VLOOKUP(C$2,Table1[],5,0),0))))","v":1000000},{"$f":"IF($B961=1,VLOOKUP(D$2,Table1[],3,0),IF($B961=2,VLOOKUP(D$2,Table1[],4,0),IF($B961=3,VLOOKUP(D$2,Table1[],5,0),IF($B961=4,VLOOKUP(D$2,Table1[],5,0),0))))","v":1000000},{"$f":"IF($B961=1,VLOOKUP(E$2,Table1[],3,0),IF($B961=2,VLOOKUP(E$2,Table1[],4,0),IF($B961=3,VLOOKUP(E$2,Table1[],5,0),IF($B961=4,VLOOKUP(E$2,Table1[],5,0),0))))","v":750000},{"$f":"IF($B961=1,VLOOKUP(F$2,Table1[],3,0),IF($B961=2,VLOOKUP(F$2,Table1[],4,0),IF($B961=3,VLOOKUP(F$2,Table1[],5,0),IF($B961=4,VLOOKUP(F$2,Table1[],5,0),0))))","v":500000}]
[4709,4,{"$f":"IF($B962=1,VLOOKUP(C$2,Table1[],3,0),IF($B962=2,VLOOKUP(C$2,Table1[],4,0),IF($B962=3,VLOOKUP(C$2,Table1[],5,0),IF($B962=4,VLOOKUP(C$2,Table1[],5,0),0))))","v":500000},{"$f":"IF($B962=1,VLOOKUP(D$2,Table1[],3,0),IF($B962=2,VLOOKUP(D$2,Table1[],4,0),IF($B962=3,VLOOKUP(D$2,Table1[],5,0),IF($B962=4,VLOOKUP(D$2,Table1[],5,0),0))))","v":400000},{"$f":"IF($B962=1,VLOOKUP(E$2,Table1[],3,0),IF($B962=2,VLOOKUP(E$2,Table1[],4,0),IF($B962=3,VLOOKUP(E$2,Table1[],5,0),IF($B962=4,VLOOKUP(E$2,Table1[],5,0),0))))","v":"N/A"},{"$f":"IF($B962=1,VLOOKUP(F$2,Table1[],3,0),IF($B962=2,VLOOKUP(F$2,Table1[],4,0),IF($B962=3,VLOOKUP(F$2,Table1[],5,0),IF($B962=4,VLOOKUP(F$2,Table1[],5,0),0))))","v":"N/A"}]
[4710,2,{"$f":"IF($B963=1,VLOOKUP(C$2,Table1[],3,0),IF($B963=2,VLOOKUP(C$2,Table1[],4,0),IF($B963=3,VLOOKUP(C$2,Table1[],5,0),IF($B963=4,VLOOKUP(C$2,Table1[],5,0),0))))","v":1000000},{"$f":"IF($B963=1,VLOOKUP(D$2,Table1[],3,0),IF($B963=2,VLOOKUP(D$2,Table1[],4,0),IF($B963=3,VLOOKUP(D$2,Table1[],5,0),IF($B963=4,VLOOKUP(D$2,Table1[],5,0),0))))","v":1000000},{"$f":"IF($B963=1,VLOOKUP(E$2,Table1[],3,0),IF($B963=2,VLOOKUP(E$2,Table1[],4,0),IF($B963=3,VLOOKUP(E$2,Table1[],5,0),IF($B963=4,VLOOKUP(E$2,Table1[],5,0),0))))","v":750000},{"$f":"IF($B963=1,VLOOKUP(F$2,Table1[],3,0),IF($B963=2,VLOOKUP(F$2,Table1[],4,0),IF($B963=3,VLOOKUP(F$2,Table1[],5,0),IF($B963=4,VLOOKUP(F$2,Table1[],5,0),0))))","v":500000}]
[4711,1,{"$f":"IF($B964=1,VLOOKUP(C$2,Table1[],3,0),IF($B964=2,VLOOKUP(C$2,Table1[],4,0),IF($B964=3,VLOOKUP(C$2,Table1[],5,0),IF($B964=4,VLOOKUP(C$2,Table1[],5,0),0))))","v":2000000},{"$f":"IF($B964=1,VLOOKUP(D$2,Table1[],3,0),IF($B964=2,VLOOKUP(D$2,Table1[],4,0),IF($B964=3,VLOOKUP(D$2,Table1[],5,0),IF($B964=4,VLOOKUP(D$2,Table1[],5,0),0))))","v":2000000},{"$f":"IF($B964=1,VLOOKUP(E$2,Table1[],3,0),IF($B964=2,VLOOKUP(E$2,Table1[],4,0),IF($B964=3,VLOOKUP(E$2,Table1[],5,0),IF($B964=4,VLOOKUP(E$2,Table1[],5,0),0))))","v":1500000},{"$f":"IF($B964=1,VLOOKUP(F$2,Table1[],3,0),IF($B964=2,VLOOKUP(F$2,Table1[],4,0),IF($B964=3,VLOOKUP(F$2,Table1[],5,0),IF($B964=4,VLOOKUP(F$2,Table1[],5,0),0))))","v":800000}]
[4714,4,{"$f":"IF($B965=1,VLOOKUP(C$2,Table1[],3,0),IF($B965=2,VLOOKUP(C$2,Table1[],4,0),IF($B965=3,VLOOKUP(C$2,Table1[],5,0),IF($B965=4,VLOOKUP(C$2,Table1[],5,0),0))))","v":500000},{"$f":"IF($B965=1,VLOOKUP(D$2,Table1[],3,0),IF($B965=2,VLOOKUP(D$2,Table1[],4,0),IF($B965=3,VLOOKUP(D$2,Table1[],5,0),IF($B965=4,VLOOKUP(D$2,Table1[],5,0),0))))","v":400000},{"$f":"IF($B965=1,VLOOKUP(E$2,Table1[],3,0),IF($B965=2,VLOOKUP(E$2,Table1[],4,0),IF($B965=3,VLOOKUP(E$2,Table1[],5,0),IF($B965=4,VLOOKUP(E$2,Table1[],5,0),0))))","v":"N/A"},{"$f":"IF($B965=1,VLOOKUP(F$2,Table1[],3,0),IF($B965=2,VLOOKUP(F$2,Table1[],4,0),IF($B965=3,VLOOKUP(F$2,Table1[],5,0),IF($B965=4,VLOOKUP(F$2,Table1[],5,0),0))))","v":"N/A"}]
[4715,4,{"$f":"IF($B966=1,VLOOKUP(C$2,Table1[],3,0),IF($B966=2,VLOOKUP(C$2,Table1[],4,0),IF($B966=3,VLOOKUP(C$2,Table1[],5,0),IF($B966=4,VLOOKUP(C$2,Table1[],5,0),0))))","v":500000},{"$f":"IF($B966=1,VLOOKUP(D$2,Table1[],3,0),IF($B966=2,VLOOKUP(D$2,Table1[],4,0),IF($B966=3,VLOOKUP(D$2,Table1[],5,0),IF($B966=4,VLOOKUP(D$2,Table1[],5,0),0))))","v":400000},{"$f":"IF($B966=1,VLOOKUP(E$2,Table1[],3,0),IF($B966=2,VLOOKUP(E$2,Table1[],4,0),IF($B966=3,VLOOKUP(E$2,Table1[],5,0),IF($B966=4,VLOOKUP(E$2,Table1[],5,0),0))))","v":"N/A"},{"$f":"IF($B966=1,VLOOKUP(F$2,Table1[],3,0),IF($B966=2,VLOOKUP(F$2,Table1[],4,0),IF($B966=3,VLOOKUP(F$2,Table1[],5,0),IF($B966=4,VLOOKUP(F$2,Table1[],5,0),0))))","v":"N/A"}]
[4717,4,{"$f":"IF($B967=1,VLOOKUP(C$2,Table1[],3,0),IF($B967=2,VLOOKUP(C$2,Table1[],4,0),IF($B967=3,VLOOKUP(C$2,Table1[],5,0),IF($B967=4,VLOOKUP(C$2,Table1[],5,0),0))))","v":500000},{"$f":"IF($B967=1,VLOOKUP(D$2,Table1[],3,0),IF($B967=2,VLOOKUP(D$2,Table1[],4,0),IF($B967=3,VLOOKUP(D$2,Table1[],5,0),IF($B967=4,VLOOKUP(D$2,Table1[],5,0),0))))","v":400000},{"$f":"IF($B967=1,VLOOKUP(E$2,Table1[],3,0),IF($B967=2,VLOOKUP(E$2,Table1[],4,0),IF($B967=3,VLOOKUP(E$2,Table1[],5,0),IF($B967=4,VLOOKUP(E$2,Table1[],5,0),0))))","v":"N/A"},{"$f":"IF($B967=1,VLOOKUP(F$2,Table1[],3,0),IF($B967=2,VLOOKUP(F$2,Table1[],4,0),IF($B967=3,VLOOKUP(F$2,Table1[],5,0),IF($B967=4,VLOOKUP(F$2,Table1[],5,0),0))))","v":"N/A"}]
[4718,4,{"$f":"IF($B968=1,VLOOKUP(C$2,Table1[],3,0),IF($B968=2,VLOOKUP(C$2,Table1[],4,0),IF($B968=3,VLOOKUP(C$2,Table1[],5,0),IF($B968=4,VLOOKUP(C$2,Table1[],5,0),0))))","v":500000},{"$f":"IF($B968=1,VLOOKUP(D$2,Table1[],3,0),IF($B968=2,VLOOKUP(D$2,Table1[],4,0),IF($B968=3,VLOOKUP(D$2,Table1[],5,0),IF($B968=4,VLOOKUP(D$2,Table1[],5,0),0))))","v":400000},{"$f":"IF($B968=1,VLOOKUP(E$2,Table1[],3,0),IF($B968=2,VLOOKUP(E$2,Table1[],4,0),IF($B968=3,VLOOKUP(E$2,Table1[],5,0),IF($B968=4,VLOOKUP(E$2,Table1[],5,0),0))))","v":"N/A"},{"$f":"IF($B968=1,VLOOKUP(F$2,Table1[],3,0),IF($B968=2,VLOOKUP(F$2,Table1[],4,0),IF($B968=3,VLOOKUP(F$2,Table1[],5,0),IF($B968=4,VLOOKUP(F$2,Table1[],5,0),0))))","v":"N/A"}]
[4720,4,{"$f":"IF($B969=1,VLOOKUP(C$2,Table1[],3,0),IF($B969=2,VLOOKUP(C$2,Table1[],4,0),IF($B969=3,VLOOKUP(C$2,Table1[],5,0),IF($B969=4,VLOOKUP(C$2,Table1[],5,0),0))))","v":500000},{"$f":"IF($B969=1,VLOOKUP(D$2,Table1[],3,0),IF($B969=2,VLOOKUP(D$2,Table1[],4,0),IF($B969=3,VLOOKUP(D$2,Table1[],5,0),IF($B969=4,VLOOKUP(D$2,Table1[],5,0),0))))","v":400000},{"$f":"IF($B969=1,VLOOKUP(E$2,Table1[],3,0),IF($B969=2,VLOOKUP(E$2,Table1[],4,0),IF($B969=3,VLOOKUP(E$2,Table1[],5,0),IF($B969=4,VLOOKUP(E$2,Table1[],5,0),0))))","v":"N/A"},{"$f":"IF($B969=1,VLOOKUP(F$2,Table1[],3,0),IF($B969=2,VLOOKUP(F$2,Table1[],4,0),IF($B969=3,VLOOKUP(F$2,Table1[],5,0),IF($B969=4,VLOOKUP(F$2,Table1[],5,0),0))))","v":"N/A"}]
[4721,4,{"$f":"IF($B970=1,VLOOKUP(C$2,Table1[],3,0),IF($B970=2,VLOOKUP(C$2,Table1[],4,0),IF($B970=3,VLOOKUP(C$2,Table1[],5,0),IF($B970=4,VLOOKUP(C$2,Table1[],5,0),0))))","v":500000},{"$f":"IF($B970=1,VLOOKUP(D$2,Table1[],3,0),IF($B970=2,VLOOKUP(D$2,Table1[],4,0),IF($B970=3,VLOOKUP(D$2,Table1[],5,0),IF($B970=4,VLOOKUP(D$2,Table1[],5,0),0))))","v":400000},{"$f":"IF($B970=1,VLOOKUP(E$2,Table1[],3,0),IF($B970=2,VLOOKUP(E$2,Table1[],4,0),IF($B970=3,VLOOKUP(E$2,Table1[],5,0),IF($B970=4,VLOOKUP(E$2,Table1[],5,0),0))))","v":"N/A"},{"$f":"IF($B970=1,VLOOKUP(F$2,Table1[],3,0),IF($B970=2,VLOOKUP(F$2,Table1[],4,0),IF($B970=3,VLOOKUP(F$2,Table1[],5,0),IF($B970=4,VLOOKUP(F$2,Table1[],5,0),0))))","v":"N/A"}]
[4723,4,{"$f":"IF($B971=1,VLOOKUP(C$2,Table1[],3,0),IF($B971=2,VLOOKUP(C$2,Table1[],4,0),IF($B971=3,VLOOKUP(C$2,Table1[],5,0),IF($B971=4,VLOOKUP(C$2,Table1[],5,0),0))))","v":500000},{"$f":"IF($B971=1,VLOOKUP(D$2,Table1[],3,0),IF($B971=2,VLOOKUP(D$2,Table1[],4,0),IF($B971=3,VLOOKUP(D$2,Table1[],5,0),IF($B971=4,VLOOKUP(D$2,Table1[],5,0),0))))","v":400000},{"$f":"IF($B971=1,VLOOKUP(E$2,Table1[],3,0),IF($B971=2,VLOOKUP(E$2,Table1[],4,0),IF($B971=3,VLOOKUP(E$2,Table1[],5,0),IF($B971=4,VLOOKUP(E$2,Table1[],5,0),0))))","v":"N/A"},{"$f":"IF($B971=1,VLOOKUP(F$2,Table1[],3,0),IF($B971=2,VLOOKUP(F$2,Table1[],4,0),IF($B971=3,VLOOKUP(F$2,Table1[],5,0),IF($B971=4,VLOOKUP(F$2,Table1[],5,0),0))))","v":"N/A"}]
[4725,4,{"$f":"IF($B972=1,VLOOKUP(C$2,Table1[],3,0),IF($B972=2,VLOOKUP(C$2,Table1[],4,0),IF($B972=3,VLOOKUP(C$2,Table1[],5,0),IF($B972=4,VLOOKUP(C$2,Table1[],5,0),0))))","v":500000},{"$f":"IF($B972=1,VLOOKUP(D$2,Table1[],3,0),IF($B972=2,VLOOKUP(D$2,Table1[],4,0),IF($B972=3,VLOOKUP(D$2,Table1[],5,0),IF($B972=4,VLOOKUP(D$2,Table1[],5,0),0))))","v":400000},{"$f":"IF($B972=1,VLOOKUP(E$2,Table1[],3,0),IF($B972=2,VLOOKUP(E$2,Table1[],4,0),IF($B972=3,VLOOKUP(E$2,Table1[],5,0),IF($B972=4,VLOOKUP(E$2,Table1[],5,0),0))))","v":"N/A"},{"$f":"IF($B972=1,VLOOKUP(F$2,Table1[],3,0),IF($B972=2,VLOOKUP(F$2,Table1[],4,0),IF($B972=3,VLOOKUP(F$2,Table1[],5,0),IF($B972=4,VLOOKUP(F$2,Table1[],5,0),0))))","v":"N/A"}]
[4730,4,{"$f":"IF($B973=1,VLOOKUP(C$2,Table1[],3,0),IF($B973=2,VLOOKUP(C$2,Table1[],4,0),IF($B973=3,VLOOKUP(C$2,Table1[],5,0),IF($B973=4,VLOOKUP(C$2,Table1[],5,0),0))))","v":500000},{"$f":"IF($B973=1,VLOOKUP(D$2,Table1[],3,0),IF($B973=2,VLOOKUP(D$2,Table1[],4,0),IF($B973=3,VLOOKUP(D$2,Table1[],5,0),IF($B973=4,VLOOKUP(D$2,Table1[],5,0),0))))","v":400000},{"$f":"IF($B973=1,VLOOKUP(E$2,Table1[],3,0),IF($B973=2,VLOOKUP(E$2,Table1[],4,0),IF($B973=3,VLOOKUP(E$2,Table1[],5,0),IF($B973=4,VLOOKUP(E$2,Table1[],5,0),0))))","v":"N/A"},{"$f":"IF($B973=1,VLOOKUP(F$2,Table1[],3,0),IF($B973=2,VLOOKUP(F$2,Table1[],4,0),IF($B973=3,VLOOKUP(F$2,Table1[],5,0),IF($B973=4,VLOOKUP(F$2,Table1[],5,0),0))))","v":"N/A"}]
[4735,4,{"$f":"IF($B974=1,VLOOKUP(C$2,Table1[],3,0),IF($B974=2,VLOOKUP(C$2,Table1[],4,0),IF($B974=3,VLOOKUP(C$2,Table1[],5,0),IF($B974=4,VLOOKUP(C$2,Table1[],5,0),0))))","v":500000},{"$f":"IF($B974=1,VLOOKUP(D$2,Table1[],3,0),IF($B974=2,VLOOKUP(D$2,Table1[],4,0),IF($B974=3,VLOOKUP(D$2,Table1[],5,0),IF($B974=4,VLOOKUP(D$2,Table1[],5,0),0))))","v":400000},{"$f":"IF($B974=1,VLOOKUP(E$2,Table1[],3,0),IF($B974=2,VLOOKUP(E$2,Table1[],4,0),IF($B974=3,VLOOKUP(E$2,Table1[],5,0),IF($B974=4,VLOOKUP(E$2,Table1[],5,0),0))))","v":"N/A"},{"$f":"IF($B974=1,VLOOKUP(F$2,Table1[],3,0),IF($B974=2,VLOOKUP(F$2,Table1[],4,0),IF($B974=3,VLOOKUP(F$2,Table1[],5,0),IF($B974=4,VLOOKUP(F$2,Table1[],5,0),0))))","v":"N/A"}]
[4737,2,{"$f":"IF($B975=1,VLOOKUP(C$2,Table1[],3,0),IF($B975=2,VLOOKUP(C$2,Table1[],4,0),IF($B975=3,VLOOKUP(C$2,Table1[],5,0),IF($B975=4,VLOOKUP(C$2,Table1[],5,0),0))))","v":1000000},{"$f":"IF($B975=1,VLOOKUP(D$2,Table1[],3,0),IF($B975=2,VLOOKUP(D$2,Table1[],4,0),IF($B975=3,VLOOKUP(D$2,Table1[],5,0),IF($B975=4,VLOOKUP(D$2,Table1[],5,0),0))))","v":1000000},{"$f":"IF($B975=1,VLOOKUP(E$2,Table1[],3,0),IF($B975=2,VLOOKUP(E$2,Table1[],4,0),IF($B975=3,VLOOKUP(E$2,Table1[],5,0),IF($B975=4,VLOOKUP(E$2,Table1[],5,0),0))))","v":750000},{"$f":"IF($B975=1,VLOOKUP(F$2,Table1[],3,0),IF($B975=2,VLOOKUP(F$2,Table1[],4,0),IF($B975=3,VLOOKUP(F$2,Table1[],5,0),IF($B975=4,VLOOKUP(F$2,Table1[],5,0),0))))","v":500000}]
[4738,4,{"$f":"IF($B976=1,VLOOKUP(C$2,Table1[],3,0),IF($B976=2,VLOOKUP(C$2,Table1[],4,0),IF($B976=3,VLOOKUP(C$2,Table1[],5,0),IF($B976=4,VLOOKUP(C$2,Table1[],5,0),0))))","v":500000},{"$f":"IF($B976=1,VLOOKUP(D$2,Table1[],3,0),IF($B976=2,VLOOKUP(D$2,Table1[],4,0),IF($B976=3,VLOOKUP(D$2,Table1[],5,0),IF($B976=4,VLOOKUP(D$2,Table1[],5,0),0))))","v":400000},{"$f":"IF($B976=1,VLOOKUP(E$2,Table1[],3,0),IF($B976=2,VLOOKUP(E$2,Table1[],4,0),IF($B976=3,VLOOKUP(E$2,Table1[],5,0),IF($B976=4,VLOOKUP(E$2,Table1[],5,0),0))))","v":"N/A"},{"$f":"IF($B976=1,VLOOKUP(F$2,Table1[],3,0),IF($B976=2,VLOOKUP(F$2,Table1[],4,0),IF($B976=3,VLOOKUP(F$2,Table1[],5,0),IF($B976=4,VLOOKUP(F$2,Table1[],5,0),0))))","v":"N/A"}]
[4740,1,{"$f":"IF($B977=1,VLOOKUP(C$2,Table1[],3,0),IF($B977=2,VLOOKUP(C$2,Table1[],4,0),IF($B977=3,VLOOKUP(C$2,Table1[],5,0),IF($B977=4,VLOOKUP(C$2,Table1[],5,0),0))))","v":2000000},{"$f":"IF($B977=1,VLOOKUP(D$2,Table1[],3,0),IF($B977=2,VLOOKUP(D$2,Table1[],4,0),IF($B977=3,VLOOKUP(D$2,Table1[],5,0),IF($B977=4,VLOOKUP(D$2,Table1[],5,0),0))))","v":2000000},{"$f":"IF($B977=1,VLOOKUP(E$2,Table1[],3,0),IF($B977=2,VLOOKUP(E$2,Table1[],4,0),IF($B977=3,VLOOKUP(E$2,Table1[],5,0),IF($B977=4,VLOOKUP(E$2,Table1[],5,0),0))))","v":1500000},{"$f":"IF($B977=1,VLOOKUP(F$2,Table1[],3,0),IF($B977=2,VLOOKUP(F$2,Table1[],4,0),IF($B977=3,VLOOKUP(F$2,Table1[],5,0),IF($B977=4,VLOOKUP(F$2,Table1[],5,0),0))))","v":800000}]
[4742,4,{"$f":"IF($B978=1,VLOOKUP(C$2,Table1[],3,0),IF($B978=2,VLOOKUP(C$2,Table1[],4,0),IF($B978=3,VLOOKUP(C$2,Table1[],5,0),IF($B978=4,VLOOKUP(C$2,Table1[],5,0),0))))","v":500000},{"$f":"IF($B978=1,VLOOKUP(D$2,Table1[],3,0),IF($B978=2,VLOOKUP(D$2,Table1[],4,0),IF($B978=3,VLOOKUP(D$2,Table1[],5,0),IF($B978=4,VLOOKUP(D$2,Table1[],5,0),0))))","v":400000},{"$f":"IF($B978=1,VLOOKUP(E$2,Table1[],3,0),IF($B978=2,VLOOKUP(E$2,Table1[],4,0),IF($B978=3,VLOOKUP(E$2,Table1[],5,0),IF($B978=4,VLOOKUP(E$2,Table1[],5,0),0))))","v":"N/A"},{"$f":"IF($B978=1,VLOOKUP(F$2,Table1[],3,0),IF($B978=2,VLOOKUP(F$2,Table1[],4,0),IF($B978=3,VLOOKUP(F$2,Table1[],5,0),IF($B978=4,VLOOKUP(F$2,Table1[],5,0),0))))","v":"N/A"}]
[4743,4,{"$f":"IF($B979=1,VLOOKUP(C$2,Table1[],3,0),IF($B979=2,VLOOKUP(C$2,Table1[],4,0),IF($B979=3,VLOOKUP(C$2,Table1[],5,0),IF($B979=4,VLOOKUP(C$2,Table1[],5,0),0))))","v":500000},{"$f":"IF($B979=1,VLOOKUP(D$2,Table1[],3,0),IF($B979=2,VLOOKUP(D$2,Table1[],4,0),IF($B979=3,VLOOKUP(D$2,Table1[],5,0),IF($B979=4,VLOOKUP(D$2,Table1[],5,0),0))))","v":400000},{"$f":"IF($B979=1,VLOOKUP(E$2,Table1[],3,0),IF($B979=2,VLOOKUP(E$2,Table1[],4,0),IF($B979=3,VLOOKUP(E$2,Table1[],5,0),IF($B979=4,VLOOKUP(E$2,Table1[],5,0),0))))","v":"N/A"},{"$f":"IF($B979=1,VLOOKUP(F$2,Table1[],3,0),IF($B979=2,VLOOKUP(F$2,Table1[],4,0),IF($B979=3,VLOOKUP(F$2,Table1[],5,0),IF($B979=4,VLOOKUP(F$2,Table1[],5,0),0))))","v":"N/A"}]
[4744,4,{"$f":"IF($B980=1,VLOOKUP(C$2,Table1[],3,0),IF($B980=2,VLOOKUP(C$2,Table1[],4,0),IF($B980=3,VLOOKUP(C$2,Table1[],5,0),IF($B980=4,VLOOKUP(C$2,Table1[],5,0),0))))","v":500000},{"$f":"IF($B980=1,VLOOKUP(D$2,Table1[],3,0),IF($B980=2,VLOOKUP(D$2,Table1[],4,0),IF($B980=3,VLOOKUP(D$2,Table1[],5,0),IF($B980=4,VLOOKUP(D$2,Table1[],5,0),0))))","v":400000},{"$f":"IF($B980=1,VLOOKUP(E$2,Table1[],3,0),IF($B980=2,VLOOKUP(E$2,Table1[],4,0),IF($B980=3,VLOOKUP(E$2,Table1[],5,0),IF($B980=4,VLOOKUP(E$2,Table1[],5,0),0))))","v":"N/A"},{"$f":"IF($B980=1,VLOOKUP(F$2,Table1[],3,0),IF($B980=2,VLOOKUP(F$2,Table1[],4,0),IF($B980=3,VLOOKUP(F$2,Table1[],5,0),IF($B980=4,VLOOKUP(F$2,Table1[],5,0),0))))","v":"N/A"}]
[4745,4,{"$f":"IF($B981=1,VLOOKUP(C$2,Table1[],3,0),IF($B981=2,VLOOKUP(C$2,Table1[],4,0),IF($B981=3,VLOOKUP(C$2,Table1[],5,0),IF($B981=4,VLOOKUP(C$2,Table1[],5,0),0))))","v":500000},{"$f":"IF($B981=1,VLOOKUP(D$2,Table1[],3,0),IF($B981=2,VLOOKUP(D$2,Table1[],4,0),IF($B981=3,VLOOKUP(D$2,Table1[],5,0),IF($B981=4,VLOOKUP(D$2,Table1[],5,0),0))))","v":400000},{"$f":"IF($B981=1,VLOOKUP(E$2,Table1[],3,0),IF($B981=2,VLOOKUP(E$2,Table1[],4,0),IF($B981=3,VLOOKUP(E$2,Table1[],5,0),IF($B981=4,VLOOKUP(E$2,Table1[],5,0),0))))","v":"N/A"},{"$f":"IF($B981=1,VLOOKUP(F$2,Table1[],3,0),IF($B981=2,VLOOKUP(F$2,Table1[],4,0),IF($B981=3,VLOOKUP(F$2,Table1[],5,0),IF($B981=4,VLOOKUP(F$2,Table1[],5,0),0))))","v":"N/A"}]
[4746,4,{"$f":"IF($B982=1,VLOOKUP(C$2,Table1[],3,0),IF($B982=2,VLOOKUP(C$2,Table1[],4,0),IF($B982=3,VLOOKUP(C$2,Table1[],5,0),IF($B982=4,VLOOKUP(C$2,Table1[],5,0),0))))","v":500000},{"$f":"IF($B982=1,VLOOKUP(D$2,Table1[],3,0),IF($B982=2,VLOOKUP(D$2,Table1[],4,0),IF($B982=3,VLOOKUP(D$2,Table1[],5,0),IF($B982=4,VLOOKUP(D$2,Table1[],5,0),0))))","v":400000},{"$f":"IF($B982=1,VLOOKUP(E$2,Table1[],3,0),IF($B982=2,VLOOKUP(E$2,Table1[],4,0),IF($B982=3,VLOOKUP(E$2,Table1[],5,0),IF($B982=4,VLOOKUP(E$2,Table1[],5,0),0))))","v":"N/A"},{"$f":"IF($B982=1,VLOOKUP(F$2,Table1[],3,0),IF($B982=2,VLOOKUP(F$2,Table1[],4,0),IF($B982=3,VLOOKUP(F$2,Table1[],5,0),IF($B982=4,VLOOKUP(F$2,Table1[],5,0),0))))","v":"N/A"}]
[4750,1,{"$f":"IF($B983=1,VLOOKUP(C$2,Table1[],3,0),IF($B983=2,VLOOKUP(C$2,Table1[],4,0),IF($B983=3,VLOOKUP(C$2,Table1[],5,0),IF($B983=4,VLOOKUP(C$2,Table1[],5,0),0))))","v":2000000},{"$f":"IF($B983=1,VLOOKUP(D$2,Table1[],3,0),IF($B983=2,VLOOKUP(D$2,Table1[],4,0),IF($B983=3,VLOOKUP(D$2,Table1[],5,0),IF($B983=4,VLOOKUP(D$2,Table1[],5,0),0))))","v":2000000},{"$f":"IF($B983=1,VLOOKUP(E$2,Table1[],3,0),IF($B983=2,VLOOKUP(E$2,Table1[],4,0),IF($B983=3,VLOOKUP(E$2,Table1[],5,0),IF($B983=4,VLOOKUP(E$2,Table1[],5,0),0))))","v":1500000},{"$f":"IF($B983=1,VLOOKUP(F$2,Table1[],3,0),IF($B983=2,VLOOKUP(F$2,Table1[],4,0),IF($B983=3,VLOOKUP(F$2,Table1[],5,0),IF($B983=4,VLOOKUP(F$2,Table1[],5,0),0))))","v":800000}]
[4751,1,{"$f":"IF($B984=1,VLOOKUP(C$2,Table1[],3,0),IF($B984=2,VLOOKUP(C$2,Table1[],4,0),IF($B984=3,VLOOKUP(C$2,Table1[],5,0),IF($B984=4,VLOOKUP(C$2,Table1[],5,0),0))))","v":2000000},{"$f":"IF($B984=1,VLOOKUP(D$2,Table1[],3,0),IF($B984=2,VLOOKUP(D$2,Table1[],4,0),IF($B984=3,VLOOKUP(D$2,Table1[],5,0),IF($B984=4,VLOOKUP(D$2,Table1[],5,0),0))))","v":2000000},{"$f":"IF($B984=1,VLOOKUP(E$2,Table1[],3,0),IF($B984=2,VLOOKUP(E$2,Table1[],4,0),IF($B984=3,VLOOKUP(E$2,Table1[],5,0),IF($B984=4,VLOOKUP(E$2,Table1[],5,0),0))))","v":1500000},{"$f":"IF($B984=1,VLOOKUP(F$2,Table1[],3,0),IF($B984=2,VLOOKUP(F$2,Table1[],4,0),IF($B984=3,VLOOKUP(F$2,Table1[],5,0),IF($B984=4,VLOOKUP(F$2,Table1[],5,0),0))))","v":800000}]
[4753,2,{"$f":"IF($B985=1,VLOOKUP(C$2,Table1[],3,0),IF($B985=2,VLOOKUP(C$2,Table1[],4,0),IF($B985=3,VLOOKUP(C$2,Table1[],5,0),IF($B985=4,VLOOKUP(C$2,Table1[],5,0),0))))","v":1000000},{"$f":"IF($B985=1,VLOOKUP(D$2,Table1[],3,0),IF($B985=2,VLOOKUP(D$2,Table1[],4,0),IF($B985=3,VLOOKUP(D$2,Table1[],5,0),IF($B985=4,VLOOKUP(D$2,Table1[],5,0),0))))","v":1000000},{"$f":"IF($B985=1,VLOOKUP(E$2,Table1[],3,0),IF($B985=2,VLOOKUP(E$2,Table1[],4,0),IF($B985=3,VLOOKUP(E$2,Table1[],5,0),IF($B985=4,VLOOKUP(E$2,Table1[],5,0),0))))","v":750000},{"$f":"IF($B985=1,VLOOKUP(F$2,Table1[],3,0),IF($B985=2,VLOOKUP(F$2,Table1[],4,0),IF($B985=3,VLOOKUP(F$2,Table1[],5,0),IF($B985=4,VLOOKUP(F$2,Table1[],5,0),0))))","v":500000}]
[4800,3,{"$f":"IF($B986=1,VLOOKUP(C$2,Table1[],3,0),IF($B986=2,VLOOKUP(C$2,Table1[],4,0),IF($B986=3,VLOOKUP(C$2,Table1[],5,0),IF($B986=4,VLOOKUP(C$2,Table1[],5,0),0))))","v":500000},{"$f":"IF($B986=1,VLOOKUP(D$2,Table1[],3,0),IF($B986=2,VLOOKUP(D$2,Table1[],4,0),IF($B986=3,VLOOKUP(D$2,Table1[],5,0),IF($B986=4,VLOOKUP(D$2,Table1[],5,0),0))))","v":400000},{"$f":"IF($B986=1,VLOOKUP(E$2,Table1[],3,0),IF($B986=2,VLOOKUP(E$2,Table1[],4,0),IF($B986=3,VLOOKUP(E$2,Table1[],5,0),IF($B986=4,VLOOKUP(E$2,Table1[],5,0),0))))","v":"N/A"},{"$f":"IF($B986=1,VLOOKUP(F$2,Table1[],3,0),IF($B986=2,VLOOKUP(F$2,Table1[],4,0),IF($B986=3,VLOOKUP(F$2,Table1[],5,0),IF($B986=4,VLOOKUP(F$2,Table1[],5,0),0))))","v":"N/A"}]
[4802,2,{"$f":"IF($B987=1,VLOOKUP(C$2,Table1[],3,0),IF($B987=2,VLOOKUP(C$2,Table1[],4,0),IF($B987=3,VLOOKUP(C$2,Table1[],5,0),IF($B987=4,VLOOKUP(C$2,Table1[],5,0),0))))","v":1000000},{"$f":"IF($B987=1,VLOOKUP(D$2,Table1[],3,0),IF($B987=2,VLOOKUP(D$2,Table1[],4,0),IF($B987=3,VLOOKUP(D$2,Table1[],5,0),IF($B987=4,VLOOKUP(D$2,Table1[],5,0),0))))","v":1000000},{"$f":"IF($B987=1,VLOOKUP(E$2,Table1[],3,0),IF($B987=2,VLOOKUP(E$2,Table1[],4,0),IF($B987=3,VLOOKUP(E$2,Table1[],5,0),IF($B987=4,VLOOKUP(E$2,Table1[],5,0),0))))","v":750000},{"$f":"IF($B987=1,VLOOKUP(F$2,Table1[],3,0),IF($B987=2,VLOOKUP(F$2,Table1[],4,0),IF($B987=3,VLOOKUP(F$2,Table1[],5,0),IF($B987=4,VLOOKUP(F$2,Table1[],5,0),0))))","v":500000}]
[4803,4,{"$f":"IF($B988=1,VLOOKUP(C$2,Table1[],3,0),IF($B988=2,VLOOKUP(C$2,Table1[],4,0),IF($B988=3,VLOOKUP(C$2,Table1[],5,0),IF($B988=4,VLOOKUP(C$2,Table1[],5,0),0))))","v":500000},{"$f":"IF($B988=1,VLOOKUP(D$2,Table1[],3,0),IF($B988=2,VLOOKUP(D$2,Table1[],4,0),IF($B988=3,VLOOKUP(D$2,Table1[],5,0),IF($B988=4,VLOOKUP(D$2,Table1[],5,0),0))))","v":400000},{"$f":"IF($B988=1,VLOOKUP(E$2,Table1[],3,0),IF($B988=2,VLOOKUP(E$2,Table1[],4,0),IF($B988=3,VLOOKUP(E$2,Table1[],5,0),IF($B988=4,VLOOKUP(E$2,Table1[],5,0),0))))","v":"N/A"},{"$f":"IF($B988=1,VLOOKUP(F$2,Table1[],3,0),IF($B988=2,VLOOKUP(F$2,Table1[],4,0),IF($B988=3,VLOOKUP(F$2,Table1[],5,0),IF($B988=4,VLOOKUP(F$2,Table1[],5,0),0))))","v":"N/A"}]
[4804,4,{"$f":"IF($B989=1,VLOOKUP(C$2,Table1[],3,0),IF($B989=2,VLOOKUP(C$2,Table1[],4,0),IF($B989=3,VLOOKUP(C$2,Table1[],5,0),IF($B989=4,VLOOKUP(C$2,Table1[],5,0),0))))","v":500000},{"$f":"IF($B989=1,VLOOKUP(D$2,Table1[],3,0),IF($B989=2,VLOOKUP(D$2,Table1[],4,0),IF($B989=3,VLOOKUP(D$2,Table1[],5,0),IF($B989=4,VLOOKUP(D$2,Table1[],5,0),0))))","v":400000},{"$f":"IF($B989=1,VLOOKUP(E$2,Table1[],3,0),IF($B989=2,VLOOKUP(E$2,Table1[],4,0),IF($B989=3,VLOOKUP(E$2,Table1[],5,0),IF($B989=4,VLOOKUP(E$2,Table1[],5,0),0))))","v":"N/A"},{"$f":"IF($B989=1,VLOOKUP(F$2,Table1[],3,0),IF($B989=2,VLOOKUP(F$2,Table1[],4,0),IF($B989=3,VLOOKUP(F$2,Table1[],5,0),IF($B989=4,VLOOKUP(F$2,Table1[],5,0),0))))","v":"N/A"}]
[4807,3,{"$f":"IF($B990=1,VLOOKUP(C$2,Table1[],3,0),IF($B990=2,VLOOKUP(C$2,Table1[],4,0),IF($B990=3,VLOOKUP(C$2,Table1[],5,0),IF($B990=4,VLOOKUP(C$2,Table1[],5,0),0))))","v":500000},{"$f":"IF($B990=1,VLOOKUP(D$2,Table1[],3,0),IF($B990=2,VLOOKUP(D$2,Table1[],4,0),IF($B990=3,VLOOKUP(D$2,Table1[],5,0),IF($B990=4,VLOOKUP(D$2,Table1[],5,0),0))))","v":400000},{"$f":"IF($B990=1,VLOOKUP(E$2,Table1[],3,0),IF($B990=2,VLOOKUP(E$2,Table1[],4,0),IF($B990=3,VLOOKUP(E$2,Table1[],5,0),IF($B990=4,VLOOKUP(E$2,Table1[],5,0),0))))","v":"N/A"},{"$f":"IF($B990=1,VLOOKUP(F$2,Table1[],3,0),IF($B990=2,VLOOKUP(F$2,Table1[],4,0),IF($B990=3,VLOOKUP(F$2,Table1[],5,0),IF($B990=4,VLOOKUP(F$2,Table1[],5,0),0))))","v":"N/A"}]
[4808,3,{"$f":"IF($B991=1,VLOOKUP(C$2,Table1[],3,0),IF($B991=2,VLOOKUP(C$2,Table1[],4,0),IF($B991=3,VLOOKUP(C$2,Table1[],5,0),IF($B991=4,VLOOKUP(C$2,Table1[],5,0),0))))","v":500000},{"$f":"IF($B991=1,VLOOKUP(D$2,Table1[],3,0),IF($B991=2,VLOOKUP(D$2,Table1[],4,0),IF($B991=3,VLOOKUP(D$2,Table1[],5,0),IF($B991=4,VLOOKUP(D$2,Table1[],5,0),0))))","v":400000},{"$f":"IF($B991=1,VLOOKUP(E$2,Table1[],3,0),IF($B991=2,VLOOKUP(E$2,Table1[],4,0),IF($B991=3,VLOOKUP(E$2,Table1[],5,0),IF($B991=4,VLOOKUP(E$2,Table1[],5,0),0))))","v":"N/A"},{"$f":"IF($B991=1,VLOOKUP(F$2,Table1[],3,0),IF($B991=2,VLOOKUP(F$2,Table1[],4,0),IF($B991=3,VLOOKUP(F$2,Table1[],5,0),IF($B991=4,VLOOKUP(F$2,Table1[],5,0),0))))","v":"N/A"}]
[4810,1,{"$f":"IF($B992=1,VLOOKUP(C$2,Table1[],3,0),IF($B992=2,VLOOKUP(C$2,Table1[],4,0),IF($B992=3,VLOOKUP(C$2,Table1[],5,0),IF($B992=4,VLOOKUP(C$2,Table1[],5,0),0))))","v":2000000},{"$f":"IF($B992=1,VLOOKUP(D$2,Table1[],3,0),IF($B992=2,VLOOKUP(D$2,Table1[],4,0),IF($B992=3,VLOOKUP(D$2,Table1[],5,0),IF($B992=4,VLOOKUP(D$2,Table1[],5,0),0))))","v":2000000},{"$f":"IF($B992=1,VLOOKUP(E$2,Table1[],3,0),IF($B992=2,VLOOKUP(E$2,Table1[],4,0),IF($B992=3,VLOOKUP(E$2,Table1[],5,0),IF($B992=4,VLOOKUP(E$2,Table1[],5,0),0))))","v":1500000},{"$f":"IF($B992=1,VLOOKUP(F$2,Table1[],3,0),IF($B992=2,VLOOKUP(F$2,Table1[],4,0),IF($B992=3,VLOOKUP(F$2,Table1[],5,0),IF($B992=4,VLOOKUP(F$2,Table1[],5,0),0))))","v":800000}]
[4811,1,{"$f":"IF($B993=1,VLOOKUP(C$2,Table1[],3,0),IF($B993=2,VLOOKUP(C$2,Table1[],4,0),IF($B993=3,VLOOKUP(C$2,Table1[],5,0),IF($B993=4,VLOOKUP(C$2,Table1[],5,0),0))))","v":2000000},{"$f":"IF($B993=1,VLOOKUP(D$2,Table1[],3,0),IF($B993=2,VLOOKUP(D$2,Table1[],4,0),IF($B993=3,VLOOKUP(D$2,Table1[],5,0),IF($B993=4,VLOOKUP(D$2,Table1[],5,0),0))))","v":2000000},{"$f":"IF($B993=1,VLOOKUP(E$2,Table1[],3,0),IF($B993=2,VLOOKUP(E$2,Table1[],4,0),IF($B993=3,VLOOKUP(E$2,Table1[],5,0),IF($B993=4,VLOOKUP(E$2,Table1[],5,0),0))))","v":1500000},{"$f":"IF($B993=1,VLOOKUP(F$2,Table1[],3,0),IF($B993=2,VLOOKUP(F$2,Table1[],4,0),IF($B993=3,VLOOKUP(F$2,Table1[],5,0),IF($B993=4,VLOOKUP(F$2,Table1[],5,0),0))))","v":800000}]
[4812,1,{"$f":"IF($B994=1,VLOOKUP(C$2,Table1[],3,0),IF($B994=2,VLOOKUP(C$2,Table1[],4,0),IF($B994=3,VLOOKUP(C$2,Table1[],5,0),IF($B994=4,VLOOKUP(C$2,Table1[],5,0),0))))","v":2000000},{"$f":"IF($B994=1,VLOOKUP(D$2,Table1[],3,0),IF($B994=2,VLOOKUP(D$2,Table1[],4,0),IF($B994=3,VLOOKUP(D$2,Table1[],5,0),IF($B994=4,VLOOKUP(D$2,Table1[],5,0),0))))","v":2000000},{"$f":"IF($B994=1,VLOOKUP(E$2,Table1[],3,0),IF($B994=2,VLOOKUP(E$2,Table1[],4,0),IF($B994=3,VLOOKUP(E$2,Table1[],5,0),IF($B994=4,VLOOKUP(E$2,Table1[],5,0),0))))","v":1500000},{"$f":"IF($B994=1,VLOOKUP(F$2,Table1[],3,0),IF($B994=2,VLOOKUP(F$2,Table1[],4,0),IF($B994=3,VLOOKUP(F$2,Table1[],5,0),IF($B994=4,VLOOKUP(F$2,Table1[],5,0),0))))","v":800000}]
[4813,1,{"$f":"IF($B995=1,VLOOKUP(C$2,Table1[],3,0),IF($B995=2,VLOOKUP(C$2,Table1[],4,0),IF($B995=3,VLOOKUP(C$2,Table1[],5,0),IF($B995=4,VLOOKUP(C$2,Table1[],5,0),0))))","v":2000000},{"$f":"IF($B995=1,VLOOKUP(D$2,Table1[],3,0),IF($B995=2,VLOOKUP(D$2,Table1[],4,0),IF($B995=3,VLOOKUP(D$2,Table1[],5,0),IF($B995=4,VLOOKUP(D$2,Table1[],5,0),0))))","v":2000000},{"$f":"IF($B995=1,VLOOKUP(E$2,Table1[],3,0),IF($B995=2,VLOOKUP(E$2,Table1[],4,0),IF($B995=3,VLOOKUP(E$2,Table1[],5,0),IF($B995=4,VLOOKUP(E$2,Table1[],5,0),0))))","v":1500000},{"$f":"IF($B995=1,VLOOKUP(F$2,Table1[],3,0),IF($B995=2,VLOOKUP(F$2,Table1[],4,0),IF($B995=3,VLOOKUP(F$2,Table1[],5,0),IF($B995=4,VLOOKUP(F$2,Table1[],5,0),0))))","v":800000}]
[4814,1,{"$f":"IF($B996=1,VLOOKUP(C$2,Table1[],3,0),IF($B996=2,VLOOKUP(C$2,Table1[],4,0),IF($B996=3,VLOOKUP(C$2,Table1[],5,0),IF($B996=4,VLOOKUP(C$2,Table1[],5,0),0))))","v":2000000},{"$f":"IF($B996=1,VLOOKUP(D$2,Table1[],3,0),IF($B996=2,VLOOKUP(D$2,Table1[],4,0),IF($B996=3,VLOOKUP(D$2,Table1[],5,0),IF($B996=4,VLOOKUP(D$2,Table1[],5,0),0))))","v":2000000},{"$f":"IF($B996=1,VLOOKUP(E$2,Table1[],3,0),IF($B996=2,VLOOKUP(E$2,Table1[],4,0),IF($B996=3,VLOOKUP(E$2,Table1[],5,0),IF($B996=4,VLOOKUP(E$2,Table1[],5,0),0))))","v":1500000},{"$f":"IF($B996=1,VLOOKUP(F$2,Table1[],3,0),IF($B996=2,VLOOKUP(F$2,Table1[],4,0),IF($B996=3,VLOOKUP(F$2,Table1[],5,0),IF($B996=4,VLOOKUP(F$2,Table1[],5,0),0))))","v":800000}]
[4815,1,{"$f":"IF($B997=1,VLOOKUP(C$2,Table1[],3,0),IF($B997=2,VLOOKUP(C$2,Table1[],4,0),IF($B997=3,VLOOKUP(C$2,Table1[],5,0),IF($B997=4,VLOOKUP(C$2,Table1[],5,0),0))))","v":2000000},{"$f":"IF($B997=1,VLOOKUP(D$2,Table1[],3,0),IF($B997=2,VLOOKUP(D$2,Table1[],4,0),IF($B997=3,VLOOKUP(D$2,Table1[],5,0),IF($B997=4,VLOOKUP(D$2,Table1[],5,0),0))))","v":2000000},{"$f":"IF($B997=1,VLOOKUP(E$2,Table1[],3,0),IF($B997=2,VLOOKUP(E$2,Table1[],4,0),IF($B997=3,VLOOKUP(E$2,Table1[],5,0),IF($B997=4,VLOOKUP(E$2,Table1[],5,0),0))))","v":1500000},{"$f":"IF($B997=1,VLOOKUP(F$2,Table1[],3,0),IF($B997=2,VLOOKUP(F$2,Table1[],4,0),IF($B997=3,VLOOKUP(F$2,Table1[],5,0),IF($B997=4,VLOOKUP(F$2,Table1[],5,0),0))))","v":800000}]
[4816,3,{"$f":"IF($B998=1,VLOOKUP(C$2,Table1[],3,0),IF($B998=2,VLOOKUP(C$2,Table1[],4,0),IF($B998=3,VLOOKUP(C$2,Table1[],5,0),IF($B998=4,VLOOKUP(C$2,Table1[],5,0),0))))","v":500000},{"$f":"IF($B998=1,VLOOKUP(D$2,Table1[],3,0),IF($B998=2,VLOOKUP(D$2,Table1[],4,0),IF($B998=3,VLOOKUP(D$2,Table1[],5,0),IF($B998=4,VLOOKUP(D$2,Table1[],5,0),0))))","v":400000},{"$f":"IF($B998=1,VLOOKUP(E$2,Table1[],3,0),IF($B998=2,VLOOKUP(E$2,Table1[],4,0),IF($B998=3,VLOOKUP(E$2,Table1[],5,0),IF($B998=4,VLOOKUP(E$2,Table1[],5,0),0))))","v":"N/A"},{"$f":"IF($B998=1,VLOOKUP(F$2,Table1[],3,0),IF($B998=2,VLOOKUP(F$2,Table1[],4,0),IF($B998=3,VLOOKUP(F$2,Table1[],5,0),IF($B998=4,VLOOKUP(F$2,Table1[],5,0),0))))","v":"N/A"}]
[4817,1,{"$f":"IF($B999=1,VLOOKUP(C$2,Table1[],3,0),IF($B999=2,VLOOKUP(C$2,Table1[],4,0),IF($B999=3,VLOOKUP(C$2,Table1[],5,0),IF($B999=4,VLOOKUP(C$2,Table1[],5,0),0))))","v":2000000},{"$f":"IF($B999=1,VLOOKUP(D$2,Table1[],3,0),IF($B999=2,VLOOKUP(D$2,Table1[],4,0),IF($B999=3,VLOOKUP(D$2,Table1[],5,0),IF($B999=4,VLOOKUP(D$2,Table1[],5,0),0))))","v":2000000},{"$f":"IF($B999=1,VLOOKUP(E$2,Table1[],3,0),IF($B999=2,VLOOKUP(E$2,Table1[],4,0),IF($B999=3,VLOOKUP(E$2,Table1[],5,0),IF($B999=4,VLOOKUP(E$2,Table1[],5,0),0))))","v":1500000},{"$f":"IF($B999=1,VLOOKUP(F$2,Table1[],3,0),IF($B999=2,VLOOKUP(F$2,Table1[],4,0),IF($B999=3,VLOOKUP(F$2,Table1[],5,0),IF($B999=4,VLOOKUP(F$2,Table1[],5,0),0))))","v":800000}]
[4818,1,{"$f":"IF($B1000=1,VLOOKUP(C$2,Table1[],3,0),IF($B1000=2,VLOOKUP(C$2,Table1[],4,0),IF($B1000=3,VLOOKUP(C$2,Table1[],5,0),IF($B1000=4,VLOOKUP(C$2,Table1[],5,0),0))))","v":2000000},{"$f":"IF($B1000=1,VLOOKUP(D$2,Table1[],3,0),IF($B1000=2,VLOOKUP(D$2,Table1[],4,0),IF($B1000=3,VLOOKUP(D$2,Table1[],5,0),IF($B1000=4,VLOOKUP(D$2,Table1[],5,0),0))))","v":2000000},{"$f":"IF($B1000=1,VLOOKUP(E$2,Table1[],3,0),IF($B1000=2,VLOOKUP(E$2,Table1[],4,0),IF($B1000=3,VLOOKUP(E$2,Table1[],5,0),IF($B1000=4,VLOOKUP(E$2,Table1[],5,0),0))))","v":1500000},{"$f":"IF($B1000=1,VLOOKUP(F$2,Table1[],3,0),IF($B1000=2,VLOOKUP(F$2,Table1[],4,0),IF($B1000=3,VLOOKUP(F$2,Table1[],5,0),IF($B1000=4,VLOOKUP(F$2,Table1[],5,0),0))))","v":800000}]
[4819,4,{"$f":"IF($B1001=1,VLOOKUP(C$2,Table1[],3,0),IF($B1001=2,VLOOKUP(C$2,Table1[],4,0),IF($B1001=3,VLOOKUP(C$2,Table1[],5,0),IF($B1001=4,VLOOKUP(C$2,Table1[],5,0),0))))","v":500000},{"$f":"IF($B1001=1,VLOOKUP(D$2,Table1[],3,0),IF($B1001=2,VLOOKUP(D$2,Table1[],4,0),IF($B1001=3,VLOOKUP(D$2,Table1[],5,0),IF($B1001=4,VLOOKUP(D$2,Table1[],5,0),0))))","v":400000},{"$f":"IF($B1001=1,VLOOKUP(E$2,Table1[],3,0),IF($B1001=2,VLOOKUP(E$2,Table1[],4,0),IF($B1001=3,VLOOKUP(E$2,Table1[],5,0),IF($B1001=4,VLOOKUP(E$2,Table1[],5,0),0))))","v":"N/A"},{"$f":"IF($B1001=1,VLOOKUP(F$2,Table1[],3,0),IF($B1001=2,VLOOKUP(F$2,Table1[],4,0),IF($B1001=3,VLOOKUP(F$2,Table1[],5,0),IF($B1001=4,VLOOKUP(F$2,Table1[],5,0),0))))","v":"N/A"}]
[4820,3,{"$f":"IF($B1002=1,VLOOKUP(C$2,Table1[],3,0),IF($B1002=2,VLOOKUP(C$2,Table1[],4,0),IF($B1002=3,VLOOKUP(C$2,Table1[],5,0),IF($B1002=4,VLOOKUP(C$2,Table1[],5,0),0))))","v":500000},{"$f":"IF($B1002=1,VLOOKUP(D$2,Table1[],3,0),IF($B1002=2,VLOOKUP(D$2,Table1[],4,0),IF($B1002=3,VLOOKUP(D$2,Table1[],5,0),IF($B1002=4,VLOOKUP(D$2,Table1[],5,0),0))))","v":400000},{"$f":"IF($B1002=1,VLOOKUP(E$2,Table1[],3,0),IF($B1002=2,VLOOKUP(E$2,Table1[],4,0),IF($B1002=3,VLOOKUP(E$2,Table1[],5,0),IF($B1002=4,VLOOKUP(E$2,Table1[],5,0),0))))","v":"N/A"},{"$f":"IF($B1002=1,VLOOKUP(F$2,Table1[],3,0),IF($B1002=2,VLOOKUP(F$2,Table1[],4,0),IF($B1002=3,VLOOKUP(F$2,Table1[],5,0),IF($B1002=4,VLOOKUP(F$2,Table1[],5,0),0))))","v":"N/A"}]
[4821,3,{"$f":"IF($B1003=1,VLOOKUP(C$2,Table1[],3,0),IF($B1003=2,VLOOKUP(C$2,Table1[],4,0),IF($B1003=3,VLOOKUP(C$2,Table1[],5,0),IF($B1003=4,VLOOKUP(C$2,Table1[],5,0),0))))","v":500000},{"$f":"IF($B1003=1,VLOOKUP(D$2,Table1[],3,0),IF($B1003=2,VLOOKUP(D$2,Table1[],4,0),IF($B1003=3,VLOOKUP(D$2,Table1[],5,0),IF($B1003=4,VLOOKUP(D$2,Table1[],5,0),0))))","v":400000},{"$f":"IF($B1003=1,VLOOKUP(E$2,Table1[],3,0),IF($B1003=2,VLOOKUP(E$2,Table1[],4,0),IF($B1003=3,VLOOKUP(E$2,Table1[],5,0),IF($B1003=4,VLOOKUP(E$2,Table1[],5,0),0))))","v":"N/A"},{"$f":"IF($B1003=1,VLOOKUP(F$2,Table1[],3,0),IF($B1003=2,VLOOKUP(F$2,Table1[],4,0),IF($B1003=3,VLOOKUP(F$2,Table1[],5,0),IF($B1003=4,VLOOKUP(F$2,Table1[],5,0),0))))","v":"N/A"}]
[4823,3,{"$f":"IF($B1004=1,VLOOKUP(C$2,Table1[],3,0),IF($B1004=2,VLOOKUP(C$2,Table1[],4,0),IF($B1004=3,VLOOKUP(C$2,Table1[],5,0),IF($B1004=4,VLOOKUP(C$2,Table1[],5,0),0))))","v":500000},{"$f":"IF($B1004=1,VLOOKUP(D$2,Table1[],3,0),IF($B1004=2,VLOOKUP(D$2,Table1[],4,0),IF($B1004=3,VLOOKUP(D$2,Table1[],5,0),IF($B1004=4,VLOOKUP(D$2,Table1[],5,0),0))))","v":400000},{"$f":"IF($B1004=1,VLOOKUP(E$2,Table1[],3,0),IF($B1004=2,VLOOKUP(E$2,Table1[],4,0),IF($B1004=3,VLOOKUP(E$2,Table1[],5,0),IF($B1004=4,VLOOKUP(E$2,Table1[],5,0),0))))","v":"N/A"},{"$f":"IF($B1004=1,VLOOKUP(F$2,Table1[],3,0),IF($B1004=2,VLOOKUP(F$2,Table1[],4,0),IF($B1004=3,VLOOKUP(F$2,Table1[],5,0),IF($B1004=4,VLOOKUP(F$2,Table1[],5,0),0))))","v":"N/A"}]
[4824,4,{"$f":"IF($B1005=1,VLOOKUP(C$2,Table1[],3,0),IF($B1005=2,VLOOKUP(C$2,Table1[],4,0),IF($B1005=3,VLOOKUP(C$2,Table1[],5,0),IF($B1005=4,VLOOKUP(C$2,Table1[],5,0),0))))","v":500000},{"$f":"IF($B1005=1,VLOOKUP(D$2,Table1[],3,0),IF($B1005=2,VLOOKUP(D$2,Table1[],4,0),IF($B1005=3,VLOOKUP(D$2,Table1[],5,0),IF($B1005=4,VLOOKUP(D$2,Table1[],5,0),0))))","v":400000},{"$f":"IF($B1005=1,VLOOKUP(E$2,Table1[],3,0),IF($B1005=2,VLOOKUP(E$2,Table1[],4,0),IF($B1005=3,VLOOKUP(E$2,Table1[],5,0),IF($B1005=4,VLOOKUP(E$2,Table1[],5,0),0))))","v":"N/A"},{"$f":"IF($B1005=1,VLOOKUP(F$2,Table1[],3,0),IF($B1005=2,VLOOKUP(F$2,Table1[],4,0),IF($B1005=3,VLOOKUP(F$2,Table1[],5,0),IF($B1005=4,VLOOKUP(F$2,Table1[],5,0),0))))","v":"N/A"}]
[4825,4,{"$f":"IF($B1006=1,VLOOKUP(C$2,Table1[],3,0),IF($B1006=2,VLOOKUP(C$2,Table1[],4,0),IF($B1006=3,VLOOKUP(C$2,Table1[],5,0),IF($B1006=4,VLOOKUP(C$2,Table1[],5,0),0))))","v":500000},{"$f":"IF($B1006=1,VLOOKUP(D$2,Table1[],3,0),IF($B1006=2,VLOOKUP(D$2,Table1[],4,0),IF($B1006=3,VLOOKUP(D$2,Table1[],5,0),IF($B1006=4,VLOOKUP(D$2,Table1[],5,0),0))))","v":400000},{"$f":"IF($B1006=1,VLOOKUP(E$2,Table1[],3,0),IF($B1006=2,VLOOKUP(E$2,Table1[],4,0),IF($B1006=3,VLOOKUP(E$2,Table1[],5,0),IF($B1006=4,VLOOKUP(E$2,Table1[],5,0),0))))","v":"N/A"},{"$f":"IF($B1006=1,VLOOKUP(F$2,Table1[],3,0),IF($B1006=2,VLOOKUP(F$2,Table1[],4,0),IF($B1006=3,VLOOKUP(F$2,Table1[],5,0),IF($B1006=4,VLOOKUP(F$2,Table1[],5,0),0))))","v":"N/A"}]
[4850,3,{"$f":"IF($B1007=1,VLOOKUP(C$2,Table1[],3,0),IF($B1007=2,VLOOKUP(C$2,Table1[],4,0),IF($B1007=3,VLOOKUP(C$2,Table1[],5,0),IF($B1007=4,VLOOKUP(C$2,Table1[],5,0),0))))","v":500000},{"$f":"IF($B1007=1,VLOOKUP(D$2,Table1[],3,0),IF($B1007=2,VLOOKUP(D$2,Table1[],4,0),IF($B1007=3,VLOOKUP(D$2,Table1[],5,0),IF($B1007=4,VLOOKUP(D$2,Table1[],5,0),0))))","v":400000},{"$f":"IF($B1007=1,VLOOKUP(E$2,Table1[],3,0),IF($B1007=2,VLOOKUP(E$2,Table1[],4,0),IF($B1007=3,VLOOKUP(E$2,Table1[],5,0),IF($B1007=4,VLOOKUP(E$2,Table1[],5,0),0))))","v":"N/A"},{"$f":"IF($B1007=1,VLOOKUP(F$2,Table1[],3,0),IF($B1007=2,VLOOKUP(F$2,Table1[],4,0),IF($B1007=3,VLOOKUP(F$2,Table1[],5,0),IF($B1007=4,VLOOKUP(F$2,Table1[],5,0),0))))","v":"N/A"}]
[4860,3,{"$f":"IF($B1008=1,VLOOKUP(C$2,Table1[],3,0),IF($B1008=2,VLOOKUP(C$2,Table1[],4,0),IF($B1008=3,VLOOKUP(C$2,Table1[],5,0),IF($B1008=4,VLOOKUP(C$2,Table1[],5,0),0))))","v":500000},{"$f":"IF($B1008=1,VLOOKUP(D$2,Table1[],3,0),IF($B1008=2,VLOOKUP(D$2,Table1[],4,0),IF($B1008=3,VLOOKUP(D$2,Table1[],5,0),IF($B1008=4,VLOOKUP(D$2,Table1[],5,0),0))))","v":400000},{"$f":"IF($B1008=1,VLOOKUP(E$2,Table1[],3,0),IF($B1008=2,VLOOKUP(E$2,Table1[],4,0),IF($B1008=3,VLOOKUP(E$2,Table1[],5,0),IF($B1008=4,VLOOKUP(E$2,Table1[],5,0),0))))","v":"N/A"},{"$f":"IF($B1008=1,VLOOKUP(F$2,Table1[],3,0),IF($B1008=2,VLOOKUP(F$2,Table1[],4,0),IF($B1008=3,VLOOKUP(F$2,Table1[],5,0),IF($B1008=4,VLOOKUP(F$2,Table1[],5,0),0))))","v":"N/A"}]
[4865,1,{"$f":"IF($B1009=1,VLOOKUP(C$2,Table1[],3,0),IF($B1009=2,VLOOKUP(C$2,Table1[],4,0),IF($B1009=3,VLOOKUP(C$2,Table1[],5,0),IF($B1009=4,VLOOKUP(C$2,Table1[],5,0),0))))","v":2000000},{"$f":"IF($B1009=1,VLOOKUP(D$2,Table1[],3,0),IF($B1009=2,VLOOKUP(D$2,Table1[],4,0),IF($B1009=3,VLOOKUP(D$2,Table1[],5,0),IF($B1009=4,VLOOKUP(D$2,Table1[],5,0),0))))","v":2000000},{"$f":"IF($B1009=1,VLOOKUP(E$2,Table1[],3,0),IF($B1009=2,VLOOKUP(E$2,Table1[],4,0),IF($B1009=3,VLOOKUP(E$2,Table1[],5,0),IF($B1009=4,VLOOKUP(E$2,Table1[],5,0),0))))","v":1500000},{"$f":"IF($B1009=1,VLOOKUP(F$2,Table1[],3,0),IF($B1009=2,VLOOKUP(F$2,Table1[],4,0),IF($B1009=3,VLOOKUP(F$2,Table1[],5,0),IF($B1009=4,VLOOKUP(F$2,Table1[],5,0),0))))","v":800000}]
[4868,1,{"$f":"IF($B1010=1,VLOOKUP(C$2,Table1[],3,0),IF($B1010=2,VLOOKUP(C$2,Table1[],4,0),IF($B1010=3,VLOOKUP(C$2,Table1[],5,0),IF($B1010=4,VLOOKUP(C$2,Table1[],5,0),0))))","v":2000000},{"$f":"IF($B1010=1,VLOOKUP(D$2,Table1[],3,0),IF($B1010=2,VLOOKUP(D$2,Table1[],4,0),IF($B1010=3,VLOOKUP(D$2,Table1[],5,0),IF($B1010=4,VLOOKUP(D$2,Table1[],5,0),0))))","v":2000000},{"$f":"IF($B1010=1,VLOOKUP(E$2,Table1[],3,0),IF($B1010=2,VLOOKUP(E$2,Table1[],4,0),IF($B1010=3,VLOOKUP(E$2,Table1[],5,0),IF($B1010=4,VLOOKUP(E$2,Table1[],5,0),0))))","v":1500000},{"$f":"IF($B1010=1,VLOOKUP(F$2,Table1[],3,0),IF($B1010=2,VLOOKUP(F$2,Table1[],4,0),IF($B1010=3,VLOOKUP(F$2,Table1[],5,0),IF($B1010=4,VLOOKUP(F$2,Table1[],5,0),0))))","v":800000}]
[4869,1,{"$f":"IF($B1011=1,VLOOKUP(C$2,Table1[],3,0),IF($B1011=2,VLOOKUP(C$2,Table1[],4,0),IF($B1011=3,VLOOKUP(C$2,Table1[],5,0),IF($B1011=4,VLOOKUP(C$2,Table1[],5,0),0))))","v":2000000},{"$f":"IF($B1011=1,VLOOKUP(D$2,Table1[],3,0),IF($B1011=2,VLOOKUP(D$2,Table1[],4,0),IF($B1011=3,VLOOKUP(D$2,Table1[],5,0),IF($B1011=4,VLOOKUP(D$2,Table1[],5,0),0))))","v":2000000},{"$f":"IF($B1011=1,VLOOKUP(E$2,Table1[],3,0),IF($B1011=2,VLOOKUP(E$2,Table1[],4,0),IF($B1011=3,VLOOKUP(E$2,Table1[],5,0),IF($B1011=4,VLOOKUP(E$2,Table1[],5,0),0))))","v":1500000},{"$f":"IF($B1011=1,VLOOKUP(F$2,Table1[],3,0),IF($B1011=2,VLOOKUP(F$2,Table1[],4,0),IF($B1011=3,VLOOKUP(F$2,Table1[],5,0),IF($B1011=4,VLOOKUP(F$2,Table1[],5,0),0))))","v":800000}]
[4870,1,{"$f":"IF($B1012=1,VLOOKUP(C$2,Table1[],3,0),IF($B1012=2,VLOOKUP(C$2,Table1[],4,0),IF($B1012=3,VLOOKUP(C$2,Table1[],5,0),IF($B1012=4,VLOOKUP(C$2,Table1[],5,0),0))))","v":2000000},{"$f":"IF($B1012=1,VLOOKUP(D$2,Table1[],3,0),IF($B1012=2,VLOOKUP(D$2,Table1[],4,0),IF($B1012=3,VLOOKUP(D$2,Table1[],5,0),IF($B1012=4,VLOOKUP(D$2,Table1[],5,0),0))))","v":2000000},{"$f":"IF($B1012=1,VLOOKUP(E$2,Table1[],3,0),IF($B1012=2,VLOOKUP(E$2,Table1[],4,0),IF($B1012=3,VLOOKUP(E$2,Table1[],5,0),IF($B1012=4,VLOOKUP(E$2,Table1[],5,0),0))))","v":1500000},{"$f":"IF($B1012=1,VLOOKUP(F$2,Table1[],3,0),IF($B1012=2,VLOOKUP(F$2,Table1[],4,0),IF($B1012=3,VLOOKUP(F$2,Table1[],5,0),IF($B1012=4,VLOOKUP(F$2,Table1[],5,0),0))))","v":800000}]
[4874,4,{"$f":"IF($B1013=1,VLOOKUP(C$2,Table1[],3,0),IF($B1013=2,VLOOKUP(C$2,Table1[],4,0),IF($B1013=3,VLOOKUP(C$2,Table1[],5,0),IF($B1013=4,VLOOKUP(C$2,Table1[],5,0),0))))","v":500000},{"$f":"IF($B1013=1,VLOOKUP(D$2,Table1[],3,0),IF($B1013=2,VLOOKUP(D$2,Table1[],4,0),IF($B1013=3,VLOOKUP(D$2,Table1[],5,0),IF($B1013=4,VLOOKUP(D$2,Table1[],5,0),0))))","v":400000},{"$f":"IF($B1013=1,VLOOKUP(E$2,Table1[],3,0),IF($B1013=2,VLOOKUP(E$2,Table1[],4,0),IF($B1013=3,VLOOKUP(E$2,Table1[],5,0),IF($B1013=4,VLOOKUP(E$2,Table1[],5,0),0))))","v":"N/A"},{"$f":"IF($B1013=1,VLOOKUP(F$2,Table1[],3,0),IF($B1013=2,VLOOKUP(F$2,Table1[],4,0),IF($B1013=3,VLOOKUP(F$2,Table1[],5,0),IF($B1013=4,VLOOKUP(F$2,Table1[],5,0),0))))","v":"N/A"}]
[4875,4,{"$f":"IF($B1014=1,VLOOKUP(C$2,Table1[],3,0),IF($B1014=2,VLOOKUP(C$2,Table1[],4,0),IF($B1014=3,VLOOKUP(C$2,Table1[],5,0),IF($B1014=4,VLOOKUP(C$2,Table1[],5,0),0))))","v":500000},{"$f":"IF($B1014=1,VLOOKUP(D$2,Table1[],3,0),IF($B1014=2,VLOOKUP(D$2,Table1[],4,0),IF($B1014=3,VLOOKUP(D$2,Table1[],5,0),IF($B1014=4,VLOOKUP(D$2,Table1[],5,0),0))))","v":400000},{"$f":"IF($B1014=1,VLOOKUP(E$2,Table1[],3,0),IF($B1014=2,VLOOKUP(E$2,Table1[],4,0),IF($B1014=3,VLOOKUP(E$2,Table1[],5,0),IF($B1014=4,VLOOKUP(E$2,Table1[],5,0),0))))","v":"N/A"},{"$f":"IF($B1014=1,VLOOKUP(F$2,Table1[],3,0),IF($B1014=2,VLOOKUP(F$2,Table1[],4,0),IF($B1014=3,VLOOKUP(F$2,Table1[],5,0),IF($B1014=4,VLOOKUP(F$2,Table1[],5,0),0))))","v":"N/A"}]
[4877,2,{"$f":"IF($B1015=1,VLOOKUP(C$2,Table1[],3,0),IF($B1015=2,VLOOKUP(C$2,Table1[],4,0),IF($B1015=3,VLOOKUP(C$2,Table1[],5,0),IF($B1015=4,VLOOKUP(C$2,Table1[],5,0),0))))","v":1000000},{"$f":"IF($B1015=1,VLOOKUP(D$2,Table1[],3,0),IF($B1015=2,VLOOKUP(D$2,Table1[],4,0),IF($B1015=3,VLOOKUP(D$2,Table1[],5,0),IF($B1015=4,VLOOKUP(D$2,Table1[],5,0),0))))","v":1000000},{"$f":"IF($B1015=1,VLOOKUP(E$2,Table1[],3,0),IF($B1015=2,VLOOKUP(E$2,Table1[],4,0),IF($B1015=3,VLOOKUP(E$2,Table1[],5,0),IF($B1015=4,VLOOKUP(E$2,Table1[],5,0),0))))","v":750000},{"$f":"IF($B1015=1,VLOOKUP(F$2,Table1[],3,0),IF($B1015=2,VLOOKUP(F$2,Table1[],4,0),IF($B1015=3,VLOOKUP(F$2,Table1[],5,0),IF($B1015=4,VLOOKUP(F$2,Table1[],5,0),0))))","v":500000}]
[4878,1,{"$f":"IF($B1016=1,VLOOKUP(C$2,Table1[],3,0),IF($B1016=2,VLOOKUP(C$2,Table1[],4,0),IF($B1016=3,VLOOKUP(C$2,Table1[],5,0),IF($B1016=4,VLOOKUP(C$2,Table1[],5,0),0))))","v":2000000},{"$f":"IF($B1016=1,VLOOKUP(D$2,Table1[],3,0),IF($B1016=2,VLOOKUP(D$2,Table1[],4,0),IF($B1016=3,VLOOKUP(D$2,Table1[],5,0),IF($B1016=4,VLOOKUP(D$2,Table1[],5,0),0))))","v":2000000},{"$f":"IF($B1016=1,VLOOKUP(E$2,Table1[],3,0),IF($B1016=2,VLOOKUP(E$2,Table1[],4,0),IF($B1016=3,VLOOKUP(E$2,Table1[],5,0),IF($B1016=4,VLOOKUP(E$2,Table1[],5,0),0))))","v":1500000},{"$f":"IF($B1016=1,VLOOKUP(F$2,Table1[],3,0),IF($B1016=2,VLOOKUP(F$2,Table1[],4,0),IF($B1016=3,VLOOKUP(F$2,Table1[],5,0),IF($B1016=4,VLOOKUP(F$2,Table1[],5,0),0))))","v":800000}]
[4879,1,{"$f":"IF($B1017=1,VLOOKUP(C$2,Table1[],3,0),IF($B1017=2,VLOOKUP(C$2,Table1[],4,0),IF($B1017=3,VLOOKUP(C$2,Table1[],5,0),IF($B1017=4,VLOOKUP(C$2,Table1[],5,0),0))))","v":2000000},{"$f":"IF($B1017=1,VLOOKUP(D$2,Table1[],3,0),IF($B1017=2,VLOOKUP(D$2,Table1[],4,0),IF($B1017=3,VLOOKUP(D$2,Table1[],5,0),IF($B1017=4,VLOOKUP(D$2,Table1[],5,0),0))))","v":2000000},{"$f":"IF($B1017=1,VLOOKUP(E$2,Table1[],3,0),IF($B1017=2,VLOOKUP(E$2,Table1[],4,0),IF($B1017=3,VLOOKUP(E$2,Table1[],5,0),IF($B1017=4,VLOOKUP(E$2,Table1[],5,0),0))))","v":1500000},{"$f":"IF($B1017=1,VLOOKUP(F$2,Table1[],3,0),IF($B1017=2,VLOOKUP(F$2,Table1[],4,0),IF($B1017=3,VLOOKUP(F$2,Table1[],5,0),IF($B1017=4,VLOOKUP(F$2,Table1[],5,0),0))))","v":800000}]
[4880,3,{"$f":"IF($B1018=1,VLOOKUP(C$2,Table1[],3,0),IF($B1018=2,VLOOKUP(C$2,Table1[],4,0),IF($B1018=3,VLOOKUP(C$2,Table1[],5,0),IF($B1018=4,VLOOKUP(C$2,Table1[],5,0),0))))","v":500000},{"$f":"IF($B1018=1,VLOOKUP(D$2,Table1[],3,0),IF($B1018=2,VLOOKUP(D$2,Table1[],4,0),IF($B1018=3,VLOOKUP(D$2,Table1[],5,0),IF($B1018=4,VLOOKUP(D$2,Table1[],5,0),0))))","v":400000},{"$f":"IF($B1018=1,VLOOKUP(E$2,Table1[],3,0),IF($B1018=2,VLOOKUP(E$2,Table1[],4,0),IF($B1018=3,VLOOKUP(E$2,Table1[],5,0),IF($B1018=4,VLOOKUP(E$2,Table1[],5,0),0))))","v":"N/A"},{"$f":"IF($B1018=1,VLOOKUP(F$2,Table1[],3,0),IF($B1018=2,VLOOKUP(F$2,Table1[],4,0),IF($B1018=3,VLOOKUP(F$2,Table1[],5,0),IF($B1018=4,VLOOKUP(F$2,Table1[],5,0),0))))","v":"N/A"}]
[4881,2,{"$f":"IF($B1019=1,VLOOKUP(C$2,Table1[],3,0),IF($B1019=2,VLOOKUP(C$2,Table1[],4,0),IF($B1019=3,VLOOKUP(C$2,Table1[],5,0),IF($B1019=4,VLOOKUP(C$2,Table1[],5,0),0))))","v":1000000},{"$f":"IF($B1019=1,VLOOKUP(D$2,Table1[],3,0),IF($B1019=2,VLOOKUP(D$2,Table1[],4,0),IF($B1019=3,VLOOKUP(D$2,Table1[],5,0),IF($B1019=4,VLOOKUP(D$2,Table1[],5,0),0))))","v":1000000},{"$f":"IF($B1019=1,VLOOKUP(E$2,Table1[],3,0),IF($B1019=2,VLOOKUP(E$2,Table1[],4,0),IF($B1019=3,VLOOKUP(E$2,Table1[],5,0),IF($B1019=4,VLOOKUP(E$2,Table1[],5,0),0))))","v":750000},{"$f":"IF($B1019=1,VLOOKUP(F$2,Table1[],3,0),IF($B1019=2,VLOOKUP(F$2,Table1[],4,0),IF($B1019=3,VLOOKUP(F$2,Table1[],5,0),IF($B1019=4,VLOOKUP(F$2,Table1[],5,0),0))))","v":500000}]
[4883,2,{"$f":"IF($B1020=1,VLOOKUP(C$2,Table1[],3,0),IF($B1020=2,VLOOKUP(C$2,Table1[],4,0),IF($B1020=3,VLOOKUP(C$2,Table1[],5,0),IF($B1020=4,VLOOKUP(C$2,Table1[],5,0),0))))","v":1000000},{"$f":"IF($B1020=1,VLOOKUP(D$2,Table1[],3,0),IF($B1020=2,VLOOKUP(D$2,Table1[],4,0),IF($B1020=3,VLOOKUP(D$2,Table1[],5,0),IF($B1020=4,VLOOKUP(D$2,Table1[],5,0),0))))","v":1000000},{"$f":"IF($B1020=1,VLOOKUP(E$2,Table1[],3,0),IF($B1020=2,VLOOKUP(E$2,Table1[],4,0),IF($B1020=3,VLOOKUP(E$2,Table1[],5,0),IF($B1020=4,VLOOKUP(E$2,Table1[],5,0),0))))","v":750000},{"$f":"IF($B1020=1,VLOOKUP(F$2,Table1[],3,0),IF($B1020=2,VLOOKUP(F$2,Table1[],4,0),IF($B1020=3,VLOOKUP(F$2,Table1[],5,0),IF($B1020=4,VLOOKUP(F$2,Table1[],5,0),0))))","v":500000}]
[4895,4,{"$f":"IF($B1021=1,VLOOKUP(C$2,Table1[],3,0),IF($B1021=2,VLOOKUP(C$2,Table1[],4,0),IF($B1021=3,VLOOKUP(C$2,Table1[],5,0),IF($B1021=4,VLOOKUP(C$2,Table1[],5,0),0))))","v":500000},{"$f":"IF($B1021=1,VLOOKUP(D$2,Table1[],3,0),IF($B1021=2,VLOOKUP(D$2,Table1[],4,0),IF($B1021=3,VLOOKUP(D$2,Table1[],5,0),IF($B1021=4,VLOOKUP(D$2,Table1[],5,0),0))))","v":400000},{"$f":"IF($B1021=1,VLOOKUP(E$2,Table1[],3,0),IF($B1021=2,VLOOKUP(E$2,Table1[],4,0),IF($B1021=3,VLOOKUP(E$2,Table1[],5,0),IF($B1021=4,VLOOKUP(E$2,Table1[],5,0),0))))","v":"N/A"},{"$f":"IF($B1021=1,VLOOKUP(F$2,Table1[],3,0),IF($B1021=2,VLOOKUP(F$2,Table1[],4,0),IF($B1021=3,VLOOKUP(F$2,Table1[],5,0),IF($B1021=4,VLOOKUP(F$2,Table1[],5,0),0))))","v":"N/A"}]
[5000,1,{"$f":"IF($B1022=1,VLOOKUP(C$2,Table1[],3,0),IF($B1022=2,VLOOKUP(C$2,Table1[],4,0),IF($B1022=3,VLOOKUP(C$2,Table1[],5,0),IF($B1022=4,VLOOKUP(C$2,Table1[],5,0),0))))","v":2000000},{"$f":"IF($B1022=1,VLOOKUP(D$2,Table1[],3,0),IF($B1022=2,VLOOKUP(D$2,Table1[],4,0),IF($B1022=3,VLOOKUP(D$2,Table1[],5,0),IF($B1022=4,VLOOKUP(D$2,Table1[],5,0),0))))","v":2000000},{"$f":"IF($B1022=1,VLOOKUP(E$2,Table1[],3,0),IF($B1022=2,VLOOKUP(E$2,Table1[],4,0),IF($B1022=3,VLOOKUP(E$2,Table1[],5,0),IF($B1022=4,VLOOKUP(E$2,Table1[],5,0),0))))","v":1500000},{"$f":"IF($B1022=1,VLOOKUP(F$2,Table1[],3,0),IF($B1022=2,VLOOKUP(F$2,Table1[],4,0),IF($B1022=3,VLOOKUP(F$2,Table1[],5,0),IF($B1022=4,VLOOKUP(F$2,Table1[],5,0),0))))","v":800000}]
[5006,1,{"$f":"IF($B1023=1,VLOOKUP(C$2,Table1[],3,0),IF($B1023=2,VLOOKUP(C$2,Table1[],4,0),IF($B1023=3,VLOOKUP(C$2,Table1[],5,0),IF($B1023=4,VLOOKUP(C$2,Table1[],5,0),0))))","v":2000000},{"$f":"IF($B1023=1,VLOOKUP(D$2,Table1[],3,0),IF($B1023=2,VLOOKUP(D$2,Table1[],4,0),IF($B1023=3,VLOOKUP(D$2,Table1[],5,0),IF($B1023=4,VLOOKUP(D$2,Table1[],5,0),0))))","v":2000000},{"$f":"IF($B1023=1,VLOOKUP(E$2,Table1[],3,0),IF($B1023=2,VLOOKUP(E$2,Table1[],4,0),IF($B1023=3,VLOOKUP(E$2,Table1[],5,0),IF($B1023=4,VLOOKUP(E$2,Table1[],5,0),0))))","v":1500000},{"$f":"IF($B1023=1,VLOOKUP(F$2,Table1[],3,0),IF($B1023=2,VLOOKUP(F$2,Table1[],4,0),IF($B1023=3,VLOOKUP(F$2,Table1[],5,0),IF($B1023=4,VLOOKUP(F$2,Table1[],5,0),0))))","v":800000}]
[5007,1,{"$f":"IF($B1024=1,VLOOKUP(C$2,Table1[],3,0),IF($B1024=2,VLOOKUP(C$2,Table1[],4,0),IF($B1024=3,VLOOKUP(C$2,Table1[],5,0),IF($B1024=4,VLOOKUP(C$2,Table1[],5,0),0))))","v":2000000},{"$f":"IF($B1024=1,VLOOKUP(D$2,Table1[],3,0),IF($B1024=2,VLOOKUP(D$2,Table1[],4,0),IF($B1024=3,VLOOKUP(D$2,Table1[],5,0),IF($B1024=4,VLOOKUP(D$2,Table1[],5,0),0))))","v":2000000},{"$f":"IF($B1024=1,VLOOKUP(E$2,Table1[],3,0),IF($B1024=2,VLOOKUP(E$2,Table1[],4,0),IF($B1024=3,VLOOKUP(E$2,Table1[],5,0),IF($B1024=4,VLOOKUP(E$2,Table1[],5,0),0))))","v":1500000},{"$f":"IF($B1024=1,VLOOKUP(F$2,Table1[],3,0),IF($B1024=2,VLOOKUP(F$2,Table1[],4,0),IF($B1024=3,VLOOKUP(F$2,Table1[],5,0),IF($B1024=4,VLOOKUP(F$2,Table1[],5,0),0))))","v":800000}]
[5008,1,{"$f":"IF($B1025=1,VLOOKUP(C$2,Table1[],3,0),IF($B1025=2,VLOOKUP(C$2,Table1[],4,0),IF($B1025=3,VLOOKUP(C$2,Table1[],5,0),IF($B1025=4,VLOOKUP(C$2,Table1[],5,0),0))))","v":2000000},{"$f":"IF($B1025=1,VLOOKUP(D$2,Table1[],3,0),IF($B1025=2,VLOOKUP(D$2,Table1[],4,0),IF($B1025=3,VLOOKUP(D$2,Table1[],5,0),IF($B1025=4,VLOOKUP(D$2,Table1[],5,0),0))))","v":2000000},{"$f":"IF($B1025=1,VLOOKUP(E$2,Table1[],3,0),IF($B1025=2,VLOOKUP(E$2,Table1[],4,0),IF($B1025=3,VLOOKUP(E$2,Table1[],5,0),IF($B1025=4,VLOOKUP(E$2,Table1[],5,0),0))))","v":1500000},{"$f":"IF($B1025=1,VLOOKUP(F$2,Table1[],3,0),IF($B1025=2,VLOOKUP(F$2,Table1[],4,0),IF($B1025=3,VLOOKUP(F$2,Table1[],5,0),IF($B1025=4,VLOOKUP(F$2,Table1[],5,0),0))))","v":800000}]
[5009,1,{"$f":"IF($B1026=1,VLOOKUP(C$2,Table1[],3,0),IF($B1026=2,VLOOKUP(C$2,Table1[],4,0),IF($B1026=3,VLOOKUP(C$2,Table1[],5,0),IF($B1026=4,VLOOKUP(C$2,Table1[],5,0),0))))","v":2000000},{"$f":"IF($B1026=1,VLOOKUP(D$2,Table1[],3,0),IF($B1026=2,VLOOKUP(D$2,Table1[],4,0),IF($B1026=3,VLOOKUP(D$2,Table1[],5,0),IF($B1026=4,VLOOKUP(D$2,Table1[],5,0),0))))","v":2000000},{"$f":"IF($B1026=1,VLOOKUP(E$2,Table1[],3,0),IF($B1026=2,VLOOKUP(E$2,Table1[],4,0),IF($B1026=3,VLOOKUP(E$2,Table1[],5,0),IF($B1026=4,VLOOKUP(E$2,Table1[],5,0),0))))","v":1500000},{"$f":"IF($B1026=1,VLOOKUP(F$2,Table1[],3,0),IF($B1026=2,VLOOKUP(F$2,Table1[],4,0),IF($B1026=3,VLOOKUP(F$2,Table1[],5,0),IF($B1026=4,VLOOKUP(F$2,Table1[],5,0),0))))","v":800000}]
[5010,1,{"$f":"IF($B1027=1,VLOOKUP(C$2,Table1[],3,0),IF($B1027=2,VLOOKUP(C$2,Table1[],4,0),IF($B1027=3,VLOOKUP(C$2,Table1[],5,0),IF($B1027=4,VLOOKUP(C$2,Table1[],5,0),0))))","v":2000000},{"$f":"IF($B1027=1,VLOOKUP(D$2,Table1[],3,0),IF($B1027=2,VLOOKUP(D$2,Table1[],4,0),IF($B1027=3,VLOOKUP(D$2,Table1[],5,0),IF($B1027=4,VLOOKUP(D$2,Table1[],5,0),0))))","v":2000000},{"$f":"IF($B1027=1,VLOOKUP(E$2,Table1[],3,0),IF($B1027=2,VLOOKUP(E$2,Table1[],4,0),IF($B1027=3,VLOOKUP(E$2,Table1[],5,0),IF($B1027=4,VLOOKUP(E$2,Table1[],5,0),0))))","v":1500000},{"$f":"IF($B1027=1,VLOOKUP(F$2,Table1[],3,0),IF($B1027=2,VLOOKUP(F$2,Table1[],4,0),IF($B1027=3,VLOOKUP(F$2,Table1[],5,0),IF($B1027=4,VLOOKUP(F$2,Table1[],5,0),0))))","v":800000}]
[5011,1,{"$f":"IF($B1028=1,VLOOKUP(C$2,Table1[],3,0),IF($B1028=2,VLOOKUP(C$2,Table1[],4,0),IF($B1028=3,VLOOKUP(C$2,Table1[],5,0),IF($B1028=4,VLOOKUP(C$2,Table1[],5,0),0))))","v":2000000},{"$f":"IF($B1028=1,VLOOKUP(D$2,Table1[],3,0),IF($B1028=2,VLOOKUP(D$2,Table1[],4,0),IF($B1028=3,VLOOKUP(D$2,Table1[],5,0),IF($B1028=4,VLOOKUP(D$2,Table1[],5,0),0))))","v":2000000},{"$f":"IF($B1028=1,VLOOKUP(E$2,Table1[],3,0),IF($B1028=2,VLOOKUP(E$2,Table1[],4,0),IF($B1028=3,VLOOKUP(E$2,Table1[],5,0),IF($B1028=4,VLOOKUP(E$2,Table1[],5,0),0))))","v":1500000},{"$f":"IF($B1028=1,VLOOKUP(F$2,Table1[],3,0),IF($B1028=2,VLOOKUP(F$2,Table1[],4,0),IF($B1028=3,VLOOKUP(F$2,Table1[],5,0),IF($B1028=4,VLOOKUP(F$2,Table1[],5,0),0))))","v":800000}]
[5012,1,{"$f":"IF($B1029=1,VLOOKUP(C$2,Table1[],3,0),IF($B1029=2,VLOOKUP(C$2,Table1[],4,0),IF($B1029=3,VLOOKUP(C$2,Table1[],5,0),IF($B1029=4,VLOOKUP(C$2,Table1[],5,0),0))))","v":2000000},{"$f":"IF($B1029=1,VLOOKUP(D$2,Table1[],3,0),IF($B1029=2,VLOOKUP(D$2,Table1[],4,0),IF($B1029=3,VLOOKUP(D$2,Table1[],5,0),IF($B1029=4,VLOOKUP(D$2,Table1[],5,0),0))))","v":2000000},{"$f":"IF($B1029=1,VLOOKUP(E$2,Table1[],3,0),IF($B1029=2,VLOOKUP(E$2,Table1[],4,0),IF($B1029=3,VLOOKUP(E$2,Table1[],5,0),IF($B1029=4,VLOOKUP(E$2,Table1[],5,0),0))))","v":1500000},{"$f":"IF($B1029=1,VLOOKUP(F$2,Table1[],3,0),IF($B1029=2,VLOOKUP(F$2,Table1[],4,0),IF($B1029=3,VLOOKUP(F$2,Table1[],5,0),IF($B1029=4,VLOOKUP(F$2,Table1[],5,0),0))))","v":800000}]
[5013,1,{"$f":"IF($B1030=1,VLOOKUP(C$2,Table1[],3,0),IF($B1030=2,VLOOKUP(C$2,Table1[],4,0),IF($B1030=3,VLOOKUP(C$2,Table1[],5,0),IF($B1030=4,VLOOKUP(C$2,Table1[],5,0),0))))","v":2000000},{"$f":"IF($B1030=1,VLOOKUP(D$2,Table1[],3,0),IF($B1030=2,VLOOKUP(D$2,Table1[],4,0),IF($B1030=3,VLOOKUP(D$2,Table1[],5,0),IF($B1030=4,VLOOKUP(D$2,Table1[],5,0),0))))","v":2000000},{"$f":"IF($B1030=1,VLOOKUP(E$2,Table1[],3,0),IF($B1030=2,VLOOKUP(E$2,Table1[],4,0),IF($B1030=3,VLOOKUP(E$2,Table1[],5,0),IF($B1030=4,VLOOKUP(E$2,Table1[],5,0),0))))","v":1500000},{"$f":"IF($B1030=1,VLOOKUP(F$2,Table1[],3,0),IF($B1030=2,VLOOKUP(F$2,Table1[],4,0),IF($B1030=3,VLOOKUP(F$2,Table1[],5,0),IF($B1030=4,VLOOKUP(F$2,Table1[],5,0),0))))","v":800000}]
[5014,1,{"$f":"IF($B1031=1,VLOOKUP(C$2,Table1[],3,0),IF($B1031=2,VLOOKUP(C$2,Table1[],4,0),IF($B1031=3,VLOOKUP(C$2,Table1[],5,0),IF($B1031=4,VLOOKUP(C$2,Table1[],5,0),0))))","v":2000000},{"$f":"IF($B1031=1,VLOOKUP(D$2,Table1[],3,0),IF($B1031=2,VLOOKUP(D$2,Table1[],4,0),IF($B1031=3,VLOOKUP(D$2,Table1[],5,0),IF($B1031=4,VLOOKUP(D$2,Table1[],5,0),0))))","v":2000000},{"$f":"IF($B1031=1,VLOOKUP(E$2,Table1[],3,0),IF($B1031=2,VLOOKUP(E$2,Table1[],4,0),IF($B1031=3,VLOOKUP(E$2,Table1[],5,0),IF($B1031=4,VLOOKUP(E$2,Table1[],5,0),0))))","v":1500000},{"$f":"IF($B1031=1,VLOOKUP(F$2,Table1[],3,0),IF($B1031=2,VLOOKUP(F$2,Table1[],4,0),IF($B1031=3,VLOOKUP(F$2,Table1[],5,0),IF($B1031=4,VLOOKUP(F$2,Table1[],5,0),0))))","v":800000}]
[5015,1,{"$f":"IF($B1032=1,VLOOKUP(C$2,Table1[],3,0),IF($B1032=2,VLOOKUP(C$2,Table1[],4,0),IF($B1032=3,VLOOKUP(C$2,Table1[],5,0),IF($B1032=4,VLOOKUP(C$2,Table1[],5,0),0))))","v":2000000},{"$f":"IF($B1032=1,VLOOKUP(D$2,Table1[],3,0),IF($B1032=2,VLOOKUP(D$2,Table1[],4,0),IF($B1032=3,VLOOKUP(D$2,Table1[],5,0),IF($B1032=4,VLOOKUP(D$2,Table1[],5,0),0))))","v":2000000},{"$f":"IF($B1032=1,VLOOKUP(E$2,Table1[],3,0),IF($B1032=2,VLOOKUP(E$2,Table1[],4,0),IF($B1032=3,VLOOKUP(E$2,Table1[],5,0),IF($B1032=4,VLOOKUP(E$2,Table1[],5,0),0))))","v":1500000},{"$f":"IF($B1032=1,VLOOKUP(F$2,Table1[],3,0),IF($B1032=2,VLOOKUP(F$2,Table1[],4,0),IF($B1032=3,VLOOKUP(F$2,Table1[],5,0),IF($B1032=4,VLOOKUP(F$2,Table1[],5,0),0))))","v":800000}]
[5016,1,{"$f":"IF($B1033=1,VLOOKUP(C$2,Table1[],3,0),IF($B1033=2,VLOOKUP(C$2,Table1[],4,0),IF($B1033=3,VLOOKUP(C$2,Table1[],5,0),IF($B1033=4,VLOOKUP(C$2,Table1[],5,0),0))))","v":2000000},{"$f":"IF($B1033=1,VLOOKUP(D$2,Table1[],3,0),IF($B1033=2,VLOOKUP(D$2,Table1[],4,0),IF($B1033=3,VLOOKUP(D$2,Table1[],5,0),IF($B1033=4,VLOOKUP(D$2,Table1[],5,0),0))))","v":2000000},{"$f":"IF($B1033=1,VLOOKUP(E$2,Table1[],3,0),IF($B1033=2,VLOOKUP(E$2,Table1[],4,0),IF($B1033=3,VLOOKUP(E$2,Table1[],5,0),IF($B1033=4,VLOOKUP(E$2,Table1[],5,0),0))))","v":1500000},{"$f":"IF($B1033=1,VLOOKUP(F$2,Table1[],3,0),IF($B1033=2,VLOOKUP(F$2,Table1[],4,0),IF($B1033=3,VLOOKUP(F$2,Table1[],5,0),IF($B1033=4,VLOOKUP(F$2,Table1[],5,0),0))))","v":800000}]
[5017,1,{"$f":"IF($B1034=1,VLOOKUP(C$2,Table1[],3,0),IF($B1034=2,VLOOKUP(C$2,Table1[],4,0),IF($B1034=3,VLOOKUP(C$2,Table1[],5,0),IF($B1034=4,VLOOKUP(C$2,Table1[],5,0),0))))","v":2000000},{"$f":"IF($B1034=1,VLOOKUP(D$2,Table1[],3,0),IF($B1034=2,VLOOKUP(D$2,Table1[],4,0),IF($B1034=3,VLOOKUP(D$2,Table1[],5,0),IF($B1034=4,VLOOKUP(D$2,Table1[],5,0),0))))","v":2000000},{"$f":"IF($B1034=1,VLOOKUP(E$2,Table1[],3,0),IF($B1034=2,VLOOKUP(E$2,Table1[],4,0),IF($B1034=3,VLOOKUP(E$2,Table1[],5,0),IF($B1034=4,VLOOKUP(E$2,Table1[],5,0),0))))","v":1500000},{"$f":"IF($B1034=1,VLOOKUP(F$2,Table1[],3,0),IF($B1034=2,VLOOKUP(F$2,Table1[],4,0),IF($B1034=3,VLOOKUP(F$2,Table1[],5,0),IF($B1034=4,VLOOKUP(F$2,Table1[],5,0),0))))","v":800000}]
[5018,1,{"$f":"IF($B1035=1,VLOOKUP(C$2,Table1[],3,0),IF($B1035=2,VLOOKUP(C$2,Table1[],4,0),IF($B1035=3,VLOOKUP(C$2,Table1[],5,0),IF($B1035=4,VLOOKUP(C$2,Table1[],5,0),0))))","v":2000000},{"$f":"IF($B1035=1,VLOOKUP(D$2,Table1[],3,0),IF($B1035=2,VLOOKUP(D$2,Table1[],4,0),IF($B1035=3,VLOOKUP(D$2,Table1[],5,0),IF($B1035=4,VLOOKUP(D$2,Table1[],5,0),0))))","v":2000000},{"$f":"IF($B1035=1,VLOOKUP(E$2,Table1[],3,0),IF($B1035=2,VLOOKUP(E$2,Table1[],4,0),IF($B1035=3,VLOOKUP(E$2,Table1[],5,0),IF($B1035=4,VLOOKUP(E$2,Table1[],5,0),0))))","v":1500000},{"$f":"IF($B1035=1,VLOOKUP(F$2,Table1[],3,0),IF($B1035=2,VLOOKUP(F$2,Table1[],4,0),IF($B1035=3,VLOOKUP(F$2,Table1[],5,0),IF($B1035=4,VLOOKUP(F$2,Table1[],5,0),0))))","v":800000}]
[5019,1,{"$f":"IF($B1036=1,VLOOKUP(C$2,Table1[],3,0),IF($B1036=2,VLOOKUP(C$2,Table1[],4,0),IF($B1036=3,VLOOKUP(C$2,Table1[],5,0),IF($B1036=4,VLOOKUP(C$2,Table1[],5,0),0))))","v":2000000},{"$f":"IF($B1036=1,VLOOKUP(D$2,Table1[],3,0),IF($B1036=2,VLOOKUP(D$2,Table1[],4,0),IF($B1036=3,VLOOKUP(D$2,Table1[],5,0),IF($B1036=4,VLOOKUP(D$2,Table1[],5,0),0))))","v":2000000},{"$f":"IF($B1036=1,VLOOKUP(E$2,Table1[],3,0),IF($B1036=2,VLOOKUP(E$2,Table1[],4,0),IF($B1036=3,VLOOKUP(E$2,Table1[],5,0),IF($B1036=4,VLOOKUP(E$2,Table1[],5,0),0))))","v":1500000},{"$f":"IF($B1036=1,VLOOKUP(F$2,Table1[],3,0),IF($B1036=2,VLOOKUP(F$2,Table1[],4,0),IF($B1036=3,VLOOKUP(F$2,Table1[],5,0),IF($B1036=4,VLOOKUP(F$2,Table1[],5,0),0))))","v":800000}]
[5020,1,{"$f":"IF($B1037=1,VLOOKUP(C$2,Table1[],3,0),IF($B1037=2,VLOOKUP(C$2,Table1[],4,0),IF($B1037=3,VLOOKUP(C$2,Table1[],5,0),IF($B1037=4,VLOOKUP(C$2,Table1[],5,0),0))))","v":2000000},{"$f":"IF($B1037=1,VLOOKUP(D$2,Table1[],3,0),IF($B1037=2,VLOOKUP(D$2,Table1[],4,0),IF($B1037=3,VLOOKUP(D$2,Table1[],5,0),IF($B1037=4,VLOOKUP(D$2,Table1[],5,0),0))))","v":2000000},{"$f":"IF($B1037=1,VLOOKUP(E$2,Table1[],3,0),IF($B1037=2,VLOOKUP(E$2,Table1[],4,0),IF($B1037=3,VLOOKUP(E$2,Table1[],5,0),IF($B1037=4,VLOOKUP(E$2,Table1[],5,0),0))))","v":1500000},{"$f":"IF($B1037=1,VLOOKUP(F$2,Table1[],3,0),IF($B1037=2,VLOOKUP(F$2,Table1[],4,0),IF($B1037=3,VLOOKUP(F$2,Table1[],5,0),IF($B1037=4,VLOOKUP(F$2,Table1[],5,0),0))))","v":800000}]
[5021,1,{"$f":"IF($B1038=1,VLOOKUP(C$2,Table1[],3,0),IF($B1038=2,VLOOKUP(C$2,Table1[],4,0),IF($B1038=3,VLOOKUP(C$2,Table1[],5,0),IF($B1038=4,VLOOKUP(C$2,Table1[],5,0),0))))","v":2000000},{"$f":"IF($B1038=1,VLOOKUP(D$2,Table1[],3,0),IF($B1038=2,VLOOKUP(D$2,Table1[],4,0),IF($B1038=3,VLOOKUP(D$2,Table1[],5,0),IF($B1038=4,VLOOKUP(D$2,Table1[],5,0),0))))","v":2000000},{"$f":"IF($B1038=1,VLOOKUP(E$2,Table1[],3,0),IF($B1038=2,VLOOKUP(E$2,Table1[],4,0),IF($B1038=3,VLOOKUP(E$2,Table1[],5,0),IF($B1038=4,VLOOKUP(E$2,Table1[],5,0),0))))","v":1500000},{"$f":"IF($B1038=1,VLOOKUP(F$2,Table1[],3,0),IF($B1038=2,VLOOKUP(F$2,Table1[],4,0),IF($B1038=3,VLOOKUP(F$2,Table1[],5,0),IF($B1038=4,VLOOKUP(F$2,Table1[],5,0),0))))","v":800000}]
[5022,1,{"$f":"IF($B1039=1,VLOOKUP(C$2,Table1[],3,0),IF($B1039=2,VLOOKUP(C$2,Table1[],4,0),IF($B1039=3,VLOOKUP(C$2,Table1[],5,0),IF($B1039=4,VLOOKUP(C$2,Table1[],5,0),0))))","v":2000000},{"$f":"IF($B1039=1,VLOOKUP(D$2,Table1[],3,0),IF($B1039=2,VLOOKUP(D$2,Table1[],4,0),IF($B1039=3,VLOOKUP(D$2,Table1[],5,0),IF($B1039=4,VLOOKUP(D$2,Table1[],5,0),0))))","v":2000000},{"$f":"IF($B1039=1,VLOOKUP(E$2,Table1[],3,0),IF($B1039=2,VLOOKUP(E$2,Table1[],4,0),IF($B1039=3,VLOOKUP(E$2,Table1[],5,0),IF($B1039=4,VLOOKUP(E$2,Table1[],5,0),0))))","v":1500000},{"$f":"IF($B1039=1,VLOOKUP(F$2,Table1[],3,0),IF($B1039=2,VLOOKUP(F$2,Table1[],4,0),IF($B1039=3,VLOOKUP(F$2,Table1[],5,0),IF($B1039=4,VLOOKUP(F$2,Table1[],5,0),0))))","v":800000}]
[5023,1,{"$f":"IF($B1040=1,VLOOKUP(C$2,Table1[],3,0),IF($B1040=2,VLOOKUP(C$2,Table1[],4,0),IF($B1040=3,VLOOKUP(C$2,Table1[],5,0),IF($B1040=4,VLOOKUP(C$2,Table1[],5,0),0))))","v":2000000},{"$f":"IF($B1040=1,VLOOKUP(D$2,Table1[],3,0),IF($B1040=2,VLOOKUP(D$2,Table1[],4,0),IF($B1040=3,VLOOKUP(D$2,Table1[],5,0),IF($B1040=4,VLOOKUP(D$2,Table1[],5,0),0))))","v":2000000},{"$f":"IF($B1040=1,VLOOKUP(E$2,Table1[],3,0),IF($B1040=2,VLOOKUP(E$2,Table1[],4,0),IF($B1040=3,VLOOKUP(E$2,Table1[],5,0),IF($B1040=4,VLOOKUP(E$2,Table1[],5,0),0))))","v":1500000},{"$f":"IF($B1040=1,VLOOKUP(F$2,Table1[],3,0),IF($B1040=2,VLOOKUP(F$2,Table1[],4,0),IF($B1040=3,VLOOKUP(F$2,Table1[],5,0),IF($B1040=4,VLOOKUP(F$2,Table1[],5,0),0))))","v":800000}]
[5024,1,{"$f":"IF($B1041=1,VLOOKUP(C$2,Table1[],3,0),IF($B1041=2,VLOOKUP(C$2,Table1[],4,0),IF($B1041=3,VLOOKUP(C$2,Table1[],5,0),IF($B1041=4,VLOOKUP(C$2,Table1[],5,0),0))))","v":2000000},{"$f":"IF($B1041=1,VLOOKUP(D$2,Table1[],3,0),IF($B1041=2,VLOOKUP(D$2,Table1[],4,0),IF($B1041=3,VLOOKUP(D$2,Table1[],5,0),IF($B1041=4,VLOOKUP(D$2,Table1[],5,0),0))))","v":2000000},{"$f":"IF($B1041=1,VLOOKUP(E$2,Table1[],3,0),IF($B1041=2,VLOOKUP(E$2,Table1[],4,0),IF($B1041=3,VLOOKUP(E$2,Table1[],5,0),IF($B1041=4,VLOOKUP(E$2,Table1[],5,0),0))))","v":1500000},{"$f":"IF($B1041=1,VLOOKUP(F$2,Table1[],3,0),IF($B1041=2,VLOOKUP(F$2,Table1[],4,0),IF($B1041=3,VLOOKUP(F$2,Table1[],5,0),IF($B1041=4,VLOOKUP(F$2,Table1[],5,0),0))))","v":800000}]
[5025,1,{"$f":"IF($B1042=1,VLOOKUP(C$2,Table1[],3,0),IF($B1042=2,VLOOKUP(C$2,Table1[],4,0),IF($B1042=3,VLOOKUP(C$2,Table1[],5,0),IF($B1042=4,VLOOKUP(C$2,Table1[],5,0),0))))","v":2000000},{"$f":"IF($B1042=1,VLOOKUP(D$2,Table1[],3,0),IF($B1042=2,VLOOKUP(D$2,Table1[],4,0),IF($B1042=3,VLOOKUP(D$2,Table1[],5,0),IF($B1042=4,VLOOKUP(D$2,Table1[],5,0),0))))","v":2000000},{"$f":"IF($B1042=1,VLOOKUP(E$2,Table1[],3,0),IF($B1042=2,VLOOKUP(E$2,Table1[],4,0),IF($B1042=3,VLOOKUP(E$2,Table1[],5,0),IF($B1042=4,VLOOKUP(E$2,Table1[],5,0),0))))","v":1500000},{"$f":"IF($B1042=1,VLOOKUP(F$2,Table1[],3,0),IF($B1042=2,VLOOKUP(F$2,Table1[],4,0),IF($B1042=3,VLOOKUP(F$2,Table1[],5,0),IF($B1042=4,VLOOKUP(F$2,Table1[],5,0),0))))","v":800000}]
[5031,1,{"$f":"IF($B1043=1,VLOOKUP(C$2,Table1[],3,0),IF($B1043=2,VLOOKUP(C$2,Table1[],4,0),IF($B1043=3,VLOOKUP(C$2,Table1[],5,0),IF($B1043=4,VLOOKUP(C$2,Table1[],5,0),0))))","v":2000000},{"$f":"IF($B1043=1,VLOOKUP(D$2,Table1[],3,0),IF($B1043=2,VLOOKUP(D$2,Table1[],4,0),IF($B1043=3,VLOOKUP(D$2,Table1[],5,0),IF($B1043=4,VLOOKUP(D$2,Table1[],5,0),0))))","v":2000000},{"$f":"IF($B1043=1,VLOOKUP(E$2,Table1[],3,0),IF($B1043=2,VLOOKUP(E$2,Table1[],4,0),IF($B1043=3,VLOOKUP(E$2,Table1[],5,0),IF($B1043=4,VLOOKUP(E$2,Table1[],5,0),0))))","v":1500000},{"$f":"IF($B1043=1,VLOOKUP(F$2,Table1[],3,0),IF($B1043=2,VLOOKUP(F$2,Table1[],4,0),IF($B1043=3,VLOOKUP(F$2,Table1[],5,0),IF($B1043=4,VLOOKUP(F$2,Table1[],5,0),0))))","v":800000}]
[5032,1,{"$f":"IF($B1044=1,VLOOKUP(C$2,Table1[],3,0),IF($B1044=2,VLOOKUP(C$2,Table1[],4,0),IF($B1044=3,VLOOKUP(C$2,Table1[],5,0),IF($B1044=4,VLOOKUP(C$2,Table1[],5,0),0))))","v":2000000},{"$f":"IF($B1044=1,VLOOKUP(D$2,Table1[],3,0),IF($B1044=2,VLOOKUP(D$2,Table1[],4,0),IF($B1044=3,VLOOKUP(D$2,Table1[],5,0),IF($B1044=4,VLOOKUP(D$2,Table1[],5,0),0))))","v":2000000},{"$f":"IF($B1044=1,VLOOKUP(E$2,Table1[],3,0),IF($B1044=2,VLOOKUP(E$2,Table1[],4,0),IF($B1044=3,VLOOKUP(E$2,Table1[],5,0),IF($B1044=4,VLOOKUP(E$2,Table1[],5,0),0))))","v":1500000},{"$f":"IF($B1044=1,VLOOKUP(F$2,Table1[],3,0),IF($B1044=2,VLOOKUP(F$2,Table1[],4,0),IF($B1044=3,VLOOKUP(F$2,Table1[],5,0),IF($B1044=4,VLOOKUP(F$2,Table1[],5,0),0))))","v":800000}]
[5033,1,{"$f":"IF($B1045=1,VLOOKUP(C$2,Table1[],3,0),IF($B1045=2,VLOOKUP(C$2,Table1[],4,0),IF($B1045=3,VLOOKUP(C$2,Table1[],5,0),IF($B1045=4,VLOOKUP(C$2,Table1[],5,0),0))))","v":2000000},{"$f":"IF($B1045=1,VLOOKUP(D$2,Table1[],3,0),IF($B1045=2,VLOOKUP(D$2,Table1[],4,0),IF($B1045=3,VLOOKUP(D$2,Table1[],5,0),IF($B1045=4,VLOOKUP(D$2,Table1[],5,0),0))))","v":2000000},{"$f":"IF($B1045=1,VLOOKUP(E$2,Table1[],3,0),IF($B1045=2,VLOOKUP(E$2,Table1[],4,0),IF($B1045=3,VLOOKUP(E$2,Table1[],5,0),IF($B1045=4,VLOOKUP(E$2,Table1[],5,0),0))))","v":1500000},{"$f":"IF($B1045=1,VLOOKUP(F$2,Table1[],3,0),IF($B1045=2,VLOOKUP(F$2,Table1[],4,0),IF($B1045=3,VLOOKUP(F$2,Table1[],5,0),IF($B1045=4,VLOOKUP(F$2,Table1[],5,0),0))))","v":800000}]
[5034,1,{"$f":"IF($B1046=1,VLOOKUP(C$2,Table1[],3,0),IF($B1046=2,VLOOKUP(C$2,Table1[],4,0),IF($B1046=3,VLOOKUP(C$2,Table1[],5,0),IF($B1046=4,VLOOKUP(C$2,Table1[],5,0),0))))","v":2000000},{"$f":"IF($B1046=1,VLOOKUP(D$2,Table1[],3,0),IF($B1046=2,VLOOKUP(D$2,Table1[],4,0),IF($B1046=3,VLOOKUP(D$2,Table1[],5,0),IF($B1046=4,VLOOKUP(D$2,Table1[],5,0),0))))","v":2000000},{"$f":"IF($B1046=1,VLOOKUP(E$2,Table1[],3,0),IF($B1046=2,VLOOKUP(E$2,Table1[],4,0),IF($B1046=3,VLOOKUP(E$2,Table1[],5,0),IF($B1046=4,VLOOKUP(E$2,Table1[],5,0),0))))","v":1500000},{"$f":"IF($B1046=1,VLOOKUP(F$2,Table1[],3,0),IF($B1046=2,VLOOKUP(F$2,Table1[],4,0),IF($B1046=3,VLOOKUP(F$2,Table1[],5,0),IF($B1046=4,VLOOKUP(F$2,Table1[],5,0),0))))","v":800000}]
[5035,1,{"$f":"IF($B1047=1,VLOOKUP(C$2,Table1[],3,0),IF($B1047=2,VLOOKUP(C$2,Table1[],4,0),IF($B1047=3,VLOOKUP(C$2,Table1[],5,0),IF($B1047=4,VLOOKUP(C$2,Table1[],5,0),0))))","v":2000000},{"$f":"IF($B1047=1,VLOOKUP(D$2,Table1[],3,0),IF($B1047=2,VLOOKUP(D$2,Table1[],4,0),IF($B1047=3,VLOOKUP(D$2,Table1[],5,0),IF($B1047=4,VLOOKUP(D$2,Table1[],5,0),0))))","v":2000000},{"$f":"IF($B1047=1,VLOOKUP(E$2,Table1[],3,0),IF($B1047=2,VLOOKUP(E$2,Table1[],4,0),IF($B1047=3,VLOOKUP(E$2,Table1[],5,0),IF($B1047=4,VLOOKUP(E$2,Table1[],5,0),0))))","v":1500000},{"$f":"IF($B1047=1,VLOOKUP(F$2,Table1[],3,0),IF($B1047=2,VLOOKUP(F$2,Table1[],4,0),IF($B1047=3,VLOOKUP(F$2,Table1[],5,0),IF($B1047=4,VLOOKUP(F$2,Table1[],5,0),0))))","v":800000}]
[5037,1,{"$f":"IF($B1048=1,VLOOKUP(C$2,Table1[],3,0),IF($B1048=2,VLOOKUP(C$2,Table1[],4,0),IF($B1048=3,VLOOKUP(C$2,Table1[],5,0),IF($B1048=4,VLOOKUP(C$2,Table1[],5,0),0))))","v":2000000},{"$f":"IF($B1048=1,VLOOKUP(D$2,Table1[],3,0),IF($B1048=2,VLOOKUP(D$2,Table1[],4,0),IF($B1048=3,VLOOKUP(D$2,Table1[],5,0),IF($B1048=4,VLOOKUP(D$2,Table1[],5,0),0))))","v":2000000},{"$f":"IF($B1048=1,VLOOKUP(E$2,Table1[],3,0),IF($B1048=2,VLOOKUP(E$2,Table1[],4,0),IF($B1048=3,VLOOKUP(E$2,Table1[],5,0),IF($B1048=4,VLOOKUP(E$2,Table1[],5,0),0))))","v":1500000},{"$f":"IF($B1048=1,VLOOKUP(F$2,Table1[],3,0),IF($B1048=2,VLOOKUP(F$2,Table1[],4,0),IF($B1048=3,VLOOKUP(F$2,Table1[],5,0),IF($B1048=4,VLOOKUP(F$2,Table1[],5,0),0))))","v":800000}]
[5038,1,{"$f":"IF($B1049=1,VLOOKUP(C$2,Table1[],3,0),IF($B1049=2,VLOOKUP(C$2,Table1[],4,0),IF($B1049=3,VLOOKUP(C$2,Table1[],5,0),IF($B1049=4,VLOOKUP(C$2,Table1[],5,0),0))))","v":2000000},{"$f":"IF($B1049=1,VLOOKUP(D$2,Table1[],3,0),IF($B1049=2,VLOOKUP(D$2,Table1[],4,0),IF($B1049=3,VLOOKUP(D$2,Table1[],5,0),IF($B1049=4,VLOOKUP(D$2,Table1[],5,0),0))))","v":2000000},{"$f":"IF($B1049=1,VLOOKUP(E$2,Table1[],3,0),IF($B1049=2,VLOOKUP(E$2,Table1[],4,0),IF($B1049=3,VLOOKUP(E$2,Table1[],5,0),IF($B1049=4,VLOOKUP(E$2,Table1[],5,0),0))))","v":1500000},{"$f":"IF($B1049=1,VLOOKUP(F$2,Table1[],3,0),IF($B1049=2,VLOOKUP(F$2,Table1[],4,0),IF($B1049=3,VLOOKUP(F$2,Table1[],5,0),IF($B1049=4,VLOOKUP(F$2,Table1[],5,0),0))))","v":800000}]
[5039,1,{"$f":"IF($B1050=1,VLOOKUP(C$2,Table1[],3,0),IF($B1050=2,VLOOKUP(C$2,Table1[],4,0),IF($B1050=3,VLOOKUP(C$2,Table1[],5,0),IF($B1050=4,VLOOKUP(C$2,Table1[],5,0),0))))","v":2000000},{"$f":"IF($B1050=1,VLOOKUP(D$2,Table1[],3,0),IF($B1050=2,VLOOKUP(D$2,Table1[],4,0),IF($B1050=3,VLOOKUP(D$2,Table1[],5,0),IF($B1050=4,VLOOKUP(D$2,Table1[],5,0),0))))","v":2000000},{"$f":"IF($B1050=1,VLOOKUP(E$2,Table1[],3,0),IF($B1050=2,VLOOKUP(E$2,Table1[],4,0),IF($B1050=3,VLOOKUP(E$2,Table1[],5,0),IF($B1050=4,VLOOKUP(E$2,Table1[],5,0),0))))","v":1500000},{"$f":"IF($B1050=1,VLOOKUP(F$2,Table1[],3,0),IF($B1050=2,VLOOKUP(F$2,Table1[],4,0),IF($B1050=3,VLOOKUP(F$2,Table1[],5,0),IF($B1050=4,VLOOKUP(F$2,Table1[],5,0),0))))","v":800000}]
[5040,1,{"$f":"IF($B1051=1,VLOOKUP(C$2,Table1[],3,0),IF($B1051=2,VLOOKUP(C$2,Table1[],4,0),IF($B1051=3,VLOOKUP(C$2,Table1[],5,0),IF($B1051=4,VLOOKUP(C$2,Table1[],5,0),0))))","v":2000000},{"$f":"IF($B1051=1,VLOOKUP(D$2,Table1[],3,0),IF($B1051=2,VLOOKUP(D$2,Table1[],4,0),IF($B1051=3,VLOOKUP(D$2,Table1[],5,0),IF($B1051=4,VLOOKUP(D$2,Table1[],5,0),0))))","v":2000000},{"$f":"IF($B1051=1,VLOOKUP(E$2,Table1[],3,0),IF($B1051=2,VLOOKUP(E$2,Table1[],4,0),IF($B1051=3,VLOOKUP(E$2,Table1[],5,0),IF($B1051=4,VLOOKUP(E$2,Table1[],5,0),0))))","v":1500000},{"$f":"IF($B1051=1,VLOOKUP(F$2,Table1[],3,0),IF($B1051=2,VLOOKUP(F$2,Table1[],4,0),IF($B1051=3,VLOOKUP(F$2,Table1[],5,0),IF($B1051=4,VLOOKUP(F$2,Table1[],5,0),0))))","v":800000}]
[5041,1,{"$f":"IF($B1052=1,VLOOKUP(C$2,Table1[],3,0),IF($B1052=2,VLOOKUP(C$2,Table1[],4,0),IF($B1052=3,VLOOKUP(C$2,Table1[],5,0),IF($B1052=4,VLOOKUP(C$2,Table1[],5,0),0))))","v":2000000},{"$f":"IF($B1052=1,VLOOKUP(D$2,Table1[],3,0),IF($B1052=2,VLOOKUP(D$2,Table1[],4,0),IF($B1052=3,VLOOKUP(D$2,Table1[],5,0),IF($B1052=4,VLOOKUP(D$2,Table1[],5,0),0))))","v":2000000},{"$f":"IF($B1052=1,VLOOKUP(E$2,Table1[],3,0),IF($B1052=2,VLOOKUP(E$2,Table1[],4,0),IF($B1052=3,VLOOKUP(E$2,Table1[],5,0),IF($B1052=4,VLOOKUP(E$2,Table1[],5,0),0))))","v":1500000},{"$f":"IF($B1052=1,VLOOKUP(F$2,Table1[],3,0),IF($B1052=2,VLOOKUP(F$2,Table1[],4,0),IF($B1052=3,VLOOKUP(F$2,Table1[],5,0),IF($B1052=4,VLOOKUP(F$2,Table1[],5,0),0))))","v":800000}]
[5042,1,{"$f":"IF($B1053=1,VLOOKUP(C$2,Table1[],3,0),IF($B1053=2,VLOOKUP(C$2,Table1[],4,0),IF($B1053=3,VLOOKUP(C$2,Table1[],5,0),IF($B1053=4,VLOOKUP(C$2,Table1[],5,0),0))))","v":2000000},{"$f":"IF($B1053=1,VLOOKUP(D$2,Table1[],3,0),IF($B1053=2,VLOOKUP(D$2,Table1[],4,0),IF($B1053=3,VLOOKUP(D$2,Table1[],5,0),IF($B1053=4,VLOOKUP(D$2,Table1[],5,0),0))))","v":2000000},{"$f":"IF($B1053=1,VLOOKUP(E$2,Table1[],3,0),IF($B1053=2,VLOOKUP(E$2,Table1[],4,0),IF($B1053=3,VLOOKUP(E$2,Table1[],5,0),IF($B1053=4,VLOOKUP(E$2,Table1[],5,0),0))))","v":1500000},{"$f":"IF($B1053=1,VLOOKUP(F$2,Table1[],3,0),IF($B1053=2,VLOOKUP(F$2,Table1[],4,0),IF($B1053=3,VLOOKUP(F$2,Table1[],5,0),IF($B1053=4,VLOOKUP(F$2,Table1[],5,0),0))))","v":800000}]
[5043,1,{"$f":"IF($B1054=1,VLOOKUP(C$2,Table1[],3,0),IF($B1054=2,VLOOKUP(C$2,Table1[],4,0),IF($B1054=3,VLOOKUP(C$2,Table1[],5,0),IF($B1054=4,VLOOKUP(C$2,Table1[],5,0),0))))","v":2000000},{"$f":"IF($B1054=1,VLOOKUP(D$2,Table1[],3,0),IF($B1054=2,VLOOKUP(D$2,Table1[],4,0),IF($B1054=3,VLOOKUP(D$2,Table1[],5,0),IF($B1054=4,VLOOKUP(D$2,Table1[],5,0),0))))","v":2000000},{"$f":"IF($B1054=1,VLOOKUP(E$2,Table1[],3,0),IF($B1054=2,VLOOKUP(E$2,Table1[],4,0),IF($B1054=3,VLOOKUP(E$2,Table1[],5,0),IF($B1054=4,VLOOKUP(E$2,Table1[],5,0),0))))","v":1500000},{"$f":"IF($B1054=1,VLOOKUP(F$2,Table1[],3,0),IF($B1054=2,VLOOKUP(F$2,Table1[],4,0),IF($B1054=3,VLOOKUP(F$2,Table1[],5,0),IF($B1054=4,VLOOKUP(F$2,Table1[],5,0),0))))","v":800000}]
[5044,1,{"$f":"IF($B1055=1,VLOOKUP(C$2,Table1[],3,0),IF($B1055=2,VLOOKUP(C$2,Table1[],4,0),IF($B1055=3,VLOOKUP(C$2,Table1[],5,0),IF($B1055=4,VLOOKUP(C$2,Table1[],5,0),0))))","v":2000000},{"$f":"IF($B1055=1,VLOOKUP(D$2,Table1[],3,0),IF($B1055=2,VLOOKUP(D$2,Table1[],4,0),IF($B1055=3,VLOOKUP(D$2,Table1[],5,0),IF($B1055=4,VLOOKUP(D$2,Table1[],5,0),0))))","v":2000000},{"$f":"IF($B1055=1,VLOOKUP(E$2,Table1[],3,0),IF($B1055=2,VLOOKUP(E$2,Table1[],4,0),IF($B1055=3,VLOOKUP(E$2,Table1[],5,0),IF($B1055=4,VLOOKUP(E$2,Table1[],5,0),0))))","v":1500000},{"$f":"IF($B1055=1,VLOOKUP(F$2,Table1[],3,0),IF($B1055=2,VLOOKUP(F$2,Table1[],4,0),IF($B1055=3,VLOOKUP(F$2,Table1[],5,0),IF($B1055=4,VLOOKUP(F$2,Table1[],5,0),0))))","v":800000}]
[5045,1,{"$f":"IF($B1056=1,VLOOKUP(C$2,Table1[],3,0),IF($B1056=2,VLOOKUP(C$2,Table1[],4,0),IF($B1056=3,VLOOKUP(C$2,Table1[],5,0),IF($B1056=4,VLOOKUP(C$2,Table1[],5,0),0))))","v":2000000},{"$f":"IF($B1056=1,VLOOKUP(D$2,Table1[],3,0),IF($B1056=2,VLOOKUP(D$2,Table1[],4,0),IF($B1056=3,VLOOKUP(D$2,Table1[],5,0),IF($B1056=4,VLOOKUP(D$2,Table1[],5,0),0))))","v":2000000},{"$f":"IF($B1056=1,VLOOKUP(E$2,Table1[],3,0),IF($B1056=2,VLOOKUP(E$2,Table1[],4,0),IF($B1056=3,VLOOKUP(E$2,Table1[],5,0),IF($B1056=4,VLOOKUP(E$2,Table1[],5,0),0))))","v":1500000},{"$f":"IF($B1056=1,VLOOKUP(F$2,Table1[],3,0),IF($B1056=2,VLOOKUP(F$2,Table1[],4,0),IF($B1056=3,VLOOKUP(F$2,Table1[],5,0),IF($B1056=4,VLOOKUP(F$2,Table1[],5,0),0))))","v":800000}]
[5046,1,{"$f":"IF($B1057=1,VLOOKUP(C$2,Table1[],3,0),IF($B1057=2,VLOOKUP(C$2,Table1[],4,0),IF($B1057=3,VLOOKUP(C$2,Table1[],5,0),IF($B1057=4,VLOOKUP(C$2,Table1[],5,0),0))))","v":2000000},{"$f":"IF($B1057=1,VLOOKUP(D$2,Table1[],3,0),IF($B1057=2,VLOOKUP(D$2,Table1[],4,0),IF($B1057=3,VLOOKUP(D$2,Table1[],5,0),IF($B1057=4,VLOOKUP(D$2,Table1[],5,0),0))))","v":2000000},{"$f":"IF($B1057=1,VLOOKUP(E$2,Table1[],3,0),IF($B1057=2,VLOOKUP(E$2,Table1[],4,0),IF($B1057=3,VLOOKUP(E$2,Table1[],5,0),IF($B1057=4,VLOOKUP(E$2,Table1[],5,0),0))))","v":1500000},{"$f":"IF($B1057=1,VLOOKUP(F$2,Table1[],3,0),IF($B1057=2,VLOOKUP(F$2,Table1[],4,0),IF($B1057=3,VLOOKUP(F$2,Table1[],5,0),IF($B1057=4,VLOOKUP(F$2,Table1[],5,0),0))))","v":800000}]
[5047,1,{"$f":"IF($B1058=1,VLOOKUP(C$2,Table1[],3,0),IF($B1058=2,VLOOKUP(C$2,Table1[],4,0),IF($B1058=3,VLOOKUP(C$2,Table1[],5,0),IF($B1058=4,VLOOKUP(C$2,Table1[],5,0),0))))","v":2000000},{"$f":"IF($B1058=1,VLOOKUP(D$2,Table1[],3,0),IF($B1058=2,VLOOKUP(D$2,Table1[],4,0),IF($B1058=3,VLOOKUP(D$2,Table1[],5,0),IF($B1058=4,VLOOKUP(D$2,Table1[],5,0),0))))","v":2000000},{"$f":"IF($B1058=1,VLOOKUP(E$2,Table1[],3,0),IF($B1058=2,VLOOKUP(E$2,Table1[],4,0),IF($B1058=3,VLOOKUP(E$2,Table1[],5,0),IF($B1058=4,VLOOKUP(E$2,Table1[],5,0),0))))","v":1500000},{"$f":"IF($B1058=1,VLOOKUP(F$2,Table1[],3,0),IF($B1058=2,VLOOKUP(F$2,Table1[],4,0),IF($B1058=3,VLOOKUP(F$2,Table1[],5,0),IF($B1058=4,VLOOKUP(F$2,Table1[],5,0),0))))","v":800000}]
[5048,1,{"$f":"IF($B1059=1,VLOOKUP(C$2,Table1[],3,0),IF($B1059=2,VLOOKUP(C$2,Table1[],4,0),IF($B1059=3,VLOOKUP(C$2,Table1[],5,0),IF($B1059=4,VLOOKUP(C$2,Table1[],5,0),0))))","v":2000000},{"$f":"IF($B1059=1,VLOOKUP(D$2,Table1[],3,0),IF($B1059=2,VLOOKUP(D$2,Table1[],4,0),IF($B1059=3,VLOOKUP(D$2,Table1[],5,0),IF($B1059=4,VLOOKUP(D$2,Table1[],5,0),0))))","v":2000000},{"$f":"IF($B1059=1,VLOOKUP(E$2,Table1[],3,0),IF($B1059=2,VLOOKUP(E$2,Table1[],4,0),IF($B1059=3,VLOOKUP(E$2,Table1[],5,0),IF($B1059=4,VLOOKUP(E$2,Table1[],5,0),0))))","v":1500000},{"$f":"IF($B1059=1,VLOOKUP(F$2,Table1[],3,0),IF($B1059=2,VLOOKUP(F$2,Table1[],4,0),IF($B1059=3,VLOOKUP(F$2,Table1[],5,0),IF($B1059=4,VLOOKUP(F$2,Table1[],5,0),0))))","v":800000}]
[5049,1,{"$f":"IF($B1060=1,VLOOKUP(C$2,Table1[],3,0),IF($B1060=2,VLOOKUP(C$2,Table1[],4,0),IF($B1060=3,VLOOKUP(C$2,Table1[],5,0),IF($B1060=4,VLOOKUP(C$2,Table1[],5,0),0))))","v":2000000},{"$f":"IF($B1060=1,VLOOKUP(D$2,Table1[],3,0),IF($B1060=2,VLOOKUP(D$2,Table1[],4,0),IF($B1060=3,VLOOKUP(D$2,Table1[],5,0),IF($B1060=4,VLOOKUP(D$2,Table1[],5,0),0))))","v":2000000},{"$f":"IF($B1060=1,VLOOKUP(E$2,Table1[],3,0),IF($B1060=2,VLOOKUP(E$2,Table1[],4,0),IF($B1060=3,VLOOKUP(E$2,Table1[],5,0),IF($B1060=4,VLOOKUP(E$2,Table1[],5,0),0))))","v":1500000},{"$f":"IF($B1060=1,VLOOKUP(F$2,Table1[],3,0),IF($B1060=2,VLOOKUP(F$2,Table1[],4,0),IF($B1060=3,VLOOKUP(F$2,Table1[],5,0),IF($B1060=4,VLOOKUP(F$2,Table1[],5,0),0))))","v":800000}]
[5050,1,{"$f":"IF($B1061=1,VLOOKUP(C$2,Table1[],3,0),IF($B1061=2,VLOOKUP(C$2,Table1[],4,0),IF($B1061=3,VLOOKUP(C$2,Table1[],5,0),IF($B1061=4,VLOOKUP(C$2,Table1[],5,0),0))))","v":2000000},{"$f":"IF($B1061=1,VLOOKUP(D$2,Table1[],3,0),IF($B1061=2,VLOOKUP(D$2,Table1[],4,0),IF($B1061=3,VLOOKUP(D$2,Table1[],5,0),IF($B1061=4,VLOOKUP(D$2,Table1[],5,0),0))))","v":2000000},{"$f":"IF($B1061=1,VLOOKUP(E$2,Table1[],3,0),IF($B1061=2,VLOOKUP(E$2,Table1[],4,0),IF($B1061=3,VLOOKUP(E$2,Table1[],5,0),IF($B1061=4,VLOOKUP(E$2,Table1[],5,0),0))))","v":1500000},{"$f":"IF($B1061=1,VLOOKUP(F$2,Table1[],3,0),IF($B1061=2,VLOOKUP(F$2,Table1[],4,0),IF($B1061=3,VLOOKUP(F$2,Table1[],5,0),IF($B1061=4,VLOOKUP(F$2,Table1[],5,0),0))))","v":800000}]
[5051,1,{"$f":"IF($B1062=1,VLOOKUP(C$2,Table1[],3,0),IF($B1062=2,VLOOKUP(C$2,Table1[],4,0),IF($B1062=3,VLOOKUP(C$2,Table1[],5,0),IF($B1062=4,VLOOKUP(C$2,Table1[],5,0),0))))","v":2000000},{"$f":"IF($B1062=1,VLOOKUP(D$2,Table1[],3,0),IF($B1062=2,VLOOKUP(D$2,Table1[],4,0),IF($B1062=3,VLOOKUP(D$2,Table1[],5,0),IF($B1062=4,VLOOKUP(D$2,Table1[],5,0),0))))","v":2000000},{"$f":"IF($B1062=1,VLOOKUP(E$2,Table1[],3,0),IF($B1062=2,VLOOKUP(E$2,Table1[],4,0),IF($B1062=3,VLOOKUP(E$2,Table1[],5,0),IF($B1062=4,VLOOKUP(E$2,Table1[],5,0),0))))","v":1500000},{"$f":"IF($B1062=1,VLOOKUP(F$2,Table1[],3,0),IF($B1062=2,VLOOKUP(F$2,Table1[],4,0),IF($B1062=3,VLOOKUP(F$2,Table1[],5,0),IF($B1062=4,VLOOKUP(F$2,Table1[],5,0),0))))","v":800000}]
[5052,1,{"$f":"IF($B1063=1,VLOOKUP(C$2,Table1[],3,0),IF($B1063=2,VLOOKUP(C$2,Table1[],4,0),IF($B1063=3,VLOOKUP(C$2,Table1[],5,0),IF($B1063=4,VLOOKUP(C$2,Table1[],5,0),0))))","v":2000000},{"$f":"IF($B1063=1,VLOOKUP(D$2,Table1[],3,0),IF($B1063=2,VLOOKUP(D$2,Table1[],4,0),IF($B1063=3,VLOOKUP(D$2,Table1[],5,0),IF($B1063=4,VLOOKUP(D$2,Table1[],5,0),0))))","v":2000000},{"$f":"IF($B1063=1,VLOOKUP(E$2,Table1[],3,0),IF($B1063=2,VLOOKUP(E$2,Table1[],4,0),IF($B1063=3,VLOOKUP(E$2,Table1[],5,0),IF($B1063=4,VLOOKUP(E$2,Table1[],5,0),0))))","v":1500000},{"$f":"IF($B1063=1,VLOOKUP(F$2,Table1[],3,0),IF($B1063=2,VLOOKUP(F$2,Table1[],4,0),IF($B1063=3,VLOOKUP(F$2,Table1[],5,0),IF($B1063=4,VLOOKUP(F$2,Table1[],5,0),0))))","v":800000}]
[5061,1,{"$f":"IF($B1064=1,VLOOKUP(C$2,Table1[],3,0),IF($B1064=2,VLOOKUP(C$2,Table1[],4,0),IF($B1064=3,VLOOKUP(C$2,Table1[],5,0),IF($B1064=4,VLOOKUP(C$2,Table1[],5,0),0))))","v":2000000},{"$f":"IF($B1064=1,VLOOKUP(D$2,Table1[],3,0),IF($B1064=2,VLOOKUP(D$2,Table1[],4,0),IF($B1064=3,VLOOKUP(D$2,Table1[],5,0),IF($B1064=4,VLOOKUP(D$2,Table1[],5,0),0))))","v":2000000},{"$f":"IF($B1064=1,VLOOKUP(E$2,Table1[],3,0),IF($B1064=2,VLOOKUP(E$2,Table1[],4,0),IF($B1064=3,VLOOKUP(E$2,Table1[],5,0),IF($B1064=4,VLOOKUP(E$2,Table1[],5,0),0))))","v":1500000},{"$f":"IF($B1064=1,VLOOKUP(F$2,Table1[],3,0),IF($B1064=2,VLOOKUP(F$2,Table1[],4,0),IF($B1064=3,VLOOKUP(F$2,Table1[],5,0),IF($B1064=4,VLOOKUP(F$2,Table1[],5,0),0))))","v":800000}]
[5062,1,{"$f":"IF($B1065=1,VLOOKUP(C$2,Table1[],3,0),IF($B1065=2,VLOOKUP(C$2,Table1[],4,0),IF($B1065=3,VLOOKUP(C$2,Table1[],5,0),IF($B1065=4,VLOOKUP(C$2,Table1[],5,0),0))))","v":2000000},{"$f":"IF($B1065=1,VLOOKUP(D$2,Table1[],3,0),IF($B1065=2,VLOOKUP(D$2,Table1[],4,0),IF($B1065=3,VLOOKUP(D$2,Table1[],5,0),IF($B1065=4,VLOOKUP(D$2,Table1[],5,0),0))))","v":2000000},{"$f":"IF($B1065=1,VLOOKUP(E$2,Table1[],3,0),IF($B1065=2,VLOOKUP(E$2,Table1[],4,0),IF($B1065=3,VLOOKUP(E$2,Table1[],5,0),IF($B1065=4,VLOOKUP(E$2,Table1[],5,0),0))))","v":1500000},{"$f":"IF($B1065=1,VLOOKUP(F$2,Table1[],3,0),IF($B1065=2,VLOOKUP(F$2,Table1[],4,0),IF($B1065=3,VLOOKUP(F$2,Table1[],5,0),IF($B1065=4,VLOOKUP(F$2,Table1[],5,0),0))))","v":800000}]
[5063,1,{"$f":"IF($B1066=1,VLOOKUP(C$2,Table1[],3,0),IF($B1066=2,VLOOKUP(C$2,Table1[],4,0),IF($B1066=3,VLOOKUP(C$2,Table1[],5,0),IF($B1066=4,VLOOKUP(C$2,Table1[],5,0),0))))","v":2000000},{"$f":"IF($B1066=1,VLOOKUP(D$2,Table1[],3,0),IF($B1066=2,VLOOKUP(D$2,Table1[],4,0),IF($B1066=3,VLOOKUP(D$2,Table1[],5,0),IF($B1066=4,VLOOKUP(D$2,Table1[],5,0),0))))","v":2000000},{"$f":"IF($B1066=1,VLOOKUP(E$2,Table1[],3,0),IF($B1066=2,VLOOKUP(E$2,Table1[],4,0),IF($B1066=3,VLOOKUP(E$2,Table1[],5,0),IF($B1066=4,VLOOKUP(E$2,Table1[],5,0),0))))","v":1500000},{"$f":"IF($B1066=1,VLOOKUP(F$2,Table1[],3,0),IF($B1066=2,VLOOKUP(F$2,Table1[],4,0),IF($B1066=3,VLOOKUP(F$2,Table1[],5,0),IF($B1066=4,VLOOKUP(F$2,Table1[],5,0),0))))","v":800000}]
[5064,1,{"$f":"IF($B1067=1,VLOOKUP(C$2,Table1[],3,0),IF($B1067=2,VLOOKUP(C$2,Table1[],4,0),IF($B1067=3,VLOOKUP(C$2,Table1[],5,0),IF($B1067=4,VLOOKUP(C$2,Table1[],5,0),0))))","v":2000000},{"$f":"IF($B1067=1,VLOOKUP(D$2,Table1[],3,0),IF($B1067=2,VLOOKUP(D$2,Table1[],4,0),IF($B1067=3,VLOOKUP(D$2,Table1[],5,0),IF($B1067=4,VLOOKUP(D$2,Table1[],5,0),0))))","v":2000000},{"$f":"IF($B1067=1,VLOOKUP(E$2,Table1[],3,0),IF($B1067=2,VLOOKUP(E$2,Table1[],4,0),IF($B1067=3,VLOOKUP(E$2,Table1[],5,0),IF($B1067=4,VLOOKUP(E$2,Table1[],5,0),0))))","v":1500000},{"$f":"IF($B1067=1,VLOOKUP(F$2,Table1[],3,0),IF($B1067=2,VLOOKUP(F$2,Table1[],4,0),IF($B1067=3,VLOOKUP(F$2,Table1[],5,0),IF($B1067=4,VLOOKUP(F$2,Table1[],5,0),0))))","v":800000}]
[5065,1,{"$f":"IF($B1068=1,VLOOKUP(C$2,Table1[],3,0),IF($B1068=2,VLOOKUP(C$2,Table1[],4,0),IF($B1068=3,VLOOKUP(C$2,Table1[],5,0),IF($B1068=4,VLOOKUP(C$2,Table1[],5,0),0))))","v":2000000},{"$f":"IF($B1068=1,VLOOKUP(D$2,Table1[],3,0),IF($B1068=2,VLOOKUP(D$2,Table1[],4,0),IF($B1068=3,VLOOKUP(D$2,Table1[],5,0),IF($B1068=4,VLOOKUP(D$2,Table1[],5,0),0))))","v":2000000},{"$f":"IF($B1068=1,VLOOKUP(E$2,Table1[],3,0),IF($B1068=2,VLOOKUP(E$2,Table1[],4,0),IF($B1068=3,VLOOKUP(E$2,Table1[],5,0),IF($B1068=4,VLOOKUP(E$2,Table1[],5,0),0))))","v":1500000},{"$f":"IF($B1068=1,VLOOKUP(F$2,Table1[],3,0),IF($B1068=2,VLOOKUP(F$2,Table1[],4,0),IF($B1068=3,VLOOKUP(F$2,Table1[],5,0),IF($B1068=4,VLOOKUP(F$2,Table1[],5,0),0))))","v":800000}]
[5066,1,{"$f":"IF($B1069=1,VLOOKUP(C$2,Table1[],3,0),IF($B1069=2,VLOOKUP(C$2,Table1[],4,0),IF($B1069=3,VLOOKUP(C$2,Table1[],5,0),IF($B1069=4,VLOOKUP(C$2,Table1[],5,0),0))))","v":2000000},{"$f":"IF($B1069=1,VLOOKUP(D$2,Table1[],3,0),IF($B1069=2,VLOOKUP(D$2,Table1[],4,0),IF($B1069=3,VLOOKUP(D$2,Table1[],5,0),IF($B1069=4,VLOOKUP(D$2,Table1[],5,0),0))))","v":2000000},{"$f":"IF($B1069=1,VLOOKUP(E$2,Table1[],3,0),IF($B1069=2,VLOOKUP(E$2,Table1[],4,0),IF($B1069=3,VLOOKUP(E$2,Table1[],5,0),IF($B1069=4,VLOOKUP(E$2,Table1[],5,0),0))))","v":1500000},{"$f":"IF($B1069=1,VLOOKUP(F$2,Table1[],3,0),IF($B1069=2,VLOOKUP(F$2,Table1[],4,0),IF($B1069=3,VLOOKUP(F$2,Table1[],5,0),IF($B1069=4,VLOOKUP(F$2,Table1[],5,0),0))))","v":800000}]
[5067,1,{"$f":"IF($B1070=1,VLOOKUP(C$2,Table1[],3,0),IF($B1070=2,VLOOKUP(C$2,Table1[],4,0),IF($B1070=3,VLOOKUP(C$2,Table1[],5,0),IF($B1070=4,VLOOKUP(C$2,Table1[],5,0),0))))","v":2000000},{"$f":"IF($B1070=1,VLOOKUP(D$2,Table1[],3,0),IF($B1070=2,VLOOKUP(D$2,Table1[],4,0),IF($B1070=3,VLOOKUP(D$2,Table1[],5,0),IF($B1070=4,VLOOKUP(D$2,Table1[],5,0),0))))","v":2000000},{"$f":"IF($B1070=1,VLOOKUP(E$2,Table1[],3,0),IF($B1070=2,VLOOKUP(E$2,Table1[],4,0),IF($B1070=3,VLOOKUP(E$2,Table1[],5,0),IF($B1070=4,VLOOKUP(E$2,Table1[],5,0),0))))","v":1500000},{"$f":"IF($B1070=1,VLOOKUP(F$2,Table1[],3,0),IF($B1070=2,VLOOKUP(F$2,Table1[],4,0),IF($B1070=3,VLOOKUP(F$2,Table1[],5,0),IF($B1070=4,VLOOKUP(F$2,Table1[],5,0),0))))","v":800000}]
[5068,1,{"$f":"IF($B1071=1,VLOOKUP(C$2,Table1[],3,0),IF($B1071=2,VLOOKUP(C$2,Table1[],4,0),IF($B1071=3,VLOOKUP(C$2,Table1[],5,0),IF($B1071=4,VLOOKUP(C$2,Table1[],5,0),0))))","v":2000000},{"$f":"IF($B1071=1,VLOOKUP(D$2,Table1[],3,0),IF($B1071=2,VLOOKUP(D$2,Table1[],4,0),IF($B1071=3,VLOOKUP(D$2,Table1[],5,0),IF($B1071=4,VLOOKUP(D$2,Table1[],5,0),0))))","v":2000000},{"$f":"IF($B1071=1,VLOOKUP(E$2,Table1[],3,0),IF($B1071=2,VLOOKUP(E$2,Table1[],4,0),IF($B1071=3,VLOOKUP(E$2,Table1[],5,0),IF($B1071=4,VLOOKUP(E$2,Table1[],5,0),0))))","v":1500000},{"$f":"IF($B1071=1,VLOOKUP(F$2,Table1[],3,0),IF($B1071=2,VLOOKUP(F$2,Table1[],4,0),IF($B1071=3,VLOOKUP(F$2,Table1[],5,0),IF($B1071=4,VLOOKUP(F$2,Table1[],5,0),0))))","v":800000}]
[5069,1,{"$f":"IF($B1072=1,VLOOKUP(C$2,Table1[],3,0),IF($B1072=2,VLOOKUP(C$2,Table1[],4,0),IF($B1072=3,VLOOKUP(C$2,Table1[],5,0),IF($B1072=4,VLOOKUP(C$2,Table1[],5,0),0))))","v":2000000},{"$f":"IF($B1072=1,VLOOKUP(D$2,Table1[],3,0),IF($B1072=2,VLOOKUP(D$2,Table1[],4,0),IF($B1072=3,VLOOKUP(D$2,Table1[],5,0),IF($B1072=4,VLOOKUP(D$2,Table1[],5,0),0))))","v":2000000},{"$f":"IF($B1072=1,VLOOKUP(E$2,Table1[],3,0),IF($B1072=2,VLOOKUP(E$2,Table1[],4,0),IF($B1072=3,VLOOKUP(E$2,Table1[],5,0),IF($B1072=4,VLOOKUP(E$2,Table1[],5,0),0))))","v":1500000},{"$f":"IF($B1072=1,VLOOKUP(F$2,Table1[],3,0),IF($B1072=2,VLOOKUP(F$2,Table1[],4,0),IF($B1072=3,VLOOKUP(F$2,Table1[],5,0),IF($B1072=4,VLOOKUP(F$2,Table1[],5,0),0))))","v":800000}]
[5070,1,{"$f":"IF($B1073=1,VLOOKUP(C$2,Table1[],3,0),IF($B1073=2,VLOOKUP(C$2,Table1[],4,0),IF($B1073=3,VLOOKUP(C$2,Table1[],5,0),IF($B1073=4,VLOOKUP(C$2,Table1[],5,0),0))))","v":2000000},{"$f":"IF($B1073=1,VLOOKUP(D$2,Table1[],3,0),IF($B1073=2,VLOOKUP(D$2,Table1[],4,0),IF($B1073=3,VLOOKUP(D$2,Table1[],5,0),IF($B1073=4,VLOOKUP(D$2,Table1[],5,0),0))))","v":2000000},{"$f":"IF($B1073=1,VLOOKUP(E$2,Table1[],3,0),IF($B1073=2,VLOOKUP(E$2,Table1[],4,0),IF($B1073=3,VLOOKUP(E$2,Table1[],5,0),IF($B1073=4,VLOOKUP(E$2,Table1[],5,0),0))))","v":1500000},{"$f":"IF($B1073=1,VLOOKUP(F$2,Table1[],3,0),IF($B1073=2,VLOOKUP(F$2,Table1[],4,0),IF($B1073=3,VLOOKUP(F$2,Table1[],5,0),IF($B1073=4,VLOOKUP(F$2,Table1[],5,0),0))))","v":800000}]
[5072,1,{"$f":"IF($B1074=1,VLOOKUP(C$2,Table1[],3,0),IF($B1074=2,VLOOKUP(C$2,Table1[],4,0),IF($B1074=3,VLOOKUP(C$2,Table1[],5,0),IF($B1074=4,VLOOKUP(C$2,Table1[],5,0),0))))","v":2000000},{"$f":"IF($B1074=1,VLOOKUP(D$2,Table1[],3,0),IF($B1074=2,VLOOKUP(D$2,Table1[],4,0),IF($B1074=3,VLOOKUP(D$2,Table1[],5,0),IF($B1074=4,VLOOKUP(D$2,Table1[],5,0),0))))","v":2000000},{"$f":"IF($B1074=1,VLOOKUP(E$2,Table1[],3,0),IF($B1074=2,VLOOKUP(E$2,Table1[],4,0),IF($B1074=3,VLOOKUP(E$2,Table1[],5,0),IF($B1074=4,VLOOKUP(E$2,Table1[],5,0),0))))","v":1500000},{"$f":"IF($B1074=1,VLOOKUP(F$2,Table1[],3,0),IF($B1074=2,VLOOKUP(F$2,Table1[],4,0),IF($B1074=3,VLOOKUP(F$2,Table1[],5,0),IF($B1074=4,VLOOKUP(F$2,Table1[],5,0),0))))","v":800000}]
[5073,1,{"$f":"IF($B1075=1,VLOOKUP(C$2,Table1[],3,0),IF($B1075=2,VLOOKUP(C$2,Table1[],4,0),IF($B1075=3,VLOOKUP(C$2,Table1[],5,0),IF($B1075=4,VLOOKUP(C$2,Table1[],5,0),0))))","v":2000000},{"$f":"IF($B1075=1,VLOOKUP(D$2,Table1[],3,0),IF($B1075=2,VLOOKUP(D$2,Table1[],4,0),IF($B1075=3,VLOOKUP(D$2,Table1[],5,0),IF($B1075=4,VLOOKUP(D$2,Table1[],5,0),0))))","v":2000000},{"$f":"IF($B1075=1,VLOOKUP(E$2,Table1[],3,0),IF($B1075=2,VLOOKUP(E$2,Table1[],4,0),IF($B1075=3,VLOOKUP(E$2,Table1[],5,0),IF($B1075=4,VLOOKUP(E$2,Table1[],5,0),0))))","v":1500000},{"$f":"IF($B1075=1,VLOOKUP(F$2,Table1[],3,0),IF($B1075=2,VLOOKUP(F$2,Table1[],4,0),IF($B1075=3,VLOOKUP(F$2,Table1[],5,0),IF($B1075=4,VLOOKUP(F$2,Table1[],5,0),0))))","v":800000}]
[5074,1,{"$f":"IF($B1076=1,VLOOKUP(C$2,Table1[],3,0),IF($B1076=2,VLOOKUP(C$2,Table1[],4,0),IF($B1076=3,VLOOKUP(C$2,Table1[],5,0),IF($B1076=4,VLOOKUP(C$2,Table1[],5,0),0))))","v":2000000},{"$f":"IF($B1076=1,VLOOKUP(D$2,Table1[],3,0),IF($B1076=2,VLOOKUP(D$2,Table1[],4,0),IF($B1076=3,VLOOKUP(D$2,Table1[],5,0),IF($B1076=4,VLOOKUP(D$2,Table1[],5,0),0))))","v":2000000},{"$f":"IF($B1076=1,VLOOKUP(E$2,Table1[],3,0),IF($B1076=2,VLOOKUP(E$2,Table1[],4,0),IF($B1076=3,VLOOKUP(E$2,Table1[],5,0),IF($B1076=4,VLOOKUP(E$2,Table1[],5,0),0))))","v":1500000},{"$f":"IF($B1076=1,VLOOKUP(F$2,Table1[],3,0),IF($B1076=2,VLOOKUP(F$2,Table1[],4,0),IF($B1076=3,VLOOKUP(F$2,Table1[],5,0),IF($B1076=4,VLOOKUP(F$2,Table1[],5,0),0))))","v":800000}]
[5075,1,{"$f":"IF($B1077=1,VLOOKUP(C$2,Table1[],3,0),IF($B1077=2,VLOOKUP(C$2,Table1[],4,0),IF($B1077=3,VLOOKUP(C$2,Table1[],5,0),IF($B1077=4,VLOOKUP(C$2,Table1[],5,0),0))))","v":2000000},{"$f":"IF($B1077=1,VLOOKUP(D$2,Table1[],3,0),IF($B1077=2,VLOOKUP(D$2,Table1[],4,0),IF($B1077=3,VLOOKUP(D$2,Table1[],5,0),IF($B1077=4,VLOOKUP(D$2,Table1[],5,0),0))))","v":2000000},{"$f":"IF($B1077=1,VLOOKUP(E$2,Table1[],3,0),IF($B1077=2,VLOOKUP(E$2,Table1[],4,0),IF($B1077=3,VLOOKUP(E$2,Table1[],5,0),IF($B1077=4,VLOOKUP(E$2,Table1[],5,0),0))))","v":1500000},{"$f":"IF($B1077=1,VLOOKUP(F$2,Table1[],3,0),IF($B1077=2,VLOOKUP(F$2,Table1[],4,0),IF($B1077=3,VLOOKUP(F$2,Table1[],5,0),IF($B1077=4,VLOOKUP(F$2,Table1[],5,0),0))))","v":800000}]
[5076,1,{"$f":"IF($B1078=1,VLOOKUP(C$2,Table1[],3,0),IF($B1078=2,VLOOKUP(C$2,Table1[],4,0),IF($B1078=3,VLOOKUP(C$2,Table1[],5,0),IF($B1078=4,VLOOKUP(C$2,Table1[],5,0),0))))","v":2000000},{"$f":"IF($B1078=1,VLOOKUP(D$2,Table1[],3,0),IF($B1078=2,VLOOKUP(D$2,Table1[],4,0),IF($B1078=3,VLOOKUP(D$2,Table1[],5,0),IF($B1078=4,VLOOKUP(D$2,Table1[],5,0),0))))","v":2000000},{"$f":"IF($B1078=1,VLOOKUP(E$2,Table1[],3,0),IF($B1078=2,VLOOKUP(E$2,Table1[],4,0),IF($B1078=3,VLOOKUP(E$2,Table1[],5,0),IF($B1078=4,VLOOKUP(E$2,Table1[],5,0),0))))","v":1500000},{"$f":"IF($B1078=1,VLOOKUP(F$2,Table1[],3,0),IF($B1078=2,VLOOKUP(F$2,Table1[],4,0),IF($B1078=3,VLOOKUP(F$2,Table1[],5,0),IF($B1078=4,VLOOKUP(F$2,Table1[],5,0),0))))","v":800000}]
[5081,1,{"$f":"IF($B1079=1,VLOOKUP(C$2,Table1[],3,0),IF($B1079=2,VLOOKUP(C$2,Table1[],4,0),IF($B1079=3,VLOOKUP(C$2,Table1[],5,0),IF($B1079=4,VLOOKUP(C$2,Table1[],5,0),0))))","v":2000000},{"$f":"IF($B1079=1,VLOOKUP(D$2,Table1[],3,0),IF($B1079=2,VLOOKUP(D$2,Table1[],4,0),IF($B1079=3,VLOOKUP(D$2,Table1[],5,0),IF($B1079=4,VLOOKUP(D$2,Table1[],5,0),0))))","v":2000000},{"$f":"IF($B1079=1,VLOOKUP(E$2,Table1[],3,0),IF($B1079=2,VLOOKUP(E$2,Table1[],4,0),IF($B1079=3,VLOOKUP(E$2,Table1[],5,0),IF($B1079=4,VLOOKUP(E$2,Table1[],5,0),0))))","v":1500000},{"$f":"IF($B1079=1,VLOOKUP(F$2,Table1[],3,0),IF($B1079=2,VLOOKUP(F$2,Table1[],4,0),IF($B1079=3,VLOOKUP(F$2,Table1[],5,0),IF($B1079=4,VLOOKUP(F$2,Table1[],5,0),0))))","v":800000}]
[5082,1,{"$f":"IF($B1080=1,VLOOKUP(C$2,Table1[],3,0),IF($B1080=2,VLOOKUP(C$2,Table1[],4,0),IF($B1080=3,VLOOKUP(C$2,Table1[],5,0),IF($B1080=4,VLOOKUP(C$2,Table1[],5,0),0))))","v":2000000},{"$f":"IF($B1080=1,VLOOKUP(D$2,Table1[],3,0),IF($B1080=2,VLOOKUP(D$2,Table1[],4,0),IF($B1080=3,VLOOKUP(D$2,Table1[],5,0),IF($B1080=4,VLOOKUP(D$2,Table1[],5,0),0))))","v":2000000},{"$f":"IF($B1080=1,VLOOKUP(E$2,Table1[],3,0),IF($B1080=2,VLOOKUP(E$2,Table1[],4,0),IF($B1080=3,VLOOKUP(E$2,Table1[],5,0),IF($B1080=4,VLOOKUP(E$2,Table1[],5,0),0))))","v":1500000},{"$f":"IF($B1080=1,VLOOKUP(F$2,Table1[],3,0),IF($B1080=2,VLOOKUP(F$2,Table1[],4,0),IF($B1080=3,VLOOKUP(F$2,Table1[],5,0),IF($B1080=4,VLOOKUP(F$2,Table1[],5,0),0))))","v":800000}]
[5083,1,{"$f":"IF($B1081=1,VLOOKUP(C$2,Table1[],3,0),IF($B1081=2,VLOOKUP(C$2,Table1[],4,0),IF($B1081=3,VLOOKUP(C$2,Table1[],5,0),IF($B1081=4,VLOOKUP(C$2,Table1[],5,0),0))))","v":2000000},{"$f":"IF($B1081=1,VLOOKUP(D$2,Table1[],3,0),IF($B1081=2,VLOOKUP(D$2,Table1[],4,0),IF($B1081=3,VLOOKUP(D$2,Table1[],5,0),IF($B1081=4,VLOOKUP(D$2,Table1[],5,0),0))))","v":2000000},{"$f":"IF($B1081=1,VLOOKUP(E$2,Table1[],3,0),IF($B1081=2,VLOOKUP(E$2,Table1[],4,0),IF($B1081=3,VLOOKUP(E$2,Table1[],5,0),IF($B1081=4,VLOOKUP(E$2,Table1[],5,0),0))))","v":1500000},{"$f":"IF($B1081=1,VLOOKUP(F$2,Table1[],3,0),IF($B1081=2,VLOOKUP(F$2,Table1[],4,0),IF($B1081=3,VLOOKUP(F$2,Table1[],5,0),IF($B1081=4,VLOOKUP(F$2,Table1[],5,0),0))))","v":800000}]
[5084,1,{"$f":"IF($B1082=1,VLOOKUP(C$2,Table1[],3,0),IF($B1082=2,VLOOKUP(C$2,Table1[],4,0),IF($B1082=3,VLOOKUP(C$2,Table1[],5,0),IF($B1082=4,VLOOKUP(C$2,Table1[],5,0),0))))","v":2000000},{"$f":"IF($B1082=1,VLOOKUP(D$2,Table1[],3,0),IF($B1082=2,VLOOKUP(D$2,Table1[],4,0),IF($B1082=3,VLOOKUP(D$2,Table1[],5,0),IF($B1082=4,VLOOKUP(D$2,Table1[],5,0),0))))","v":2000000},{"$f":"IF($B1082=1,VLOOKUP(E$2,Table1[],3,0),IF($B1082=2,VLOOKUP(E$2,Table1[],4,0),IF($B1082=3,VLOOKUP(E$2,Table1[],5,0),IF($B1082=4,VLOOKUP(E$2,Table1[],5,0),0))))","v":1500000},{"$f":"IF($B1082=1,VLOOKUP(F$2,Table1[],3,0),IF($B1082=2,VLOOKUP(F$2,Table1[],4,0),IF($B1082=3,VLOOKUP(F$2,Table1[],5,0),IF($B1082=4,VLOOKUP(F$2,Table1[],5,0),0))))","v":800000}]
[5085,1,{"$f":"IF($B1083=1,VLOOKUP(C$2,Table1[],3,0),IF($B1083=2,VLOOKUP(C$2,Table1[],4,0),IF($B1083=3,VLOOKUP(C$2,Table1[],5,0),IF($B1083=4,VLOOKUP(C$2,Table1[],5,0),0))))","v":2000000},{"$f":"IF($B1083=1,VLOOKUP(D$2,Table1[],3,0),IF($B1083=2,VLOOKUP(D$2,Table1[],4,0),IF($B1083=3,VLOOKUP(D$2,Table1[],5,0),IF($B1083=4,VLOOKUP(D$2,Table1[],5,0),0))))","v":2000000},{"$f":"IF($B1083=1,VLOOKUP(E$2,Table1[],3,0),IF($B1083=2,VLOOKUP(E$2,Table1[],4,0),IF($B1083=3,VLOOKUP(E$2,Table1[],5,0),IF($B1083=4,VLOOKUP(E$2,Table1[],5,0),0))))","v":1500000},{"$f":"IF($B1083=1,VLOOKUP(F$2,Table1[],3,0),IF($B1083=2,VLOOKUP(F$2,Table1[],4,0),IF($B1083=3,VLOOKUP(F$2,Table1[],5,0),IF($B1083=4,VLOOKUP(F$2,Table1[],5,0),0))))","v":800000}]
[5086,1,{"$f":"IF($B1084=1,VLOOKUP(C$2,Table1[],3,0),IF($B1084=2,VLOOKUP(C$2,Table1[],4,0),IF($B1084=3,VLOOKUP(C$2,Table1[],5,0),IF($B1084=4,VLOOKUP(C$2,Table1[],5,0),0))))","v":2000000},{"$f":"IF($B1084=1,VLOOKUP(D$2,Table1[],3,0),IF($B1084=2,VLOOKUP(D$2,Table1[],4,0),IF($B1084=3,VLOOKUP(D$2,Table1[],5,0),IF($B1084=4,VLOOKUP(D$2,Table1[],5,0),0))))","v":2000000},{"$f":"IF($B1084=1,VLOOKUP(E$2,Table1[],3,0),IF($B1084=2,VLOOKUP(E$2,Table1[],4,0),IF($B1084=3,VLOOKUP(E$2,Table1[],5,0),IF($B1084=4,VLOOKUP(E$2,Table1[],5,0),0))))","v":1500000},{"$f":"IF($B1084=1,VLOOKUP(F$2,Table1[],3,0),IF($B1084=2,VLOOKUP(F$2,Table1[],4,0),IF($B1084=3,VLOOKUP(F$2,Table1[],5,0),IF($B1084=4,VLOOKUP(F$2,Table1[],5,0),0))))","v":800000}]
[5087,1,{"$f":"IF($B1085=1,VLOOKUP(C$2,Table1[],3,0),IF($B1085=2,VLOOKUP(C$2,Table1[],4,0),IF($B1085=3,VLOOKUP(C$2,Table1[],5,0),IF($B1085=4,VLOOKUP(C$2,Table1[],5,0),0))))","v":2000000},{"$f":"IF($B1085=1,VLOOKUP(D$2,Table1[],3,0),IF($B1085=2,VLOOKUP(D$2,Table1[],4,0),IF($B1085=3,VLOOKUP(D$2,Table1[],5,0),IF($B1085=4,VLOOKUP(D$2,Table1[],5,0),0))))","v":2000000},{"$f":"IF($B1085=1,VLOOKUP(E$2,Table1[],3,0),IF($B1085=2,VLOOKUP(E$2,Table1[],4,0),IF($B1085=3,VLOOKUP(E$2,Table1[],5,0),IF($B1085=4,VLOOKUP(E$2,Table1[],5,0),0))))","v":1500000},{"$f":"IF($B1085=1,VLOOKUP(F$2,Table1[],3,0),IF($B1085=2,VLOOKUP(F$2,Table1[],4,0),IF($B1085=3,VLOOKUP(F$2,Table1[],5,0),IF($B1085=4,VLOOKUP(F$2,Table1[],5,0),0))))","v":800000}]
[5088,1,{"$f":"IF($B1086=1,VLOOKUP(C$2,Table1[],3,0),IF($B1086=2,VLOOKUP(C$2,Table1[],4,0),IF($B1086=3,VLOOKUP(C$2,Table1[],5,0),IF($B1086=4,VLOOKUP(C$2,Table1[],5,0),0))))","v":2000000},{"$f":"IF($B1086=1,VLOOKUP(D$2,Table1[],3,0),IF($B1086=2,VLOOKUP(D$2,Table1[],4,0),IF($B1086=3,VLOOKUP(D$2,Table1[],5,0),IF($B1086=4,VLOOKUP(D$2,Table1[],5,0),0))))","v":2000000},{"$f":"IF($B1086=1,VLOOKUP(E$2,Table1[],3,0),IF($B1086=2,VLOOKUP(E$2,Table1[],4,0),IF($B1086=3,VLOOKUP(E$2,Table1[],5,0),IF($B1086=4,VLOOKUP(E$2,Table1[],5,0),0))))","v":1500000},{"$f":"IF($B1086=1,VLOOKUP(F$2,Table1[],3,0),IF($B1086=2,VLOOKUP(F$2,Table1[],4,0),IF($B1086=3,VLOOKUP(F$2,Table1[],5,0),IF($B1086=4,VLOOKUP(F$2,Table1[],5,0),0))))","v":800000}]
[5089,1,{"$f":"IF($B1087=1,VLOOKUP(C$2,Table1[],3,0),IF($B1087=2,VLOOKUP(C$2,Table1[],4,0),IF($B1087=3,VLOOKUP(C$2,Table1[],5,0),IF($B1087=4,VLOOKUP(C$2,Table1[],5,0),0))))","v":2000000},{"$f":"IF($B1087=1,VLOOKUP(D$2,Table1[],3,0),IF($B1087=2,VLOOKUP(D$2,Table1[],4,0),IF($B1087=3,VLOOKUP(D$2,Table1[],5,0),IF($B1087=4,VLOOKUP(D$2,Table1[],5,0),0))))","v":2000000},{"$f":"IF($B1087=1,VLOOKUP(E$2,Table1[],3,0),IF($B1087=2,VLOOKUP(E$2,Table1[],4,0),IF($B1087=3,VLOOKUP(E$2,Table1[],5,0),IF($B1087=4,VLOOKUP(E$2,Table1[],5,0),0))))","v":1500000},{"$f":"IF($B1087=1,VLOOKUP(F$2,Table1[],3,0),IF($B1087=2,VLOOKUP(F$2,Table1[],4,0),IF($B1087=3,VLOOKUP(F$2,Table1[],5,0),IF($B1087=4,VLOOKUP(F$2,Table1[],5,0),0))))","v":800000}]
[5090,1,{"$f":"IF($B1088=1,VLOOKUP(C$2,Table1[],3,0),IF($B1088=2,VLOOKUP(C$2,Table1[],4,0),IF($B1088=3,VLOOKUP(C$2,Table1[],5,0),IF($B1088=4,VLOOKUP(C$2,Table1[],5,0),0))))","v":2000000},{"$f":"IF($B1088=1,VLOOKUP(D$2,Table1[],3,0),IF($B1088=2,VLOOKUP(D$2,Table1[],4,0),IF($B1088=3,VLOOKUP(D$2,Table1[],5,0),IF($B1088=4,VLOOKUP(D$2,Table1[],5,0),0))))","v":2000000},{"$f":"IF($B1088=1,VLOOKUP(E$2,Table1[],3,0),IF($B1088=2,VLOOKUP(E$2,Table1[],4,0),IF($B1088=3,VLOOKUP(E$2,Table1[],5,0),IF($B1088=4,VLOOKUP(E$2,Table1[],5,0),0))))","v":1500000},{"$f":"IF($B1088=1,VLOOKUP(F$2,Table1[],3,0),IF($B1088=2,VLOOKUP(F$2,Table1[],4,0),IF($B1088=3,VLOOKUP(F$2,Table1[],5,0),IF($B1088=4,VLOOKUP(F$2,Table1[],5,0),0))))","v":800000}]
[5091,1,{"$f":"IF($B1089=1,VLOOKUP(C$2,Table1[],3,0),IF($B1089=2,VLOOKUP(C$2,Table1[],4,0),IF($B1089=3,VLOOKUP(C$2,Table1[],5,0),IF($B1089=4,VLOOKUP(C$2,Table1[],5,0),0))))","v":2000000},{"$f":"IF($B1089=1,VLOOKUP(D$2,Table1[],3,0),IF($B1089=2,VLOOKUP(D$2,Table1[],4,0),IF($B1089=3,VLOOKUP(D$2,Table1[],5,0),IF($B1089=4,VLOOKUP(D$2,Table1[],5,0),0))))","v":2000000},{"$f":"IF($B1089=1,VLOOKUP(E$2,Table1[],3,0),IF($B1089=2,VLOOKUP(E$2,Table1[],4,0),IF($B1089=3,VLOOKUP(E$2,Table1[],5,0),IF($B1089=4,VLOOKUP(E$2,Table1[],5,0),0))))","v":1500000},{"$f":"IF($B1089=1,VLOOKUP(F$2,Table1[],3,0),IF($B1089=2,VLOOKUP(F$2,Table1[],4,0),IF($B1089=3,VLOOKUP(F$2,Table1[],5,0),IF($B1089=4,VLOOKUP(F$2,Table1[],5,0),0))))","v":800000}]
[5092,1,{"$f":"IF($B1090=1,VLOOKUP(C$2,Table1[],3,0),IF($B1090=2,VLOOKUP(C$2,Table1[],4,0),IF($B1090=3,VLOOKUP(C$2,Table1[],5,0),IF($B1090=4,VLOOKUP(C$2,Table1[],5,0),0))))","v":2000000},{"$f":"IF($B1090=1,VLOOKUP(D$2,Table1[],3,0),IF($B1090=2,VLOOKUP(D$2,Table1[],4,0),IF($B1090=3,VLOOKUP(D$2,Table1[],5,0),IF($B1090=4,VLOOKUP(D$2,Table1[],5,0),0))))","v":2000000},{"$f":"IF($B1090=1,VLOOKUP(E$2,Table1[],3,0),IF($B1090=2,VLOOKUP(E$2,Table1[],4,0),IF($B1090=3,VLOOKUP(E$2,Table1[],5,0),IF($B1090=4,VLOOKUP(E$2,Table1[],5,0),0))))","v":1500000},{"$f":"IF($B1090=1,VLOOKUP(F$2,Table1[],3,0),IF($B1090=2,VLOOKUP(F$2,Table1[],4,0),IF($B1090=3,VLOOKUP(F$2,Table1[],5,0),IF($B1090=4,VLOOKUP(F$2,Table1[],5,0),0))))","v":800000}]
[5093,1,{"$f":"IF($B1091=1,VLOOKUP(C$2,Table1[],3,0),IF($B1091=2,VLOOKUP(C$2,Table1[],4,0),IF($B1091=3,VLOOKUP(C$2,Table1[],5,0),IF($B1091=4,VLOOKUP(C$2,Table1[],5,0),0))))","v":2000000},{"$f":"IF($B1091=1,VLOOKUP(D$2,Table1[],3,0),IF($B1091=2,VLOOKUP(D$2,Table1[],4,0),IF($B1091=3,VLOOKUP(D$2,Table1[],5,0),IF($B1091=4,VLOOKUP(D$2,Table1[],5,0),0))))","v":2000000},{"$f":"IF($B1091=1,VLOOKUP(E$2,Table1[],3,0),IF($B1091=2,VLOOKUP(E$2,Table1[],4,0),IF($B1091=3,VLOOKUP(E$2,Table1[],5,0),IF($B1091=4,VLOOKUP(E$2,Table1[],5,0),0))))","v":1500000},{"$f":"IF($B1091=1,VLOOKUP(F$2,Table1[],3,0),IF($B1091=2,VLOOKUP(F$2,Table1[],4,0),IF($B1091=3,VLOOKUP(F$2,Table1[],5,0),IF($B1091=4,VLOOKUP(F$2,Table1[],5,0),0))))","v":800000}]
[5094,1,{"$f":"IF($B1092=1,VLOOKUP(C$2,Table1[],3,0),IF($B1092=2,VLOOKUP(C$2,Table1[],4,0),IF($B1092=3,VLOOKUP(C$2,Table1[],5,0),IF($B1092=4,VLOOKUP(C$2,Table1[],5,0),0))))","v":2000000},{"$f":"IF($B1092=1,VLOOKUP(D$2,Table1[],3,0),IF($B1092=2,VLOOKUP(D$2,Table1[],4,0),IF($B1092=3,VLOOKUP(D$2,Table1[],5,0),IF($B1092=4,VLOOKUP(D$2,Table1[],5,0),0))))","v":2000000},{"$f":"IF($B1092=1,VLOOKUP(E$2,Table1[],3,0),IF($B1092=2,VLOOKUP(E$2,Table1[],4,0),IF($B1092=3,VLOOKUP(E$2,Table1[],5,0),IF($B1092=4,VLOOKUP(E$2,Table1[],5,0),0))))","v":1500000},{"$f":"IF($B1092=1,VLOOKUP(F$2,Table1[],3,0),IF($B1092=2,VLOOKUP(F$2,Table1[],4,0),IF($B1092=3,VLOOKUP(F$2,Table1[],5,0),IF($B1092=4,VLOOKUP(F$2,Table1[],5,0),0))))","v":800000}]
[5095,1,{"$f":"IF($B1093=1,VLOOKUP(C$2,Table1[],3,0),IF($B1093=2,VLOOKUP(C$2,Table1[],4,0),IF($B1093=3,VLOOKUP(C$2,Table1[],5,0),IF($B1093=4,VLOOKUP(C$2,Table1[],5,0),0))))","v":2000000},{"$f":"IF($B1093=1,VLOOKUP(D$2,Table1[],3,0),IF($B1093=2,VLOOKUP(D$2,Table1[],4,0),IF($B1093=3,VLOOKUP(D$2,Table1[],5,0),IF($B1093=4,VLOOKUP(D$2,Table1[],5,0),0))))","v":2000000},{"$f":"IF($B1093=1,VLOOKUP(E$2,Table1[],3,0),IF($B1093=2,VLOOKUP(E$2,Table1[],4,0),IF($B1093=3,VLOOKUP(E$2,Table1[],5,0),IF($B1093=4,VLOOKUP(E$2,Table1[],5,0),0))))","v":1500000},{"$f":"IF($B1093=1,VLOOKUP(F$2,Table1[],3,0),IF($B1093=2,VLOOKUP(F$2,Table1[],4,0),IF($B1093=3,VLOOKUP(F$2,Table1[],5,0),IF($B1093=4,VLOOKUP(F$2,Table1[],5,0),0))))","v":800000}]
[5096,1,{"$f":"IF($B1094=1,VLOOKUP(C$2,Table1[],3,0),IF($B1094=2,VLOOKUP(C$2,Table1[],4,0),IF($B1094=3,VLOOKUP(C$2,Table1[],5,0),IF($B1094=4,VLOOKUP(C$2,Table1[],5,0),0))))","v":2000000},{"$f":"IF($B1094=1,VLOOKUP(D$2,Table1[],3,0),IF($B1094=2,VLOOKUP(D$2,Table1[],4,0),IF($B1094=3,VLOOKUP(D$2,Table1[],5,0),IF($B1094=4,VLOOKUP(D$2,Table1[],5,0),0))))","v":2000000},{"$f":"IF($B1094=1,VLOOKUP(E$2,Table1[],3,0),IF($B1094=2,VLOOKUP(E$2,Table1[],4,0),IF($B1094=3,VLOOKUP(E$2,Table1[],5,0),IF($B1094=4,VLOOKUP(E$2,Table1[],5,0),0))))","v":1500000},{"$f":"IF($B1094=1,VLOOKUP(F$2,Table1[],3,0),IF($B1094=2,VLOOKUP(F$2,Table1[],4,0),IF($B1094=3,VLOOKUP(F$2,Table1[],5,0),IF($B1094=4,VLOOKUP(F$2,Table1[],5,0),0))))","v":800000}]
[5097,1,{"$f":"IF($B1095=1,VLOOKUP(C$2,Table1[],3,0),IF($B1095=2,VLOOKUP(C$2,Table1[],4,0),IF($B1095=3,VLOOKUP(C$2,Table1[],5,0),IF($B1095=4,VLOOKUP(C$2,Table1[],5,0),0))))","v":2000000},{"$f":"IF($B1095=1,VLOOKUP(D$2,Table1[],3,0),IF($B1095=2,VLOOKUP(D$2,Table1[],4,0),IF($B1095=3,VLOOKUP(D$2,Table1[],5,0),IF($B1095=4,VLOOKUP(D$2,Table1[],5,0),0))))","v":2000000},{"$f":"IF($B1095=1,VLOOKUP(E$2,Table1[],3,0),IF($B1095=2,VLOOKUP(E$2,Table1[],4,0),IF($B1095=3,VLOOKUP(E$2,Table1[],5,0),IF($B1095=4,VLOOKUP(E$2,Table1[],5,0),0))))","v":1500000},{"$f":"IF($B1095=1,VLOOKUP(F$2,Table1[],3,0),IF($B1095=2,VLOOKUP(F$2,Table1[],4,0),IF($B1095=3,VLOOKUP(F$2,Table1[],5,0),IF($B1095=4,VLOOKUP(F$2,Table1[],5,0),0))))","v":800000}]
[5098,1,{"$f":"IF($B1096=1,VLOOKUP(C$2,Table1[],3,0),IF($B1096=2,VLOOKUP(C$2,Table1[],4,0),IF($B1096=3,VLOOKUP(C$2,Table1[],5,0),IF($B1096=4,VLOOKUP(C$2,Table1[],5,0),0))))","v":2000000},{"$f":"IF($B1096=1,VLOOKUP(D$2,Table1[],3,0),IF($B1096=2,VLOOKUP(D$2,Table1[],4,0),IF($B1096=3,VLOOKUP(D$2,Table1[],5,0),IF($B1096=4,VLOOKUP(D$2,Table1[],5,0),0))))","v":2000000},{"$f":"IF($B1096=1,VLOOKUP(E$2,Table1[],3,0),IF($B1096=2,VLOOKUP(E$2,Table1[],4,0),IF($B1096=3,VLOOKUP(E$2,Table1[],5,0),IF($B1096=4,VLOOKUP(E$2,Table1[],5,0),0))))","v":1500000},{"$f":"IF($B1096=1,VLOOKUP(F$2,Table1[],3,0),IF($B1096=2,VLOOKUP(F$2,Table1[],4,0),IF($B1096=3,VLOOKUP(F$2,Table1[],5,0),IF($B1096=4,VLOOKUP(F$2,Table1[],5,0),0))))","v":800000}]
[5106,1,{"$f":"IF($B1097=1,VLOOKUP(C$2,Table1[],3,0),IF($B1097=2,VLOOKUP(C$2,Table1[],4,0),IF($B1097=3,VLOOKUP(C$2,Table1[],5,0),IF($B1097=4,VLOOKUP(C$2,Table1[],5,0),0))))","v":2000000},{"$f":"IF($B1097=1,VLOOKUP(D$2,Table1[],3,0),IF($B1097=2,VLOOKUP(D$2,Table1[],4,0),IF($B1097=3,VLOOKUP(D$2,Table1[],5,0),IF($B1097=4,VLOOKUP(D$2,Table1[],5,0),0))))","v":2000000},{"$f":"IF($B1097=1,VLOOKUP(E$2,Table1[],3,0),IF($B1097=2,VLOOKUP(E$2,Table1[],4,0),IF($B1097=3,VLOOKUP(E$2,Table1[],5,0),IF($B1097=4,VLOOKUP(E$2,Table1[],5,0),0))))","v":1500000},{"$f":"IF($B1097=1,VLOOKUP(F$2,Table1[],3,0),IF($B1097=2,VLOOKUP(F$2,Table1[],4,0),IF($B1097=3,VLOOKUP(F$2,Table1[],5,0),IF($B1097=4,VLOOKUP(F$2,Table1[],5,0),0))))","v":800000}]
[5107,1,{"$f":"IF($B1098=1,VLOOKUP(C$2,Table1[],3,0),IF($B1098=2,VLOOKUP(C$2,Table1[],4,0),IF($B1098=3,VLOOKUP(C$2,Table1[],5,0),IF($B1098=4,VLOOKUP(C$2,Table1[],5,0),0))))","v":2000000},{"$f":"IF($B1098=1,VLOOKUP(D$2,Table1[],3,0),IF($B1098=2,VLOOKUP(D$2,Table1[],4,0),IF($B1098=3,VLOOKUP(D$2,Table1[],5,0),IF($B1098=4,VLOOKUP(D$2,Table1[],5,0),0))))","v":2000000},{"$f":"IF($B1098=1,VLOOKUP(E$2,Table1[],3,0),IF($B1098=2,VLOOKUP(E$2,Table1[],4,0),IF($B1098=3,VLOOKUP(E$2,Table1[],5,0),IF($B1098=4,VLOOKUP(E$2,Table1[],5,0),0))))","v":1500000},{"$f":"IF($B1098=1,VLOOKUP(F$2,Table1[],3,0),IF($B1098=2,VLOOKUP(F$2,Table1[],4,0),IF($B1098=3,VLOOKUP(F$2,Table1[],5,0),IF($B1098=4,VLOOKUP(F$2,Table1[],5,0),0))))","v":800000}]
[5108,1,{"$f":"IF($B1099=1,VLOOKUP(C$2,Table1[],3,0),IF($B1099=2,VLOOKUP(C$2,Table1[],4,0),IF($B1099=3,VLOOKUP(C$2,Table1[],5,0),IF($B1099=4,VLOOKUP(C$2,Table1[],5,0),0))))","v":2000000},{"$f":"IF($B1099=1,VLOOKUP(D$2,Table1[],3,0),IF($B1099=2,VLOOKUP(D$2,Table1[],4,0),IF($B1099=3,VLOOKUP(D$2,Table1[],5,0),IF($B1099=4,VLOOKUP(D$2,Table1[],5,0),0))))","v":2000000},{"$f":"IF($B1099=1,VLOOKUP(E$2,Table1[],3,0),IF($B1099=2,VLOOKUP(E$2,Table1[],4,0),IF($B1099=3,VLOOKUP(E$2,Table1[],5,0),IF($B1099=4,VLOOKUP(E$2,Table1[],5,0),0))))","v":1500000},{"$f":"IF($B1099=1,VLOOKUP(F$2,Table1[],3,0),IF($B1099=2,VLOOKUP(F$2,Table1[],4,0),IF($B1099=3,VLOOKUP(F$2,Table1[],5,0),IF($B1099=4,VLOOKUP(F$2,Table1[],5,0),0))))","v":800000}]
[5109,1,{"$f":"IF($B1100=1,VLOOKUP(C$2,Table1[],3,0),IF($B1100=2,VLOOKUP(C$2,Table1[],4,0),IF($B1100=3,VLOOKUP(C$2,Table1[],5,0),IF($B1100=4,VLOOKUP(C$2,Table1[],5,0),0))))","v":2000000},{"$f":"IF($B1100=1,VLOOKUP(D$2,Table1[],3,0),IF($B1100=2,VLOOKUP(D$2,Table1[],4,0),IF($B1100=3,VLOOKUP(D$2,Table1[],5,0),IF($B1100=4,VLOOKUP(D$2,Table1[],5,0),0))))","v":2000000},{"$f":"IF($B1100=1,VLOOKUP(E$2,Table1[],3,0),IF($B1100=2,VLOOKUP(E$2,Table1[],4,0),IF($B1100=3,VLOOKUP(E$2,Table1[],5,0),IF($B1100=4,VLOOKUP(E$2,Table1[],5,0),0))))","v":1500000},{"$f":"IF($B1100=1,VLOOKUP(F$2,Table1[],3,0),IF($B1100=2,VLOOKUP(F$2,Table1[],4,0),IF($B1100=3,VLOOKUP(F$2,Table1[],5,0),IF($B1100=4,VLOOKUP(F$2,Table1[],5,0),0))))","v":800000}]
[5110,1,{"$f":"IF($B1101=1,VLOOKUP(C$2,Table1[],3,0),IF($B1101=2,VLOOKUP(C$2,Table1[],4,0),IF($B1101=3,VLOOKUP(C$2,Table1[],5,0),IF($B1101=4,VLOOKUP(C$2,Table1[],5,0),0))))","v":2000000},{"$f":"IF($B1101=1,VLOOKUP(D$2,Table1[],3,0),IF($B1101=2,VLOOKUP(D$2,Table1[],4,0),IF($B1101=3,VLOOKUP(D$2,Table1[],5,0),IF($B1101=4,VLOOKUP(D$2,Table1[],5,0),0))))","v":2000000},{"$f":"IF($B1101=1,VLOOKUP(E$2,Table1[],3,0),IF($B1101=2,VLOOKUP(E$2,Table1[],4,0),IF($B1101=3,VLOOKUP(E$2,Table1[],5,0),IF($B1101=4,VLOOKUP(E$2,Table1[],5,0),0))))","v":1500000},{"$f":"IF($B1101=1,VLOOKUP(F$2,Table1[],3,0),IF($B1101=2,VLOOKUP(F$2,Table1[],4,0),IF($B1101=3,VLOOKUP(F$2,Table1[],5,0),IF($B1101=4,VLOOKUP(F$2,Table1[],5,0),0))))","v":800000}]
[5111,1,{"$f":"IF($B1102=1,VLOOKUP(C$2,Table1[],3,0),IF($B1102=2,VLOOKUP(C$2,Table1[],4,0),IF($B1102=3,VLOOKUP(C$2,Table1[],5,0),IF($B1102=4,VLOOKUP(C$2,Table1[],5,0),0))))","v":2000000},{"$f":"IF($B1102=1,VLOOKUP(D$2,Table1[],3,0),IF($B1102=2,VLOOKUP(D$2,Table1[],4,0),IF($B1102=3,VLOOKUP(D$2,Table1[],5,0),IF($B1102=4,VLOOKUP(D$2,Table1[],5,0),0))))","v":2000000},{"$f":"IF($B1102=1,VLOOKUP(E$2,Table1[],3,0),IF($B1102=2,VLOOKUP(E$2,Table1[],4,0),IF($B1102=3,VLOOKUP(E$2,Table1[],5,0),IF($B1102=4,VLOOKUP(E$2,Table1[],5,0),0))))","v":1500000},{"$f":"IF($B1102=1,VLOOKUP(F$2,Table1[],3,0),IF($B1102=2,VLOOKUP(F$2,Table1[],4,0),IF($B1102=3,VLOOKUP(F$2,Table1[],5,0),IF($B1102=4,VLOOKUP(F$2,Table1[],5,0),0))))","v":800000}]
[5112,1,{"$f":"IF($B1103=1,VLOOKUP(C$2,Table1[],3,0),IF($B1103=2,VLOOKUP(C$2,Table1[],4,0),IF($B1103=3,VLOOKUP(C$2,Table1[],5,0),IF($B1103=4,VLOOKUP(C$2,Table1[],5,0),0))))","v":2000000},{"$f":"IF($B1103=1,VLOOKUP(D$2,Table1[],3,0),IF($B1103=2,VLOOKUP(D$2,Table1[],4,0),IF($B1103=3,VLOOKUP(D$2,Table1[],5,0),IF($B1103=4,VLOOKUP(D$2,Table1[],5,0),0))))","v":2000000},{"$f":"IF($B1103=1,VLOOKUP(E$2,Table1[],3,0),IF($B1103=2,VLOOKUP(E$2,Table1[],4,0),IF($B1103=3,VLOOKUP(E$2,Table1[],5,0),IF($B1103=4,VLOOKUP(E$2,Table1[],5,0),0))))","v":1500000},{"$f":"IF($B1103=1,VLOOKUP(F$2,Table1[],3,0),IF($B1103=2,VLOOKUP(F$2,Table1[],4,0),IF($B1103=3,VLOOKUP(F$2,Table1[],5,0),IF($B1103=4,VLOOKUP(F$2,Table1[],5,0),0))))","v":800000}]
[5113,1,{"$f":"IF($B1104=1,VLOOKUP(C$2,Table1[],3,0),IF($B1104=2,VLOOKUP(C$2,Table1[],4,0),IF($B1104=3,VLOOKUP(C$2,Table1[],5,0),IF($B1104=4,VLOOKUP(C$2,Table1[],5,0),0))))","v":2000000},{"$f":"IF($B1104=1,VLOOKUP(D$2,Table1[],3,0),IF($B1104=2,VLOOKUP(D$2,Table1[],4,0),IF($B1104=3,VLOOKUP(D$2,Table1[],5,0),IF($B1104=4,VLOOKUP(D$2,Table1[],5,0),0))))","v":2000000},{"$f":"IF($B1104=1,VLOOKUP(E$2,Table1[],3,0),IF($B1104=2,VLOOKUP(E$2,Table1[],4,0),IF($B1104=3,VLOOKUP(E$2,Table1[],5,0),IF($B1104=4,VLOOKUP(E$2,Table1[],5,0),0))))","v":1500000},{"$f":"IF($B1104=1,VLOOKUP(F$2,Table1[],3,0),IF($B1104=2,VLOOKUP(F$2,Table1[],4,0),IF($B1104=3,VLOOKUP(F$2,Table1[],5,0),IF($B1104=4,VLOOKUP(F$2,Table1[],5,0),0))))","v":800000}]
[5114,1,{"$f":"IF($B1105=1,VLOOKUP(C$2,Table1[],3,0),IF($B1105=2,VLOOKUP(C$2,Table1[],4,0),IF($B1105=3,VLOOKUP(C$2,Table1[],5,0),IF($B1105=4,VLOOKUP(C$2,Table1[],5,0),0))))","v":2000000},{"$f":"IF($B1105=1,VLOOKUP(D$2,Table1[],3,0),IF($B1105=2,VLOOKUP(D$2,Table1[],4,0),IF($B1105=3,VLOOKUP(D$2,Table1[],5,0),IF($B1105=4,VLOOKUP(D$2,Table1[],5,0),0))))","v":2000000},{"$f":"IF($B1105=1,VLOOKUP(E$2,Table1[],3,0),IF($B1105=2,VLOOKUP(E$2,Table1[],4,0),IF($B1105=3,VLOOKUP(E$2,Table1[],5,0),IF($B1105=4,VLOOKUP(E$2,Table1[],5,0),0))))","v":1500000},{"$f":"IF($B1105=1,VLOOKUP(F$2,Table1[],3,0),IF($B1105=2,VLOOKUP(F$2,Table1[],4,0),IF($B1105=3,VLOOKUP(F$2,Table1[],5,0),IF($B1105=4,VLOOKUP(F$2,Table1[],5,0),0))))","v":800000}]
[5115,1,{"$f":"IF($B1106=1,VLOOKUP(C$2,Table1[],3,0),IF($B1106=2,VLOOKUP(C$2,Table1[],4,0),IF($B1106=3,VLOOKUP(C$2,Table1[],5,0),IF($B1106=4,VLOOKUP(C$2,Table1[],5,0),0))))","v":2000000},{"$f":"IF($B1106=1,VLOOKUP(D$2,Table1[],3,0),IF($B1106=2,VLOOKUP(D$2,Table1[],4,0),IF($B1106=3,VLOOKUP(D$2,Table1[],5,0),IF($B1106=4,VLOOKUP(D$2,Table1[],5,0),0))))","v":2000000},{"$f":"IF($B1106=1,VLOOKUP(E$2,Table1[],3,0),IF($B1106=2,VLOOKUP(E$2,Table1[],4,0),IF($B1106=3,VLOOKUP(E$2,Table1[],5,0),IF($B1106=4,VLOOKUP(E$2,Table1[],5,0),0))))","v":1500000},{"$f":"IF($B1106=1,VLOOKUP(F$2,Table1[],3,0),IF($B1106=2,VLOOKUP(F$2,Table1[],4,0),IF($B1106=3,VLOOKUP(F$2,Table1[],5,0),IF($B1106=4,VLOOKUP(F$2,Table1[],5,0),0))))","v":800000}]
[5116,1,{"$f":"IF($B1107=1,VLOOKUP(C$2,Table1[],3,0),IF($B1107=2,VLOOKUP(C$2,Table1[],4,0),IF($B1107=3,VLOOKUP(C$2,Table1[],5,0),IF($B1107=4,VLOOKUP(C$2,Table1[],5,0),0))))","v":2000000},{"$f":"IF($B1107=1,VLOOKUP(D$2,Table1[],3,0),IF($B1107=2,VLOOKUP(D$2,Table1[],4,0),IF($B1107=3,VLOOKUP(D$2,Table1[],5,0),IF($B1107=4,VLOOKUP(D$2,Table1[],5,0),0))))","v":2000000},{"$f":"IF($B1107=1,VLOOKUP(E$2,Table1[],3,0),IF($B1107=2,VLOOKUP(E$2,Table1[],4,0),IF($B1107=3,VLOOKUP(E$2,Table1[],5,0),IF($B1107=4,VLOOKUP(E$2,Table1[],5,0),0))))","v":1500000},{"$f":"IF($B1107=1,VLOOKUP(F$2,Table1[],3,0),IF($B1107=2,VLOOKUP(F$2,Table1[],4,0),IF($B1107=3,VLOOKUP(F$2,Table1[],5,0),IF($B1107=4,VLOOKUP(F$2,Table1[],5,0),0))))","v":800000}]
[5117,1,{"$f":"IF($B1108=1,VLOOKUP(C$2,Table1[],3,0),IF($B1108=2,VLOOKUP(C$2,Table1[],4,0),IF($B1108=3,VLOOKUP(C$2,Table1[],5,0),IF($B1108=4,VLOOKUP(C$2,Table1[],5,0),0))))","v":2000000},{"$f":"IF($B1108=1,VLOOKUP(D$2,Table1[],3,0),IF($B1108=2,VLOOKUP(D$2,Table1[],4,0),IF($B1108=3,VLOOKUP(D$2,Table1[],5,0),IF($B1108=4,VLOOKUP(D$2,Table1[],5,0),0))))","v":2000000},{"$f":"IF($B1108=1,VLOOKUP(E$2,Table1[],3,0),IF($B1108=2,VLOOKUP(E$2,Table1[],4,0),IF($B1108=3,VLOOKUP(E$2,Table1[],5,0),IF($B1108=4,VLOOKUP(E$2,Table1[],5,0),0))))","v":1500000},{"$f":"IF($B1108=1,VLOOKUP(F$2,Table1[],3,0),IF($B1108=2,VLOOKUP(F$2,Table1[],4,0),IF($B1108=3,VLOOKUP(F$2,Table1[],5,0),IF($B1108=4,VLOOKUP(F$2,Table1[],5,0),0))))","v":800000}]
[5118,1,{"$f":"IF($B1109=1,VLOOKUP(C$2,Table1[],3,0),IF($B1109=2,VLOOKUP(C$2,Table1[],4,0),IF($B1109=3,VLOOKUP(C$2,Table1[],5,0),IF($B1109=4,VLOOKUP(C$2,Table1[],5,0),0))))","v":2000000},{"$f":"IF($B1109=1,VLOOKUP(D$2,Table1[],3,0),IF($B1109=2,VLOOKUP(D$2,Table1[],4,0),IF($B1109=3,VLOOKUP(D$2,Table1[],5,0),IF($B1109=4,VLOOKUP(D$2,Table1[],5,0),0))))","v":2000000},{"$f":"IF($B1109=1,VLOOKUP(E$2,Table1[],3,0),IF($B1109=2,VLOOKUP(E$2,Table1[],4,0),IF($B1109=3,VLOOKUP(E$2,Table1[],5,0),IF($B1109=4,VLOOKUP(E$2,Table1[],5,0),0))))","v":1500000},{"$f":"IF($B1109=1,VLOOKUP(F$2,Table1[],3,0),IF($B1109=2,VLOOKUP(F$2,Table1[],4,0),IF($B1109=3,VLOOKUP(F$2,Table1[],5,0),IF($B1109=4,VLOOKUP(F$2,Table1[],5,0),0))))","v":800000}]
[5120,1,{"$f":"IF($B1110=1,VLOOKUP(C$2,Table1[],3,0),IF($B1110=2,VLOOKUP(C$2,Table1[],4,0),IF($B1110=3,VLOOKUP(C$2,Table1[],5,0),IF($B1110=4,VLOOKUP(C$2,Table1[],5,0),0))))","v":2000000},{"$f":"IF($B1110=1,VLOOKUP(D$2,Table1[],3,0),IF($B1110=2,VLOOKUP(D$2,Table1[],4,0),IF($B1110=3,VLOOKUP(D$2,Table1[],5,0),IF($B1110=4,VLOOKUP(D$2,Table1[],5,0),0))))","v":2000000},{"$f":"IF($B1110=1,VLOOKUP(E$2,Table1[],3,0),IF($B1110=2,VLOOKUP(E$2,Table1[],4,0),IF($B1110=3,VLOOKUP(E$2,Table1[],5,0),IF($B1110=4,VLOOKUP(E$2,Table1[],5,0),0))))","v":1500000},{"$f":"IF($B1110=1,VLOOKUP(F$2,Table1[],3,0),IF($B1110=2,VLOOKUP(F$2,Table1[],4,0),IF($B1110=3,VLOOKUP(F$2,Table1[],5,0),IF($B1110=4,VLOOKUP(F$2,Table1[],5,0),0))))","v":800000}]
[5121,1,{"$f":"IF($B1111=1,VLOOKUP(C$2,Table1[],3,0),IF($B1111=2,VLOOKUP(C$2,Table1[],4,0),IF($B1111=3,VLOOKUP(C$2,Table1[],5,0),IF($B1111=4,VLOOKUP(C$2,Table1[],5,0),0))))","v":2000000},{"$f":"IF($B1111=1,VLOOKUP(D$2,Table1[],3,0),IF($B1111=2,VLOOKUP(D$2,Table1[],4,0),IF($B1111=3,VLOOKUP(D$2,Table1[],5,0),IF($B1111=4,VLOOKUP(D$2,Table1[],5,0),0))))","v":2000000},{"$f":"IF($B1111=1,VLOOKUP(E$2,Table1[],3,0),IF($B1111=2,VLOOKUP(E$2,Table1[],4,0),IF($B1111=3,VLOOKUP(E$2,Table1[],5,0),IF($B1111=4,VLOOKUP(E$2,Table1[],5,0),0))))","v":1500000},{"$f":"IF($B1111=1,VLOOKUP(F$2,Table1[],3,0),IF($B1111=2,VLOOKUP(F$2,Table1[],4,0),IF($B1111=3,VLOOKUP(F$2,Table1[],5,0),IF($B1111=4,VLOOKUP(F$2,Table1[],5,0),0))))","v":800000}]
[5125,1,{"$f":"IF($B1112=1,VLOOKUP(C$2,Table1[],3,0),IF($B1112=2,VLOOKUP(C$2,Table1[],4,0),IF($B1112=3,VLOOKUP(C$2,Table1[],5,0),IF($B1112=4,VLOOKUP(C$2,Table1[],5,0),0))))","v":2000000},{"$f":"IF($B1112=1,VLOOKUP(D$2,Table1[],3,0),IF($B1112=2,VLOOKUP(D$2,Table1[],4,0),IF($B1112=3,VLOOKUP(D$2,Table1[],5,0),IF($B1112=4,VLOOKUP(D$2,Table1[],5,0),0))))","v":2000000},{"$f":"IF($B1112=1,VLOOKUP(E$2,Table1[],3,0),IF($B1112=2,VLOOKUP(E$2,Table1[],4,0),IF($B1112=3,VLOOKUP(E$2,Table1[],5,0),IF($B1112=4,VLOOKUP(E$2,Table1[],5,0),0))))","v":1500000},{"$f":"IF($B1112=1,VLOOKUP(F$2,Table1[],3,0),IF($B1112=2,VLOOKUP(F$2,Table1[],4,0),IF($B1112=3,VLOOKUP(F$2,Table1[],5,0),IF($B1112=4,VLOOKUP(F$2,Table1[],5,0),0))))","v":800000}]
[5126,1,{"$f":"IF($B1113=1,VLOOKUP(C$2,Table1[],3,0),IF($B1113=2,VLOOKUP(C$2,Table1[],4,0),IF($B1113=3,VLOOKUP(C$2,Table1[],5,0),IF($B1113=4,VLOOKUP(C$2,Table1[],5,0),0))))","v":2000000},{"$f":"IF($B1113=1,VLOOKUP(D$2,Table1[],3,0),IF($B1113=2,VLOOKUP(D$2,Table1[],4,0),IF($B1113=3,VLOOKUP(D$2,Table1[],5,0),IF($B1113=4,VLOOKUP(D$2,Table1[],5,0),0))))","v":2000000},{"$f":"IF($B1113=1,VLOOKUP(E$2,Table1[],3,0),IF($B1113=2,VLOOKUP(E$2,Table1[],4,0),IF($B1113=3,VLOOKUP(E$2,Table1[],5,0),IF($B1113=4,VLOOKUP(E$2,Table1[],5,0),0))))","v":1500000},{"$f":"IF($B1113=1,VLOOKUP(F$2,Table1[],3,0),IF($B1113=2,VLOOKUP(F$2,Table1[],4,0),IF($B1113=3,VLOOKUP(F$2,Table1[],5,0),IF($B1113=4,VLOOKUP(F$2,Table1[],5,0),0))))","v":800000}]
[5127,1,{"$f":"IF($B1114=1,VLOOKUP(C$2,Table1[],3,0),IF($B1114=2,VLOOKUP(C$2,Table1[],4,0),IF($B1114=3,VLOOKUP(C$2,Table1[],5,0),IF($B1114=4,VLOOKUP(C$2,Table1[],5,0),0))))","v":2000000},{"$f":"IF($B1114=1,VLOOKUP(D$2,Table1[],3,0),IF($B1114=2,VLOOKUP(D$2,Table1[],4,0),IF($B1114=3,VLOOKUP(D$2,Table1[],5,0),IF($B1114=4,VLOOKUP(D$2,Table1[],5,0),0))))","v":2000000},{"$f":"IF($B1114=1,VLOOKUP(E$2,Table1[],3,0),IF($B1114=2,VLOOKUP(E$2,Table1[],4,0),IF($B1114=3,VLOOKUP(E$2,Table1[],5,0),IF($B1114=4,VLOOKUP(E$2,Table1[],5,0),0))))","v":1500000},{"$f":"IF($B1114=1,VLOOKUP(F$2,Table1[],3,0),IF($B1114=2,VLOOKUP(F$2,Table1[],4,0),IF($B1114=3,VLOOKUP(F$2,Table1[],5,0),IF($B1114=4,VLOOKUP(F$2,Table1[],5,0),0))))","v":800000}]
[5131,1,{"$f":"IF($B1115=1,VLOOKUP(C$2,Table1[],3,0),IF($B1115=2,VLOOKUP(C$2,Table1[],4,0),IF($B1115=3,VLOOKUP(C$2,Table1[],5,0),IF($B1115=4,VLOOKUP(C$2,Table1[],5,0),0))))","v":2000000},{"$f":"IF($B1115=1,VLOOKUP(D$2,Table1[],3,0),IF($B1115=2,VLOOKUP(D$2,Table1[],4,0),IF($B1115=3,VLOOKUP(D$2,Table1[],5,0),IF($B1115=4,VLOOKUP(D$2,Table1[],5,0),0))))","v":2000000},{"$f":"IF($B1115=1,VLOOKUP(E$2,Table1[],3,0),IF($B1115=2,VLOOKUP(E$2,Table1[],4,0),IF($B1115=3,VLOOKUP(E$2,Table1[],5,0),IF($B1115=4,VLOOKUP(E$2,Table1[],5,0),0))))","v":1500000},{"$f":"IF($B1115=1,VLOOKUP(F$2,Table1[],3,0),IF($B1115=2,VLOOKUP(F$2,Table1[],4,0),IF($B1115=3,VLOOKUP(F$2,Table1[],5,0),IF($B1115=4,VLOOKUP(F$2,Table1[],5,0),0))))","v":800000}]
[5132,1,{"$f":"IF($B1116=1,VLOOKUP(C$2,Table1[],3,0),IF($B1116=2,VLOOKUP(C$2,Table1[],4,0),IF($B1116=3,VLOOKUP(C$2,Table1[],5,0),IF($B1116=4,VLOOKUP(C$2,Table1[],5,0),0))))","v":2000000},{"$f":"IF($B1116=1,VLOOKUP(D$2,Table1[],3,0),IF($B1116=2,VLOOKUP(D$2,Table1[],4,0),IF($B1116=3,VLOOKUP(D$2,Table1[],5,0),IF($B1116=4,VLOOKUP(D$2,Table1[],5,0),0))))","v":2000000},{"$f":"IF($B1116=1,VLOOKUP(E$2,Table1[],3,0),IF($B1116=2,VLOOKUP(E$2,Table1[],4,0),IF($B1116=3,VLOOKUP(E$2,Table1[],5,0),IF($B1116=4,VLOOKUP(E$2,Table1[],5,0),0))))","v":1500000},{"$f":"IF($B1116=1,VLOOKUP(F$2,Table1[],3,0),IF($B1116=2,VLOOKUP(F$2,Table1[],4,0),IF($B1116=3,VLOOKUP(F$2,Table1[],5,0),IF($B1116=4,VLOOKUP(F$2,Table1[],5,0),0))))","v":800000}]
[5133,1,{"$f":"IF($B1117=1,VLOOKUP(C$2,Table1[],3,0),IF($B1117=2,VLOOKUP(C$2,Table1[],4,0),IF($B1117=3,VLOOKUP(C$2,Table1[],5,0),IF($B1117=4,VLOOKUP(C$2,Table1[],5,0),0))))","v":2000000},{"$f":"IF($B1117=1,VLOOKUP(D$2,Table1[],3,0),IF($B1117=2,VLOOKUP(D$2,Table1[],4,0),IF($B1117=3,VLOOKUP(D$2,Table1[],5,0),IF($B1117=4,VLOOKUP(D$2,Table1[],5,0),0))))","v":2000000},{"$f":"IF($B1117=1,VLOOKUP(E$2,Table1[],3,0),IF($B1117=2,VLOOKUP(E$2,Table1[],4,0),IF($B1117=3,VLOOKUP(E$2,Table1[],5,0),IF($B1117=4,VLOOKUP(E$2,Table1[],5,0),0))))","v":1500000},{"$f":"IF($B1117=1,VLOOKUP(F$2,Table1[],3,0),IF($B1117=2,VLOOKUP(F$2,Table1[],4,0),IF($B1117=3,VLOOKUP(F$2,Table1[],5,0),IF($B1117=4,VLOOKUP(F$2,Table1[],5,0),0))))","v":800000}]
[5134,1,{"$f":"IF($B1118=1,VLOOKUP(C$2,Table1[],3,0),IF($B1118=2,VLOOKUP(C$2,Table1[],4,0),IF($B1118=3,VLOOKUP(C$2,Table1[],5,0),IF($B1118=4,VLOOKUP(C$2,Table1[],5,0),0))))","v":2000000},{"$f":"IF($B1118=1,VLOOKUP(D$2,Table1[],3,0),IF($B1118=2,VLOOKUP(D$2,Table1[],4,0),IF($B1118=3,VLOOKUP(D$2,Table1[],5,0),IF($B1118=4,VLOOKUP(D$2,Table1[],5,0),0))))","v":2000000},{"$f":"IF($B1118=1,VLOOKUP(E$2,Table1[],3,0),IF($B1118=2,VLOOKUP(E$2,Table1[],4,0),IF($B1118=3,VLOOKUP(E$2,Table1[],5,0),IF($B1118=4,VLOOKUP(E$2,Table1[],5,0),0))))","v":1500000},{"$f":"IF($B1118=1,VLOOKUP(F$2,Table1[],3,0),IF($B1118=2,VLOOKUP(F$2,Table1[],4,0),IF($B1118=3,VLOOKUP(F$2,Table1[],5,0),IF($B1118=4,VLOOKUP(F$2,Table1[],5,0),0))))","v":800000}]
[5136,1,{"$f":"IF($B1119=1,VLOOKUP(C$2,Table1[],3,0),IF($B1119=2,VLOOKUP(C$2,Table1[],4,0),IF($B1119=3,VLOOKUP(C$2,Table1[],5,0),IF($B1119=4,VLOOKUP(C$2,Table1[],5,0),0))))","v":2000000},{"$f":"IF($B1119=1,VLOOKUP(D$2,Table1[],3,0),IF($B1119=2,VLOOKUP(D$2,Table1[],4,0),IF($B1119=3,VLOOKUP(D$2,Table1[],5,0),IF($B1119=4,VLOOKUP(D$2,Table1[],5,0),0))))","v":2000000},{"$f":"IF($B1119=1,VLOOKUP(E$2,Table1[],3,0),IF($B1119=2,VLOOKUP(E$2,Table1[],4,0),IF($B1119=3,VLOOKUP(E$2,Table1[],5,0),IF($B1119=4,VLOOKUP(E$2,Table1[],5,0),0))))","v":1500000},{"$f":"IF($B1119=1,VLOOKUP(F$2,Table1[],3,0),IF($B1119=2,VLOOKUP(F$2,Table1[],4,0),IF($B1119=3,VLOOKUP(F$2,Table1[],5,0),IF($B1119=4,VLOOKUP(F$2,Table1[],5,0),0))))","v":800000}]
[5137,1,{"$f":"IF($B1120=1,VLOOKUP(C$2,Table1[],3,0),IF($B1120=2,VLOOKUP(C$2,Table1[],4,0),IF($B1120=3,VLOOKUP(C$2,Table1[],5,0),IF($B1120=4,VLOOKUP(C$2,Table1[],5,0),0))))","v":2000000},{"$f":"IF($B1120=1,VLOOKUP(D$2,Table1[],3,0),IF($B1120=2,VLOOKUP(D$2,Table1[],4,0),IF($B1120=3,VLOOKUP(D$2,Table1[],5,0),IF($B1120=4,VLOOKUP(D$2,Table1[],5,0),0))))","v":2000000},{"$f":"IF($B1120=1,VLOOKUP(E$2,Table1[],3,0),IF($B1120=2,VLOOKUP(E$2,Table1[],4,0),IF($B1120=3,VLOOKUP(E$2,Table1[],5,0),IF($B1120=4,VLOOKUP(E$2,Table1[],5,0),0))))","v":1500000},{"$f":"IF($B1120=1,VLOOKUP(F$2,Table1[],3,0),IF($B1120=2,VLOOKUP(F$2,Table1[],4,0),IF($B1120=3,VLOOKUP(F$2,Table1[],5,0),IF($B1120=4,VLOOKUP(F$2,Table1[],5,0),0))))","v":800000}]
[5138,1,{"$f":"IF($B1121=1,VLOOKUP(C$2,Table1[],3,0),IF($B1121=2,VLOOKUP(C$2,Table1[],4,0),IF($B1121=3,VLOOKUP(C$2,Table1[],5,0),IF($B1121=4,VLOOKUP(C$2,Table1[],5,0),0))))","v":2000000},{"$f":"IF($B1121=1,VLOOKUP(D$2,Table1[],3,0),IF($B1121=2,VLOOKUP(D$2,Table1[],4,0),IF($B1121=3,VLOOKUP(D$2,Table1[],5,0),IF($B1121=4,VLOOKUP(D$2,Table1[],5,0),0))))","v":2000000},{"$f":"IF($B1121=1,VLOOKUP(E$2,Table1[],3,0),IF($B1121=2,VLOOKUP(E$2,Table1[],4,0),IF($B1121=3,VLOOKUP(E$2,Table1[],5,0),IF($B1121=4,VLOOKUP(E$2,Table1[],5,0),0))))","v":1500000},{"$f":"IF($B1121=1,VLOOKUP(F$2,Table1[],3,0),IF($B1121=2,VLOOKUP(F$2,Table1[],4,0),IF($B1121=3,VLOOKUP(F$2,Table1[],5,0),IF($B1121=4,VLOOKUP(F$2,Table1[],5,0),0))))","v":800000}]
[5139,1,{"$f":"IF($B1122=1,VLOOKUP(C$2,Table1[],3,0),IF($B1122=2,VLOOKUP(C$2,Table1[],4,0),IF($B1122=3,VLOOKUP(C$2,Table1[],5,0),IF($B1122=4,VLOOKUP(C$2,Table1[],5,0),0))))","v":2000000},{"$f":"IF($B1122=1,VLOOKUP(D$2,Table1[],3,0),IF($B1122=2,VLOOKUP(D$2,Table1[],4,0),IF($B1122=3,VLOOKUP(D$2,Table1[],5,0),IF($B1122=4,VLOOKUP(D$2,Table1[],5,0),0))))","v":2000000},{"$f":"IF($B1122=1,VLOOKUP(E$2,Table1[],3,0),IF($B1122=2,VLOOKUP(E$2,Table1[],4,0),IF($B1122=3,VLOOKUP(E$2,Table1[],5,0),IF($B1122=4,VLOOKUP(E$2,Table1[],5,0),0))))","v":1500000},{"$f":"IF($B1122=1,VLOOKUP(F$2,Table1[],3,0),IF($B1122=2,VLOOKUP(F$2,Table1[],4,0),IF($B1122=3,VLOOKUP(F$2,Table1[],5,0),IF($B1122=4,VLOOKUP(F$2,Table1[],5,0),0))))","v":800000}]
[5140,1,{"$f":"IF($B1123=1,VLOOKUP(C$2,Table1[],3,0),IF($B1123=2,VLOOKUP(C$2,Table1[],4,0),IF($B1123=3,VLOOKUP(C$2,Table1[],5,0),IF($B1123=4,VLOOKUP(C$2,Table1[],5,0),0))))","v":2000000},{"$f":"IF($B1123=1,VLOOKUP(D$2,Table1[],3,0),IF($B1123=2,VLOOKUP(D$2,Table1[],4,0),IF($B1123=3,VLOOKUP(D$2,Table1[],5,0),IF($B1123=4,VLOOKUP(D$2,Table1[],5,0),0))))","v":2000000},{"$f":"IF($B1123=1,VLOOKUP(E$2,Table1[],3,0),IF($B1123=2,VLOOKUP(E$2,Table1[],4,0),IF($B1123=3,VLOOKUP(E$2,Table1[],5,0),IF($B1123=4,VLOOKUP(E$2,Table1[],5,0),0))))","v":1500000},{"$f":"IF($B1123=1,VLOOKUP(F$2,Table1[],3,0),IF($B1123=2,VLOOKUP(F$2,Table1[],4,0),IF($B1123=3,VLOOKUP(F$2,Table1[],5,0),IF($B1123=4,VLOOKUP(F$2,Table1[],5,0),0))))","v":800000}]
[5141,1,{"$f":"IF($B1124=1,VLOOKUP(C$2,Table1[],3,0),IF($B1124=2,VLOOKUP(C$2,Table1[],4,0),IF($B1124=3,VLOOKUP(C$2,Table1[],5,0),IF($B1124=4,VLOOKUP(C$2,Table1[],5,0),0))))","v":2000000},{"$f":"IF($B1124=1,VLOOKUP(D$2,Table1[],3,0),IF($B1124=2,VLOOKUP(D$2,Table1[],4,0),IF($B1124=3,VLOOKUP(D$2,Table1[],5,0),IF($B1124=4,VLOOKUP(D$2,Table1[],5,0),0))))","v":2000000},{"$f":"IF($B1124=1,VLOOKUP(E$2,Table1[],3,0),IF($B1124=2,VLOOKUP(E$2,Table1[],4,0),IF($B1124=3,VLOOKUP(E$2,Table1[],5,0),IF($B1124=4,VLOOKUP(E$2,Table1[],5,0),0))))","v":1500000},{"$f":"IF($B1124=1,VLOOKUP(F$2,Table1[],3,0),IF($B1124=2,VLOOKUP(F$2,Table1[],4,0),IF($B1124=3,VLOOKUP(F$2,Table1[],5,0),IF($B1124=4,VLOOKUP(F$2,Table1[],5,0),0))))","v":800000}]
[5142,1,{"$f":"IF($B1125=1,VLOOKUP(C$2,Table1[],3,0),IF($B1125=2,VLOOKUP(C$2,Table1[],4,0),IF($B1125=3,VLOOKUP(C$2,Table1[],5,0),IF($B1125=4,VLOOKUP(C$2,Table1[],5,0),0))))","v":2000000},{"$f":"IF($B1125=1,VLOOKUP(D$2,Table1[],3,0),IF($B1125=2,VLOOKUP(D$2,Table1[],4,0),IF($B1125=3,VLOOKUP(D$2,Table1[],5,0),IF($B1125=4,VLOOKUP(D$2,Table1[],5,0),0))))","v":2000000},{"$f":"IF($B1125=1,VLOOKUP(E$2,Table1[],3,0),IF($B1125=2,VLOOKUP(E$2,Table1[],4,0),IF($B1125=3,VLOOKUP(E$2,Table1[],5,0),IF($B1125=4,VLOOKUP(E$2,Table1[],5,0),0))))","v":1500000},{"$f":"IF($B1125=1,VLOOKUP(F$2,Table1[],3,0),IF($B1125=2,VLOOKUP(F$2,Table1[],4,0),IF($B1125=3,VLOOKUP(F$2,Table1[],5,0),IF($B1125=4,VLOOKUP(F$2,Table1[],5,0),0))))","v":800000}]
[5144,1,{"$f":"IF($B1126=1,VLOOKUP(C$2,Table1[],3,0),IF($B1126=2,VLOOKUP(C$2,Table1[],4,0),IF($B1126=3,VLOOKUP(C$2,Table1[],5,0),IF($B1126=4,VLOOKUP(C$2,Table1[],5,0),0))))","v":2000000},{"$f":"IF($B1126=1,VLOOKUP(D$2,Table1[],3,0),IF($B1126=2,VLOOKUP(D$2,Table1[],4,0),IF($B1126=3,VLOOKUP(D$2,Table1[],5,0),IF($B1126=4,VLOOKUP(D$2,Table1[],5,0),0))))","v":2000000},{"$f":"IF($B1126=1,VLOOKUP(E$2,Table1[],3,0),IF($B1126=2,VLOOKUP(E$2,Table1[],4,0),IF($B1126=3,VLOOKUP(E$2,Table1[],5,0),IF($B1126=4,VLOOKUP(E$2,Table1[],5,0),0))))","v":1500000},{"$f":"IF($B1126=1,VLOOKUP(F$2,Table1[],3,0),IF($B1126=2,VLOOKUP(F$2,Table1[],4,0),IF($B1126=3,VLOOKUP(F$2,Table1[],5,0),IF($B1126=4,VLOOKUP(F$2,Table1[],5,0),0))))","v":800000}]
[5150,1,{"$f":"IF($B1127=1,VLOOKUP(C$2,Table1[],3,0),IF($B1127=2,VLOOKUP(C$2,Table1[],4,0),IF($B1127=3,VLOOKUP(C$2,Table1[],5,0),IF($B1127=4,VLOOKUP(C$2,Table1[],5,0),0))))","v":2000000},{"$f":"IF($B1127=1,VLOOKUP(D$2,Table1[],3,0),IF($B1127=2,VLOOKUP(D$2,Table1[],4,0),IF($B1127=3,VLOOKUP(D$2,Table1[],5,0),IF($B1127=4,VLOOKUP(D$2,Table1[],5,0),0))))","v":2000000},{"$f":"IF($B1127=1,VLOOKUP(E$2,Table1[],3,0),IF($B1127=2,VLOOKUP(E$2,Table1[],4,0),IF($B1127=3,VLOOKUP(E$2,Table1[],5,0),IF($B1127=4,VLOOKUP(E$2,Table1[],5,0),0))))","v":1500000},{"$f":"IF($B1127=1,VLOOKUP(F$2,Table1[],3,0),IF($B1127=2,VLOOKUP(F$2,Table1[],4,0),IF($B1127=3,VLOOKUP(F$2,Table1[],5,0),IF($B1127=4,VLOOKUP(F$2,Table1[],5,0),0))))","v":800000}]
[5151,1,{"$f":"IF($B1128=1,VLOOKUP(C$2,Table1[],3,0),IF($B1128=2,VLOOKUP(C$2,Table1[],4,0),IF($B1128=3,VLOOKUP(C$2,Table1[],5,0),IF($B1128=4,VLOOKUP(C$2,Table1[],5,0),0))))","v":2000000},{"$f":"IF($B1128=1,VLOOKUP(D$2,Table1[],3,0),IF($B1128=2,VLOOKUP(D$2,Table1[],4,0),IF($B1128=3,VLOOKUP(D$2,Table1[],5,0),IF($B1128=4,VLOOKUP(D$2,Table1[],5,0),0))))","v":2000000},{"$f":"IF($B1128=1,VLOOKUP(E$2,Table1[],3,0),IF($B1128=2,VLOOKUP(E$2,Table1[],4,0),IF($B1128=3,VLOOKUP(E$2,Table1[],5,0),IF($B1128=4,VLOOKUP(E$2,Table1[],5,0),0))))","v":1500000},{"$f":"IF($B1128=1,VLOOKUP(F$2,Table1[],3,0),IF($B1128=2,VLOOKUP(F$2,Table1[],4,0),IF($B1128=3,VLOOKUP(F$2,Table1[],5,0),IF($B1128=4,VLOOKUP(F$2,Table1[],5,0),0))))","v":800000}]
[5152,1,{"$f":"IF($B1129=1,VLOOKUP(C$2,Table1[],3,0),IF($B1129=2,VLOOKUP(C$2,Table1[],4,0),IF($B1129=3,VLOOKUP(C$2,Table1[],5,0),IF($B1129=4,VLOOKUP(C$2,Table1[],5,0),0))))","v":2000000},{"$f":"IF($B1129=1,VLOOKUP(D$2,Table1[],3,0),IF($B1129=2,VLOOKUP(D$2,Table1[],4,0),IF($B1129=3,VLOOKUP(D$2,Table1[],5,0),IF($B1129=4,VLOOKUP(D$2,Table1[],5,0),0))))","v":2000000},{"$f":"IF($B1129=1,VLOOKUP(E$2,Table1[],3,0),IF($B1129=2,VLOOKUP(E$2,Table1[],4,0),IF($B1129=3,VLOOKUP(E$2,Table1[],5,0),IF($B1129=4,VLOOKUP(E$2,Table1[],5,0),0))))","v":1500000},{"$f":"IF($B1129=1,VLOOKUP(F$2,Table1[],3,0),IF($B1129=2,VLOOKUP(F$2,Table1[],4,0),IF($B1129=3,VLOOKUP(F$2,Table1[],5,0),IF($B1129=4,VLOOKUP(F$2,Table1[],5,0),0))))","v":800000}]
[5153,1,{"$f":"IF($B1130=1,VLOOKUP(C$2,Table1[],3,0),IF($B1130=2,VLOOKUP(C$2,Table1[],4,0),IF($B1130=3,VLOOKUP(C$2,Table1[],5,0),IF($B1130=4,VLOOKUP(C$2,Table1[],5,0),0))))","v":2000000},{"$f":"IF($B1130=1,VLOOKUP(D$2,Table1[],3,0),IF($B1130=2,VLOOKUP(D$2,Table1[],4,0),IF($B1130=3,VLOOKUP(D$2,Table1[],5,0),IF($B1130=4,VLOOKUP(D$2,Table1[],5,0),0))))","v":2000000},{"$f":"IF($B1130=1,VLOOKUP(E$2,Table1[],3,0),IF($B1130=2,VLOOKUP(E$2,Table1[],4,0),IF($B1130=3,VLOOKUP(E$2,Table1[],5,0),IF($B1130=4,VLOOKUP(E$2,Table1[],5,0),0))))","v":1500000},{"$f":"IF($B1130=1,VLOOKUP(F$2,Table1[],3,0),IF($B1130=2,VLOOKUP(F$2,Table1[],4,0),IF($B1130=3,VLOOKUP(F$2,Table1[],5,0),IF($B1130=4,VLOOKUP(F$2,Table1[],5,0),0))))","v":800000}]
[5154,1,{"$f":"IF($B1131=1,VLOOKUP(C$2,Table1[],3,0),IF($B1131=2,VLOOKUP(C$2,Table1[],4,0),IF($B1131=3,VLOOKUP(C$2,Table1[],5,0),IF($B1131=4,VLOOKUP(C$2,Table1[],5,0),0))))","v":2000000},{"$f":"IF($B1131=1,VLOOKUP(D$2,Table1[],3,0),IF($B1131=2,VLOOKUP(D$2,Table1[],4,0),IF($B1131=3,VLOOKUP(D$2,Table1[],5,0),IF($B1131=4,VLOOKUP(D$2,Table1[],5,0),0))))","v":2000000},{"$f":"IF($B1131=1,VLOOKUP(E$2,Table1[],3,0),IF($B1131=2,VLOOKUP(E$2,Table1[],4,0),IF($B1131=3,VLOOKUP(E$2,Table1[],5,0),IF($B1131=4,VLOOKUP(E$2,Table1[],5,0),0))))","v":1500000},{"$f":"IF($B1131=1,VLOOKUP(F$2,Table1[],3,0),IF($B1131=2,VLOOKUP(F$2,Table1[],4,0),IF($B1131=3,VLOOKUP(F$2,Table1[],5,0),IF($B1131=4,VLOOKUP(F$2,Table1[],5,0),0))))","v":800000}]
[5155,1,{"$f":"IF($B1132=1,VLOOKUP(C$2,Table1[],3,0),IF($B1132=2,VLOOKUP(C$2,Table1[],4,0),IF($B1132=3,VLOOKUP(C$2,Table1[],5,0),IF($B1132=4,VLOOKUP(C$2,Table1[],5,0),0))))","v":2000000},{"$f":"IF($B1132=1,VLOOKUP(D$2,Table1[],3,0),IF($B1132=2,VLOOKUP(D$2,Table1[],4,0),IF($B1132=3,VLOOKUP(D$2,Table1[],5,0),IF($B1132=4,VLOOKUP(D$2,Table1[],5,0),0))))","v":2000000},{"$f":"IF($B1132=1,VLOOKUP(E$2,Table1[],3,0),IF($B1132=2,VLOOKUP(E$2,Table1[],4,0),IF($B1132=3,VLOOKUP(E$2,Table1[],5,0),IF($B1132=4,VLOOKUP(E$2,Table1[],5,0),0))))","v":1500000},{"$f":"IF($B1132=1,VLOOKUP(F$2,Table1[],3,0),IF($B1132=2,VLOOKUP(F$2,Table1[],4,0),IF($B1132=3,VLOOKUP(F$2,Table1[],5,0),IF($B1132=4,VLOOKUP(F$2,Table1[],5,0),0))))","v":800000}]
[5156,1,{"$f":"IF($B1133=1,VLOOKUP(C$2,Table1[],3,0),IF($B1133=2,VLOOKUP(C$2,Table1[],4,0),IF($B1133=3,VLOOKUP(C$2,Table1[],5,0),IF($B1133=4,VLOOKUP(C$2,Table1[],5,0),0))))","v":2000000},{"$f":"IF($B1133=1,VLOOKUP(D$2,Table1[],3,0),IF($B1133=2,VLOOKUP(D$2,Table1[],4,0),IF($B1133=3,VLOOKUP(D$2,Table1[],5,0),IF($B1133=4,VLOOKUP(D$2,Table1[],5,0),0))))","v":2000000},{"$f":"IF($B1133=1,VLOOKUP(E$2,Table1[],3,0),IF($B1133=2,VLOOKUP(E$2,Table1[],4,0),IF($B1133=3,VLOOKUP(E$2,Table1[],5,0),IF($B1133=4,VLOOKUP(E$2,Table1[],5,0),0))))","v":1500000},{"$f":"IF($B1133=1,VLOOKUP(F$2,Table1[],3,0),IF($B1133=2,VLOOKUP(F$2,Table1[],4,0),IF($B1133=3,VLOOKUP(F$2,Table1[],5,0),IF($B1133=4,VLOOKUP(F$2,Table1[],5,0),0))))","v":800000}]
[5157,1,{"$f":"IF($B1134=1,VLOOKUP(C$2,Table1[],3,0),IF($B1134=2,VLOOKUP(C$2,Table1[],4,0),IF($B1134=3,VLOOKUP(C$2,Table1[],5,0),IF($B1134=4,VLOOKUP(C$2,Table1[],5,0),0))))","v":2000000},{"$f":"IF($B1134=1,VLOOKUP(D$2,Table1[],3,0),IF($B1134=2,VLOOKUP(D$2,Table1[],4,0),IF($B1134=3,VLOOKUP(D$2,Table1[],5,0),IF($B1134=4,VLOOKUP(D$2,Table1[],5,0),0))))","v":2000000},{"$f":"IF($B1134=1,VLOOKUP(E$2,Table1[],3,0),IF($B1134=2,VLOOKUP(E$2,Table1[],4,0),IF($B1134=3,VLOOKUP(E$2,Table1[],5,0),IF($B1134=4,VLOOKUP(E$2,Table1[],5,0),0))))","v":1500000},{"$f":"IF($B1134=1,VLOOKUP(F$2,Table1[],3,0),IF($B1134=2,VLOOKUP(F$2,Table1[],4,0),IF($B1134=3,VLOOKUP(F$2,Table1[],5,0),IF($B1134=4,VLOOKUP(F$2,Table1[],5,0),0))))","v":800000}]
[5158,1,{"$f":"IF($B1135=1,VLOOKUP(C$2,Table1[],3,0),IF($B1135=2,VLOOKUP(C$2,Table1[],4,0),IF($B1135=3,VLOOKUP(C$2,Table1[],5,0),IF($B1135=4,VLOOKUP(C$2,Table1[],5,0),0))))","v":2000000},{"$f":"IF($B1135=1,VLOOKUP(D$2,Table1[],3,0),IF($B1135=2,VLOOKUP(D$2,Table1[],4,0),IF($B1135=3,VLOOKUP(D$2,Table1[],5,0),IF($B1135=4,VLOOKUP(D$2,Table1[],5,0),0))))","v":2000000},{"$f":"IF($B1135=1,VLOOKUP(E$2,Table1[],3,0),IF($B1135=2,VLOOKUP(E$2,Table1[],4,0),IF($B1135=3,VLOOKUP(E$2,Table1[],5,0),IF($B1135=4,VLOOKUP(E$2,Table1[],5,0),0))))","v":1500000},{"$f":"IF($B1135=1,VLOOKUP(F$2,Table1[],3,0),IF($B1135=2,VLOOKUP(F$2,Table1[],4,0),IF($B1135=3,VLOOKUP(F$2,Table1[],5,0),IF($B1135=4,VLOOKUP(F$2,Table1[],5,0),0))))","v":800000}]
[5159,1,{"$f":"IF($B1136=1,VLOOKUP(C$2,Table1[],3,0),IF($B1136=2,VLOOKUP(C$2,Table1[],4,0),IF($B1136=3,VLOOKUP(C$2,Table1[],5,0),IF($B1136=4,VLOOKUP(C$2,Table1[],5,0),0))))","v":2000000},{"$f":"IF($B1136=1,VLOOKUP(D$2,Table1[],3,0),IF($B1136=2,VLOOKUP(D$2,Table1[],4,0),IF($B1136=3,VLOOKUP(D$2,Table1[],5,0),IF($B1136=4,VLOOKUP(D$2,Table1[],5,0),0))))","v":2000000},{"$f":"IF($B1136=1,VLOOKUP(E$2,Table1[],3,0),IF($B1136=2,VLOOKUP(E$2,Table1[],4,0),IF($B1136=3,VLOOKUP(E$2,Table1[],5,0),IF($B1136=4,VLOOKUP(E$2,Table1[],5,0),0))))","v":1500000},{"$f":"IF($B1136=1,VLOOKUP(F$2,Table1[],3,0),IF($B1136=2,VLOOKUP(F$2,Table1[],4,0),IF($B1136=3,VLOOKUP(F$2,Table1[],5,0),IF($B1136=4,VLOOKUP(F$2,Table1[],5,0),0))))","v":800000}]
[5160,1,{"$f":"IF($B1137=1,VLOOKUP(C$2,Table1[],3,0),IF($B1137=2,VLOOKUP(C$2,Table1[],4,0),IF($B1137=3,VLOOKUP(C$2,Table1[],5,0),IF($B1137=4,VLOOKUP(C$2,Table1[],5,0),0))))","v":2000000},{"$f":"IF($B1137=1,VLOOKUP(D$2,Table1[],3,0),IF($B1137=2,VLOOKUP(D$2,Table1[],4,0),IF($B1137=3,VLOOKUP(D$2,Table1[],5,0),IF($B1137=4,VLOOKUP(D$2,Table1[],5,0),0))))","v":2000000},{"$f":"IF($B1137=1,VLOOKUP(E$2,Table1[],3,0),IF($B1137=2,VLOOKUP(E$2,Table1[],4,0),IF($B1137=3,VLOOKUP(E$2,Table1[],5,0),IF($B1137=4,VLOOKUP(E$2,Table1[],5,0),0))))","v":1500000},{"$f":"IF($B1137=1,VLOOKUP(F$2,Table1[],3,0),IF($B1137=2,VLOOKUP(F$2,Table1[],4,0),IF($B1137=3,VLOOKUP(F$2,Table1[],5,0),IF($B1137=4,VLOOKUP(F$2,Table1[],5,0),0))))","v":800000}]
[5161,1,{"$f":"IF($B1138=1,VLOOKUP(C$2,Table1[],3,0),IF($B1138=2,VLOOKUP(C$2,Table1[],4,0),IF($B1138=3,VLOOKUP(C$2,Table1[],5,0),IF($B1138=4,VLOOKUP(C$2,Table1[],5,0),0))))","v":2000000},{"$f":"IF($B1138=1,VLOOKUP(D$2,Table1[],3,0),IF($B1138=2,VLOOKUP(D$2,Table1[],4,0),IF($B1138=3,VLOOKUP(D$2,Table1[],5,0),IF($B1138=4,VLOOKUP(D$2,Table1[],5,0),0))))","v":2000000},{"$f":"IF($B1138=1,VLOOKUP(E$2,Table1[],3,0),IF($B1138=2,VLOOKUP(E$2,Table1[],4,0),IF($B1138=3,VLOOKUP(E$2,Table1[],5,0),IF($B1138=4,VLOOKUP(E$2,Table1[],5,0),0))))","v":1500000},{"$f":"IF($B1138=1,VLOOKUP(F$2,Table1[],3,0),IF($B1138=2,VLOOKUP(F$2,Table1[],4,0),IF($B1138=3,VLOOKUP(F$2,Table1[],5,0),IF($B1138=4,VLOOKUP(F$2,Table1[],5,0),0))))","v":800000}]
[5162,1,{"$f":"IF($B1139=1,VLOOKUP(C$2,Table1[],3,0),IF($B1139=2,VLOOKUP(C$2,Table1[],4,0),IF($B1139=3,VLOOKUP(C$2,Table1[],5,0),IF($B1139=4,VLOOKUP(C$2,Table1[],5,0),0))))","v":2000000},{"$f":"IF($B1139=1,VLOOKUP(D$2,Table1[],3,0),IF($B1139=2,VLOOKUP(D$2,Table1[],4,0),IF($B1139=3,VLOOKUP(D$2,Table1[],5,0),IF($B1139=4,VLOOKUP(D$2,Table1[],5,0),0))))","v":2000000},{"$f":"IF($B1139=1,VLOOKUP(E$2,Table1[],3,0),IF($B1139=2,VLOOKUP(E$2,Table1[],4,0),IF($B1139=3,VLOOKUP(E$2,Table1[],5,0),IF($B1139=4,VLOOKUP(E$2,Table1[],5,0),0))))","v":1500000},{"$f":"IF($B1139=1,VLOOKUP(F$2,Table1[],3,0),IF($B1139=2,VLOOKUP(F$2,Table1[],4,0),IF($B1139=3,VLOOKUP(F$2,Table1[],5,0),IF($B1139=4,VLOOKUP(F$2,Table1[],5,0),0))))","v":800000}]
[5163,1,{"$f":"IF($B1140=1,VLOOKUP(C$2,Table1[],3,0),IF($B1140=2,VLOOKUP(C$2,Table1[],4,0),IF($B1140=3,VLOOKUP(C$2,Table1[],5,0),IF($B1140=4,VLOOKUP(C$2,Table1[],5,0),0))))","v":2000000},{"$f":"IF($B1140=1,VLOOKUP(D$2,Table1[],3,0),IF($B1140=2,VLOOKUP(D$2,Table1[],4,0),IF($B1140=3,VLOOKUP(D$2,Table1[],5,0),IF($B1140=4,VLOOKUP(D$2,Table1[],5,0),0))))","v":2000000},{"$f":"IF($B1140=1,VLOOKUP(E$2,Table1[],3,0),IF($B1140=2,VLOOKUP(E$2,Table1[],4,0),IF($B1140=3,VLOOKUP(E$2,Table1[],5,0),IF($B1140=4,VLOOKUP(E$2,Table1[],5,0),0))))","v":1500000},{"$f":"IF($B1140=1,VLOOKUP(F$2,Table1[],3,0),IF($B1140=2,VLOOKUP(F$2,Table1[],4,0),IF($B1140=3,VLOOKUP(F$2,Table1[],5,0),IF($B1140=4,VLOOKUP(F$2,Table1[],5,0),0))))","v":800000}]
[5164,1,{"$f":"IF($B1141=1,VLOOKUP(C$2,Table1[],3,0),IF($B1141=2,VLOOKUP(C$2,Table1[],4,0),IF($B1141=3,VLOOKUP(C$2,Table1[],5,0),IF($B1141=4,VLOOKUP(C$2,Table1[],5,0),0))))","v":2000000},{"$f":"IF($B1141=1,VLOOKUP(D$2,Table1[],3,0),IF($B1141=2,VLOOKUP(D$2,Table1[],4,0),IF($B1141=3,VLOOKUP(D$2,Table1[],5,0),IF($B1141=4,VLOOKUP(D$2,Table1[],5,0),0))))","v":2000000},{"$f":"IF($B1141=1,VLOOKUP(E$2,Table1[],3,0),IF($B1141=2,VLOOKUP(E$2,Table1[],4,0),IF($B1141=3,VLOOKUP(E$2,Table1[],5,0),IF($B1141=4,VLOOKUP(E$2,Table1[],5,0),0))))","v":1500000},{"$f":"IF($B1141=1,VLOOKUP(F$2,Table1[],3,0),IF($B1141=2,VLOOKUP(F$2,Table1[],4,0),IF($B1141=3,VLOOKUP(F$2,Table1[],5,0),IF($B1141=4,VLOOKUP(F$2,Table1[],5,0),0))))","v":800000}]
[5165,1,{"$f":"IF($B1142=1,VLOOKUP(C$2,Table1[],3,0),IF($B1142=2,VLOOKUP(C$2,Table1[],4,0),IF($B1142=3,VLOOKUP(C$2,Table1[],5,0),IF($B1142=4,VLOOKUP(C$2,Table1[],5,0),0))))","v":2000000},{"$f":"IF($B1142=1,VLOOKUP(D$2,Table1[],3,0),IF($B1142=2,VLOOKUP(D$2,Table1[],4,0),IF($B1142=3,VLOOKUP(D$2,Table1[],5,0),IF($B1142=4,VLOOKUP(D$2,Table1[],5,0),0))))","v":2000000},{"$f":"IF($B1142=1,VLOOKUP(E$2,Table1[],3,0),IF($B1142=2,VLOOKUP(E$2,Table1[],4,0),IF($B1142=3,VLOOKUP(E$2,Table1[],5,0),IF($B1142=4,VLOOKUP(E$2,Table1[],5,0),0))))","v":1500000},{"$f":"IF($B1142=1,VLOOKUP(F$2,Table1[],3,0),IF($B1142=2,VLOOKUP(F$2,Table1[],4,0),IF($B1142=3,VLOOKUP(F$2,Table1[],5,0),IF($B1142=4,VLOOKUP(F$2,Table1[],5,0),0))))","v":800000}]
[5166,1,{"$f":"IF($B1143=1,VLOOKUP(C$2,Table1[],3,0),IF($B1143=2,VLOOKUP(C$2,Table1[],4,0),IF($B1143=3,VLOOKUP(C$2,Table1[],5,0),IF($B1143=4,VLOOKUP(C$2,Table1[],5,0),0))))","v":2000000},{"$f":"IF($B1143=1,VLOOKUP(D$2,Table1[],3,0),IF($B1143=2,VLOOKUP(D$2,Table1[],4,0),IF($B1143=3,VLOOKUP(D$2,Table1[],5,0),IF($B1143=4,VLOOKUP(D$2,Table1[],5,0),0))))","v":2000000},{"$f":"IF($B1143=1,VLOOKUP(E$2,Table1[],3,0),IF($B1143=2,VLOOKUP(E$2,Table1[],4,0),IF($B1143=3,VLOOKUP(E$2,Table1[],5,0),IF($B1143=4,VLOOKUP(E$2,Table1[],5,0),0))))","v":1500000},{"$f":"IF($B1143=1,VLOOKUP(F$2,Table1[],3,0),IF($B1143=2,VLOOKUP(F$2,Table1[],4,0),IF($B1143=3,VLOOKUP(F$2,Table1[],5,0),IF($B1143=4,VLOOKUP(F$2,Table1[],5,0),0))))","v":800000}]
[5167,1,{"$f":"IF($B1144=1,VLOOKUP(C$2,Table1[],3,0),IF($B1144=2,VLOOKUP(C$2,Table1[],4,0),IF($B1144=3,VLOOKUP(C$2,Table1[],5,0),IF($B1144=4,VLOOKUP(C$2,Table1[],5,0),0))))","v":2000000},{"$f":"IF($B1144=1,VLOOKUP(D$2,Table1[],3,0),IF($B1144=2,VLOOKUP(D$2,Table1[],4,0),IF($B1144=3,VLOOKUP(D$2,Table1[],5,0),IF($B1144=4,VLOOKUP(D$2,Table1[],5,0),0))))","v":2000000},{"$f":"IF($B1144=1,VLOOKUP(E$2,Table1[],3,0),IF($B1144=2,VLOOKUP(E$2,Table1[],4,0),IF($B1144=3,VLOOKUP(E$2,Table1[],5,0),IF($B1144=4,VLOOKUP(E$2,Table1[],5,0),0))))","v":1500000},{"$f":"IF($B1144=1,VLOOKUP(F$2,Table1[],3,0),IF($B1144=2,VLOOKUP(F$2,Table1[],4,0),IF($B1144=3,VLOOKUP(F$2,Table1[],5,0),IF($B1144=4,VLOOKUP(F$2,Table1[],5,0),0))))","v":800000}]
[5168,1,{"$f":"IF($B1145=1,VLOOKUP(C$2,Table1[],3,0),IF($B1145=2,VLOOKUP(C$2,Table1[],4,0),IF($B1145=3,VLOOKUP(C$2,Table1[],5,0),IF($B1145=4,VLOOKUP(C$2,Table1[],5,0),0))))","v":2000000},{"$f":"IF($B1145=1,VLOOKUP(D$2,Table1[],3,0),IF($B1145=2,VLOOKUP(D$2,Table1[],4,0),IF($B1145=3,VLOOKUP(D$2,Table1[],5,0),IF($B1145=4,VLOOKUP(D$2,Table1[],5,0),0))))","v":2000000},{"$f":"IF($B1145=1,VLOOKUP(E$2,Table1[],3,0),IF($B1145=2,VLOOKUP(E$2,Table1[],4,0),IF($B1145=3,VLOOKUP(E$2,Table1[],5,0),IF($B1145=4,VLOOKUP(E$2,Table1[],5,0),0))))","v":1500000},{"$f":"IF($B1145=1,VLOOKUP(F$2,Table1[],3,0),IF($B1145=2,VLOOKUP(F$2,Table1[],4,0),IF($B1145=3,VLOOKUP(F$2,Table1[],5,0),IF($B1145=4,VLOOKUP(F$2,Table1[],5,0),0))))","v":800000}]
[5169,1,{"$f":"IF($B1146=1,VLOOKUP(C$2,Table1[],3,0),IF($B1146=2,VLOOKUP(C$2,Table1[],4,0),IF($B1146=3,VLOOKUP(C$2,Table1[],5,0),IF($B1146=4,VLOOKUP(C$2,Table1[],5,0),0))))","v":2000000},{"$f":"IF($B1146=1,VLOOKUP(D$2,Table1[],3,0),IF($B1146=2,VLOOKUP(D$2,Table1[],4,0),IF($B1146=3,VLOOKUP(D$2,Table1[],5,0),IF($B1146=4,VLOOKUP(D$2,Table1[],5,0),0))))","v":2000000},{"$f":"IF($B1146=1,VLOOKUP(E$2,Table1[],3,0),IF($B1146=2,VLOOKUP(E$2,Table1[],4,0),IF($B1146=3,VLOOKUP(E$2,Table1[],5,0),IF($B1146=4,VLOOKUP(E$2,Table1[],5,0),0))))","v":1500000},{"$f":"IF($B1146=1,VLOOKUP(F$2,Table1[],3,0),IF($B1146=2,VLOOKUP(F$2,Table1[],4,0),IF($B1146=3,VLOOKUP(F$2,Table1[],5,0),IF($B1146=4,VLOOKUP(F$2,Table1[],5,0),0))))","v":800000}]
[5170,1,{"$f":"IF($B1147=1,VLOOKUP(C$2,Table1[],3,0),IF($B1147=2,VLOOKUP(C$2,Table1[],4,0),IF($B1147=3,VLOOKUP(C$2,Table1[],5,0),IF($B1147=4,VLOOKUP(C$2,Table1[],5,0),0))))","v":2000000},{"$f":"IF($B1147=1,VLOOKUP(D$2,Table1[],3,0),IF($B1147=2,VLOOKUP(D$2,Table1[],4,0),IF($B1147=3,VLOOKUP(D$2,Table1[],5,0),IF($B1147=4,VLOOKUP(D$2,Table1[],5,0),0))))","v":2000000},{"$f":"IF($B1147=1,VLOOKUP(E$2,Table1[],3,0),IF($B1147=2,VLOOKUP(E$2,Table1[],4,0),IF($B1147=3,VLOOKUP(E$2,Table1[],5,0),IF($B1147=4,VLOOKUP(E$2,Table1[],5,0),0))))","v":1500000},{"$f":"IF($B1147=1,VLOOKUP(F$2,Table1[],3,0),IF($B1147=2,VLOOKUP(F$2,Table1[],4,0),IF($B1147=3,VLOOKUP(F$2,Table1[],5,0),IF($B1147=4,VLOOKUP(F$2,Table1[],5,0),0))))","v":800000}]
[5171,1,{"$f":"IF($B1148=1,VLOOKUP(C$2,Table1[],3,0),IF($B1148=2,VLOOKUP(C$2,Table1[],4,0),IF($B1148=3,VLOOKUP(C$2,Table1[],5,0),IF($B1148=4,VLOOKUP(C$2,Table1[],5,0),0))))","v":2000000},{"$f":"IF($B1148=1,VLOOKUP(D$2,Table1[],3,0),IF($B1148=2,VLOOKUP(D$2,Table1[],4,0),IF($B1148=3,VLOOKUP(D$2,Table1[],5,0),IF($B1148=4,VLOOKUP(D$2,Table1[],5,0),0))))","v":2000000},{"$f":"IF($B1148=1,VLOOKUP(E$2,Table1[],3,0),IF($B1148=2,VLOOKUP(E$2,Table1[],4,0),IF($B1148=3,VLOOKUP(E$2,Table1[],5,0),IF($B1148=4,VLOOKUP(E$2,Table1[],5,0),0))))","v":1500000},{"$f":"IF($B1148=1,VLOOKUP(F$2,Table1[],3,0),IF($B1148=2,VLOOKUP(F$2,Table1[],4,0),IF($B1148=3,VLOOKUP(F$2,Table1[],5,0),IF($B1148=4,VLOOKUP(F$2,Table1[],5,0),0))))","v":800000}]
[5172,1,{"$f":"IF($B1149=1,VLOOKUP(C$2,Table1[],3,0),IF($B1149=2,VLOOKUP(C$2,Table1[],4,0),IF($B1149=3,VLOOKUP(C$2,Table1[],5,0),IF($B1149=4,VLOOKUP(C$2,Table1[],5,0),0))))","v":2000000},{"$f":"IF($B1149=1,VLOOKUP(D$2,Table1[],3,0),IF($B1149=2,VLOOKUP(D$2,Table1[],4,0),IF($B1149=3,VLOOKUP(D$2,Table1[],5,0),IF($B1149=4,VLOOKUP(D$2,Table1[],5,0),0))))","v":2000000},{"$f":"IF($B1149=1,VLOOKUP(E$2,Table1[],3,0),IF($B1149=2,VLOOKUP(E$2,Table1[],4,0),IF($B1149=3,VLOOKUP(E$2,Table1[],5,0),IF($B1149=4,VLOOKUP(E$2,Table1[],5,0),0))))","v":1500000},{"$f":"IF($B1149=1,VLOOKUP(F$2,Table1[],3,0),IF($B1149=2,VLOOKUP(F$2,Table1[],4,0),IF($B1149=3,VLOOKUP(F$2,Table1[],5,0),IF($B1149=4,VLOOKUP(F$2,Table1[],5,0),0))))","v":800000}]
[5173,1,{"$f":"IF($B1150=1,VLOOKUP(C$2,Table1[],3,0),IF($B1150=2,VLOOKUP(C$2,Table1[],4,0),IF($B1150=3,VLOOKUP(C$2,Table1[],5,0),IF($B1150=4,VLOOKUP(C$2,Table1[],5,0),0))))","v":2000000},{"$f":"IF($B1150=1,VLOOKUP(D$2,Table1[],3,0),IF($B1150=2,VLOOKUP(D$2,Table1[],4,0),IF($B1150=3,VLOOKUP(D$2,Table1[],5,0),IF($B1150=4,VLOOKUP(D$2,Table1[],5,0),0))))","v":2000000},{"$f":"IF($B1150=1,VLOOKUP(E$2,Table1[],3,0),IF($B1150=2,VLOOKUP(E$2,Table1[],4,0),IF($B1150=3,VLOOKUP(E$2,Table1[],5,0),IF($B1150=4,VLOOKUP(E$2,Table1[],5,0),0))))","v":1500000},{"$f":"IF($B1150=1,VLOOKUP(F$2,Table1[],3,0),IF($B1150=2,VLOOKUP(F$2,Table1[],4,0),IF($B1150=3,VLOOKUP(F$2,Table1[],5,0),IF($B1150=4,VLOOKUP(F$2,Table1[],5,0),0))))","v":800000}]
[5174,1,{"$f":"IF($B1151=1,VLOOKUP(C$2,Table1[],3,0),IF($B1151=2,VLOOKUP(C$2,Table1[],4,0),IF($B1151=3,VLOOKUP(C$2,Table1[],5,0),IF($B1151=4,VLOOKUP(C$2,Table1[],5,0),0))))","v":2000000},{"$f":"IF($B1151=1,VLOOKUP(D$2,Table1[],3,0),IF($B1151=2,VLOOKUP(D$2,Table1[],4,0),IF($B1151=3,VLOOKUP(D$2,Table1[],5,0),IF($B1151=4,VLOOKUP(D$2,Table1[],5,0),0))))","v":2000000},{"$f":"IF($B1151=1,VLOOKUP(E$2,Table1[],3,0),IF($B1151=2,VLOOKUP(E$2,Table1[],4,0),IF($B1151=3,VLOOKUP(E$2,Table1[],5,0),IF($B1151=4,VLOOKUP(E$2,Table1[],5,0),0))))","v":1500000},{"$f":"IF($B1151=1,VLOOKUP(F$2,Table1[],3,0),IF($B1151=2,VLOOKUP(F$2,Table1[],4,0),IF($B1151=3,VLOOKUP(F$2,Table1[],5,0),IF($B1151=4,VLOOKUP(F$2,Table1[],5,0),0))))","v":800000}]
[5201,2,{"$f":"IF($B1152=1,VLOOKUP(C$2,Table1[],3,0),IF($B1152=2,VLOOKUP(C$2,Table1[],4,0),IF($B1152=3,VLOOKUP(C$2,Table1[],5,0),IF($B1152=4,VLOOKUP(C$2,Table1[],5,0),0))))","v":1000000},{"$f":"IF($B1152=1,VLOOKUP(D$2,Table1[],3,0),IF($B1152=2,VLOOKUP(D$2,Table1[],4,0),IF($B1152=3,VLOOKUP(D$2,Table1[],5,0),IF($B1152=4,VLOOKUP(D$2,Table1[],5,0),0))))","v":1000000},{"$f":"IF($B1152=1,VLOOKUP(E$2,Table1[],3,0),IF($B1152=2,VLOOKUP(E$2,Table1[],4,0),IF($B1152=3,VLOOKUP(E$2,Table1[],5,0),IF($B1152=4,VLOOKUP(E$2,Table1[],5,0),0))))","v":750000},{"$f":"IF($B1152=1,VLOOKUP(F$2,Table1[],3,0),IF($B1152=2,VLOOKUP(F$2,Table1[],4,0),IF($B1152=3,VLOOKUP(F$2,Table1[],5,0),IF($B1152=4,VLOOKUP(F$2,Table1[],5,0),0))))","v":500000}]
[5202,2,{"$f":"IF($B1153=1,VLOOKUP(C$2,Table1[],3,0),IF($B1153=2,VLOOKUP(C$2,Table1[],4,0),IF($B1153=3,VLOOKUP(C$2,Table1[],5,0),IF($B1153=4,VLOOKUP(C$2,Table1[],5,0),0))))","v":1000000},{"$f":"IF($B1153=1,VLOOKUP(D$2,Table1[],3,0),IF($B1153=2,VLOOKUP(D$2,Table1[],4,0),IF($B1153=3,VLOOKUP(D$2,Table1[],5,0),IF($B1153=4,VLOOKUP(D$2,Table1[],5,0),0))))","v":1000000},{"$f":"IF($B1153=1,VLOOKUP(E$2,Table1[],3,0),IF($B1153=2,VLOOKUP(E$2,Table1[],4,0),IF($B1153=3,VLOOKUP(E$2,Table1[],5,0),IF($B1153=4,VLOOKUP(E$2,Table1[],5,0),0))))","v":750000},{"$f":"IF($B1153=1,VLOOKUP(F$2,Table1[],3,0),IF($B1153=2,VLOOKUP(F$2,Table1[],4,0),IF($B1153=3,VLOOKUP(F$2,Table1[],5,0),IF($B1153=4,VLOOKUP(F$2,Table1[],5,0),0))))","v":500000}]
[5203,2,{"$f":"IF($B1154=1,VLOOKUP(C$2,Table1[],3,0),IF($B1154=2,VLOOKUP(C$2,Table1[],4,0),IF($B1154=3,VLOOKUP(C$2,Table1[],5,0),IF($B1154=4,VLOOKUP(C$2,Table1[],5,0),0))))","v":1000000},{"$f":"IF($B1154=1,VLOOKUP(D$2,Table1[],3,0),IF($B1154=2,VLOOKUP(D$2,Table1[],4,0),IF($B1154=3,VLOOKUP(D$2,Table1[],5,0),IF($B1154=4,VLOOKUP(D$2,Table1[],5,0),0))))","v":1000000},{"$f":"IF($B1154=1,VLOOKUP(E$2,Table1[],3,0),IF($B1154=2,VLOOKUP(E$2,Table1[],4,0),IF($B1154=3,VLOOKUP(E$2,Table1[],5,0),IF($B1154=4,VLOOKUP(E$2,Table1[],5,0),0))))","v":750000},{"$f":"IF($B1154=1,VLOOKUP(F$2,Table1[],3,0),IF($B1154=2,VLOOKUP(F$2,Table1[],4,0),IF($B1154=3,VLOOKUP(F$2,Table1[],5,0),IF($B1154=4,VLOOKUP(F$2,Table1[],5,0),0))))","v":500000}]
[5204,2,{"$f":"IF($B1155=1,VLOOKUP(C$2,Table1[],3,0),IF($B1155=2,VLOOKUP(C$2,Table1[],4,0),IF($B1155=3,VLOOKUP(C$2,Table1[],5,0),IF($B1155=4,VLOOKUP(C$2,Table1[],5,0),0))))","v":1000000},{"$f":"IF($B1155=1,VLOOKUP(D$2,Table1[],3,0),IF($B1155=2,VLOOKUP(D$2,Table1[],4,0),IF($B1155=3,VLOOKUP(D$2,Table1[],5,0),IF($B1155=4,VLOOKUP(D$2,Table1[],5,0),0))))","v":1000000},{"$f":"IF($B1155=1,VLOOKUP(E$2,Table1[],3,0),IF($B1155=2,VLOOKUP(E$2,Table1[],4,0),IF($B1155=3,VLOOKUP(E$2,Table1[],5,0),IF($B1155=4,VLOOKUP(E$2,Table1[],5,0),0))))","v":750000},{"$f":"IF($B1155=1,VLOOKUP(F$2,Table1[],3,0),IF($B1155=2,VLOOKUP(F$2,Table1[],4,0),IF($B1155=3,VLOOKUP(F$2,Table1[],5,0),IF($B1155=4,VLOOKUP(F$2,Table1[],5,0),0))))","v":500000}]
[5211,2,{"$f":"IF($B1156=1,VLOOKUP(C$2,Table1[],3,0),IF($B1156=2,VLOOKUP(C$2,Table1[],4,0),IF($B1156=3,VLOOKUP(C$2,Table1[],5,0),IF($B1156=4,VLOOKUP(C$2,Table1[],5,0),0))))","v":1000000},{"$f":"IF($B1156=1,VLOOKUP(D$2,Table1[],3,0),IF($B1156=2,VLOOKUP(D$2,Table1[],4,0),IF($B1156=3,VLOOKUP(D$2,Table1[],5,0),IF($B1156=4,VLOOKUP(D$2,Table1[],5,0),0))))","v":1000000},{"$f":"IF($B1156=1,VLOOKUP(E$2,Table1[],3,0),IF($B1156=2,VLOOKUP(E$2,Table1[],4,0),IF($B1156=3,VLOOKUP(E$2,Table1[],5,0),IF($B1156=4,VLOOKUP(E$2,Table1[],5,0),0))))","v":750000},{"$f":"IF($B1156=1,VLOOKUP(F$2,Table1[],3,0),IF($B1156=2,VLOOKUP(F$2,Table1[],4,0),IF($B1156=3,VLOOKUP(F$2,Table1[],5,0),IF($B1156=4,VLOOKUP(F$2,Table1[],5,0),0))))","v":500000}]
[5212,2,{"$f":"IF($B1157=1,VLOOKUP(C$2,Table1[],3,0),IF($B1157=2,VLOOKUP(C$2,Table1[],4,0),IF($B1157=3,VLOOKUP(C$2,Table1[],5,0),IF($B1157=4,VLOOKUP(C$2,Table1[],5,0),0))))","v":1000000},{"$f":"IF($B1157=1,VLOOKUP(D$2,Table1[],3,0),IF($B1157=2,VLOOKUP(D$2,Table1[],4,0),IF($B1157=3,VLOOKUP(D$2,Table1[],5,0),IF($B1157=4,VLOOKUP(D$2,Table1[],5,0),0))))","v":1000000},{"$f":"IF($B1157=1,VLOOKUP(E$2,Table1[],3,0),IF($B1157=2,VLOOKUP(E$2,Table1[],4,0),IF($B1157=3,VLOOKUP(E$2,Table1[],5,0),IF($B1157=4,VLOOKUP(E$2,Table1[],5,0),0))))","v":750000},{"$f":"IF($B1157=1,VLOOKUP(F$2,Table1[],3,0),IF($B1157=2,VLOOKUP(F$2,Table1[],4,0),IF($B1157=3,VLOOKUP(F$2,Table1[],5,0),IF($B1157=4,VLOOKUP(F$2,Table1[],5,0),0))))","v":500000}]
[5213,2,{"$f":"IF($B1158=1,VLOOKUP(C$2,Table1[],3,0),IF($B1158=2,VLOOKUP(C$2,Table1[],4,0),IF($B1158=3,VLOOKUP(C$2,Table1[],5,0),IF($B1158=4,VLOOKUP(C$2,Table1[],5,0),0))))","v":1000000},{"$f":"IF($B1158=1,VLOOKUP(D$2,Table1[],3,0),IF($B1158=2,VLOOKUP(D$2,Table1[],4,0),IF($B1158=3,VLOOKUP(D$2,Table1[],5,0),IF($B1158=4,VLOOKUP(D$2,Table1[],5,0),0))))","v":1000000},{"$f":"IF($B1158=1,VLOOKUP(E$2,Table1[],3,0),IF($B1158=2,VLOOKUP(E$2,Table1[],4,0),IF($B1158=3,VLOOKUP(E$2,Table1[],5,0),IF($B1158=4,VLOOKUP(E$2,Table1[],5,0),0))))","v":750000},{"$f":"IF($B1158=1,VLOOKUP(F$2,Table1[],3,0),IF($B1158=2,VLOOKUP(F$2,Table1[],4,0),IF($B1158=3,VLOOKUP(F$2,Table1[],5,0),IF($B1158=4,VLOOKUP(F$2,Table1[],5,0),0))))","v":500000}]
[5214,2,{"$f":"IF($B1159=1,VLOOKUP(C$2,Table1[],3,0),IF($B1159=2,VLOOKUP(C$2,Table1[],4,0),IF($B1159=3,VLOOKUP(C$2,Table1[],5,0),IF($B1159=4,VLOOKUP(C$2,Table1[],5,0),0))))","v":1000000},{"$f":"IF($B1159=1,VLOOKUP(D$2,Table1[],3,0),IF($B1159=2,VLOOKUP(D$2,Table1[],4,0),IF($B1159=3,VLOOKUP(D$2,Table1[],5,0),IF($B1159=4,VLOOKUP(D$2,Table1[],5,0),0))))","v":1000000},{"$f":"IF($B1159=1,VLOOKUP(E$2,Table1[],3,0),IF($B1159=2,VLOOKUP(E$2,Table1[],4,0),IF($B1159=3,VLOOKUP(E$2,Table1[],5,0),IF($B1159=4,VLOOKUP(E$2,Table1[],5,0),0))))","v":750000},{"$f":"IF($B1159=1,VLOOKUP(F$2,Table1[],3,0),IF($B1159=2,VLOOKUP(F$2,Table1[],4,0),IF($B1159=3,VLOOKUP(F$2,Table1[],5,0),IF($B1159=4,VLOOKUP(F$2,Table1[],5,0),0))))","v":500000}]
[5231,1,{"$f":"IF($B1160=1,VLOOKUP(C$2,Table1[],3,0),IF($B1160=2,VLOOKUP(C$2,Table1[],4,0),IF($B1160=3,VLOOKUP(C$2,Table1[],5,0),IF($B1160=4,VLOOKUP(C$2,Table1[],5,0),0))))","v":2000000},{"$f":"IF($B1160=1,VLOOKUP(D$2,Table1[],3,0),IF($B1160=2,VLOOKUP(D$2,Table1[],4,0),IF($B1160=3,VLOOKUP(D$2,Table1[],5,0),IF($B1160=4,VLOOKUP(D$2,Table1[],5,0),0))))","v":2000000},{"$f":"IF($B1160=1,VLOOKUP(E$2,Table1[],3,0),IF($B1160=2,VLOOKUP(E$2,Table1[],4,0),IF($B1160=3,VLOOKUP(E$2,Table1[],5,0),IF($B1160=4,VLOOKUP(E$2,Table1[],5,0),0))))","v":1500000},{"$f":"IF($B1160=1,VLOOKUP(F$2,Table1[],3,0),IF($B1160=2,VLOOKUP(F$2,Table1[],4,0),IF($B1160=3,VLOOKUP(F$2,Table1[],5,0),IF($B1160=4,VLOOKUP(F$2,Table1[],5,0),0))))","v":800000}]
[5232,1,{"$f":"IF($B1161=1,VLOOKUP(C$2,Table1[],3,0),IF($B1161=2,VLOOKUP(C$2,Table1[],4,0),IF($B1161=3,VLOOKUP(C$2,Table1[],5,0),IF($B1161=4,VLOOKUP(C$2,Table1[],5,0),0))))","v":2000000},{"$f":"IF($B1161=1,VLOOKUP(D$2,Table1[],3,0),IF($B1161=2,VLOOKUP(D$2,Table1[],4,0),IF($B1161=3,VLOOKUP(D$2,Table1[],5,0),IF($B1161=4,VLOOKUP(D$2,Table1[],5,0),0))))","v":2000000},{"$f":"IF($B1161=1,VLOOKUP(E$2,Table1[],3,0),IF($B1161=2,VLOOKUP(E$2,Table1[],4,0),IF($B1161=3,VLOOKUP(E$2,Table1[],5,0),IF($B1161=4,VLOOKUP(E$2,Table1[],5,0),0))))","v":1500000},{"$f":"IF($B1161=1,VLOOKUP(F$2,Table1[],3,0),IF($B1161=2,VLOOKUP(F$2,Table1[],4,0),IF($B1161=3,VLOOKUP(F$2,Table1[],5,0),IF($B1161=4,VLOOKUP(F$2,Table1[],5,0),0))))","v":800000}]
[5233,1,{"$f":"IF($B1162=1,VLOOKUP(C$2,Table1[],3,0),IF($B1162=2,VLOOKUP(C$2,Table1[],4,0),IF($B1162=3,VLOOKUP(C$2,Table1[],5,0),IF($B1162=4,VLOOKUP(C$2,Table1[],5,0),0))))","v":2000000},{"$f":"IF($B1162=1,VLOOKUP(D$2,Table1[],3,0),IF($B1162=2,VLOOKUP(D$2,Table1[],4,0),IF($B1162=3,VLOOKUP(D$2,Table1[],5,0),IF($B1162=4,VLOOKUP(D$2,Table1[],5,0),0))))","v":2000000},{"$f":"IF($B1162=1,VLOOKUP(E$2,Table1[],3,0),IF($B1162=2,VLOOKUP(E$2,Table1[],4,0),IF($B1162=3,VLOOKUP(E$2,Table1[],5,0),IF($B1162=4,VLOOKUP(E$2,Table1[],5,0),0))))","v":1500000},{"$f":"IF($B1162=1,VLOOKUP(F$2,Table1[],3,0),IF($B1162=2,VLOOKUP(F$2,Table1[],4,0),IF($B1162=3,VLOOKUP(F$2,Table1[],5,0),IF($B1162=4,VLOOKUP(F$2,Table1[],5,0),0))))","v":800000}]
[5234,1,{"$f":"IF($B1163=1,VLOOKUP(C$2,Table1[],3,0),IF($B1163=2,VLOOKUP(C$2,Table1[],4,0),IF($B1163=3,VLOOKUP(C$2,Table1[],5,0),IF($B1163=4,VLOOKUP(C$2,Table1[],5,0),0))))","v":2000000},{"$f":"IF($B1163=1,VLOOKUP(D$2,Table1[],3,0),IF($B1163=2,VLOOKUP(D$2,Table1[],4,0),IF($B1163=3,VLOOKUP(D$2,Table1[],5,0),IF($B1163=4,VLOOKUP(D$2,Table1[],5,0),0))))","v":2000000},{"$f":"IF($B1163=1,VLOOKUP(E$2,Table1[],3,0),IF($B1163=2,VLOOKUP(E$2,Table1[],4,0),IF($B1163=3,VLOOKUP(E$2,Table1[],5,0),IF($B1163=4,VLOOKUP(E$2,Table1[],5,0),0))))","v":1500000},{"$f":"IF($B1163=1,VLOOKUP(F$2,Table1[],3,0),IF($B1163=2,VLOOKUP(F$2,Table1[],4,0),IF($B1163=3,VLOOKUP(F$2,Table1[],5,0),IF($B1163=4,VLOOKUP(F$2,Table1[],5,0),0))))","v":800000}]
[5240,1,{"$f":"IF($B1164=1,VLOOKUP(C$2,Table1[],3,0),IF($B1164=2,VLOOKUP(C$2,Table1[],4,0),IF($B1164=3,VLOOKUP(C$2,Table1[],5,0),IF($B1164=4,VLOOKUP(C$2,Table1[],5,0),0))))","v":2000000},{"$f":"IF($B1164=1,VLOOKUP(D$2,Table1[],3,0),IF($B1164=2,VLOOKUP(D$2,Table1[],4,0),IF($B1164=3,VLOOKUP(D$2,Table1[],5,0),IF($B1164=4,VLOOKUP(D$2,Table1[],5,0),0))))","v":2000000},{"$f":"IF($B1164=1,VLOOKUP(E$2,Table1[],3,0),IF($B1164=2,VLOOKUP(E$2,Table1[],4,0),IF($B1164=3,VLOOKUP(E$2,Table1[],5,0),IF($B1164=4,VLOOKUP(E$2,Table1[],5,0),0))))","v":1500000},{"$f":"IF($B1164=1,VLOOKUP(F$2,Table1[],3,0),IF($B1164=2,VLOOKUP(F$2,Table1[],4,0),IF($B1164=3,VLOOKUP(F$2,Table1[],5,0),IF($B1164=4,VLOOKUP(F$2,Table1[],5,0),0))))","v":800000}]
[5241,1,{"$f":"IF($B1165=1,VLOOKUP(C$2,Table1[],3,0),IF($B1165=2,VLOOKUP(C$2,Table1[],4,0),IF($B1165=3,VLOOKUP(C$2,Table1[],5,0),IF($B1165=4,VLOOKUP(C$2,Table1[],5,0),0))))","v":2000000},{"$f":"IF($B1165=1,VLOOKUP(D$2,Table1[],3,0),IF($B1165=2,VLOOKUP(D$2,Table1[],4,0),IF($B1165=3,VLOOKUP(D$2,Table1[],5,0),IF($B1165=4,VLOOKUP(D$2,Table1[],5,0),0))))","v":2000000},{"$f":"IF($B1165=1,VLOOKUP(E$2,Table1[],3,0),IF($B1165=2,VLOOKUP(E$2,Table1[],4,0),IF($B1165=3,VLOOKUP(E$2,Table1[],5,0),IF($B1165=4,VLOOKUP(E$2,Table1[],5,0),0))))","v":1500000},{"$f":"IF($B1165=1,VLOOKUP(F$2,Table1[],3,0),IF($B1165=2,VLOOKUP(F$2,Table1[],4,0),IF($B1165=3,VLOOKUP(F$2,Table1[],5,0),IF($B1165=4,VLOOKUP(F$2,Table1[],5,0),0))))","v":800000}]
[5242,1,{"$f":"IF($B1166=1,VLOOKUP(C$2,Table1[],3,0),IF($B1166=2,VLOOKUP(C$2,Table1[],4,0),IF($B1166=3,VLOOKUP(C$2,Table1[],5,0),IF($B1166=4,VLOOKUP(C$2,Table1[],5,0),0))))","v":2000000},{"$f":"IF($B1166=1,VLOOKUP(D$2,Table1[],3,0),IF($B1166=2,VLOOKUP(D$2,Table1[],4,0),IF($B1166=3,VLOOKUP(D$2,Table1[],5,0),IF($B1166=4,VLOOKUP(D$2,Table1[],5,0),0))))","v":2000000},{"$f":"IF($B1166=1,VLOOKUP(E$2,Table1[],3,0),IF($B1166=2,VLOOKUP(E$2,Table1[],4,0),IF($B1166=3,VLOOKUP(E$2,Table1[],5,0),IF($B1166=4,VLOOKUP(E$2,Table1[],5,0),0))))","v":1500000},{"$f":"IF($B1166=1,VLOOKUP(F$2,Table1[],3,0),IF($B1166=2,VLOOKUP(F$2,Table1[],4,0),IF($B1166=3,VLOOKUP(F$2,Table1[],5,0),IF($B1166=4,VLOOKUP(F$2,Table1[],5,0),0))))","v":800000}]
[5243,1,{"$f":"IF($B1167=1,VLOOKUP(C$2,Table1[],3,0),IF($B1167=2,VLOOKUP(C$2,Table1[],4,0),IF($B1167=3,VLOOKUP(C$2,Table1[],5,0),IF($B1167=4,VLOOKUP(C$2,Table1[],5,0),0))))","v":2000000},{"$f":"IF($B1167=1,VLOOKUP(D$2,Table1[],3,0),IF($B1167=2,VLOOKUP(D$2,Table1[],4,0),IF($B1167=3,VLOOKUP(D$2,Table1[],5,0),IF($B1167=4,VLOOKUP(D$2,Table1[],5,0),0))))","v":2000000},{"$f":"IF($B1167=1,VLOOKUP(E$2,Table1[],3,0),IF($B1167=2,VLOOKUP(E$2,Table1[],4,0),IF($B1167=3,VLOOKUP(E$2,Table1[],5,0),IF($B1167=4,VLOOKUP(E$2,Table1[],5,0),0))))","v":1500000},{"$f":"IF($B1167=1,VLOOKUP(F$2,Table1[],3,0),IF($B1167=2,VLOOKUP(F$2,Table1[],4,0),IF($B1167=3,VLOOKUP(F$2,Table1[],5,0),IF($B1167=4,VLOOKUP(F$2,Table1[],5,0),0))))","v":800000}]
[5244,1,{"$f":"IF($B1168=1,VLOOKUP(C$2,Table1[],3,0),IF($B1168=2,VLOOKUP(C$2,Table1[],4,0),IF($B1168=3,VLOOKUP(C$2,Table1[],5,0),IF($B1168=4,VLOOKUP(C$2,Table1[],5,0),0))))","v":2000000},{"$f":"IF($B1168=1,VLOOKUP(D$2,Table1[],3,0),IF($B1168=2,VLOOKUP(D$2,Table1[],4,0),IF($B1168=3,VLOOKUP(D$2,Table1[],5,0),IF($B1168=4,VLOOKUP(D$2,Table1[],5,0),0))))","v":2000000},{"$f":"IF($B1168=1,VLOOKUP(E$2,Table1[],3,0),IF($B1168=2,VLOOKUP(E$2,Table1[],4,0),IF($B1168=3,VLOOKUP(E$2,Table1[],5,0),IF($B1168=4,VLOOKUP(E$2,Table1[],5,0),0))))","v":1500000},{"$f":"IF($B1168=1,VLOOKUP(F$2,Table1[],3,0),IF($B1168=2,VLOOKUP(F$2,Table1[],4,0),IF($B1168=3,VLOOKUP(F$2,Table1[],5,0),IF($B1168=4,VLOOKUP(F$2,Table1[],5,0),0))))","v":800000}]
[5245,1,{"$f":"IF($B1169=1,VLOOKUP(C$2,Table1[],3,0),IF($B1169=2,VLOOKUP(C$2,Table1[],4,0),IF($B1169=3,VLOOKUP(C$2,Table1[],5,0),IF($B1169=4,VLOOKUP(C$2,Table1[],5,0),0))))","v":2000000},{"$f":"IF($B1169=1,VLOOKUP(D$2,Table1[],3,0),IF($B1169=2,VLOOKUP(D$2,Table1[],4,0),IF($B1169=3,VLOOKUP(D$2,Table1[],5,0),IF($B1169=4,VLOOKUP(D$2,Table1[],5,0),0))))","v":2000000},{"$f":"IF($B1169=1,VLOOKUP(E$2,Table1[],3,0),IF($B1169=2,VLOOKUP(E$2,Table1[],4,0),IF($B1169=3,VLOOKUP(E$2,Table1[],5,0),IF($B1169=4,VLOOKUP(E$2,Table1[],5,0),0))))","v":1500000},{"$f":"IF($B1169=1,VLOOKUP(F$2,Table1[],3,0),IF($B1169=2,VLOOKUP(F$2,Table1[],4,0),IF($B1169=3,VLOOKUP(F$2,Table1[],5,0),IF($B1169=4,VLOOKUP(F$2,Table1[],5,0),0))))","v":800000}]
[5250,1,{"$f":"IF($B1170=1,VLOOKUP(C$2,Table1[],3,0),IF($B1170=2,VLOOKUP(C$2,Table1[],4,0),IF($B1170=3,VLOOKUP(C$2,Table1[],5,0),IF($B1170=4,VLOOKUP(C$2,Table1[],5,0),0))))","v":2000000},{"$f":"IF($B1170=1,VLOOKUP(D$2,Table1[],3,0),IF($B1170=2,VLOOKUP(D$2,Table1[],4,0),IF($B1170=3,VLOOKUP(D$2,Table1[],5,0),IF($B1170=4,VLOOKUP(D$2,Table1[],5,0),0))))","v":2000000},{"$f":"IF($B1170=1,VLOOKUP(E$2,Table1[],3,0),IF($B1170=2,VLOOKUP(E$2,Table1[],4,0),IF($B1170=3,VLOOKUP(E$2,Table1[],5,0),IF($B1170=4,VLOOKUP(E$2,Table1[],5,0),0))))","v":1500000},{"$f":"IF($B1170=1,VLOOKUP(F$2,Table1[],3,0),IF($B1170=2,VLOOKUP(F$2,Table1[],4,0),IF($B1170=3,VLOOKUP(F$2,Table1[],5,0),IF($B1170=4,VLOOKUP(F$2,Table1[],5,0),0))))","v":800000}]
[5251,1,{"$f":"IF($B1171=1,VLOOKUP(C$2,Table1[],3,0),IF($B1171=2,VLOOKUP(C$2,Table1[],4,0),IF($B1171=3,VLOOKUP(C$2,Table1[],5,0),IF($B1171=4,VLOOKUP(C$2,Table1[],5,0),0))))","v":2000000},{"$f":"IF($B1171=1,VLOOKUP(D$2,Table1[],3,0),IF($B1171=2,VLOOKUP(D$2,Table1[],4,0),IF($B1171=3,VLOOKUP(D$2,Table1[],5,0),IF($B1171=4,VLOOKUP(D$2,Table1[],5,0),0))))","v":2000000},{"$f":"IF($B1171=1,VLOOKUP(E$2,Table1[],3,0),IF($B1171=2,VLOOKUP(E$2,Table1[],4,0),IF($B1171=3,VLOOKUP(E$2,Table1[],5,0),IF($B1171=4,VLOOKUP(E$2,Table1[],5,0),0))))","v":1500000},{"$f":"IF($B1171=1,VLOOKUP(F$2,Table1[],3,0),IF($B1171=2,VLOOKUP(F$2,Table1[],4,0),IF($B1171=3,VLOOKUP(F$2,Table1[],5,0),IF($B1171=4,VLOOKUP(F$2,Table1[],5,0),0))))","v":800000}]
[5252,1,{"$f":"IF($B1172=1,VLOOKUP(C$2,Table1[],3,0),IF($B1172=2,VLOOKUP(C$2,Table1[],4,0),IF($B1172=3,VLOOKUP(C$2,Table1[],5,0),IF($B1172=4,VLOOKUP(C$2,Table1[],5,0),0))))","v":2000000},{"$f":"IF($B1172=1,VLOOKUP(D$2,Table1[],3,0),IF($B1172=2,VLOOKUP(D$2,Table1[],4,0),IF($B1172=3,VLOOKUP(D$2,Table1[],5,0),IF($B1172=4,VLOOKUP(D$2,Table1[],5,0),0))))","v":2000000},{"$f":"IF($B1172=1,VLOOKUP(E$2,Table1[],3,0),IF($B1172=2,VLOOKUP(E$2,Table1[],4,0),IF($B1172=3,VLOOKUP(E$2,Table1[],5,0),IF($B1172=4,VLOOKUP(E$2,Table1[],5,0),0))))","v":1500000},{"$f":"IF($B1172=1,VLOOKUP(F$2,Table1[],3,0),IF($B1172=2,VLOOKUP(F$2,Table1[],4,0),IF($B1172=3,VLOOKUP(F$2,Table1[],5,0),IF($B1172=4,VLOOKUP(F$2,Table1[],5,0),0))))","v":800000}]
[5253,2,{"$f":"IF($B1173=1,VLOOKUP(C$2,Table1[],3,0),IF($B1173=2,VLOOKUP(C$2,Table1[],4,0),IF($B1173=3,VLOOKUP(C$2,Table1[],5,0),IF($B1173=4,VLOOKUP(C$2,Table1[],5,0),0))))","v":1000000},{"$f":"IF($B1173=1,VLOOKUP(D$2,Table1[],3,0),IF($B1173=2,VLOOKUP(D$2,Table1[],4,0),IF($B1173=3,VLOOKUP(D$2,Table1[],5,0),IF($B1173=4,VLOOKUP(D$2,Table1[],5,0),0))))","v":1000000},{"$f":"IF($B1173=1,VLOOKUP(E$2,Table1[],3,0),IF($B1173=2,VLOOKUP(E$2,Table1[],4,0),IF($B1173=3,VLOOKUP(E$2,Table1[],5,0),IF($B1173=4,VLOOKUP(E$2,Table1[],5,0),0))))","v":750000},{"$f":"IF($B1173=1,VLOOKUP(F$2,Table1[],3,0),IF($B1173=2,VLOOKUP(F$2,Table1[],4,0),IF($B1173=3,VLOOKUP(F$2,Table1[],5,0),IF($B1173=4,VLOOKUP(F$2,Table1[],5,0),0))))","v":500000}]
[5254,2,{"$f":"IF($B1174=1,VLOOKUP(C$2,Table1[],3,0),IF($B1174=2,VLOOKUP(C$2,Table1[],4,0),IF($B1174=3,VLOOKUP(C$2,Table1[],5,0),IF($B1174=4,VLOOKUP(C$2,Table1[],5,0),0))))","v":1000000},{"$f":"IF($B1174=1,VLOOKUP(D$2,Table1[],3,0),IF($B1174=2,VLOOKUP(D$2,Table1[],4,0),IF($B1174=3,VLOOKUP(D$2,Table1[],5,0),IF($B1174=4,VLOOKUP(D$2,Table1[],5,0),0))))","v":1000000},{"$f":"IF($B1174=1,VLOOKUP(E$2,Table1[],3,0),IF($B1174=2,VLOOKUP(E$2,Table1[],4,0),IF($B1174=3,VLOOKUP(E$2,Table1[],5,0),IF($B1174=4,VLOOKUP(E$2,Table1[],5,0),0))))","v":750000},{"$f":"IF($B1174=1,VLOOKUP(F$2,Table1[],3,0),IF($B1174=2,VLOOKUP(F$2,Table1[],4,0),IF($B1174=3,VLOOKUP(F$2,Table1[],5,0),IF($B1174=4,VLOOKUP(F$2,Table1[],5,0),0))))","v":500000}]
[5255,2,{"$f":"IF($B1175=1,VLOOKUP(C$2,Table1[],3,0),IF($B1175=2,VLOOKUP(C$2,Table1[],4,0),IF($B1175=3,VLOOKUP(C$2,Table1[],5,0),IF($B1175=4,VLOOKUP(C$2,Table1[],5,0),0))))","v":1000000},{"$f":"IF($B1175=1,VLOOKUP(D$2,Table1[],3,0),IF($B1175=2,VLOOKUP(D$2,Table1[],4,0),IF($B1175=3,VLOOKUP(D$2,Table1[],5,0),IF($B1175=4,VLOOKUP(D$2,Table1[],5,0),0))))","v":1000000},{"$f":"IF($B1175=1,VLOOKUP(E$2,Table1[],3,0),IF($B1175=2,VLOOKUP(E$2,Table1[],4,0),IF($B1175=3,VLOOKUP(E$2,Table1[],5,0),IF($B1175=4,VLOOKUP(E$2,Table1[],5,0),0))))","v":750000},{"$f":"IF($B1175=1,VLOOKUP(F$2,Table1[],3,0),IF($B1175=2,VLOOKUP(F$2,Table1[],4,0),IF($B1175=3,VLOOKUP(F$2,Table1[],5,0),IF($B1175=4,VLOOKUP(F$2,Table1[],5,0),0))))","v":500000}]
[5259,4,{"$f":"IF($B1176=1,VLOOKUP(C$2,Table1[],3,0),IF($B1176=2,VLOOKUP(C$2,Table1[],4,0),IF($B1176=3,VLOOKUP(C$2,Table1[],5,0),IF($B1176=4,VLOOKUP(C$2,Table1[],5,0),0))))","v":500000},{"$f":"IF($B1176=1,VLOOKUP(D$2,Table1[],3,0),IF($B1176=2,VLOOKUP(D$2,Table1[],4,0),IF($B1176=3,VLOOKUP(D$2,Table1[],5,0),IF($B1176=4,VLOOKUP(D$2,Table1[],5,0),0))))","v":400000},{"$f":"IF($B1176=1,VLOOKUP(E$2,Table1[],3,0),IF($B1176=2,VLOOKUP(E$2,Table1[],4,0),IF($B1176=3,VLOOKUP(E$2,Table1[],5,0),IF($B1176=4,VLOOKUP(E$2,Table1[],5,0),0))))","v":"N/A"},{"$f":"IF($B1176=1,VLOOKUP(F$2,Table1[],3,0),IF($B1176=2,VLOOKUP(F$2,Table1[],4,0),IF($B1176=3,VLOOKUP(F$2,Table1[],5,0),IF($B1176=4,VLOOKUP(F$2,Table1[],5,0),0))))","v":"N/A"}]
[5280,2,{"$f":"IF($B1177=1,VLOOKUP(C$2,Table1[],3,0),IF($B1177=2,VLOOKUP(C$2,Table1[],4,0),IF($B1177=3,VLOOKUP(C$2,Table1[],5,0),IF($B1177=4,VLOOKUP(C$2,Table1[],5,0),0))))","v":1000000},{"$f":"IF($B1177=1,VLOOKUP(D$2,Table1[],3,0),IF($B1177=2,VLOOKUP(D$2,Table1[],4,0),IF($B1177=3,VLOOKUP(D$2,Table1[],5,0),IF($B1177=4,VLOOKUP(D$2,Table1[],5,0),0))))","v":1000000},{"$f":"IF($B1177=1,VLOOKUP(E$2,Table1[],3,0),IF($B1177=2,VLOOKUP(E$2,Table1[],4,0),IF($B1177=3,VLOOKUP(E$2,Table1[],5,0),IF($B1177=4,VLOOKUP(E$2,Table1[],5,0),0))))","v":750000},{"$f":"IF($B1177=1,VLOOKUP(F$2,Table1[],3,0),IF($B1177=2,VLOOKUP(F$2,Table1[],4,0),IF($B1177=3,VLOOKUP(F$2,Table1[],5,0),IF($B1177=4,VLOOKUP(F$2,Table1[],5,0),0))))","v":500000}]
[5290,2,{"$f":"IF($B1178=1,VLOOKUP(C$2,Table1[],3,0),IF($B1178=2,VLOOKUP(C$2,Table1[],4,0),IF($B1178=3,VLOOKUP(C$2,Table1[],5,0),IF($B1178=4,VLOOKUP(C$2,Table1[],5,0),0))))","v":1000000},{"$f":"IF($B1178=1,VLOOKUP(D$2,Table1[],3,0),IF($B1178=2,VLOOKUP(D$2,Table1[],4,0),IF($B1178=3,VLOOKUP(D$2,Table1[],5,0),IF($B1178=4,VLOOKUP(D$2,Table1[],5,0),0))))","v":1000000},{"$f":"IF($B1178=1,VLOOKUP(E$2,Table1[],3,0),IF($B1178=2,VLOOKUP(E$2,Table1[],4,0),IF($B1178=3,VLOOKUP(E$2,Table1[],5,0),IF($B1178=4,VLOOKUP(E$2,Table1[],5,0),0))))","v":750000},{"$f":"IF($B1178=1,VLOOKUP(F$2,Table1[],3,0),IF($B1178=2,VLOOKUP(F$2,Table1[],4,0),IF($B1178=3,VLOOKUP(F$2,Table1[],5,0),IF($B1178=4,VLOOKUP(F$2,Table1[],5,0),0))))","v":500000}]
[5291,2,{"$f":"IF($B1179=1,VLOOKUP(C$2,Table1[],3,0),IF($B1179=2,VLOOKUP(C$2,Table1[],4,0),IF($B1179=3,VLOOKUP(C$2,Table1[],5,0),IF($B1179=4,VLOOKUP(C$2,Table1[],5,0),0))))","v":1000000},{"$f":"IF($B1179=1,VLOOKUP(D$2,Table1[],3,0),IF($B1179=2,VLOOKUP(D$2,Table1[],4,0),IF($B1179=3,VLOOKUP(D$2,Table1[],5,0),IF($B1179=4,VLOOKUP(D$2,Table1[],5,0),0))))","v":1000000},{"$f":"IF($B1179=1,VLOOKUP(E$2,Table1[],3,0),IF($B1179=2,VLOOKUP(E$2,Table1[],4,0),IF($B1179=3,VLOOKUP(E$2,Table1[],5,0),IF($B1179=4,VLOOKUP(E$2,Table1[],5,0),0))))","v":750000},{"$f":"IF($B1179=1,VLOOKUP(F$2,Table1[],3,0),IF($B1179=2,VLOOKUP(F$2,Table1[],4,0),IF($B1179=3,VLOOKUP(F$2,Table1[],5,0),IF($B1179=4,VLOOKUP(F$2,Table1[],5,0),0))))","v":500000}]
[5307,4,{"$f":"IF($B1180=1,VLOOKUP(C$2,Table1[],3,0),IF($B1180=2,VLOOKUP(C$2,Table1[],4,0),IF($B1180=3,VLOOKUP(C$2,Table1[],5,0),IF($B1180=4,VLOOKUP(C$2,Table1[],5,0),0))))","v":500000},{"$f":"IF($B1180=1,VLOOKUP(D$2,Table1[],3,0),IF($B1180=2,VLOOKUP(D$2,Table1[],4,0),IF($B1180=3,VLOOKUP(D$2,Table1[],5,0),IF($B1180=4,VLOOKUP(D$2,Table1[],5,0),0))))","v":400000},{"$f":"IF($B1180=1,VLOOKUP(E$2,Table1[],3,0),IF($B1180=2,VLOOKUP(E$2,Table1[],4,0),IF($B1180=3,VLOOKUP(E$2,Table1[],5,0),IF($B1180=4,VLOOKUP(E$2,Table1[],5,0),0))))","v":"N/A"},{"$f":"IF($B1180=1,VLOOKUP(F$2,Table1[],3,0),IF($B1180=2,VLOOKUP(F$2,Table1[],4,0),IF($B1180=3,VLOOKUP(F$2,Table1[],5,0),IF($B1180=4,VLOOKUP(F$2,Table1[],5,0),0))))","v":"N/A"}]
[5330,2,{"$f":"IF($B1181=1,VLOOKUP(C$2,Table1[],3,0),IF($B1181=2,VLOOKUP(C$2,Table1[],4,0),IF($B1181=3,VLOOKUP(C$2,Table1[],5,0),IF($B1181=4,VLOOKUP(C$2,Table1[],5,0),0))))","v":1000000},{"$f":"IF($B1181=1,VLOOKUP(D$2,Table1[],3,0),IF($B1181=2,VLOOKUP(D$2,Table1[],4,0),IF($B1181=3,VLOOKUP(D$2,Table1[],5,0),IF($B1181=4,VLOOKUP(D$2,Table1[],5,0),0))))","v":1000000},{"$f":"IF($B1181=1,VLOOKUP(E$2,Table1[],3,0),IF($B1181=2,VLOOKUP(E$2,Table1[],4,0),IF($B1181=3,VLOOKUP(E$2,Table1[],5,0),IF($B1181=4,VLOOKUP(E$2,Table1[],5,0),0))))","v":750000},{"$f":"IF($B1181=1,VLOOKUP(F$2,Table1[],3,0),IF($B1181=2,VLOOKUP(F$2,Table1[],4,0),IF($B1181=3,VLOOKUP(F$2,Table1[],5,0),IF($B1181=4,VLOOKUP(F$2,Table1[],5,0),0))))","v":500000}]
[5333,2,{"$f":"IF($B1182=1,VLOOKUP(C$2,Table1[],3,0),IF($B1182=2,VLOOKUP(C$2,Table1[],4,0),IF($B1182=3,VLOOKUP(C$2,Table1[],5,0),IF($B1182=4,VLOOKUP(C$2,Table1[],5,0),0))))","v":1000000},{"$f":"IF($B1182=1,VLOOKUP(D$2,Table1[],3,0),IF($B1182=2,VLOOKUP(D$2,Table1[],4,0),IF($B1182=3,VLOOKUP(D$2,Table1[],5,0),IF($B1182=4,VLOOKUP(D$2,Table1[],5,0),0))))","v":1000000},{"$f":"IF($B1182=1,VLOOKUP(E$2,Table1[],3,0),IF($B1182=2,VLOOKUP(E$2,Table1[],4,0),IF($B1182=3,VLOOKUP(E$2,Table1[],5,0),IF($B1182=4,VLOOKUP(E$2,Table1[],5,0),0))))","v":750000},{"$f":"IF($B1182=1,VLOOKUP(F$2,Table1[],3,0),IF($B1182=2,VLOOKUP(F$2,Table1[],4,0),IF($B1182=3,VLOOKUP(F$2,Table1[],5,0),IF($B1182=4,VLOOKUP(F$2,Table1[],5,0),0))))","v":500000}]
[5340,2,{"$f":"IF($B1183=1,VLOOKUP(C$2,Table1[],3,0),IF($B1183=2,VLOOKUP(C$2,Table1[],4,0),IF($B1183=3,VLOOKUP(C$2,Table1[],5,0),IF($B1183=4,VLOOKUP(C$2,Table1[],5,0),0))))","v":1000000},{"$f":"IF($B1183=1,VLOOKUP(D$2,Table1[],3,0),IF($B1183=2,VLOOKUP(D$2,Table1[],4,0),IF($B1183=3,VLOOKUP(D$2,Table1[],5,0),IF($B1183=4,VLOOKUP(D$2,Table1[],5,0),0))))","v":1000000},{"$f":"IF($B1183=1,VLOOKUP(E$2,Table1[],3,0),IF($B1183=2,VLOOKUP(E$2,Table1[],4,0),IF($B1183=3,VLOOKUP(E$2,Table1[],5,0),IF($B1183=4,VLOOKUP(E$2,Table1[],5,0),0))))","v":750000},{"$f":"IF($B1183=1,VLOOKUP(F$2,Table1[],3,0),IF($B1183=2,VLOOKUP(F$2,Table1[],4,0),IF($B1183=3,VLOOKUP(F$2,Table1[],5,0),IF($B1183=4,VLOOKUP(F$2,Table1[],5,0),0))))","v":500000}]
[5341,2,{"$f":"IF($B1184=1,VLOOKUP(C$2,Table1[],3,0),IF($B1184=2,VLOOKUP(C$2,Table1[],4,0),IF($B1184=3,VLOOKUP(C$2,Table1[],5,0),IF($B1184=4,VLOOKUP(C$2,Table1[],5,0),0))))","v":1000000},{"$f":"IF($B1184=1,VLOOKUP(D$2,Table1[],3,0),IF($B1184=2,VLOOKUP(D$2,Table1[],4,0),IF($B1184=3,VLOOKUP(D$2,Table1[],5,0),IF($B1184=4,VLOOKUP(D$2,Table1[],5,0),0))))","v":1000000},{"$f":"IF($B1184=1,VLOOKUP(E$2,Table1[],3,0),IF($B1184=2,VLOOKUP(E$2,Table1[],4,0),IF($B1184=3,VLOOKUP(E$2,Table1[],5,0),IF($B1184=4,VLOOKUP(E$2,Table1[],5,0),0))))","v":750000},{"$f":"IF($B1184=1,VLOOKUP(F$2,Table1[],3,0),IF($B1184=2,VLOOKUP(F$2,Table1[],4,0),IF($B1184=3,VLOOKUP(F$2,Table1[],5,0),IF($B1184=4,VLOOKUP(F$2,Table1[],5,0),0))))","v":500000}]
[5343,2,{"$f":"IF($B1185=1,VLOOKUP(C$2,Table1[],3,0),IF($B1185=2,VLOOKUP(C$2,Table1[],4,0),IF($B1185=3,VLOOKUP(C$2,Table1[],5,0),IF($B1185=4,VLOOKUP(C$2,Table1[],5,0),0))))","v":1000000},{"$f":"IF($B1185=1,VLOOKUP(D$2,Table1[],3,0),IF($B1185=2,VLOOKUP(D$2,Table1[],4,0),IF($B1185=3,VLOOKUP(D$2,Table1[],5,0),IF($B1185=4,VLOOKUP(D$2,Table1[],5,0),0))))","v":1000000},{"$f":"IF($B1185=1,VLOOKUP(E$2,Table1[],3,0),IF($B1185=2,VLOOKUP(E$2,Table1[],4,0),IF($B1185=3,VLOOKUP(E$2,Table1[],5,0),IF($B1185=4,VLOOKUP(E$2,Table1[],5,0),0))))","v":750000},{"$f":"IF($B1185=1,VLOOKUP(F$2,Table1[],3,0),IF($B1185=2,VLOOKUP(F$2,Table1[],4,0),IF($B1185=3,VLOOKUP(F$2,Table1[],5,0),IF($B1185=4,VLOOKUP(F$2,Table1[],5,0),0))))","v":500000}]
[5344,2,{"$f":"IF($B1186=1,VLOOKUP(C$2,Table1[],3,0),IF($B1186=2,VLOOKUP(C$2,Table1[],4,0),IF($B1186=3,VLOOKUP(C$2,Table1[],5,0),IF($B1186=4,VLOOKUP(C$2,Table1[],5,0),0))))","v":1000000},{"$f":"IF($B1186=1,VLOOKUP(D$2,Table1[],3,0),IF($B1186=2,VLOOKUP(D$2,Table1[],4,0),IF($B1186=3,VLOOKUP(D$2,Table1[],5,0),IF($B1186=4,VLOOKUP(D$2,Table1[],5,0),0))))","v":1000000},{"$f":"IF($B1186=1,VLOOKUP(E$2,Table1[],3,0),IF($B1186=2,VLOOKUP(E$2,Table1[],4,0),IF($B1186=3,VLOOKUP(E$2,Table1[],5,0),IF($B1186=4,VLOOKUP(E$2,Table1[],5,0),0))))","v":750000},{"$f":"IF($B1186=1,VLOOKUP(F$2,Table1[],3,0),IF($B1186=2,VLOOKUP(F$2,Table1[],4,0),IF($B1186=3,VLOOKUP(F$2,Table1[],5,0),IF($B1186=4,VLOOKUP(F$2,Table1[],5,0),0))))","v":500000}]
[5345,2,{"$f":"IF($B1187=1,VLOOKUP(C$2,Table1[],3,0),IF($B1187=2,VLOOKUP(C$2,Table1[],4,0),IF($B1187=3,VLOOKUP(C$2,Table1[],5,0),IF($B1187=4,VLOOKUP(C$2,Table1[],5,0),0))))","v":1000000},{"$f":"IF($B1187=1,VLOOKUP(D$2,Table1[],3,0),IF($B1187=2,VLOOKUP(D$2,Table1[],4,0),IF($B1187=3,VLOOKUP(D$2,Table1[],5,0),IF($B1187=4,VLOOKUP(D$2,Table1[],5,0),0))))","v":1000000},{"$f":"IF($B1187=1,VLOOKUP(E$2,Table1[],3,0),IF($B1187=2,VLOOKUP(E$2,Table1[],4,0),IF($B1187=3,VLOOKUP(E$2,Table1[],5,0),IF($B1187=4,VLOOKUP(E$2,Table1[],5,0),0))))","v":750000},{"$f":"IF($B1187=1,VLOOKUP(F$2,Table1[],3,0),IF($B1187=2,VLOOKUP(F$2,Table1[],4,0),IF($B1187=3,VLOOKUP(F$2,Table1[],5,0),IF($B1187=4,VLOOKUP(F$2,Table1[],5,0),0))))","v":500000}]
[5350,1,{"$f":"IF($B1188=1,VLOOKUP(C$2,Table1[],3,0),IF($B1188=2,VLOOKUP(C$2,Table1[],4,0),IF($B1188=3,VLOOKUP(C$2,Table1[],5,0),IF($B1188=4,VLOOKUP(C$2,Table1[],5,0),0))))","v":2000000},{"$f":"IF($B1188=1,VLOOKUP(D$2,Table1[],3,0),IF($B1188=2,VLOOKUP(D$2,Table1[],4,0),IF($B1188=3,VLOOKUP(D$2,Table1[],5,0),IF($B1188=4,VLOOKUP(D$2,Table1[],5,0),0))))","v":2000000},{"$f":"IF($B1188=1,VLOOKUP(E$2,Table1[],3,0),IF($B1188=2,VLOOKUP(E$2,Table1[],4,0),IF($B1188=3,VLOOKUP(E$2,Table1[],5,0),IF($B1188=4,VLOOKUP(E$2,Table1[],5,0),0))))","v":1500000},{"$f":"IF($B1188=1,VLOOKUP(F$2,Table1[],3,0),IF($B1188=2,VLOOKUP(F$2,Table1[],4,0),IF($B1188=3,VLOOKUP(F$2,Table1[],5,0),IF($B1188=4,VLOOKUP(F$2,Table1[],5,0),0))))","v":800000}]
[5351,2,{"$f":"IF($B1189=1,VLOOKUP(C$2,Table1[],3,0),IF($B1189=2,VLOOKUP(C$2,Table1[],4,0),IF($B1189=3,VLOOKUP(C$2,Table1[],5,0),IF($B1189=4,VLOOKUP(C$2,Table1[],5,0),0))))","v":1000000},{"$f":"IF($B1189=1,VLOOKUP(D$2,Table1[],3,0),IF($B1189=2,VLOOKUP(D$2,Table1[],4,0),IF($B1189=3,VLOOKUP(D$2,Table1[],5,0),IF($B1189=4,VLOOKUP(D$2,Table1[],5,0),0))))","v":1000000},{"$f":"IF($B1189=1,VLOOKUP(E$2,Table1[],3,0),IF($B1189=2,VLOOKUP(E$2,Table1[],4,0),IF($B1189=3,VLOOKUP(E$2,Table1[],5,0),IF($B1189=4,VLOOKUP(E$2,Table1[],5,0),0))))","v":750000},{"$f":"IF($B1189=1,VLOOKUP(F$2,Table1[],3,0),IF($B1189=2,VLOOKUP(F$2,Table1[],4,0),IF($B1189=3,VLOOKUP(F$2,Table1[],5,0),IF($B1189=4,VLOOKUP(F$2,Table1[],5,0),0))))","v":500000}]
[5352,2,{"$f":"IF($B1190=1,VLOOKUP(C$2,Table1[],3,0),IF($B1190=2,VLOOKUP(C$2,Table1[],4,0),IF($B1190=3,VLOOKUP(C$2,Table1[],5,0),IF($B1190=4,VLOOKUP(C$2,Table1[],5,0),0))))","v":1000000},{"$f":"IF($B1190=1,VLOOKUP(D$2,Table1[],3,0),IF($B1190=2,VLOOKUP(D$2,Table1[],4,0),IF($B1190=3,VLOOKUP(D$2,Table1[],5,0),IF($B1190=4,VLOOKUP(D$2,Table1[],5,0),0))))","v":1000000},{"$f":"IF($B1190=1,VLOOKUP(E$2,Table1[],3,0),IF($B1190=2,VLOOKUP(E$2,Table1[],4,0),IF($B1190=3,VLOOKUP(E$2,Table1[],5,0),IF($B1190=4,VLOOKUP(E$2,Table1[],5,0),0))))","v":750000},{"$f":"IF($B1190=1,VLOOKUP(F$2,Table1[],3,0),IF($B1190=2,VLOOKUP(F$2,Table1[],4,0),IF($B1190=3,VLOOKUP(F$2,Table1[],5,0),IF($B1190=4,VLOOKUP(F$2,Table1[],5,0),0))))","v":500000}]
[5353,2,{"$f":"IF($B1191=1,VLOOKUP(C$2,Table1[],3,0),IF($B1191=2,VLOOKUP(C$2,Table1[],4,0),IF($B1191=3,VLOOKUP(C$2,Table1[],5,0),IF($B1191=4,VLOOKUP(C$2,Table1[],5,0),0))))","v":1000000},{"$f":"IF($B1191=1,VLOOKUP(D$2,Table1[],3,0),IF($B1191=2,VLOOKUP(D$2,Table1[],4,0),IF($B1191=3,VLOOKUP(D$2,Table1[],5,0),IF($B1191=4,VLOOKUP(D$2,Table1[],5,0),0))))","v":1000000},{"$f":"IF($B1191=1,VLOOKUP(E$2,Table1[],3,0),IF($B1191=2,VLOOKUP(E$2,Table1[],4,0),IF($B1191=3,VLOOKUP(E$2,Table1[],5,0),IF($B1191=4,VLOOKUP(E$2,Table1[],5,0),0))))","v":750000},{"$f":"IF($B1191=1,VLOOKUP(F$2,Table1[],3,0),IF($B1191=2,VLOOKUP(F$2,Table1[],4,0),IF($B1191=3,VLOOKUP(F$2,Table1[],5,0),IF($B1191=4,VLOOKUP(F$2,Table1[],5,0),0))))","v":500000}]
[5354,3,{"$f":"IF($B1192=1,VLOOKUP(C$2,Table1[],3,0),IF($B1192=2,VLOOKUP(C$2,Table1[],4,0),IF($B1192=3,VLOOKUP(C$2,Table1[],5,0),IF($B1192=4,VLOOKUP(C$2,Table1[],5,0),0))))","v":500000},{"$f":"IF($B1192=1,VLOOKUP(D$2,Table1[],3,0),IF($B1192=2,VLOOKUP(D$2,Table1[],4,0),IF($B1192=3,VLOOKUP(D$2,Table1[],5,0),IF($B1192=4,VLOOKUP(D$2,Table1[],5,0),0))))","v":400000},{"$f":"IF($B1192=1,VLOOKUP(E$2,Table1[],3,0),IF($B1192=2,VLOOKUP(E$2,Table1[],4,0),IF($B1192=3,VLOOKUP(E$2,Table1[],5,0),IF($B1192=4,VLOOKUP(E$2,Table1[],5,0),0))))","v":"N/A"},{"$f":"IF($B1192=1,VLOOKUP(F$2,Table1[],3,0),IF($B1192=2,VLOOKUP(F$2,Table1[],4,0),IF($B1192=3,VLOOKUP(F$2,Table1[],5,0),IF($B1192=4,VLOOKUP(F$2,Table1[],5,0),0))))","v":"N/A"}]
[5355,2,{"$f":"IF($B1193=1,VLOOKUP(C$2,Table1[],3,0),IF($B1193=2,VLOOKUP(C$2,Table1[],4,0),IF($B1193=3,VLOOKUP(C$2,Table1[],5,0),IF($B1193=4,VLOOKUP(C$2,Table1[],5,0),0))))","v":1000000},{"$f":"IF($B1193=1,VLOOKUP(D$2,Table1[],3,0),IF($B1193=2,VLOOKUP(D$2,Table1[],4,0),IF($B1193=3,VLOOKUP(D$2,Table1[],5,0),IF($B1193=4,VLOOKUP(D$2,Table1[],5,0),0))))","v":1000000},{"$f":"IF($B1193=1,VLOOKUP(E$2,Table1[],3,0),IF($B1193=2,VLOOKUP(E$2,Table1[],4,0),IF($B1193=3,VLOOKUP(E$2,Table1[],5,0),IF($B1193=4,VLOOKUP(E$2,Table1[],5,0),0))))","v":750000},{"$f":"IF($B1193=1,VLOOKUP(F$2,Table1[],3,0),IF($B1193=2,VLOOKUP(F$2,Table1[],4,0),IF($B1193=3,VLOOKUP(F$2,Table1[],5,0),IF($B1193=4,VLOOKUP(F$2,Table1[],5,0),0))))","v":500000}]
[5360,2,{"$f":"IF($B1194=1,VLOOKUP(C$2,Table1[],3,0),IF($B1194=2,VLOOKUP(C$2,Table1[],4,0),IF($B1194=3,VLOOKUP(C$2,Table1[],5,0),IF($B1194=4,VLOOKUP(C$2,Table1[],5,0),0))))","v":1000000},{"$f":"IF($B1194=1,VLOOKUP(D$2,Table1[],3,0),IF($B1194=2,VLOOKUP(D$2,Table1[],4,0),IF($B1194=3,VLOOKUP(D$2,Table1[],5,0),IF($B1194=4,VLOOKUP(D$2,Table1[],5,0),0))))","v":1000000},{"$f":"IF($B1194=1,VLOOKUP(E$2,Table1[],3,0),IF($B1194=2,VLOOKUP(E$2,Table1[],4,0),IF($B1194=3,VLOOKUP(E$2,Table1[],5,0),IF($B1194=4,VLOOKUP(E$2,Table1[],5,0),0))))","v":750000},{"$f":"IF($B1194=1,VLOOKUP(F$2,Table1[],3,0),IF($B1194=2,VLOOKUP(F$2,Table1[],4,0),IF($B1194=3,VLOOKUP(F$2,Table1[],5,0),IF($B1194=4,VLOOKUP(F$2,Table1[],5,0),0))))","v":500000}]
[5413,4,{"$f":"IF($B1195=1,VLOOKUP(C$2,Table1[],3,0),IF($B1195=2,VLOOKUP(C$2,Table1[],4,0),IF($B1195=3,VLOOKUP(C$2,Table1[],5,0),IF($B1195=4,VLOOKUP(C$2,Table1[],5,0),0))))","v":500000},{"$f":"IF($B1195=1,VLOOKUP(D$2,Table1[],3,0),IF($B1195=2,VLOOKUP(D$2,Table1[],4,0),IF($B1195=3,VLOOKUP(D$2,Table1[],5,0),IF($B1195=4,VLOOKUP(D$2,Table1[],5,0),0))))","v":400000},{"$f":"IF($B1195=1,VLOOKUP(E$2,Table1[],3,0),IF($B1195=2,VLOOKUP(E$2,Table1[],4,0),IF($B1195=3,VLOOKUP(E$2,Table1[],5,0),IF($B1195=4,VLOOKUP(E$2,Table1[],5,0),0))))","v":"N/A"},{"$f":"IF($B1195=1,VLOOKUP(F$2,Table1[],3,0),IF($B1195=2,VLOOKUP(F$2,Table1[],4,0),IF($B1195=3,VLOOKUP(F$2,Table1[],5,0),IF($B1195=4,VLOOKUP(F$2,Table1[],5,0),0))))","v":"N/A"}]
[5453,2,{"$f":"IF($B1196=1,VLOOKUP(C$2,Table1[],3,0),IF($B1196=2,VLOOKUP(C$2,Table1[],4,0),IF($B1196=3,VLOOKUP(C$2,Table1[],5,0),IF($B1196=4,VLOOKUP(C$2,Table1[],5,0),0))))","v":1000000},{"$f":"IF($B1196=1,VLOOKUP(D$2,Table1[],3,0),IF($B1196=2,VLOOKUP(D$2,Table1[],4,0),IF($B1196=3,VLOOKUP(D$2,Table1[],5,0),IF($B1196=4,VLOOKUP(D$2,Table1[],5,0),0))))","v":1000000},{"$f":"IF($B1196=1,VLOOKUP(E$2,Table1[],3,0),IF($B1196=2,VLOOKUP(E$2,Table1[],4,0),IF($B1196=3,VLOOKUP(E$2,Table1[],5,0),IF($B1196=4,VLOOKUP(E$2,Table1[],5,0),0))))","v":750000},{"$f":"IF($B1196=1,VLOOKUP(F$2,Table1[],3,0),IF($B1196=2,VLOOKUP(F$2,Table1[],4,0),IF($B1196=3,VLOOKUP(F$2,Table1[],5,0),IF($B1196=4,VLOOKUP(F$2,Table1[],5,0),0))))","v":500000}]
[5501,2,{"$f":"IF($B1197=1,VLOOKUP(C$2,Table1[],3,0),IF($B1197=2,VLOOKUP(C$2,Table1[],4,0),IF($B1197=3,VLOOKUP(C$2,Table1[],5,0),IF($B1197=4,VLOOKUP(C$2,Table1[],5,0),0))))","v":1000000},{"$f":"IF($B1197=1,VLOOKUP(D$2,Table1[],3,0),IF($B1197=2,VLOOKUP(D$2,Table1[],4,0),IF($B1197=3,VLOOKUP(D$2,Table1[],5,0),IF($B1197=4,VLOOKUP(D$2,Table1[],5,0),0))))","v":1000000},{"$f":"IF($B1197=1,VLOOKUP(E$2,Table1[],3,0),IF($B1197=2,VLOOKUP(E$2,Table1[],4,0),IF($B1197=3,VLOOKUP(E$2,Table1[],5,0),IF($B1197=4,VLOOKUP(E$2,Table1[],5,0),0))))","v":750000},{"$f":"IF($B1197=1,VLOOKUP(F$2,Table1[],3,0),IF($B1197=2,VLOOKUP(F$2,Table1[],4,0),IF($B1197=3,VLOOKUP(F$2,Table1[],5,0),IF($B1197=4,VLOOKUP(F$2,Table1[],5,0),0))))","v":500000}]
[5540,3,{"$f":"IF($B1198=1,VLOOKUP(C$2,Table1[],3,0),IF($B1198=2,VLOOKUP(C$2,Table1[],4,0),IF($B1198=3,VLOOKUP(C$2,Table1[],5,0),IF($B1198=4,VLOOKUP(C$2,Table1[],5,0),0))))","v":500000},{"$f":"IF($B1198=1,VLOOKUP(D$2,Table1[],3,0),IF($B1198=2,VLOOKUP(D$2,Table1[],4,0),IF($B1198=3,VLOOKUP(D$2,Table1[],5,0),IF($B1198=4,VLOOKUP(D$2,Table1[],5,0),0))))","v":400000},{"$f":"IF($B1198=1,VLOOKUP(E$2,Table1[],3,0),IF($B1198=2,VLOOKUP(E$2,Table1[],4,0),IF($B1198=3,VLOOKUP(E$2,Table1[],5,0),IF($B1198=4,VLOOKUP(E$2,Table1[],5,0),0))))","v":"N/A"},{"$f":"IF($B1198=1,VLOOKUP(F$2,Table1[],3,0),IF($B1198=2,VLOOKUP(F$2,Table1[],4,0),IF($B1198=3,VLOOKUP(F$2,Table1[],5,0),IF($B1198=4,VLOOKUP(F$2,Table1[],5,0),0))))","v":"N/A"}]
[5554,3,{"$f":"IF($B1199=1,VLOOKUP(C$2,Table1[],3,0),IF($B1199=2,VLOOKUP(C$2,Table1[],4,0),IF($B1199=3,VLOOKUP(C$2,Table1[],5,0),IF($B1199=4,VLOOKUP(C$2,Table1[],5,0),0))))","v":500000},{"$f":"IF($B1199=1,VLOOKUP(D$2,Table1[],3,0),IF($B1199=2,VLOOKUP(D$2,Table1[],4,0),IF($B1199=3,VLOOKUP(D$2,Table1[],5,0),IF($B1199=4,VLOOKUP(D$2,Table1[],5,0),0))))","v":400000},{"$f":"IF($B1199=1,VLOOKUP(E$2,Table1[],3,0),IF($B1199=2,VLOOKUP(E$2,Table1[],4,0),IF($B1199=3,VLOOKUP(E$2,Table1[],5,0),IF($B1199=4,VLOOKUP(E$2,Table1[],5,0),0))))","v":"N/A"},{"$f":"IF($B1199=1,VLOOKUP(F$2,Table1[],3,0),IF($B1199=2,VLOOKUP(F$2,Table1[],4,0),IF($B1199=3,VLOOKUP(F$2,Table1[],5,0),IF($B1199=4,VLOOKUP(F$2,Table1[],5,0),0))))","v":"N/A"}]
[5556,3,{"$f":"IF($B1200=1,VLOOKUP(C$2,Table1[],3,0),IF($B1200=2,VLOOKUP(C$2,Table1[],4,0),IF($B1200=3,VLOOKUP(C$2,Table1[],5,0),IF($B1200=4,VLOOKUP(C$2,Table1[],5,0),0))))","v":500000},{"$f":"IF($B1200=1,VLOOKUP(D$2,Table1[],3,0),IF($B1200=2,VLOOKUP(D$2,Table1[],4,0),IF($B1200=3,VLOOKUP(D$2,Table1[],5,0),IF($B1200=4,VLOOKUP(D$2,Table1[],5,0),0))))","v":400000},{"$f":"IF($B1200=1,VLOOKUP(E$2,Table1[],3,0),IF($B1200=2,VLOOKUP(E$2,Table1[],4,0),IF($B1200=3,VLOOKUP(E$2,Table1[],5,0),IF($B1200=4,VLOOKUP(E$2,Table1[],5,0),0))))","v":"N/A"},{"$f":"IF($B1200=1,VLOOKUP(F$2,Table1[],3,0),IF($B1200=2,VLOOKUP(F$2,Table1[],4,0),IF($B1200=3,VLOOKUP(F$2,Table1[],5,0),IF($B1200=4,VLOOKUP(F$2,Table1[],5,0),0))))","v":"N/A"}]
[5558,3,{"$f":"IF($B1201=1,VLOOKUP(C$2,Table1[],3,0),IF($B1201=2,VLOOKUP(C$2,Table1[],4,0),IF($B1201=3,VLOOKUP(C$2,Table1[],5,0),IF($B1201=4,VLOOKUP(C$2,Table1[],5,0),0))))","v":500000},{"$f":"IF($B1201=1,VLOOKUP(D$2,Table1[],3,0),IF($B1201=2,VLOOKUP(D$2,Table1[],4,0),IF($B1201=3,VLOOKUP(D$2,Table1[],5,0),IF($B1201=4,VLOOKUP(D$2,Table1[],5,0),0))))","v":400000},{"$f":"IF($B1201=1,VLOOKUP(E$2,Table1[],3,0),IF($B1201=2,VLOOKUP(E$2,Table1[],4,0),IF($B1201=3,VLOOKUP(E$2,Table1[],5,0),IF($B1201=4,VLOOKUP(E$2,Table1[],5,0),0))))","v":"N/A"},{"$f":"IF($B1201=1,VLOOKUP(F$2,Table1[],3,0),IF($B1201=2,VLOOKUP(F$2,Table1[],4,0),IF($B1201=3,VLOOKUP(F$2,Table1[],5,0),IF($B1201=4,VLOOKUP(F$2,Table1[],5,0),0))))","v":"N/A"}]
[5577,4,{"$f":"IF($B1202=1,VLOOKUP(C$2,Table1[],3,0),IF($B1202=2,VLOOKUP(C$2,Table1[],4,0),IF($B1202=3,VLOOKUP(C$2,Table1[],5,0),IF($B1202=4,VLOOKUP(C$2,Table1[],5,0),0))))","v":500000},{"$f":"IF($B1202=1,VLOOKUP(D$2,Table1[],3,0),IF($B1202=2,VLOOKUP(D$2,Table1[],4,0),IF($B1202=3,VLOOKUP(D$2,Table1[],5,0),IF($B1202=4,VLOOKUP(D$2,Table1[],5,0),0))))","v":400000},{"$f":"IF($B1202=1,VLOOKUP(E$2,Table1[],3,0),IF($B1202=2,VLOOKUP(E$2,Table1[],4,0),IF($B1202=3,VLOOKUP(E$2,Table1[],5,0),IF($B1202=4,VLOOKUP(E$2,Table1[],5,0),0))))","v":"N/A"},{"$f":"IF($B1202=1,VLOOKUP(F$2,Table1[],3,0),IF($B1202=2,VLOOKUP(F$2,Table1[],4,0),IF($B1202=3,VLOOKUP(F$2,Table1[],5,0),IF($B1202=4,VLOOKUP(F$2,Table1[],5,0),0))))","v":"N/A"}]
[5580,4,{"$f":"IF($B1203=1,VLOOKUP(C$2,Table1[],3,0),IF($B1203=2,VLOOKUP(C$2,Table1[],4,0),IF($B1203=3,VLOOKUP(C$2,Table1[],5,0),IF($B1203=4,VLOOKUP(C$2,Table1[],5,0),0))))","v":500000},{"$f":"IF($B1203=1,VLOOKUP(D$2,Table1[],3,0),IF($B1203=2,VLOOKUP(D$2,Table1[],4,0),IF($B1203=3,VLOOKUP(D$2,Table1[],5,0),IF($B1203=4,VLOOKUP(D$2,Table1[],5,0),0))))","v":400000},{"$f":"IF($B1203=1,VLOOKUP(E$2,Table1[],3,0),IF($B1203=2,VLOOKUP(E$2,Table1[],4,0),IF($B1203=3,VLOOKUP(E$2,Table1[],5,0),IF($B1203=4,VLOOKUP(E$2,Table1[],5,0),0))))","v":"N/A"},{"$f":"IF($B1203=1,VLOOKUP(F$2,Table1[],3,0),IF($B1203=2,VLOOKUP(F$2,Table1[],4,0),IF($B1203=3,VLOOKUP(F$2,Table1[],5,0),IF($B1203=4,VLOOKUP(F$2,Table1[],5,0),0))))","v":"N/A"}]
[5581,4,{"$f":"IF($B1204=1,VLOOKUP(C$2,Table1[],3,0),IF($B1204=2,VLOOKUP(C$2,Table1[],4,0),IF($B1204=3,VLOOKUP(C$2,Table1[],5,0),IF($B1204=4,VLOOKUP(C$2,Table1[],5,0),0))))","v":500000},{"$f":"IF($B1204=1,VLOOKUP(D$2,Table1[],3,0),IF($B1204=2,VLOOKUP(D$2,Table1[],4,0),IF($B1204=3,VLOOKUP(D$2,Table1[],5,0),IF($B1204=4,VLOOKUP(D$2,Table1[],5,0),0))))","v":400000},{"$f":"IF($B1204=1,VLOOKUP(E$2,Table1[],3,0),IF($B1204=2,VLOOKUP(E$2,Table1[],4,0),IF($B1204=3,VLOOKUP(E$2,Table1[],5,0),IF($B1204=4,VLOOKUP(E$2,Table1[],5,0),0))))","v":"N/A"},{"$f":"IF($B1204=1,VLOOKUP(F$2,Table1[],3,0),IF($B1204=2,VLOOKUP(F$2,Table1[],4,0),IF($B1204=3,VLOOKUP(F$2,Table1[],5,0),IF($B1204=4,VLOOKUP(F$2,Table1[],5,0),0))))","v":"N/A"}]
[5582,4,{"$f":"IF($B1205=1,VLOOKUP(C$2,Table1[],3,0),IF($B1205=2,VLOOKUP(C$2,Table1[],4,0),IF($B1205=3,VLOOKUP(C$2,Table1[],5,0),IF($B1205=4,VLOOKUP(C$2,Table1[],5,0),0))))","v":500000},{"$f":"IF($B1205=1,VLOOKUP(D$2,Table1[],3,0),IF($B1205=2,VLOOKUP(D$2,Table1[],4,0),IF($B1205=3,VLOOKUP(D$2,Table1[],5,0),IF($B1205=4,VLOOKUP(D$2,Table1[],5,0),0))))","v":400000},{"$f":"IF($B1205=1,VLOOKUP(E$2,Table1[],3,0),IF($B1205=2,VLOOKUP(E$2,Table1[],4,0),IF($B1205=3,VLOOKUP(E$2,Table1[],5,0),IF($B1205=4,VLOOKUP(E$2,Table1[],5,0),0))))","v":"N/A"},{"$f":"IF($B1205=1,VLOOKUP(F$2,Table1[],3,0),IF($B1205=2,VLOOKUP(F$2,Table1[],4,0),IF($B1205=3,VLOOKUP(F$2,Table1[],5,0),IF($B1205=4,VLOOKUP(F$2,Table1[],5,0),0))))","v":"N/A"}]
[5583,4,{"$f":"IF($B1206=1,VLOOKUP(C$2,Table1[],3,0),IF($B1206=2,VLOOKUP(C$2,Table1[],4,0),IF($B1206=3,VLOOKUP(C$2,Table1[],5,0),IF($B1206=4,VLOOKUP(C$2,Table1[],5,0),0))))","v":500000},{"$f":"IF($B1206=1,VLOOKUP(D$2,Table1[],3,0),IF($B1206=2,VLOOKUP(D$2,Table1[],4,0),IF($B1206=3,VLOOKUP(D$2,Table1[],5,0),IF($B1206=4,VLOOKUP(D$2,Table1[],5,0),0))))","v":400000},{"$f":"IF($B1206=1,VLOOKUP(E$2,Table1[],3,0),IF($B1206=2,VLOOKUP(E$2,Table1[],4,0),IF($B1206=3,VLOOKUP(E$2,Table1[],5,0),IF($B1206=4,VLOOKUP(E$2,Table1[],5,0),0))))","v":"N/A"},{"$f":"IF($B1206=1,VLOOKUP(F$2,Table1[],3,0),IF($B1206=2,VLOOKUP(F$2,Table1[],4,0),IF($B1206=3,VLOOKUP(F$2,Table1[],5,0),IF($B1206=4,VLOOKUP(F$2,Table1[],5,0),0))))","v":"N/A"}]
[5600,4,{"$f":"IF($B1207=1,VLOOKUP(C$2,Table1[],3,0),IF($B1207=2,VLOOKUP(C$2,Table1[],4,0),IF($B1207=3,VLOOKUP(C$2,Table1[],5,0),IF($B1207=4,VLOOKUP(C$2,Table1[],5,0),0))))","v":500000},{"$f":"IF($B1207=1,VLOOKUP(D$2,Table1[],3,0),IF($B1207=2,VLOOKUP(D$2,Table1[],4,0),IF($B1207=3,VLOOKUP(D$2,Table1[],5,0),IF($B1207=4,VLOOKUP(D$2,Table1[],5,0),0))))","v":400000},{"$f":"IF($B1207=1,VLOOKUP(E$2,Table1[],3,0),IF($B1207=2,VLOOKUP(E$2,Table1[],4,0),IF($B1207=3,VLOOKUP(E$2,Table1[],5,0),IF($B1207=4,VLOOKUP(E$2,Table1[],5,0),0))))","v":"N/A"},{"$f":"IF($B1207=1,VLOOKUP(F$2,Table1[],3,0),IF($B1207=2,VLOOKUP(F$2,Table1[],4,0),IF($B1207=3,VLOOKUP(F$2,Table1[],5,0),IF($B1207=4,VLOOKUP(F$2,Table1[],5,0),0))))","v":"N/A"}]
[5601,4,{"$f":"IF($B1208=1,VLOOKUP(C$2,Table1[],3,0),IF($B1208=2,VLOOKUP(C$2,Table1[],4,0),IF($B1208=3,VLOOKUP(C$2,Table1[],5,0),IF($B1208=4,VLOOKUP(C$2,Table1[],5,0),0))))","v":500000},{"$f":"IF($B1208=1,VLOOKUP(D$2,Table1[],3,0),IF($B1208=2,VLOOKUP(D$2,Table1[],4,0),IF($B1208=3,VLOOKUP(D$2,Table1[],5,0),IF($B1208=4,VLOOKUP(D$2,Table1[],5,0),0))))","v":400000},{"$f":"IF($B1208=1,VLOOKUP(E$2,Table1[],3,0),IF($B1208=2,VLOOKUP(E$2,Table1[],4,0),IF($B1208=3,VLOOKUP(E$2,Table1[],5,0),IF($B1208=4,VLOOKUP(E$2,Table1[],5,0),0))))","v":"N/A"},{"$f":"IF($B1208=1,VLOOKUP(F$2,Table1[],3,0),IF($B1208=2,VLOOKUP(F$2,Table1[],4,0),IF($B1208=3,VLOOKUP(F$2,Table1[],5,0),IF($B1208=4,VLOOKUP(F$2,Table1[],5,0),0))))","v":"N/A"}]
[5606,3,{"$f":"IF($B1209=1,VLOOKUP(C$2,Table1[],3,0),IF($B1209=2,VLOOKUP(C$2,Table1[],4,0),IF($B1209=3,VLOOKUP(C$2,Table1[],5,0),IF($B1209=4,VLOOKUP(C$2,Table1[],5,0),0))))","v":500000},{"$f":"IF($B1209=1,VLOOKUP(D$2,Table1[],3,0),IF($B1209=2,VLOOKUP(D$2,Table1[],4,0),IF($B1209=3,VLOOKUP(D$2,Table1[],5,0),IF($B1209=4,VLOOKUP(D$2,Table1[],5,0),0))))","v":400000},{"$f":"IF($B1209=1,VLOOKUP(E$2,Table1[],3,0),IF($B1209=2,VLOOKUP(E$2,Table1[],4,0),IF($B1209=3,VLOOKUP(E$2,Table1[],5,0),IF($B1209=4,VLOOKUP(E$2,Table1[],5,0),0))))","v":"N/A"},{"$f":"IF($B1209=1,VLOOKUP(F$2,Table1[],3,0),IF($B1209=2,VLOOKUP(F$2,Table1[],4,0),IF($B1209=3,VLOOKUP(F$2,Table1[],5,0),IF($B1209=4,VLOOKUP(F$2,Table1[],5,0),0))))","v":"N/A"}]
[5607,3,{"$f":"IF($B1210=1,VLOOKUP(C$2,Table1[],3,0),IF($B1210=2,VLOOKUP(C$2,Table1[],4,0),IF($B1210=3,VLOOKUP(C$2,Table1[],5,0),IF($B1210=4,VLOOKUP(C$2,Table1[],5,0),0))))","v":500000},{"$f":"IF($B1210=1,VLOOKUP(D$2,Table1[],3,0),IF($B1210=2,VLOOKUP(D$2,Table1[],4,0),IF($B1210=3,VLOOKUP(D$2,Table1[],5,0),IF($B1210=4,VLOOKUP(D$2,Table1[],5,0),0))))","v":400000},{"$f":"IF($B1210=1,VLOOKUP(E$2,Table1[],3,0),IF($B1210=2,VLOOKUP(E$2,Table1[],4,0),IF($B1210=3,VLOOKUP(E$2,Table1[],5,0),IF($B1210=4,VLOOKUP(E$2,Table1[],5,0),0))))","v":"N/A"},{"$f":"IF($B1210=1,VLOOKUP(F$2,Table1[],3,0),IF($B1210=2,VLOOKUP(F$2,Table1[],4,0),IF($B1210=3,VLOOKUP(F$2,Table1[],5,0),IF($B1210=4,VLOOKUP(F$2,Table1[],5,0),0))))","v":"N/A"}]
[5608,4,{"$f":"IF($B1211=1,VLOOKUP(C$2,Table1[],3,0),IF($B1211=2,VLOOKUP(C$2,Table1[],4,0),IF($B1211=3,VLOOKUP(C$2,Table1[],5,0),IF($B1211=4,VLOOKUP(C$2,Table1[],5,0),0))))","v":500000},{"$f":"IF($B1211=1,VLOOKUP(D$2,Table1[],3,0),IF($B1211=2,VLOOKUP(D$2,Table1[],4,0),IF($B1211=3,VLOOKUP(D$2,Table1[],5,0),IF($B1211=4,VLOOKUP(D$2,Table1[],5,0),0))))","v":400000},{"$f":"IF($B1211=1,VLOOKUP(E$2,Table1[],3,0),IF($B1211=2,VLOOKUP(E$2,Table1[],4,0),IF($B1211=3,VLOOKUP(E$2,Table1[],5,0),IF($B1211=4,VLOOKUP(E$2,Table1[],5,0),0))))","v":"N/A"},{"$f":"IF($B1211=1,VLOOKUP(F$2,Table1[],3,0),IF($B1211=2,VLOOKUP(F$2,Table1[],4,0),IF($B1211=3,VLOOKUP(F$2,Table1[],5,0),IF($B1211=4,VLOOKUP(F$2,Table1[],5,0),0))))","v":"N/A"}]
[5609,4,{"$f":"IF($B1212=1,VLOOKUP(C$2,Table1[],3,0),IF($B1212=2,VLOOKUP(C$2,Table1[],4,0),IF($B1212=3,VLOOKUP(C$2,Table1[],5,0),IF($B1212=4,VLOOKUP(C$2,Table1[],5,0),0))))","v":500000},{"$f":"IF($B1212=1,VLOOKUP(D$2,Table1[],3,0),IF($B1212=2,VLOOKUP(D$2,Table1[],4,0),IF($B1212=3,VLOOKUP(D$2,Table1[],5,0),IF($B1212=4,VLOOKUP(D$2,Table1[],5,0),0))))","v":400000},{"$f":"IF($B1212=1,VLOOKUP(E$2,Table1[],3,0),IF($B1212=2,VLOOKUP(E$2,Table1[],4,0),IF($B1212=3,VLOOKUP(E$2,Table1[],5,0),IF($B1212=4,VLOOKUP(E$2,Table1[],5,0),0))))","v":"N/A"},{"$f":"IF($B1212=1,VLOOKUP(F$2,Table1[],3,0),IF($B1212=2,VLOOKUP(F$2,Table1[],4,0),IF($B1212=3,VLOOKUP(F$2,Table1[],5,0),IF($B1212=4,VLOOKUP(F$2,Table1[],5,0),0))))","v":"N/A"}]
[5690,4,{"$f":"IF($B1213=1,VLOOKUP(C$2,Table1[],3,0),IF($B1213=2,VLOOKUP(C$2,Table1[],4,0),IF($B1213=3,VLOOKUP(C$2,Table1[],5,0),IF($B1213=4,VLOOKUP(C$2,Table1[],5,0),0))))","v":500000},{"$f":"IF($B1213=1,VLOOKUP(D$2,Table1[],3,0),IF($B1213=2,VLOOKUP(D$2,Table1[],4,0),IF($B1213=3,VLOOKUP(D$2,Table1[],5,0),IF($B1213=4,VLOOKUP(D$2,Table1[],5,0),0))))","v":400000},{"$f":"IF($B1213=1,VLOOKUP(E$2,Table1[],3,0),IF($B1213=2,VLOOKUP(E$2,Table1[],4,0),IF($B1213=3,VLOOKUP(E$2,Table1[],5,0),IF($B1213=4,VLOOKUP(E$2,Table1[],5,0),0))))","v":"N/A"},{"$f":"IF($B1213=1,VLOOKUP(F$2,Table1[],3,0),IF($B1213=2,VLOOKUP(F$2,Table1[],4,0),IF($B1213=3,VLOOKUP(F$2,Table1[],5,0),IF($B1213=4,VLOOKUP(F$2,Table1[],5,0),0))))","v":"N/A"}]
[5700,4,{"$f":"IF($B1214=1,VLOOKUP(C$2,Table1[],3,0),IF($B1214=2,VLOOKUP(C$2,Table1[],4,0),IF($B1214=3,VLOOKUP(C$2,Table1[],5,0),IF($B1214=4,VLOOKUP(C$2,Table1[],5,0),0))))","v":500000},{"$f":"IF($B1214=1,VLOOKUP(D$2,Table1[],3,0),IF($B1214=2,VLOOKUP(D$2,Table1[],4,0),IF($B1214=3,VLOOKUP(D$2,Table1[],5,0),IF($B1214=4,VLOOKUP(D$2,Table1[],5,0),0))))","v":400000},{"$f":"IF($B1214=1,VLOOKUP(E$2,Table1[],3,0),IF($B1214=2,VLOOKUP(E$2,Table1[],4,0),IF($B1214=3,VLOOKUP(E$2,Table1[],5,0),IF($B1214=4,VLOOKUP(E$2,Table1[],5,0),0))))","v":"N/A"},{"$f":"IF($B1214=1,VLOOKUP(F$2,Table1[],3,0),IF($B1214=2,VLOOKUP(F$2,Table1[],4,0),IF($B1214=3,VLOOKUP(F$2,Table1[],5,0),IF($B1214=4,VLOOKUP(F$2,Table1[],5,0),0))))","v":"N/A"}]
[5710,4,{"$f":"IF($B1215=1,VLOOKUP(C$2,Table1[],3,0),IF($B1215=2,VLOOKUP(C$2,Table1[],4,0),IF($B1215=3,VLOOKUP(C$2,Table1[],5,0),IF($B1215=4,VLOOKUP(C$2,Table1[],5,0),0))))","v":500000},{"$f":"IF($B1215=1,VLOOKUP(D$2,Table1[],3,0),IF($B1215=2,VLOOKUP(D$2,Table1[],4,0),IF($B1215=3,VLOOKUP(D$2,Table1[],5,0),IF($B1215=4,VLOOKUP(D$2,Table1[],5,0),0))))","v":400000},{"$f":"IF($B1215=1,VLOOKUP(E$2,Table1[],3,0),IF($B1215=2,VLOOKUP(E$2,Table1[],4,0),IF($B1215=3,VLOOKUP(E$2,Table1[],5,0),IF($B1215=4,VLOOKUP(E$2,Table1[],5,0),0))))","v":"N/A"},{"$f":"IF($B1215=1,VLOOKUP(F$2,Table1[],3,0),IF($B1215=2,VLOOKUP(F$2,Table1[],4,0),IF($B1215=3,VLOOKUP(F$2,Table1[],5,0),IF($B1215=4,VLOOKUP(F$2,Table1[],5,0),0))))","v":"N/A"}]
[5719,2,{"$f":"IF($B1216=1,VLOOKUP(C$2,Table1[],3,0),IF($B1216=2,VLOOKUP(C$2,Table1[],4,0),IF($B1216=3,VLOOKUP(C$2,Table1[],5,0),IF($B1216=4,VLOOKUP(C$2,Table1[],5,0),0))))","v":1000000},{"$f":"IF($B1216=1,VLOOKUP(D$2,Table1[],3,0),IF($B1216=2,VLOOKUP(D$2,Table1[],4,0),IF($B1216=3,VLOOKUP(D$2,Table1[],5,0),IF($B1216=4,VLOOKUP(D$2,Table1[],5,0),0))))","v":1000000},{"$f":"IF($B1216=1,VLOOKUP(E$2,Table1[],3,0),IF($B1216=2,VLOOKUP(E$2,Table1[],4,0),IF($B1216=3,VLOOKUP(E$2,Table1[],5,0),IF($B1216=4,VLOOKUP(E$2,Table1[],5,0),0))))","v":750000},{"$f":"IF($B1216=1,VLOOKUP(F$2,Table1[],3,0),IF($B1216=2,VLOOKUP(F$2,Table1[],4,0),IF($B1216=3,VLOOKUP(F$2,Table1[],5,0),IF($B1216=4,VLOOKUP(F$2,Table1[],5,0),0))))","v":500000}]
[5722,4,{"$f":"IF($B1217=1,VLOOKUP(C$2,Table1[],3,0),IF($B1217=2,VLOOKUP(C$2,Table1[],4,0),IF($B1217=3,VLOOKUP(C$2,Table1[],5,0),IF($B1217=4,VLOOKUP(C$2,Table1[],5,0),0))))","v":500000},{"$f":"IF($B1217=1,VLOOKUP(D$2,Table1[],3,0),IF($B1217=2,VLOOKUP(D$2,Table1[],4,0),IF($B1217=3,VLOOKUP(D$2,Table1[],5,0),IF($B1217=4,VLOOKUP(D$2,Table1[],5,0),0))))","v":400000},{"$f":"IF($B1217=1,VLOOKUP(E$2,Table1[],3,0),IF($B1217=2,VLOOKUP(E$2,Table1[],4,0),IF($B1217=3,VLOOKUP(E$2,Table1[],5,0),IF($B1217=4,VLOOKUP(E$2,Table1[],5,0),0))))","v":"N/A"},{"$f":"IF($B1217=1,VLOOKUP(F$2,Table1[],3,0),IF($B1217=2,VLOOKUP(F$2,Table1[],4,0),IF($B1217=3,VLOOKUP(F$2,Table1[],5,0),IF($B1217=4,VLOOKUP(F$2,Table1[],5,0),0))))","v":"N/A"}]
[5723,4,{"$f":"IF($B1218=1,VLOOKUP(C$2,Table1[],3,0),IF($B1218=2,VLOOKUP(C$2,Table1[],4,0),IF($B1218=3,VLOOKUP(C$2,Table1[],5,0),IF($B1218=4,VLOOKUP(C$2,Table1[],5,0),0))))","v":500000},{"$f":"IF($B1218=1,VLOOKUP(D$2,Table1[],3,0),IF($B1218=2,VLOOKUP(D$2,Table1[],4,0),IF($B1218=3,VLOOKUP(D$2,Table1[],5,0),IF($B1218=4,VLOOKUP(D$2,Table1[],5,0),0))))","v":400000},{"$f":"IF($B1218=1,VLOOKUP(E$2,Table1[],3,0),IF($B1218=2,VLOOKUP(E$2,Table1[],4,0),IF($B1218=3,VLOOKUP(E$2,Table1[],5,0),IF($B1218=4,VLOOKUP(E$2,Table1[],5,0),0))))","v":"N/A"},{"$f":"IF($B1218=1,VLOOKUP(F$2,Table1[],3,0),IF($B1218=2,VLOOKUP(F$2,Table1[],4,0),IF($B1218=3,VLOOKUP(F$2,Table1[],5,0),IF($B1218=4,VLOOKUP(F$2,Table1[],5,0),0))))","v":"N/A"}]
[5725,4,{"$f":"IF($B1219=1,VLOOKUP(C$2,Table1[],3,0),IF($B1219=2,VLOOKUP(C$2,Table1[],4,0),IF($B1219=3,VLOOKUP(C$2,Table1[],5,0),IF($B1219=4,VLOOKUP(C$2,Table1[],5,0),0))))","v":500000},{"$f":"IF($B1219=1,VLOOKUP(D$2,Table1[],3,0),IF($B1219=2,VLOOKUP(D$2,Table1[],4,0),IF($B1219=3,VLOOKUP(D$2,Table1[],5,0),IF($B1219=4,VLOOKUP(D$2,Table1[],5,0),0))))","v":400000},{"$f":"IF($B1219=1,VLOOKUP(E$2,Table1[],3,0),IF($B1219=2,VLOOKUP(E$2,Table1[],4,0),IF($B1219=3,VLOOKUP(E$2,Table1[],5,0),IF($B1219=4,VLOOKUP(E$2,Table1[],5,0),0))))","v":"N/A"},{"$f":"IF($B1219=1,VLOOKUP(F$2,Table1[],3,0),IF($B1219=2,VLOOKUP(F$2,Table1[],4,0),IF($B1219=3,VLOOKUP(F$2,Table1[],5,0),IF($B1219=4,VLOOKUP(F$2,Table1[],5,0),0))))","v":"N/A"}]
[6000,1,{"$f":"IF($B1220=1,VLOOKUP(C$2,Table1[],3,0),IF($B1220=2,VLOOKUP(C$2,Table1[],4,0),IF($B1220=3,VLOOKUP(C$2,Table1[],5,0),IF($B1220=4,VLOOKUP(C$2,Table1[],5,0),0))))","v":2000000},{"$f":"IF($B1220=1,VLOOKUP(D$2,Table1[],3,0),IF($B1220=2,VLOOKUP(D$2,Table1[],4,0),IF($B1220=3,VLOOKUP(D$2,Table1[],5,0),IF($B1220=4,VLOOKUP(D$2,Table1[],5,0),0))))","v":2000000},{"$f":"IF($B1220=1,VLOOKUP(E$2,Table1[],3,0),IF($B1220=2,VLOOKUP(E$2,Table1[],4,0),IF($B1220=3,VLOOKUP(E$2,Table1[],5,0),IF($B1220=4,VLOOKUP(E$2,Table1[],5,0),0))))","v":1500000},{"$f":"IF($B1220=1,VLOOKUP(F$2,Table1[],3,0),IF($B1220=2,VLOOKUP(F$2,Table1[],4,0),IF($B1220=3,VLOOKUP(F$2,Table1[],5,0),IF($B1220=4,VLOOKUP(F$2,Table1[],5,0),0))))","v":800000}]
[6003,1,{"$f":"IF($B1221=1,VLOOKUP(C$2,Table1[],3,0),IF($B1221=2,VLOOKUP(C$2,Table1[],4,0),IF($B1221=3,VLOOKUP(C$2,Table1[],5,0),IF($B1221=4,VLOOKUP(C$2,Table1[],5,0),0))))","v":2000000},{"$f":"IF($B1221=1,VLOOKUP(D$2,Table1[],3,0),IF($B1221=2,VLOOKUP(D$2,Table1[],4,0),IF($B1221=3,VLOOKUP(D$2,Table1[],5,0),IF($B1221=4,VLOOKUP(D$2,Table1[],5,0),0))))","v":2000000},{"$f":"IF($B1221=1,VLOOKUP(E$2,Table1[],3,0),IF($B1221=2,VLOOKUP(E$2,Table1[],4,0),IF($B1221=3,VLOOKUP(E$2,Table1[],5,0),IF($B1221=4,VLOOKUP(E$2,Table1[],5,0),0))))","v":1500000},{"$f":"IF($B1221=1,VLOOKUP(F$2,Table1[],3,0),IF($B1221=2,VLOOKUP(F$2,Table1[],4,0),IF($B1221=3,VLOOKUP(F$2,Table1[],5,0),IF($B1221=4,VLOOKUP(F$2,Table1[],5,0),0))))","v":800000}]
[6004,1,{"$f":"IF($B1222=1,VLOOKUP(C$2,Table1[],3,0),IF($B1222=2,VLOOKUP(C$2,Table1[],4,0),IF($B1222=3,VLOOKUP(C$2,Table1[],5,0),IF($B1222=4,VLOOKUP(C$2,Table1[],5,0),0))))","v":2000000},{"$f":"IF($B1222=1,VLOOKUP(D$2,Table1[],3,0),IF($B1222=2,VLOOKUP(D$2,Table1[],4,0),IF($B1222=3,VLOOKUP(D$2,Table1[],5,0),IF($B1222=4,VLOOKUP(D$2,Table1[],5,0),0))))","v":2000000},{"$f":"IF($B1222=1,VLOOKUP(E$2,Table1[],3,0),IF($B1222=2,VLOOKUP(E$2,Table1[],4,0),IF($B1222=3,VLOOKUP(E$2,Table1[],5,0),IF($B1222=4,VLOOKUP(E$2,Table1[],5,0),0))))","v":1500000},{"$f":"IF($B1222=1,VLOOKUP(F$2,Table1[],3,0),IF($B1222=2,VLOOKUP(F$2,Table1[],4,0),IF($B1222=3,VLOOKUP(F$2,Table1[],5,0),IF($B1222=4,VLOOKUP(F$2,Table1[],5,0),0))))","v":800000}]
[6005,1,{"$f":"IF($B1223=1,VLOOKUP(C$2,Table1[],3,0),IF($B1223=2,VLOOKUP(C$2,Table1[],4,0),IF($B1223=3,VLOOKUP(C$2,Table1[],5,0),IF($B1223=4,VLOOKUP(C$2,Table1[],5,0),0))))","v":2000000},{"$f":"IF($B1223=1,VLOOKUP(D$2,Table1[],3,0),IF($B1223=2,VLOOKUP(D$2,Table1[],4,0),IF($B1223=3,VLOOKUP(D$2,Table1[],5,0),IF($B1223=4,VLOOKUP(D$2,Table1[],5,0),0))))","v":2000000},{"$f":"IF($B1223=1,VLOOKUP(E$2,Table1[],3,0),IF($B1223=2,VLOOKUP(E$2,Table1[],4,0),IF($B1223=3,VLOOKUP(E$2,Table1[],5,0),IF($B1223=4,VLOOKUP(E$2,Table1[],5,0),0))))","v":1500000},{"$f":"IF($B1223=1,VLOOKUP(F$2,Table1[],3,0),IF($B1223=2,VLOOKUP(F$2,Table1[],4,0),IF($B1223=3,VLOOKUP(F$2,Table1[],5,0),IF($B1223=4,VLOOKUP(F$2,Table1[],5,0),0))))","v":800000}]
[6006,1,{"$f":"IF($B1224=1,VLOOKUP(C$2,Table1[],3,0),IF($B1224=2,VLOOKUP(C$2,Table1[],4,0),IF($B1224=3,VLOOKUP(C$2,Table1[],5,0),IF($B1224=4,VLOOKUP(C$2,Table1[],5,0),0))))","v":2000000},{"$f":"IF($B1224=1,VLOOKUP(D$2,Table1[],3,0),IF($B1224=2,VLOOKUP(D$2,Table1[],4,0),IF($B1224=3,VLOOKUP(D$2,Table1[],5,0),IF($B1224=4,VLOOKUP(D$2,Table1[],5,0),0))))","v":2000000},{"$f":"IF($B1224=1,VLOOKUP(E$2,Table1[],3,0),IF($B1224=2,VLOOKUP(E$2,Table1[],4,0),IF($B1224=3,VLOOKUP(E$2,Table1[],5,0),IF($B1224=4,VLOOKUP(E$2,Table1[],5,0),0))))","v":1500000},{"$f":"IF($B1224=1,VLOOKUP(F$2,Table1[],3,0),IF($B1224=2,VLOOKUP(F$2,Table1[],4,0),IF($B1224=3,VLOOKUP(F$2,Table1[],5,0),IF($B1224=4,VLOOKUP(F$2,Table1[],5,0),0))))","v":800000}]
[6007,1,{"$f":"IF($B1225=1,VLOOKUP(C$2,Table1[],3,0),IF($B1225=2,VLOOKUP(C$2,Table1[],4,0),IF($B1225=3,VLOOKUP(C$2,Table1[],5,0),IF($B1225=4,VLOOKUP(C$2,Table1[],5,0),0))))","v":2000000},{"$f":"IF($B1225=1,VLOOKUP(D$2,Table1[],3,0),IF($B1225=2,VLOOKUP(D$2,Table1[],4,0),IF($B1225=3,VLOOKUP(D$2,Table1[],5,0),IF($B1225=4,VLOOKUP(D$2,Table1[],5,0),0))))","v":2000000},{"$f":"IF($B1225=1,VLOOKUP(E$2,Table1[],3,0),IF($B1225=2,VLOOKUP(E$2,Table1[],4,0),IF($B1225=3,VLOOKUP(E$2,Table1[],5,0),IF($B1225=4,VLOOKUP(E$2,Table1[],5,0),0))))","v":1500000},{"$f":"IF($B1225=1,VLOOKUP(F$2,Table1[],3,0),IF($B1225=2,VLOOKUP(F$2,Table1[],4,0),IF($B1225=3,VLOOKUP(F$2,Table1[],5,0),IF($B1225=4,VLOOKUP(F$2,Table1[],5,0),0))))","v":800000}]
[6008,1,{"$f":"IF($B1226=1,VLOOKUP(C$2,Table1[],3,0),IF($B1226=2,VLOOKUP(C$2,Table1[],4,0),IF($B1226=3,VLOOKUP(C$2,Table1[],5,0),IF($B1226=4,VLOOKUP(C$2,Table1[],5,0),0))))","v":2000000},{"$f":"IF($B1226=1,VLOOKUP(D$2,Table1[],3,0),IF($B1226=2,VLOOKUP(D$2,Table1[],4,0),IF($B1226=3,VLOOKUP(D$2,Table1[],5,0),IF($B1226=4,VLOOKUP(D$2,Table1[],5,0),0))))","v":2000000},{"$f":"IF($B1226=1,VLOOKUP(E$2,Table1[],3,0),IF($B1226=2,VLOOKUP(E$2,Table1[],4,0),IF($B1226=3,VLOOKUP(E$2,Table1[],5,0),IF($B1226=4,VLOOKUP(E$2,Table1[],5,0),0))))","v":1500000},{"$f":"IF($B1226=1,VLOOKUP(F$2,Table1[],3,0),IF($B1226=2,VLOOKUP(F$2,Table1[],4,0),IF($B1226=3,VLOOKUP(F$2,Table1[],5,0),IF($B1226=4,VLOOKUP(F$2,Table1[],5,0),0))))","v":800000}]
[6009,1,{"$f":"IF($B1227=1,VLOOKUP(C$2,Table1[],3,0),IF($B1227=2,VLOOKUP(C$2,Table1[],4,0),IF($B1227=3,VLOOKUP(C$2,Table1[],5,0),IF($B1227=4,VLOOKUP(C$2,Table1[],5,0),0))))","v":2000000},{"$f":"IF($B1227=1,VLOOKUP(D$2,Table1[],3,0),IF($B1227=2,VLOOKUP(D$2,Table1[],4,0),IF($B1227=3,VLOOKUP(D$2,Table1[],5,0),IF($B1227=4,VLOOKUP(D$2,Table1[],5,0),0))))","v":2000000},{"$f":"IF($B1227=1,VLOOKUP(E$2,Table1[],3,0),IF($B1227=2,VLOOKUP(E$2,Table1[],4,0),IF($B1227=3,VLOOKUP(E$2,Table1[],5,0),IF($B1227=4,VLOOKUP(E$2,Table1[],5,0),0))))","v":1500000},{"$f":"IF($B1227=1,VLOOKUP(F$2,Table1[],3,0),IF($B1227=2,VLOOKUP(F$2,Table1[],4,0),IF($B1227=3,VLOOKUP(F$2,Table1[],5,0),IF($B1227=4,VLOOKUP(F$2,Table1[],5,0),0))))","v":800000}]
[6010,1,{"$f":"IF($B1228=1,VLOOKUP(C$2,Table1[],3,0),IF($B1228=2,VLOOKUP(C$2,Table1[],4,0),IF($B1228=3,VLOOKUP(C$2,Table1[],5,0),IF($B1228=4,VLOOKUP(C$2,Table1[],5,0),0))))","v":2000000},{"$f":"IF($B1228=1,VLOOKUP(D$2,Table1[],3,0),IF($B1228=2,VLOOKUP(D$2,Table1[],4,0),IF($B1228=3,VLOOKUP(D$2,Table1[],5,0),IF($B1228=4,VLOOKUP(D$2,Table1[],5,0),0))))","v":2000000},{"$f":"IF($B1228=1,VLOOKUP(E$2,Table1[],3,0),IF($B1228=2,VLOOKUP(E$2,Table1[],4,0),IF($B1228=3,VLOOKUP(E$2,Table1[],5,0),IF($B1228=4,VLOOKUP(E$2,Table1[],5,0),0))))","v":1500000},{"$f":"IF($B1228=1,VLOOKUP(F$2,Table1[],3,0),IF($B1228=2,VLOOKUP(F$2,Table1[],4,0),IF($B1228=3,VLOOKUP(F$2,Table1[],5,0),IF($B1228=4,VLOOKUP(F$2,Table1[],5,0),0))))","v":800000}]
[6011,1,{"$f":"IF($B1229=1,VLOOKUP(C$2,Table1[],3,0),IF($B1229=2,VLOOKUP(C$2,Table1[],4,0),IF($B1229=3,VLOOKUP(C$2,Table1[],5,0),IF($B1229=4,VLOOKUP(C$2,Table1[],5,0),0))))","v":2000000},{"$f":"IF($B1229=1,VLOOKUP(D$2,Table1[],3,0),IF($B1229=2,VLOOKUP(D$2,Table1[],4,0),IF($B1229=3,VLOOKUP(D$2,Table1[],5,0),IF($B1229=4,VLOOKUP(D$2,Table1[],5,0),0))))","v":2000000},{"$f":"IF($B1229=1,VLOOKUP(E$2,Table1[],3,0),IF($B1229=2,VLOOKUP(E$2,Table1[],4,0),IF($B1229=3,VLOOKUP(E$2,Table1[],5,0),IF($B1229=4,VLOOKUP(E$2,Table1[],5,0),0))))","v":1500000},{"$f":"IF($B1229=1,VLOOKUP(F$2,Table1[],3,0),IF($B1229=2,VLOOKUP(F$2,Table1[],4,0),IF($B1229=3,VLOOKUP(F$2,Table1[],5,0),IF($B1229=4,VLOOKUP(F$2,Table1[],5,0),0))))","v":800000}]
[6012,1,{"$f":"IF($B1230=1,VLOOKUP(C$2,Table1[],3,0),IF($B1230=2,VLOOKUP(C$2,Table1[],4,0),IF($B1230=3,VLOOKUP(C$2,Table1[],5,0),IF($B1230=4,VLOOKUP(C$2,Table1[],5,0),0))))","v":2000000},{"$f":"IF($B1230=1,VLOOKUP(D$2,Table1[],3,0),IF($B1230=2,VLOOKUP(D$2,Table1[],4,0),IF($B1230=3,VLOOKUP(D$2,Table1[],5,0),IF($B1230=4,VLOOKUP(D$2,Table1[],5,0),0))))","v":2000000},{"$f":"IF($B1230=1,VLOOKUP(E$2,Table1[],3,0),IF($B1230=2,VLOOKUP(E$2,Table1[],4,0),IF($B1230=3,VLOOKUP(E$2,Table1[],5,0),IF($B1230=4,VLOOKUP(E$2,Table1[],5,0),0))))","v":1500000},{"$f":"IF($B1230=1,VLOOKUP(F$2,Table1[],3,0),IF($B1230=2,VLOOKUP(F$2,Table1[],4,0),IF($B1230=3,VLOOKUP(F$2,Table1[],5,0),IF($B1230=4,VLOOKUP(F$2,Table1[],5,0),0))))","v":800000}]
[6014,1,{"$f":"IF($B1231=1,VLOOKUP(C$2,Table1[],3,0),IF($B1231=2,VLOOKUP(C$2,Table1[],4,0),IF($B1231=3,VLOOKUP(C$2,Table1[],5,0),IF($B1231=4,VLOOKUP(C$2,Table1[],5,0),0))))","v":2000000},{"$f":"IF($B1231=1,VLOOKUP(D$2,Table1[],3,0),IF($B1231=2,VLOOKUP(D$2,Table1[],4,0),IF($B1231=3,VLOOKUP(D$2,Table1[],5,0),IF($B1231=4,VLOOKUP(D$2,Table1[],5,0),0))))","v":2000000},{"$f":"IF($B1231=1,VLOOKUP(E$2,Table1[],3,0),IF($B1231=2,VLOOKUP(E$2,Table1[],4,0),IF($B1231=3,VLOOKUP(E$2,Table1[],5,0),IF($B1231=4,VLOOKUP(E$2,Table1[],5,0),0))))","v":1500000},{"$f":"IF($B1231=1,VLOOKUP(F$2,Table1[],3,0),IF($B1231=2,VLOOKUP(F$2,Table1[],4,0),IF($B1231=3,VLOOKUP(F$2,Table1[],5,0),IF($B1231=4,VLOOKUP(F$2,Table1[],5,0),0))))","v":800000}]
[6015,1,{"$f":"IF($B1232=1,VLOOKUP(C$2,Table1[],3,0),IF($B1232=2,VLOOKUP(C$2,Table1[],4,0),IF($B1232=3,VLOOKUP(C$2,Table1[],5,0),IF($B1232=4,VLOOKUP(C$2,Table1[],5,0),0))))","v":2000000},{"$f":"IF($B1232=1,VLOOKUP(D$2,Table1[],3,0),IF($B1232=2,VLOOKUP(D$2,Table1[],4,0),IF($B1232=3,VLOOKUP(D$2,Table1[],5,0),IF($B1232=4,VLOOKUP(D$2,Table1[],5,0),0))))","v":2000000},{"$f":"IF($B1232=1,VLOOKUP(E$2,Table1[],3,0),IF($B1232=2,VLOOKUP(E$2,Table1[],4,0),IF($B1232=3,VLOOKUP(E$2,Table1[],5,0),IF($B1232=4,VLOOKUP(E$2,Table1[],5,0),0))))","v":1500000},{"$f":"IF($B1232=1,VLOOKUP(F$2,Table1[],3,0),IF($B1232=2,VLOOKUP(F$2,Table1[],4,0),IF($B1232=3,VLOOKUP(F$2,Table1[],5,0),IF($B1232=4,VLOOKUP(F$2,Table1[],5,0),0))))","v":800000}]
[6016,1,{"$f":"IF($B1233=1,VLOOKUP(C$2,Table1[],3,0),IF($B1233=2,VLOOKUP(C$2,Table1[],4,0),IF($B1233=3,VLOOKUP(C$2,Table1[],5,0),IF($B1233=4,VLOOKUP(C$2,Table1[],5,0),0))))","v":2000000},{"$f":"IF($B1233=1,VLOOKUP(D$2,Table1[],3,0),IF($B1233=2,VLOOKUP(D$2,Table1[],4,0),IF($B1233=3,VLOOKUP(D$2,Table1[],5,0),IF($B1233=4,VLOOKUP(D$2,Table1[],5,0),0))))","v":2000000},{"$f":"IF($B1233=1,VLOOKUP(E$2,Table1[],3,0),IF($B1233=2,VLOOKUP(E$2,Table1[],4,0),IF($B1233=3,VLOOKUP(E$2,Table1[],5,0),IF($B1233=4,VLOOKUP(E$2,Table1[],5,0),0))))","v":1500000},{"$f":"IF($B1233=1,VLOOKUP(F$2,Table1[],3,0),IF($B1233=2,VLOOKUP(F$2,Table1[],4,0),IF($B1233=3,VLOOKUP(F$2,Table1[],5,0),IF($B1233=4,VLOOKUP(F$2,Table1[],5,0),0))))","v":800000}]
[6017,1,{"$f":"IF($B1234=1,VLOOKUP(C$2,Table1[],3,0),IF($B1234=2,VLOOKUP(C$2,Table1[],4,0),IF($B1234=3,VLOOKUP(C$2,Table1[],5,0),IF($B1234=4,VLOOKUP(C$2,Table1[],5,0),0))))","v":2000000},{"$f":"IF($B1234=1,VLOOKUP(D$2,Table1[],3,0),IF($B1234=2,VLOOKUP(D$2,Table1[],4,0),IF($B1234=3,VLOOKUP(D$2,Table1[],5,0),IF($B1234=4,VLOOKUP(D$2,Table1[],5,0),0))))","v":2000000},{"$f":"IF($B1234=1,VLOOKUP(E$2,Table1[],3,0),IF($B1234=2,VLOOKUP(E$2,Table1[],4,0),IF($B1234=3,VLOOKUP(E$2,Table1[],5,0),IF($B1234=4,VLOOKUP(E$2,Table1[],5,0),0))))","v":1500000},{"$f":"IF($B1234=1,VLOOKUP(F$2,Table1[],3,0),IF($B1234=2,VLOOKUP(F$2,Table1[],4,0),IF($B1234=3,VLOOKUP(F$2,Table1[],5,0),IF($B1234=4,VLOOKUP(F$2,Table1[],5,0),0))))","v":800000}]
[6018,1,{"$f":"IF($B1235=1,VLOOKUP(C$2,Table1[],3,0),IF($B1235=2,VLOOKUP(C$2,Table1[],4,0),IF($B1235=3,VLOOKUP(C$2,Table1[],5,0),IF($B1235=4,VLOOKUP(C$2,Table1[],5,0),0))))","v":2000000},{"$f":"IF($B1235=1,VLOOKUP(D$2,Table1[],3,0),IF($B1235=2,VLOOKUP(D$2,Table1[],4,0),IF($B1235=3,VLOOKUP(D$2,Table1[],5,0),IF($B1235=4,VLOOKUP(D$2,Table1[],5,0),0))))","v":2000000},{"$f":"IF($B1235=1,VLOOKUP(E$2,Table1[],3,0),IF($B1235=2,VLOOKUP(E$2,Table1[],4,0),IF($B1235=3,VLOOKUP(E$2,Table1[],5,0),IF($B1235=4,VLOOKUP(E$2,Table1[],5,0),0))))","v":1500000},{"$f":"IF($B1235=1,VLOOKUP(F$2,Table1[],3,0),IF($B1235=2,VLOOKUP(F$2,Table1[],4,0),IF($B1235=3,VLOOKUP(F$2,Table1[],5,0),IF($B1235=4,VLOOKUP(F$2,Table1[],5,0),0))))","v":800000}]
[6019,1,{"$f":"IF($B1236=1,VLOOKUP(C$2,Table1[],3,0),IF($B1236=2,VLOOKUP(C$2,Table1[],4,0),IF($B1236=3,VLOOKUP(C$2,Table1[],5,0),IF($B1236=4,VLOOKUP(C$2,Table1[],5,0),0))))","v":2000000},{"$f":"IF($B1236=1,VLOOKUP(D$2,Table1[],3,0),IF($B1236=2,VLOOKUP(D$2,Table1[],4,0),IF($B1236=3,VLOOKUP(D$2,Table1[],5,0),IF($B1236=4,VLOOKUP(D$2,Table1[],5,0),0))))","v":2000000},{"$f":"IF($B1236=1,VLOOKUP(E$2,Table1[],3,0),IF($B1236=2,VLOOKUP(E$2,Table1[],4,0),IF($B1236=3,VLOOKUP(E$2,Table1[],5,0),IF($B1236=4,VLOOKUP(E$2,Table1[],5,0),0))))","v":1500000},{"$f":"IF($B1236=1,VLOOKUP(F$2,Table1[],3,0),IF($B1236=2,VLOOKUP(F$2,Table1[],4,0),IF($B1236=3,VLOOKUP(F$2,Table1[],5,0),IF($B1236=4,VLOOKUP(F$2,Table1[],5,0),0))))","v":800000}]
[6020,1,{"$f":"IF($B1237=1,VLOOKUP(C$2,Table1[],3,0),IF($B1237=2,VLOOKUP(C$2,Table1[],4,0),IF($B1237=3,VLOOKUP(C$2,Table1[],5,0),IF($B1237=4,VLOOKUP(C$2,Table1[],5,0),0))))","v":2000000},{"$f":"IF($B1237=1,VLOOKUP(D$2,Table1[],3,0),IF($B1237=2,VLOOKUP(D$2,Table1[],4,0),IF($B1237=3,VLOOKUP(D$2,Table1[],5,0),IF($B1237=4,VLOOKUP(D$2,Table1[],5,0),0))))","v":2000000},{"$f":"IF($B1237=1,VLOOKUP(E$2,Table1[],3,0),IF($B1237=2,VLOOKUP(E$2,Table1[],4,0),IF($B1237=3,VLOOKUP(E$2,Table1[],5,0),IF($B1237=4,VLOOKUP(E$2,Table1[],5,0),0))))","v":1500000},{"$f":"IF($B1237=1,VLOOKUP(F$2,Table1[],3,0),IF($B1237=2,VLOOKUP(F$2,Table1[],4,0),IF($B1237=3,VLOOKUP(F$2,Table1[],5,0),IF($B1237=4,VLOOKUP(F$2,Table1[],5,0),0))))","v":800000}]
[6021,1,{"$f":"IF($B1238=1,VLOOKUP(C$2,Table1[],3,0),IF($B1238=2,VLOOKUP(C$2,Table1[],4,0),IF($B1238=3,VLOOKUP(C$2,Table1[],5,0),IF($B1238=4,VLOOKUP(C$2,Table1[],5,0),0))))","v":2000000},{"$f":"IF($B1238=1,VLOOKUP(D$2,Table1[],3,0),IF($B1238=2,VLOOKUP(D$2,Table1[],4,0),IF($B1238=3,VLOOKUP(D$2,Table1[],5,0),IF($B1238=4,VLOOKUP(D$2,Table1[],5,0),0))))","v":2000000},{"$f":"IF($B1238=1,VLOOKUP(E$2,Table1[],3,0),IF($B1238=2,VLOOKUP(E$2,Table1[],4,0),IF($B1238=3,VLOOKUP(E$2,Table1[],5,0),IF($B1238=4,VLOOKUP(E$2,Table1[],5,0),0))))","v":1500000},{"$f":"IF($B1238=1,VLOOKUP(F$2,Table1[],3,0),IF($B1238=2,VLOOKUP(F$2,Table1[],4,0),IF($B1238=3,VLOOKUP(F$2,Table1[],5,0),IF($B1238=4,VLOOKUP(F$2,Table1[],5,0),0))))","v":800000}]
[6022,1,{"$f":"IF($B1239=1,VLOOKUP(C$2,Table1[],3,0),IF($B1239=2,VLOOKUP(C$2,Table1[],4,0),IF($B1239=3,VLOOKUP(C$2,Table1[],5,0),IF($B1239=4,VLOOKUP(C$2,Table1[],5,0),0))))","v":2000000},{"$f":"IF($B1239=1,VLOOKUP(D$2,Table1[],3,0),IF($B1239=2,VLOOKUP(D$2,Table1[],4,0),IF($B1239=3,VLOOKUP(D$2,Table1[],5,0),IF($B1239=4,VLOOKUP(D$2,Table1[],5,0),0))))","v":2000000},{"$f":"IF($B1239=1,VLOOKUP(E$2,Table1[],3,0),IF($B1239=2,VLOOKUP(E$2,Table1[],4,0),IF($B1239=3,VLOOKUP(E$2,Table1[],5,0),IF($B1239=4,VLOOKUP(E$2,Table1[],5,0),0))))","v":1500000},{"$f":"IF($B1239=1,VLOOKUP(F$2,Table1[],3,0),IF($B1239=2,VLOOKUP(F$2,Table1[],4,0),IF($B1239=3,VLOOKUP(F$2,Table1[],5,0),IF($B1239=4,VLOOKUP(F$2,Table1[],5,0),0))))","v":800000}]
[6023,1,{"$f":"IF($B1240=1,VLOOKUP(C$2,Table1[],3,0),IF($B1240=2,VLOOKUP(C$2,Table1[],4,0),IF($B1240=3,VLOOKUP(C$2,Table1[],5,0),IF($B1240=4,VLOOKUP(C$2,Table1[],5,0),0))))","v":2000000},{"$f":"IF($B1240=1,VLOOKUP(D$2,Table1[],3,0),IF($B1240=2,VLOOKUP(D$2,Table1[],4,0),IF($B1240=3,VLOOKUP(D$2,Table1[],5,0),IF($B1240=4,VLOOKUP(D$2,Table1[],5,0),0))))","v":2000000},{"$f":"IF($B1240=1,VLOOKUP(E$2,Table1[],3,0),IF($B1240=2,VLOOKUP(E$2,Table1[],4,0),IF($B1240=3,VLOOKUP(E$2,Table1[],5,0),IF($B1240=4,VLOOKUP(E$2,Table1[],5,0),0))))","v":1500000},{"$f":"IF($B1240=1,VLOOKUP(F$2,Table1[],3,0),IF($B1240=2,VLOOKUP(F$2,Table1[],4,0),IF($B1240=3,VLOOKUP(F$2,Table1[],5,0),IF($B1240=4,VLOOKUP(F$2,Table1[],5,0),0))))","v":800000}]
[6024,1,{"$f":"IF($B1241=1,VLOOKUP(C$2,Table1[],3,0),IF($B1241=2,VLOOKUP(C$2,Table1[],4,0),IF($B1241=3,VLOOKUP(C$2,Table1[],5,0),IF($B1241=4,VLOOKUP(C$2,Table1[],5,0),0))))","v":2000000},{"$f":"IF($B1241=1,VLOOKUP(D$2,Table1[],3,0),IF($B1241=2,VLOOKUP(D$2,Table1[],4,0),IF($B1241=3,VLOOKUP(D$2,Table1[],5,0),IF($B1241=4,VLOOKUP(D$2,Table1[],5,0),0))))","v":2000000},{"$f":"IF($B1241=1,VLOOKUP(E$2,Table1[],3,0),IF($B1241=2,VLOOKUP(E$2,Table1[],4,0),IF($B1241=3,VLOOKUP(E$2,Table1[],5,0),IF($B1241=4,VLOOKUP(E$2,Table1[],5,0),0))))","v":1500000},{"$f":"IF($B1241=1,VLOOKUP(F$2,Table1[],3,0),IF($B1241=2,VLOOKUP(F$2,Table1[],4,0),IF($B1241=3,VLOOKUP(F$2,Table1[],5,0),IF($B1241=4,VLOOKUP(F$2,Table1[],5,0),0))))","v":800000}]
[6025,1,{"$f":"IF($B1242=1,VLOOKUP(C$2,Table1[],3,0),IF($B1242=2,VLOOKUP(C$2,Table1[],4,0),IF($B1242=3,VLOOKUP(C$2,Table1[],5,0),IF($B1242=4,VLOOKUP(C$2,Table1[],5,0),0))))","v":2000000},{"$f":"IF($B1242=1,VLOOKUP(D$2,Table1[],3,0),IF($B1242=2,VLOOKUP(D$2,Table1[],4,0),IF($B1242=3,VLOOKUP(D$2,Table1[],5,0),IF($B1242=4,VLOOKUP(D$2,Table1[],5,0),0))))","v":2000000},{"$f":"IF($B1242=1,VLOOKUP(E$2,Table1[],3,0),IF($B1242=2,VLOOKUP(E$2,Table1[],4,0),IF($B1242=3,VLOOKUP(E$2,Table1[],5,0),IF($B1242=4,VLOOKUP(E$2,Table1[],5,0),0))))","v":1500000},{"$f":"IF($B1242=1,VLOOKUP(F$2,Table1[],3,0),IF($B1242=2,VLOOKUP(F$2,Table1[],4,0),IF($B1242=3,VLOOKUP(F$2,Table1[],5,0),IF($B1242=4,VLOOKUP(F$2,Table1[],5,0),0))))","v":800000}]
[6026,1,{"$f":"IF($B1243=1,VLOOKUP(C$2,Table1[],3,0),IF($B1243=2,VLOOKUP(C$2,Table1[],4,0),IF($B1243=3,VLOOKUP(C$2,Table1[],5,0),IF($B1243=4,VLOOKUP(C$2,Table1[],5,0),0))))","v":2000000},{"$f":"IF($B1243=1,VLOOKUP(D$2,Table1[],3,0),IF($B1243=2,VLOOKUP(D$2,Table1[],4,0),IF($B1243=3,VLOOKUP(D$2,Table1[],5,0),IF($B1243=4,VLOOKUP(D$2,Table1[],5,0),0))))","v":2000000},{"$f":"IF($B1243=1,VLOOKUP(E$2,Table1[],3,0),IF($B1243=2,VLOOKUP(E$2,Table1[],4,0),IF($B1243=3,VLOOKUP(E$2,Table1[],5,0),IF($B1243=4,VLOOKUP(E$2,Table1[],5,0),0))))","v":1500000},{"$f":"IF($B1243=1,VLOOKUP(F$2,Table1[],3,0),IF($B1243=2,VLOOKUP(F$2,Table1[],4,0),IF($B1243=3,VLOOKUP(F$2,Table1[],5,0),IF($B1243=4,VLOOKUP(F$2,Table1[],5,0),0))))","v":800000}]
[6027,1,{"$f":"IF($B1244=1,VLOOKUP(C$2,Table1[],3,0),IF($B1244=2,VLOOKUP(C$2,Table1[],4,0),IF($B1244=3,VLOOKUP(C$2,Table1[],5,0),IF($B1244=4,VLOOKUP(C$2,Table1[],5,0),0))))","v":2000000},{"$f":"IF($B1244=1,VLOOKUP(D$2,Table1[],3,0),IF($B1244=2,VLOOKUP(D$2,Table1[],4,0),IF($B1244=3,VLOOKUP(D$2,Table1[],5,0),IF($B1244=4,VLOOKUP(D$2,Table1[],5,0),0))))","v":2000000},{"$f":"IF($B1244=1,VLOOKUP(E$2,Table1[],3,0),IF($B1244=2,VLOOKUP(E$2,Table1[],4,0),IF($B1244=3,VLOOKUP(E$2,Table1[],5,0),IF($B1244=4,VLOOKUP(E$2,Table1[],5,0),0))))","v":1500000},{"$f":"IF($B1244=1,VLOOKUP(F$2,Table1[],3,0),IF($B1244=2,VLOOKUP(F$2,Table1[],4,0),IF($B1244=3,VLOOKUP(F$2,Table1[],5,0),IF($B1244=4,VLOOKUP(F$2,Table1[],5,0),0))))","v":800000}]
[6028,1,{"$f":"IF($B1245=1,VLOOKUP(C$2,Table1[],3,0),IF($B1245=2,VLOOKUP(C$2,Table1[],4,0),IF($B1245=3,VLOOKUP(C$2,Table1[],5,0),IF($B1245=4,VLOOKUP(C$2,Table1[],5,0),0))))","v":2000000},{"$f":"IF($B1245=1,VLOOKUP(D$2,Table1[],3,0),IF($B1245=2,VLOOKUP(D$2,Table1[],4,0),IF($B1245=3,VLOOKUP(D$2,Table1[],5,0),IF($B1245=4,VLOOKUP(D$2,Table1[],5,0),0))))","v":2000000},{"$f":"IF($B1245=1,VLOOKUP(E$2,Table1[],3,0),IF($B1245=2,VLOOKUP(E$2,Table1[],4,0),IF($B1245=3,VLOOKUP(E$2,Table1[],5,0),IF($B1245=4,VLOOKUP(E$2,Table1[],5,0),0))))","v":1500000},{"$f":"IF($B1245=1,VLOOKUP(F$2,Table1[],3,0),IF($B1245=2,VLOOKUP(F$2,Table1[],4,0),IF($B1245=3,VLOOKUP(F$2,Table1[],5,0),IF($B1245=4,VLOOKUP(F$2,Table1[],5,0),0))))","v":800000}]
[6029,1,{"$f":"IF($B1246=1,VLOOKUP(C$2,Table1[],3,0),IF($B1246=2,VLOOKUP(C$2,Table1[],4,0),IF($B1246=3,VLOOKUP(C$2,Table1[],5,0),IF($B1246=4,VLOOKUP(C$2,Table1[],5,0),0))))","v":2000000},{"$f":"IF($B1246=1,VLOOKUP(D$2,Table1[],3,0),IF($B1246=2,VLOOKUP(D$2,Table1[],4,0),IF($B1246=3,VLOOKUP(D$2,Table1[],5,0),IF($B1246=4,VLOOKUP(D$2,Table1[],5,0),0))))","v":2000000},{"$f":"IF($B1246=1,VLOOKUP(E$2,Table1[],3,0),IF($B1246=2,VLOOKUP(E$2,Table1[],4,0),IF($B1246=3,VLOOKUP(E$2,Table1[],5,0),IF($B1246=4,VLOOKUP(E$2,Table1[],5,0),0))))","v":1500000},{"$f":"IF($B1246=1,VLOOKUP(F$2,Table1[],3,0),IF($B1246=2,VLOOKUP(F$2,Table1[],4,0),IF($B1246=3,VLOOKUP(F$2,Table1[],5,0),IF($B1246=4,VLOOKUP(F$2,Table1[],5,0),0))))","v":800000}]
[6030,1,{"$f":"IF($B1247=1,VLOOKUP(C$2,Table1[],3,0),IF($B1247=2,VLOOKUP(C$2,Table1[],4,0),IF($B1247=3,VLOOKUP(C$2,Table1[],5,0),IF($B1247=4,VLOOKUP(C$2,Table1[],5,0),0))))","v":2000000},{"$f":"IF($B1247=1,VLOOKUP(D$2,Table1[],3,0),IF($B1247=2,VLOOKUP(D$2,Table1[],4,0),IF($B1247=3,VLOOKUP(D$2,Table1[],5,0),IF($B1247=4,VLOOKUP(D$2,Table1[],5,0),0))))","v":2000000},{"$f":"IF($B1247=1,VLOOKUP(E$2,Table1[],3,0),IF($B1247=2,VLOOKUP(E$2,Table1[],4,0),IF($B1247=3,VLOOKUP(E$2,Table1[],5,0),IF($B1247=4,VLOOKUP(E$2,Table1[],5,0),0))))","v":1500000},{"$f":"IF($B1247=1,VLOOKUP(F$2,Table1[],3,0),IF($B1247=2,VLOOKUP(F$2,Table1[],4,0),IF($B1247=3,VLOOKUP(F$2,Table1[],5,0),IF($B1247=4,VLOOKUP(F$2,Table1[],5,0),0))))","v":800000}]
[6031,1,{"$f":"IF($B1248=1,VLOOKUP(C$2,Table1[],3,0),IF($B1248=2,VLOOKUP(C$2,Table1[],4,0),IF($B1248=3,VLOOKUP(C$2,Table1[],5,0),IF($B1248=4,VLOOKUP(C$2,Table1[],5,0),0))))","v":2000000},{"$f":"IF($B1248=1,VLOOKUP(D$2,Table1[],3,0),IF($B1248=2,VLOOKUP(D$2,Table1[],4,0),IF($B1248=3,VLOOKUP(D$2,Table1[],5,0),IF($B1248=4,VLOOKUP(D$2,Table1[],5,0),0))))","v":2000000},{"$f":"IF($B1248=1,VLOOKUP(E$2,Table1[],3,0),IF($B1248=2,VLOOKUP(E$2,Table1[],4,0),IF($B1248=3,VLOOKUP(E$2,Table1[],5,0),IF($B1248=4,VLOOKUP(E$2,Table1[],5,0),0))))","v":1500000},{"$f":"IF($B1248=1,VLOOKUP(F$2,Table1[],3,0),IF($B1248=2,VLOOKUP(F$2,Table1[],4,0),IF($B1248=3,VLOOKUP(F$2,Table1[],5,0),IF($B1248=4,VLOOKUP(F$2,Table1[],5,0),0))))","v":800000}]
[6032,1,{"$f":"IF($B1249=1,VLOOKUP(C$2,Table1[],3,0),IF($B1249=2,VLOOKUP(C$2,Table1[],4,0),IF($B1249=3,VLOOKUP(C$2,Table1[],5,0),IF($B1249=4,VLOOKUP(C$2,Table1[],5,0),0))))","v":2000000},{"$f":"IF($B1249=1,VLOOKUP(D$2,Table1[],3,0),IF($B1249=2,VLOOKUP(D$2,Table1[],4,0),IF($B1249=3,VLOOKUP(D$2,Table1[],5,0),IF($B1249=4,VLOOKUP(D$2,Table1[],5,0),0))))","v":2000000},{"$f":"IF($B1249=1,VLOOKUP(E$2,Table1[],3,0),IF($B1249=2,VLOOKUP(E$2,Table1[],4,0),IF($B1249=3,VLOOKUP(E$2,Table1[],5,0),IF($B1249=4,VLOOKUP(E$2,Table1[],5,0),0))))","v":1500000},{"$f":"IF($B1249=1,VLOOKUP(F$2,Table1[],3,0),IF($B1249=2,VLOOKUP(F$2,Table1[],4,0),IF($B1249=3,VLOOKUP(F$2,Table1[],5,0),IF($B1249=4,VLOOKUP(F$2,Table1[],5,0),0))))","v":800000}]
[6033,1,{"$f":"IF($B1250=1,VLOOKUP(C$2,Table1[],3,0),IF($B1250=2,VLOOKUP(C$2,Table1[],4,0),IF($B1250=3,VLOOKUP(C$2,Table1[],5,0),IF($B1250=4,VLOOKUP(C$2,Table1[],5,0),0))))","v":2000000},{"$f":"IF($B1250=1,VLOOKUP(D$2,Table1[],3,0),IF($B1250=2,VLOOKUP(D$2,Table1[],4,0),IF($B1250=3,VLOOKUP(D$2,Table1[],5,0),IF($B1250=4,VLOOKUP(D$2,Table1[],5,0),0))))","v":2000000},{"$f":"IF($B1250=1,VLOOKUP(E$2,Table1[],3,0),IF($B1250=2,VLOOKUP(E$2,Table1[],4,0),IF($B1250=3,VLOOKUP(E$2,Table1[],5,0),IF($B1250=4,VLOOKUP(E$2,Table1[],5,0),0))))","v":1500000},{"$f":"IF($B1250=1,VLOOKUP(F$2,Table1[],3,0),IF($B1250=2,VLOOKUP(F$2,Table1[],4,0),IF($B1250=3,VLOOKUP(F$2,Table1[],5,0),IF($B1250=4,VLOOKUP(F$2,Table1[],5,0),0))))","v":800000}]
[6034,1,{"$f":"IF($B1251=1,VLOOKUP(C$2,Table1[],3,0),IF($B1251=2,VLOOKUP(C$2,Table1[],4,0),IF($B1251=3,VLOOKUP(C$2,Table1[],5,0),IF($B1251=4,VLOOKUP(C$2,Table1[],5,0),0))))","v":2000000},{"$f":"IF($B1251=1,VLOOKUP(D$2,Table1[],3,0),IF($B1251=2,VLOOKUP(D$2,Table1[],4,0),IF($B1251=3,VLOOKUP(D$2,Table1[],5,0),IF($B1251=4,VLOOKUP(D$2,Table1[],5,0),0))))","v":2000000},{"$f":"IF($B1251=1,VLOOKUP(E$2,Table1[],3,0),IF($B1251=2,VLOOKUP(E$2,Table1[],4,0),IF($B1251=3,VLOOKUP(E$2,Table1[],5,0),IF($B1251=4,VLOOKUP(E$2,Table1[],5,0),0))))","v":1500000},{"$f":"IF($B1251=1,VLOOKUP(F$2,Table1[],3,0),IF($B1251=2,VLOOKUP(F$2,Table1[],4,0),IF($B1251=3,VLOOKUP(F$2,Table1[],5,0),IF($B1251=4,VLOOKUP(F$2,Table1[],5,0),0))))","v":800000}]
[6035,1,{"$f":"IF($B1252=1,VLOOKUP(C$2,Table1[],3,0),IF($B1252=2,VLOOKUP(C$2,Table1[],4,0),IF($B1252=3,VLOOKUP(C$2,Table1[],5,0),IF($B1252=4,VLOOKUP(C$2,Table1[],5,0),0))))","v":2000000},{"$f":"IF($B1252=1,VLOOKUP(D$2,Table1[],3,0),IF($B1252=2,VLOOKUP(D$2,Table1[],4,0),IF($B1252=3,VLOOKUP(D$2,Table1[],5,0),IF($B1252=4,VLOOKUP(D$2,Table1[],5,0),0))))","v":2000000},{"$f":"IF($B1252=1,VLOOKUP(E$2,Table1[],3,0),IF($B1252=2,VLOOKUP(E$2,Table1[],4,0),IF($B1252=3,VLOOKUP(E$2,Table1[],5,0),IF($B1252=4,VLOOKUP(E$2,Table1[],5,0),0))))","v":1500000},{"$f":"IF($B1252=1,VLOOKUP(F$2,Table1[],3,0),IF($B1252=2,VLOOKUP(F$2,Table1[],4,0),IF($B1252=3,VLOOKUP(F$2,Table1[],5,0),IF($B1252=4,VLOOKUP(F$2,Table1[],5,0),0))))","v":800000}]
[6036,1,{"$f":"IF($B1253=1,VLOOKUP(C$2,Table1[],3,0),IF($B1253=2,VLOOKUP(C$2,Table1[],4,0),IF($B1253=3,VLOOKUP(C$2,Table1[],5,0),IF($B1253=4,VLOOKUP(C$2,Table1[],5,0),0))))","v":2000000},{"$f":"IF($B1253=1,VLOOKUP(D$2,Table1[],3,0),IF($B1253=2,VLOOKUP(D$2,Table1[],4,0),IF($B1253=3,VLOOKUP(D$2,Table1[],5,0),IF($B1253=4,VLOOKUP(D$2,Table1[],5,0),0))))","v":2000000},{"$f":"IF($B1253=1,VLOOKUP(E$2,Table1[],3,0),IF($B1253=2,VLOOKUP(E$2,Table1[],4,0),IF($B1253=3,VLOOKUP(E$2,Table1[],5,0),IF($B1253=4,VLOOKUP(E$2,Table1[],5,0),0))))","v":1500000},{"$f":"IF($B1253=1,VLOOKUP(F$2,Table1[],3,0),IF($B1253=2,VLOOKUP(F$2,Table1[],4,0),IF($B1253=3,VLOOKUP(F$2,Table1[],5,0),IF($B1253=4,VLOOKUP(F$2,Table1[],5,0),0))))","v":800000}]
[6037,1,{"$f":"IF($B1254=1,VLOOKUP(C$2,Table1[],3,0),IF($B1254=2,VLOOKUP(C$2,Table1[],4,0),IF($B1254=3,VLOOKUP(C$2,Table1[],5,0),IF($B1254=4,VLOOKUP(C$2,Table1[],5,0),0))))","v":2000000},{"$f":"IF($B1254=1,VLOOKUP(D$2,Table1[],3,0),IF($B1254=2,VLOOKUP(D$2,Table1[],4,0),IF($B1254=3,VLOOKUP(D$2,Table1[],5,0),IF($B1254=4,VLOOKUP(D$2,Table1[],5,0),0))))","v":2000000},{"$f":"IF($B1254=1,VLOOKUP(E$2,Table1[],3,0),IF($B1254=2,VLOOKUP(E$2,Table1[],4,0),IF($B1254=3,VLOOKUP(E$2,Table1[],5,0),IF($B1254=4,VLOOKUP(E$2,Table1[],5,0),0))))","v":1500000},{"$f":"IF($B1254=1,VLOOKUP(F$2,Table1[],3,0),IF($B1254=2,VLOOKUP(F$2,Table1[],4,0),IF($B1254=3,VLOOKUP(F$2,Table1[],5,0),IF($B1254=4,VLOOKUP(F$2,Table1[],5,0),0))))","v":800000}]
[6038,1,{"$f":"IF($B1255=1,VLOOKUP(C$2,Table1[],3,0),IF($B1255=2,VLOOKUP(C$2,Table1[],4,0),IF($B1255=3,VLOOKUP(C$2,Table1[],5,0),IF($B1255=4,VLOOKUP(C$2,Table1[],5,0),0))))","v":2000000},{"$f":"IF($B1255=1,VLOOKUP(D$2,Table1[],3,0),IF($B1255=2,VLOOKUP(D$2,Table1[],4,0),IF($B1255=3,VLOOKUP(D$2,Table1[],5,0),IF($B1255=4,VLOOKUP(D$2,Table1[],5,0),0))))","v":2000000},{"$f":"IF($B1255=1,VLOOKUP(E$2,Table1[],3,0),IF($B1255=2,VLOOKUP(E$2,Table1[],4,0),IF($B1255=3,VLOOKUP(E$2,Table1[],5,0),IF($B1255=4,VLOOKUP(E$2,Table1[],5,0),0))))","v":1500000},{"$f":"IF($B1255=1,VLOOKUP(F$2,Table1[],3,0),IF($B1255=2,VLOOKUP(F$2,Table1[],4,0),IF($B1255=3,VLOOKUP(F$2,Table1[],5,0),IF($B1255=4,VLOOKUP(F$2,Table1[],5,0),0))))","v":800000}]
[6041,1,{"$f":"IF($B1256=1,VLOOKUP(C$2,Table1[],3,0),IF($B1256=2,VLOOKUP(C$2,Table1[],4,0),IF($B1256=3,VLOOKUP(C$2,Table1[],5,0),IF($B1256=4,VLOOKUP(C$2,Table1[],5,0),0))))","v":2000000},{"$f":"IF($B1256=1,VLOOKUP(D$2,Table1[],3,0),IF($B1256=2,VLOOKUP(D$2,Table1[],4,0),IF($B1256=3,VLOOKUP(D$2,Table1[],5,0),IF($B1256=4,VLOOKUP(D$2,Table1[],5,0),0))))","v":2000000},{"$f":"IF($B1256=1,VLOOKUP(E$2,Table1[],3,0),IF($B1256=2,VLOOKUP(E$2,Table1[],4,0),IF($B1256=3,VLOOKUP(E$2,Table1[],5,0),IF($B1256=4,VLOOKUP(E$2,Table1[],5,0),0))))","v":1500000},{"$f":"IF($B1256=1,VLOOKUP(F$2,Table1[],3,0),IF($B1256=2,VLOOKUP(F$2,Table1[],4,0),IF($B1256=3,VLOOKUP(F$2,Table1[],5,0),IF($B1256=4,VLOOKUP(F$2,Table1[],5,0),0))))","v":800000}]
[6042,1,{"$f":"IF($B1257=1,VLOOKUP(C$2,Table1[],3,0),IF($B1257=2,VLOOKUP(C$2,Table1[],4,0),IF($B1257=3,VLOOKUP(C$2,Table1[],5,0),IF($B1257=4,VLOOKUP(C$2,Table1[],5,0),0))))","v":2000000},{"$f":"IF($B1257=1,VLOOKUP(D$2,Table1[],3,0),IF($B1257=2,VLOOKUP(D$2,Table1[],4,0),IF($B1257=3,VLOOKUP(D$2,Table1[],5,0),IF($B1257=4,VLOOKUP(D$2,Table1[],5,0),0))))","v":2000000},{"$f":"IF($B1257=1,VLOOKUP(E$2,Table1[],3,0),IF($B1257=2,VLOOKUP(E$2,Table1[],4,0),IF($B1257=3,VLOOKUP(E$2,Table1[],5,0),IF($B1257=4,VLOOKUP(E$2,Table1[],5,0),0))))","v":1500000},{"$f":"IF($B1257=1,VLOOKUP(F$2,Table1[],3,0),IF($B1257=2,VLOOKUP(F$2,Table1[],4,0),IF($B1257=3,VLOOKUP(F$2,Table1[],5,0),IF($B1257=4,VLOOKUP(F$2,Table1[],5,0),0))))","v":800000}]
[6043,1,{"$f":"IF($B1258=1,VLOOKUP(C$2,Table1[],3,0),IF($B1258=2,VLOOKUP(C$2,Table1[],4,0),IF($B1258=3,VLOOKUP(C$2,Table1[],5,0),IF($B1258=4,VLOOKUP(C$2,Table1[],5,0),0))))","v":2000000},{"$f":"IF($B1258=1,VLOOKUP(D$2,Table1[],3,0),IF($B1258=2,VLOOKUP(D$2,Table1[],4,0),IF($B1258=3,VLOOKUP(D$2,Table1[],5,0),IF($B1258=4,VLOOKUP(D$2,Table1[],5,0),0))))","v":2000000},{"$f":"IF($B1258=1,VLOOKUP(E$2,Table1[],3,0),IF($B1258=2,VLOOKUP(E$2,Table1[],4,0),IF($B1258=3,VLOOKUP(E$2,Table1[],5,0),IF($B1258=4,VLOOKUP(E$2,Table1[],5,0),0))))","v":1500000},{"$f":"IF($B1258=1,VLOOKUP(F$2,Table1[],3,0),IF($B1258=2,VLOOKUP(F$2,Table1[],4,0),IF($B1258=3,VLOOKUP(F$2,Table1[],5,0),IF($B1258=4,VLOOKUP(F$2,Table1[],5,0),0))))","v":800000}]
[6044,1,{"$f":"IF($B1259=1,VLOOKUP(C$2,Table1[],3,0),IF($B1259=2,VLOOKUP(C$2,Table1[],4,0),IF($B1259=3,VLOOKUP(C$2,Table1[],5,0),IF($B1259=4,VLOOKUP(C$2,Table1[],5,0),0))))","v":2000000},{"$f":"IF($B1259=1,VLOOKUP(D$2,Table1[],3,0),IF($B1259=2,VLOOKUP(D$2,Table1[],4,0),IF($B1259=3,VLOOKUP(D$2,Table1[],5,0),IF($B1259=4,VLOOKUP(D$2,Table1[],5,0),0))))","v":2000000},{"$f":"IF($B1259=1,VLOOKUP(E$2,Table1[],3,0),IF($B1259=2,VLOOKUP(E$2,Table1[],4,0),IF($B1259=3,VLOOKUP(E$2,Table1[],5,0),IF($B1259=4,VLOOKUP(E$2,Table1[],5,0),0))))","v":1500000},{"$f":"IF($B1259=1,VLOOKUP(F$2,Table1[],3,0),IF($B1259=2,VLOOKUP(F$2,Table1[],4,0),IF($B1259=3,VLOOKUP(F$2,Table1[],5,0),IF($B1259=4,VLOOKUP(F$2,Table1[],5,0),0))))","v":800000}]
[6050,1,{"$f":"IF($B1260=1,VLOOKUP(C$2,Table1[],3,0),IF($B1260=2,VLOOKUP(C$2,Table1[],4,0),IF($B1260=3,VLOOKUP(C$2,Table1[],5,0),IF($B1260=4,VLOOKUP(C$2,Table1[],5,0),0))))","v":2000000},{"$f":"IF($B1260=1,VLOOKUP(D$2,Table1[],3,0),IF($B1260=2,VLOOKUP(D$2,Table1[],4,0),IF($B1260=3,VLOOKUP(D$2,Table1[],5,0),IF($B1260=4,VLOOKUP(D$2,Table1[],5,0),0))))","v":2000000},{"$f":"IF($B1260=1,VLOOKUP(E$2,Table1[],3,0),IF($B1260=2,VLOOKUP(E$2,Table1[],4,0),IF($B1260=3,VLOOKUP(E$2,Table1[],5,0),IF($B1260=4,VLOOKUP(E$2,Table1[],5,0),0))))","v":1500000},{"$f":"IF($B1260=1,VLOOKUP(F$2,Table1[],3,0),IF($B1260=2,VLOOKUP(F$2,Table1[],4,0),IF($B1260=3,VLOOKUP(F$2,Table1[],5,0),IF($B1260=4,VLOOKUP(F$2,Table1[],5,0),0))))","v":800000}]
[6051,1,{"$f":"IF($B1261=1,VLOOKUP(C$2,Table1[],3,0),IF($B1261=2,VLOOKUP(C$2,Table1[],4,0),IF($B1261=3,VLOOKUP(C$2,Table1[],5,0),IF($B1261=4,VLOOKUP(C$2,Table1[],5,0),0))))","v":2000000},{"$f":"IF($B1261=1,VLOOKUP(D$2,Table1[],3,0),IF($B1261=2,VLOOKUP(D$2,Table1[],4,0),IF($B1261=3,VLOOKUP(D$2,Table1[],5,0),IF($B1261=4,VLOOKUP(D$2,Table1[],5,0),0))))","v":2000000},{"$f":"IF($B1261=1,VLOOKUP(E$2,Table1[],3,0),IF($B1261=2,VLOOKUP(E$2,Table1[],4,0),IF($B1261=3,VLOOKUP(E$2,Table1[],5,0),IF($B1261=4,VLOOKUP(E$2,Table1[],5,0),0))))","v":1500000},{"$f":"IF($B1261=1,VLOOKUP(F$2,Table1[],3,0),IF($B1261=2,VLOOKUP(F$2,Table1[],4,0),IF($B1261=3,VLOOKUP(F$2,Table1[],5,0),IF($B1261=4,VLOOKUP(F$2,Table1[],5,0),0))))","v":800000}]
[6052,1,{"$f":"IF($B1262=1,VLOOKUP(C$2,Table1[],3,0),IF($B1262=2,VLOOKUP(C$2,Table1[],4,0),IF($B1262=3,VLOOKUP(C$2,Table1[],5,0),IF($B1262=4,VLOOKUP(C$2,Table1[],5,0),0))))","v":2000000},{"$f":"IF($B1262=1,VLOOKUP(D$2,Table1[],3,0),IF($B1262=2,VLOOKUP(D$2,Table1[],4,0),IF($B1262=3,VLOOKUP(D$2,Table1[],5,0),IF($B1262=4,VLOOKUP(D$2,Table1[],5,0),0))))","v":2000000},{"$f":"IF($B1262=1,VLOOKUP(E$2,Table1[],3,0),IF($B1262=2,VLOOKUP(E$2,Table1[],4,0),IF($B1262=3,VLOOKUP(E$2,Table1[],5,0),IF($B1262=4,VLOOKUP(E$2,Table1[],5,0),0))))","v":1500000},{"$f":"IF($B1262=1,VLOOKUP(F$2,Table1[],3,0),IF($B1262=2,VLOOKUP(F$2,Table1[],4,0),IF($B1262=3,VLOOKUP(F$2,Table1[],5,0),IF($B1262=4,VLOOKUP(F$2,Table1[],5,0),0))))","v":800000}]
[6053,1,{"$f":"IF($B1263=1,VLOOKUP(C$2,Table1[],3,0),IF($B1263=2,VLOOKUP(C$2,Table1[],4,0),IF($B1263=3,VLOOKUP(C$2,Table1[],5,0),IF($B1263=4,VLOOKUP(C$2,Table1[],5,0),0))))","v":2000000},{"$f":"IF($B1263=1,VLOOKUP(D$2,Table1[],3,0),IF($B1263=2,VLOOKUP(D$2,Table1[],4,0),IF($B1263=3,VLOOKUP(D$2,Table1[],5,0),IF($B1263=4,VLOOKUP(D$2,Table1[],5,0),0))))","v":2000000},{"$f":"IF($B1263=1,VLOOKUP(E$2,Table1[],3,0),IF($B1263=2,VLOOKUP(E$2,Table1[],4,0),IF($B1263=3,VLOOKUP(E$2,Table1[],5,0),IF($B1263=4,VLOOKUP(E$2,Table1[],5,0),0))))","v":1500000},{"$f":"IF($B1263=1,VLOOKUP(F$2,Table1[],3,0),IF($B1263=2,VLOOKUP(F$2,Table1[],4,0),IF($B1263=3,VLOOKUP(F$2,Table1[],5,0),IF($B1263=4,VLOOKUP(F$2,Table1[],5,0),0))))","v":800000}]
[6054,1,{"$f":"IF($B1264=1,VLOOKUP(C$2,Table1[],3,0),IF($B1264=2,VLOOKUP(C$2,Table1[],4,0),IF($B1264=3,VLOOKUP(C$2,Table1[],5,0),IF($B1264=4,VLOOKUP(C$2,Table1[],5,0),0))))","v":2000000},{"$f":"IF($B1264=1,VLOOKUP(D$2,Table1[],3,0),IF($B1264=2,VLOOKUP(D$2,Table1[],4,0),IF($B1264=3,VLOOKUP(D$2,Table1[],5,0),IF($B1264=4,VLOOKUP(D$2,Table1[],5,0),0))))","v":2000000},{"$f":"IF($B1264=1,VLOOKUP(E$2,Table1[],3,0),IF($B1264=2,VLOOKUP(E$2,Table1[],4,0),IF($B1264=3,VLOOKUP(E$2,Table1[],5,0),IF($B1264=4,VLOOKUP(E$2,Table1[],5,0),0))))","v":1500000},{"$f":"IF($B1264=1,VLOOKUP(F$2,Table1[],3,0),IF($B1264=2,VLOOKUP(F$2,Table1[],4,0),IF($B1264=3,VLOOKUP(F$2,Table1[],5,0),IF($B1264=4,VLOOKUP(F$2,Table1[],5,0),0))))","v":800000}]
[6055,1,{"$f":"IF($B1265=1,VLOOKUP(C$2,Table1[],3,0),IF($B1265=2,VLOOKUP(C$2,Table1[],4,0),IF($B1265=3,VLOOKUP(C$2,Table1[],5,0),IF($B1265=4,VLOOKUP(C$2,Table1[],5,0),0))))","v":2000000},{"$f":"IF($B1265=1,VLOOKUP(D$2,Table1[],3,0),IF($B1265=2,VLOOKUP(D$2,Table1[],4,0),IF($B1265=3,VLOOKUP(D$2,Table1[],5,0),IF($B1265=4,VLOOKUP(D$2,Table1[],5,0),0))))","v":2000000},{"$f":"IF($B1265=1,VLOOKUP(E$2,Table1[],3,0),IF($B1265=2,VLOOKUP(E$2,Table1[],4,0),IF($B1265=3,VLOOKUP(E$2,Table1[],5,0),IF($B1265=4,VLOOKUP(E$2,Table1[],5,0),0))))","v":1500000},{"$f":"IF($B1265=1,VLOOKUP(F$2,Table1[],3,0),IF($B1265=2,VLOOKUP(F$2,Table1[],4,0),IF($B1265=3,VLOOKUP(F$2,Table1[],5,0),IF($B1265=4,VLOOKUP(F$2,Table1[],5,0),0))))","v":800000}]
[6056,1,{"$f":"IF($B1266=1,VLOOKUP(C$2,Table1[],3,0),IF($B1266=2,VLOOKUP(C$2,Table1[],4,0),IF($B1266=3,VLOOKUP(C$2,Table1[],5,0),IF($B1266=4,VLOOKUP(C$2,Table1[],5,0),0))))","v":2000000},{"$f":"IF($B1266=1,VLOOKUP(D$2,Table1[],3,0),IF($B1266=2,VLOOKUP(D$2,Table1[],4,0),IF($B1266=3,VLOOKUP(D$2,Table1[],5,0),IF($B1266=4,VLOOKUP(D$2,Table1[],5,0),0))))","v":2000000},{"$f":"IF($B1266=1,VLOOKUP(E$2,Table1[],3,0),IF($B1266=2,VLOOKUP(E$2,Table1[],4,0),IF($B1266=3,VLOOKUP(E$2,Table1[],5,0),IF($B1266=4,VLOOKUP(E$2,Table1[],5,0),0))))","v":1500000},{"$f":"IF($B1266=1,VLOOKUP(F$2,Table1[],3,0),IF($B1266=2,VLOOKUP(F$2,Table1[],4,0),IF($B1266=3,VLOOKUP(F$2,Table1[],5,0),IF($B1266=4,VLOOKUP(F$2,Table1[],5,0),0))))","v":800000}]
[6057,1,{"$f":"IF($B1267=1,VLOOKUP(C$2,Table1[],3,0),IF($B1267=2,VLOOKUP(C$2,Table1[],4,0),IF($B1267=3,VLOOKUP(C$2,Table1[],5,0),IF($B1267=4,VLOOKUP(C$2,Table1[],5,0),0))))","v":2000000},{"$f":"IF($B1267=1,VLOOKUP(D$2,Table1[],3,0),IF($B1267=2,VLOOKUP(D$2,Table1[],4,0),IF($B1267=3,VLOOKUP(D$2,Table1[],5,0),IF($B1267=4,VLOOKUP(D$2,Table1[],5,0),0))))","v":2000000},{"$f":"IF($B1267=1,VLOOKUP(E$2,Table1[],3,0),IF($B1267=2,VLOOKUP(E$2,Table1[],4,0),IF($B1267=3,VLOOKUP(E$2,Table1[],5,0),IF($B1267=4,VLOOKUP(E$2,Table1[],5,0),0))))","v":1500000},{"$f":"IF($B1267=1,VLOOKUP(F$2,Table1[],3,0),IF($B1267=2,VLOOKUP(F$2,Table1[],4,0),IF($B1267=3,VLOOKUP(F$2,Table1[],5,0),IF($B1267=4,VLOOKUP(F$2,Table1[],5,0),0))))","v":800000}]
[6058,1,{"$f":"IF($B1268=1,VLOOKUP(C$2,Table1[],3,0),IF($B1268=2,VLOOKUP(C$2,Table1[],4,0),IF($B1268=3,VLOOKUP(C$2,Table1[],5,0),IF($B1268=4,VLOOKUP(C$2,Table1[],5,0),0))))","v":2000000},{"$f":"IF($B1268=1,VLOOKUP(D$2,Table1[],3,0),IF($B1268=2,VLOOKUP(D$2,Table1[],4,0),IF($B1268=3,VLOOKUP(D$2,Table1[],5,0),IF($B1268=4,VLOOKUP(D$2,Table1[],5,0),0))))","v":2000000},{"$f":"IF($B1268=1,VLOOKUP(E$2,Table1[],3,0),IF($B1268=2,VLOOKUP(E$2,Table1[],4,0),IF($B1268=3,VLOOKUP(E$2,Table1[],5,0),IF($B1268=4,VLOOKUP(E$2,Table1[],5,0),0))))","v":1500000},{"$f":"IF($B1268=1,VLOOKUP(F$2,Table1[],3,0),IF($B1268=2,VLOOKUP(F$2,Table1[],4,0),IF($B1268=3,VLOOKUP(F$2,Table1[],5,0),IF($B1268=4,VLOOKUP(F$2,Table1[],5,0),0))))","v":800000}]
[6059,1,{"$f":"IF($B1269=1,VLOOKUP(C$2,Table1[],3,0),IF($B1269=2,VLOOKUP(C$2,Table1[],4,0),IF($B1269=3,VLOOKUP(C$2,Table1[],5,0),IF($B1269=4,VLOOKUP(C$2,Table1[],5,0),0))))","v":2000000},{"$f":"IF($B1269=1,VLOOKUP(D$2,Table1[],3,0),IF($B1269=2,VLOOKUP(D$2,Table1[],4,0),IF($B1269=3,VLOOKUP(D$2,Table1[],5,0),IF($B1269=4,VLOOKUP(D$2,Table1[],5,0),0))))","v":2000000},{"$f":"IF($B1269=1,VLOOKUP(E$2,Table1[],3,0),IF($B1269=2,VLOOKUP(E$2,Table1[],4,0),IF($B1269=3,VLOOKUP(E$2,Table1[],5,0),IF($B1269=4,VLOOKUP(E$2,Table1[],5,0),0))))","v":1500000},{"$f":"IF($B1269=1,VLOOKUP(F$2,Table1[],3,0),IF($B1269=2,VLOOKUP(F$2,Table1[],4,0),IF($B1269=3,VLOOKUP(F$2,Table1[],5,0),IF($B1269=4,VLOOKUP(F$2,Table1[],5,0),0))))","v":800000}]
[6060,1,{"$f":"IF($B1270=1,VLOOKUP(C$2,Table1[],3,0),IF($B1270=2,VLOOKUP(C$2,Table1[],4,0),IF($B1270=3,VLOOKUP(C$2,Table1[],5,0),IF($B1270=4,VLOOKUP(C$2,Table1[],5,0),0))))","v":2000000},{"$f":"IF($B1270=1,VLOOKUP(D$2,Table1[],3,0),IF($B1270=2,VLOOKUP(D$2,Table1[],4,0),IF($B1270=3,VLOOKUP(D$2,Table1[],5,0),IF($B1270=4,VLOOKUP(D$2,Table1[],5,0),0))))","v":2000000},{"$f":"IF($B1270=1,VLOOKUP(E$2,Table1[],3,0),IF($B1270=2,VLOOKUP(E$2,Table1[],4,0),IF($B1270=3,VLOOKUP(E$2,Table1[],5,0),IF($B1270=4,VLOOKUP(E$2,Table1[],5,0),0))))","v":1500000},{"$f":"IF($B1270=1,VLOOKUP(F$2,Table1[],3,0),IF($B1270=2,VLOOKUP(F$2,Table1[],4,0),IF($B1270=3,VLOOKUP(F$2,Table1[],5,0),IF($B1270=4,VLOOKUP(F$2,Table1[],5,0),0))))","v":800000}]
[6061,1,{"$f":"IF($B1271=1,VLOOKUP(C$2,Table1[],3,0),IF($B1271=2,VLOOKUP(C$2,Table1[],4,0),IF($B1271=3,VLOOKUP(C$2,Table1[],5,0),IF($B1271=4,VLOOKUP(C$2,Table1[],5,0),0))))","v":2000000},{"$f":"IF($B1271=1,VLOOKUP(D$2,Table1[],3,0),IF($B1271=2,VLOOKUP(D$2,Table1[],4,0),IF($B1271=3,VLOOKUP(D$2,Table1[],5,0),IF($B1271=4,VLOOKUP(D$2,Table1[],5,0),0))))","v":2000000},{"$f":"IF($B1271=1,VLOOKUP(E$2,Table1[],3,0),IF($B1271=2,VLOOKUP(E$2,Table1[],4,0),IF($B1271=3,VLOOKUP(E$2,Table1[],5,0),IF($B1271=4,VLOOKUP(E$2,Table1[],5,0),0))))","v":1500000},{"$f":"IF($B1271=1,VLOOKUP(F$2,Table1[],3,0),IF($B1271=2,VLOOKUP(F$2,Table1[],4,0),IF($B1271=3,VLOOKUP(F$2,Table1[],5,0),IF($B1271=4,VLOOKUP(F$2,Table1[],5,0),0))))","v":800000}]
[6062,1,{"$f":"IF($B1272=1,VLOOKUP(C$2,Table1[],3,0),IF($B1272=2,VLOOKUP(C$2,Table1[],4,0),IF($B1272=3,VLOOKUP(C$2,Table1[],5,0),IF($B1272=4,VLOOKUP(C$2,Table1[],5,0),0))))","v":2000000},{"$f":"IF($B1272=1,VLOOKUP(D$2,Table1[],3,0),IF($B1272=2,VLOOKUP(D$2,Table1[],4,0),IF($B1272=3,VLOOKUP(D$2,Table1[],5,0),IF($B1272=4,VLOOKUP(D$2,Table1[],5,0),0))))","v":2000000},{"$f":"IF($B1272=1,VLOOKUP(E$2,Table1[],3,0),IF($B1272=2,VLOOKUP(E$2,Table1[],4,0),IF($B1272=3,VLOOKUP(E$2,Table1[],5,0),IF($B1272=4,VLOOKUP(E$2,Table1[],5,0),0))))","v":1500000},{"$f":"IF($B1272=1,VLOOKUP(F$2,Table1[],3,0),IF($B1272=2,VLOOKUP(F$2,Table1[],4,0),IF($B1272=3,VLOOKUP(F$2,Table1[],5,0),IF($B1272=4,VLOOKUP(F$2,Table1[],5,0),0))))","v":800000}]
[6063,1,{"$f":"IF($B1273=1,VLOOKUP(C$2,Table1[],3,0),IF($B1273=2,VLOOKUP(C$2,Table1[],4,0),IF($B1273=3,VLOOKUP(C$2,Table1[],5,0),IF($B1273=4,VLOOKUP(C$2,Table1[],5,0),0))))","v":2000000},{"$f":"IF($B1273=1,VLOOKUP(D$2,Table1[],3,0),IF($B1273=2,VLOOKUP(D$2,Table1[],4,0),IF($B1273=3,VLOOKUP(D$2,Table1[],5,0),IF($B1273=4,VLOOKUP(D$2,Table1[],5,0),0))))","v":2000000},{"$f":"IF($B1273=1,VLOOKUP(E$2,Table1[],3,0),IF($B1273=2,VLOOKUP(E$2,Table1[],4,0),IF($B1273=3,VLOOKUP(E$2,Table1[],5,0),IF($B1273=4,VLOOKUP(E$2,Table1[],5,0),0))))","v":1500000},{"$f":"IF($B1273=1,VLOOKUP(F$2,Table1[],3,0),IF($B1273=2,VLOOKUP(F$2,Table1[],4,0),IF($B1273=3,VLOOKUP(F$2,Table1[],5,0),IF($B1273=4,VLOOKUP(F$2,Table1[],5,0),0))))","v":800000}]
[6064,1,{"$f":"IF($B1274=1,VLOOKUP(C$2,Table1[],3,0),IF($B1274=2,VLOOKUP(C$2,Table1[],4,0),IF($B1274=3,VLOOKUP(C$2,Table1[],5,0),IF($B1274=4,VLOOKUP(C$2,Table1[],5,0),0))))","v":2000000},{"$f":"IF($B1274=1,VLOOKUP(D$2,Table1[],3,0),IF($B1274=2,VLOOKUP(D$2,Table1[],4,0),IF($B1274=3,VLOOKUP(D$2,Table1[],5,0),IF($B1274=4,VLOOKUP(D$2,Table1[],5,0),0))))","v":2000000},{"$f":"IF($B1274=1,VLOOKUP(E$2,Table1[],3,0),IF($B1274=2,VLOOKUP(E$2,Table1[],4,0),IF($B1274=3,VLOOKUP(E$2,Table1[],5,0),IF($B1274=4,VLOOKUP(E$2,Table1[],5,0),0))))","v":1500000},{"$f":"IF($B1274=1,VLOOKUP(F$2,Table1[],3,0),IF($B1274=2,VLOOKUP(F$2,Table1[],4,0),IF($B1274=3,VLOOKUP(F$2,Table1[],5,0),IF($B1274=4,VLOOKUP(F$2,Table1[],5,0),0))))","v":800000}]
[6065,1,{"$f":"IF($B1275=1,VLOOKUP(C$2,Table1[],3,0),IF($B1275=2,VLOOKUP(C$2,Table1[],4,0),IF($B1275=3,VLOOKUP(C$2,Table1[],5,0),IF($B1275=4,VLOOKUP(C$2,Table1[],5,0),0))))","v":2000000},{"$f":"IF($B1275=1,VLOOKUP(D$2,Table1[],3,0),IF($B1275=2,VLOOKUP(D$2,Table1[],4,0),IF($B1275=3,VLOOKUP(D$2,Table1[],5,0),IF($B1275=4,VLOOKUP(D$2,Table1[],5,0),0))))","v":2000000},{"$f":"IF($B1275=1,VLOOKUP(E$2,Table1[],3,0),IF($B1275=2,VLOOKUP(E$2,Table1[],4,0),IF($B1275=3,VLOOKUP(E$2,Table1[],5,0),IF($B1275=4,VLOOKUP(E$2,Table1[],5,0),0))))","v":1500000},{"$f":"IF($B1275=1,VLOOKUP(F$2,Table1[],3,0),IF($B1275=2,VLOOKUP(F$2,Table1[],4,0),IF($B1275=3,VLOOKUP(F$2,Table1[],5,0),IF($B1275=4,VLOOKUP(F$2,Table1[],5,0),0))))","v":800000}]
[6066,1,{"$f":"IF($B1276=1,VLOOKUP(C$2,Table1[],3,0),IF($B1276=2,VLOOKUP(C$2,Table1[],4,0),IF($B1276=3,VLOOKUP(C$2,Table1[],5,0),IF($B1276=4,VLOOKUP(C$2,Table1[],5,0),0))))","v":2000000},{"$f":"IF($B1276=1,VLOOKUP(D$2,Table1[],3,0),IF($B1276=2,VLOOKUP(D$2,Table1[],4,0),IF($B1276=3,VLOOKUP(D$2,Table1[],5,0),IF($B1276=4,VLOOKUP(D$2,Table1[],5,0),0))))","v":2000000},{"$f":"IF($B1276=1,VLOOKUP(E$2,Table1[],3,0),IF($B1276=2,VLOOKUP(E$2,Table1[],4,0),IF($B1276=3,VLOOKUP(E$2,Table1[],5,0),IF($B1276=4,VLOOKUP(E$2,Table1[],5,0),0))))","v":1500000},{"$f":"IF($B1276=1,VLOOKUP(F$2,Table1[],3,0),IF($B1276=2,VLOOKUP(F$2,Table1[],4,0),IF($B1276=3,VLOOKUP(F$2,Table1[],5,0),IF($B1276=4,VLOOKUP(F$2,Table1[],5,0),0))))","v":800000}]
[6067,1,{"$f":"IF($B1277=1,VLOOKUP(C$2,Table1[],3,0),IF($B1277=2,VLOOKUP(C$2,Table1[],4,0),IF($B1277=3,VLOOKUP(C$2,Table1[],5,0),IF($B1277=4,VLOOKUP(C$2,Table1[],5,0),0))))","v":2000000},{"$f":"IF($B1277=1,VLOOKUP(D$2,Table1[],3,0),IF($B1277=2,VLOOKUP(D$2,Table1[],4,0),IF($B1277=3,VLOOKUP(D$2,Table1[],5,0),IF($B1277=4,VLOOKUP(D$2,Table1[],5,0),0))))","v":2000000},{"$f":"IF($B1277=1,VLOOKUP(E$2,Table1[],3,0),IF($B1277=2,VLOOKUP(E$2,Table1[],4,0),IF($B1277=3,VLOOKUP(E$2,Table1[],5,0),IF($B1277=4,VLOOKUP(E$2,Table1[],5,0),0))))","v":1500000},{"$f":"IF($B1277=1,VLOOKUP(F$2,Table1[],3,0),IF($B1277=2,VLOOKUP(F$2,Table1[],4,0),IF($B1277=3,VLOOKUP(F$2,Table1[],5,0),IF($B1277=4,VLOOKUP(F$2,Table1[],5,0),0))))","v":800000}]
[6068,1,{"$f":"IF($B1278=1,VLOOKUP(C$2,Table1[],3,0),IF($B1278=2,VLOOKUP(C$2,Table1[],4,0),IF($B1278=3,VLOOKUP(C$2,Table1[],5,0),IF($B1278=4,VLOOKUP(C$2,Table1[],5,0),0))))","v":2000000},{"$f":"IF($B1278=1,VLOOKUP(D$2,Table1[],3,0),IF($B1278=2,VLOOKUP(D$2,Table1[],4,0),IF($B1278=3,VLOOKUP(D$2,Table1[],5,0),IF($B1278=4,VLOOKUP(D$2,Table1[],5,0),0))))","v":2000000},{"$f":"IF($B1278=1,VLOOKUP(E$2,Table1[],3,0),IF($B1278=2,VLOOKUP(E$2,Table1[],4,0),IF($B1278=3,VLOOKUP(E$2,Table1[],5,0),IF($B1278=4,VLOOKUP(E$2,Table1[],5,0),0))))","v":1500000},{"$f":"IF($B1278=1,VLOOKUP(F$2,Table1[],3,0),IF($B1278=2,VLOOKUP(F$2,Table1[],4,0),IF($B1278=3,VLOOKUP(F$2,Table1[],5,0),IF($B1278=4,VLOOKUP(F$2,Table1[],5,0),0))))","v":800000}]
[6069,1,{"$f":"IF($B1279=1,VLOOKUP(C$2,Table1[],3,0),IF($B1279=2,VLOOKUP(C$2,Table1[],4,0),IF($B1279=3,VLOOKUP(C$2,Table1[],5,0),IF($B1279=4,VLOOKUP(C$2,Table1[],5,0),0))))","v":2000000},{"$f":"IF($B1279=1,VLOOKUP(D$2,Table1[],3,0),IF($B1279=2,VLOOKUP(D$2,Table1[],4,0),IF($B1279=3,VLOOKUP(D$2,Table1[],5,0),IF($B1279=4,VLOOKUP(D$2,Table1[],5,0),0))))","v":2000000},{"$f":"IF($B1279=1,VLOOKUP(E$2,Table1[],3,0),IF($B1279=2,VLOOKUP(E$2,Table1[],4,0),IF($B1279=3,VLOOKUP(E$2,Table1[],5,0),IF($B1279=4,VLOOKUP(E$2,Table1[],5,0),0))))","v":1500000},{"$f":"IF($B1279=1,VLOOKUP(F$2,Table1[],3,0),IF($B1279=2,VLOOKUP(F$2,Table1[],4,0),IF($B1279=3,VLOOKUP(F$2,Table1[],5,0),IF($B1279=4,VLOOKUP(F$2,Table1[],5,0),0))))","v":800000}]
[6070,1,{"$f":"IF($B1280=1,VLOOKUP(C$2,Table1[],3,0),IF($B1280=2,VLOOKUP(C$2,Table1[],4,0),IF($B1280=3,VLOOKUP(C$2,Table1[],5,0),IF($B1280=4,VLOOKUP(C$2,Table1[],5,0),0))))","v":2000000},{"$f":"IF($B1280=1,VLOOKUP(D$2,Table1[],3,0),IF($B1280=2,VLOOKUP(D$2,Table1[],4,0),IF($B1280=3,VLOOKUP(D$2,Table1[],5,0),IF($B1280=4,VLOOKUP(D$2,Table1[],5,0),0))))","v":2000000},{"$f":"IF($B1280=1,VLOOKUP(E$2,Table1[],3,0),IF($B1280=2,VLOOKUP(E$2,Table1[],4,0),IF($B1280=3,VLOOKUP(E$2,Table1[],5,0),IF($B1280=4,VLOOKUP(E$2,Table1[],5,0),0))))","v":1500000},{"$f":"IF($B1280=1,VLOOKUP(F$2,Table1[],3,0),IF($B1280=2,VLOOKUP(F$2,Table1[],4,0),IF($B1280=3,VLOOKUP(F$2,Table1[],5,0),IF($B1280=4,VLOOKUP(F$2,Table1[],5,0),0))))","v":800000}]
[6071,1,{"$f":"IF($B1281=1,VLOOKUP(C$2,Table1[],3,0),IF($B1281=2,VLOOKUP(C$2,Table1[],4,0),IF($B1281=3,VLOOKUP(C$2,Table1[],5,0),IF($B1281=4,VLOOKUP(C$2,Table1[],5,0),0))))","v":2000000},{"$f":"IF($B1281=1,VLOOKUP(D$2,Table1[],3,0),IF($B1281=2,VLOOKUP(D$2,Table1[],4,0),IF($B1281=3,VLOOKUP(D$2,Table1[],5,0),IF($B1281=4,VLOOKUP(D$2,Table1[],5,0),0))))","v":2000000},{"$f":"IF($B1281=1,VLOOKUP(E$2,Table1[],3,0),IF($B1281=2,VLOOKUP(E$2,Table1[],4,0),IF($B1281=3,VLOOKUP(E$2,Table1[],5,0),IF($B1281=4,VLOOKUP(E$2,Table1[],5,0),0))))","v":1500000},{"$f":"IF($B1281=1,VLOOKUP(F$2,Table1[],3,0),IF($B1281=2,VLOOKUP(F$2,Table1[],4,0),IF($B1281=3,VLOOKUP(F$2,Table1[],5,0),IF($B1281=4,VLOOKUP(F$2,Table1[],5,0),0))))","v":800000}]
[6072,1,{"$f":"IF($B1282=1,VLOOKUP(C$2,Table1[],3,0),IF($B1282=2,VLOOKUP(C$2,Table1[],4,0),IF($B1282=3,VLOOKUP(C$2,Table1[],5,0),IF($B1282=4,VLOOKUP(C$2,Table1[],5,0),0))))","v":2000000},{"$f":"IF($B1282=1,VLOOKUP(D$2,Table1[],3,0),IF($B1282=2,VLOOKUP(D$2,Table1[],4,0),IF($B1282=3,VLOOKUP(D$2,Table1[],5,0),IF($B1282=4,VLOOKUP(D$2,Table1[],5,0),0))))","v":2000000},{"$f":"IF($B1282=1,VLOOKUP(E$2,Table1[],3,0),IF($B1282=2,VLOOKUP(E$2,Table1[],4,0),IF($B1282=3,VLOOKUP(E$2,Table1[],5,0),IF($B1282=4,VLOOKUP(E$2,Table1[],5,0),0))))","v":1500000},{"$f":"IF($B1282=1,VLOOKUP(F$2,Table1[],3,0),IF($B1282=2,VLOOKUP(F$2,Table1[],4,0),IF($B1282=3,VLOOKUP(F$2,Table1[],5,0),IF($B1282=4,VLOOKUP(F$2,Table1[],5,0),0))))","v":800000}]
[6073,1,{"$f":"IF($B1283=1,VLOOKUP(C$2,Table1[],3,0),IF($B1283=2,VLOOKUP(C$2,Table1[],4,0),IF($B1283=3,VLOOKUP(C$2,Table1[],5,0),IF($B1283=4,VLOOKUP(C$2,Table1[],5,0),0))))","v":2000000},{"$f":"IF($B1283=1,VLOOKUP(D$2,Table1[],3,0),IF($B1283=2,VLOOKUP(D$2,Table1[],4,0),IF($B1283=3,VLOOKUP(D$2,Table1[],5,0),IF($B1283=4,VLOOKUP(D$2,Table1[],5,0),0))))","v":2000000},{"$f":"IF($B1283=1,VLOOKUP(E$2,Table1[],3,0),IF($B1283=2,VLOOKUP(E$2,Table1[],4,0),IF($B1283=3,VLOOKUP(E$2,Table1[],5,0),IF($B1283=4,VLOOKUP(E$2,Table1[],5,0),0))))","v":1500000},{"$f":"IF($B1283=1,VLOOKUP(F$2,Table1[],3,0),IF($B1283=2,VLOOKUP(F$2,Table1[],4,0),IF($B1283=3,VLOOKUP(F$2,Table1[],5,0),IF($B1283=4,VLOOKUP(F$2,Table1[],5,0),0))))","v":800000}]
[6074,1,{"$f":"IF($B1284=1,VLOOKUP(C$2,Table1[],3,0),IF($B1284=2,VLOOKUP(C$2,Table1[],4,0),IF($B1284=3,VLOOKUP(C$2,Table1[],5,0),IF($B1284=4,VLOOKUP(C$2,Table1[],5,0),0))))","v":2000000},{"$f":"IF($B1284=1,VLOOKUP(D$2,Table1[],3,0),IF($B1284=2,VLOOKUP(D$2,Table1[],4,0),IF($B1284=3,VLOOKUP(D$2,Table1[],5,0),IF($B1284=4,VLOOKUP(D$2,Table1[],5,0),0))))","v":2000000},{"$f":"IF($B1284=1,VLOOKUP(E$2,Table1[],3,0),IF($B1284=2,VLOOKUP(E$2,Table1[],4,0),IF($B1284=3,VLOOKUP(E$2,Table1[],5,0),IF($B1284=4,VLOOKUP(E$2,Table1[],5,0),0))))","v":1500000},{"$f":"IF($B1284=1,VLOOKUP(F$2,Table1[],3,0),IF($B1284=2,VLOOKUP(F$2,Table1[],4,0),IF($B1284=3,VLOOKUP(F$2,Table1[],5,0),IF($B1284=4,VLOOKUP(F$2,Table1[],5,0),0))))","v":800000}]
[6076,1,{"$f":"IF($B1285=1,VLOOKUP(C$2,Table1[],3,0),IF($B1285=2,VLOOKUP(C$2,Table1[],4,0),IF($B1285=3,VLOOKUP(C$2,Table1[],5,0),IF($B1285=4,VLOOKUP(C$2,Table1[],5,0),0))))","v":2000000},{"$f":"IF($B1285=1,VLOOKUP(D$2,Table1[],3,0),IF($B1285=2,VLOOKUP(D$2,Table1[],4,0),IF($B1285=3,VLOOKUP(D$2,Table1[],5,0),IF($B1285=4,VLOOKUP(D$2,Table1[],5,0),0))))","v":2000000},{"$f":"IF($B1285=1,VLOOKUP(E$2,Table1[],3,0),IF($B1285=2,VLOOKUP(E$2,Table1[],4,0),IF($B1285=3,VLOOKUP(E$2,Table1[],5,0),IF($B1285=4,VLOOKUP(E$2,Table1[],5,0),0))))","v":1500000},{"$f":"IF($B1285=1,VLOOKUP(F$2,Table1[],3,0),IF($B1285=2,VLOOKUP(F$2,Table1[],4,0),IF($B1285=3,VLOOKUP(F$2,Table1[],5,0),IF($B1285=4,VLOOKUP(F$2,Table1[],5,0),0))))","v":800000}]
[6077,1,{"$f":"IF($B1286=1,VLOOKUP(C$2,Table1[],3,0),IF($B1286=2,VLOOKUP(C$2,Table1[],4,0),IF($B1286=3,VLOOKUP(C$2,Table1[],5,0),IF($B1286=4,VLOOKUP(C$2,Table1[],5,0),0))))","v":2000000},{"$f":"IF($B1286=1,VLOOKUP(D$2,Table1[],3,0),IF($B1286=2,VLOOKUP(D$2,Table1[],4,0),IF($B1286=3,VLOOKUP(D$2,Table1[],5,0),IF($B1286=4,VLOOKUP(D$2,Table1[],5,0),0))))","v":2000000},{"$f":"IF($B1286=1,VLOOKUP(E$2,Table1[],3,0),IF($B1286=2,VLOOKUP(E$2,Table1[],4,0),IF($B1286=3,VLOOKUP(E$2,Table1[],5,0),IF($B1286=4,VLOOKUP(E$2,Table1[],5,0),0))))","v":1500000},{"$f":"IF($B1286=1,VLOOKUP(F$2,Table1[],3,0),IF($B1286=2,VLOOKUP(F$2,Table1[],4,0),IF($B1286=3,VLOOKUP(F$2,Table1[],5,0),IF($B1286=4,VLOOKUP(F$2,Table1[],5,0),0))))","v":800000}]
[6078,1,{"$f":"IF($B1287=1,VLOOKUP(C$2,Table1[],3,0),IF($B1287=2,VLOOKUP(C$2,Table1[],4,0),IF($B1287=3,VLOOKUP(C$2,Table1[],5,0),IF($B1287=4,VLOOKUP(C$2,Table1[],5,0),0))))","v":2000000},{"$f":"IF($B1287=1,VLOOKUP(D$2,Table1[],3,0),IF($B1287=2,VLOOKUP(D$2,Table1[],4,0),IF($B1287=3,VLOOKUP(D$2,Table1[],5,0),IF($B1287=4,VLOOKUP(D$2,Table1[],5,0),0))))","v":2000000},{"$f":"IF($B1287=1,VLOOKUP(E$2,Table1[],3,0),IF($B1287=2,VLOOKUP(E$2,Table1[],4,0),IF($B1287=3,VLOOKUP(E$2,Table1[],5,0),IF($B1287=4,VLOOKUP(E$2,Table1[],5,0),0))))","v":1500000},{"$f":"IF($B1287=1,VLOOKUP(F$2,Table1[],3,0),IF($B1287=2,VLOOKUP(F$2,Table1[],4,0),IF($B1287=3,VLOOKUP(F$2,Table1[],5,0),IF($B1287=4,VLOOKUP(F$2,Table1[],5,0),0))))","v":800000}]
[6079,1,{"$f":"IF($B1288=1,VLOOKUP(C$2,Table1[],3,0),IF($B1288=2,VLOOKUP(C$2,Table1[],4,0),IF($B1288=3,VLOOKUP(C$2,Table1[],5,0),IF($B1288=4,VLOOKUP(C$2,Table1[],5,0),0))))","v":2000000},{"$f":"IF($B1288=1,VLOOKUP(D$2,Table1[],3,0),IF($B1288=2,VLOOKUP(D$2,Table1[],4,0),IF($B1288=3,VLOOKUP(D$2,Table1[],5,0),IF($B1288=4,VLOOKUP(D$2,Table1[],5,0),0))))","v":2000000},{"$f":"IF($B1288=1,VLOOKUP(E$2,Table1[],3,0),IF($B1288=2,VLOOKUP(E$2,Table1[],4,0),IF($B1288=3,VLOOKUP(E$2,Table1[],5,0),IF($B1288=4,VLOOKUP(E$2,Table1[],5,0),0))))","v":1500000},{"$f":"IF($B1288=1,VLOOKUP(F$2,Table1[],3,0),IF($B1288=2,VLOOKUP(F$2,Table1[],4,0),IF($B1288=3,VLOOKUP(F$2,Table1[],5,0),IF($B1288=4,VLOOKUP(F$2,Table1[],5,0),0))))","v":800000}]
[6081,1,{"$f":"IF($B1289=1,VLOOKUP(C$2,Table1[],3,0),IF($B1289=2,VLOOKUP(C$2,Table1[],4,0),IF($B1289=3,VLOOKUP(C$2,Table1[],5,0),IF($B1289=4,VLOOKUP(C$2,Table1[],5,0),0))))","v":2000000},{"$f":"IF($B1289=1,VLOOKUP(D$2,Table1[],3,0),IF($B1289=2,VLOOKUP(D$2,Table1[],4,0),IF($B1289=3,VLOOKUP(D$2,Table1[],5,0),IF($B1289=4,VLOOKUP(D$2,Table1[],5,0),0))))","v":2000000},{"$f":"IF($B1289=1,VLOOKUP(E$2,Table1[],3,0),IF($B1289=2,VLOOKUP(E$2,Table1[],4,0),IF($B1289=3,VLOOKUP(E$2,Table1[],5,0),IF($B1289=4,VLOOKUP(E$2,Table1[],5,0),0))))","v":1500000},{"$f":"IF($B1289=1,VLOOKUP(F$2,Table1[],3,0),IF($B1289=2,VLOOKUP(F$2,Table1[],4,0),IF($B1289=3,VLOOKUP(F$2,Table1[],5,0),IF($B1289=4,VLOOKUP(F$2,Table1[],5,0),0))))","v":800000}]
[6082,1,{"$f":"IF($B1290=1,VLOOKUP(C$2,Table1[],3,0),IF($B1290=2,VLOOKUP(C$2,Table1[],4,0),IF($B1290=3,VLOOKUP(C$2,Table1[],5,0),IF($B1290=4,VLOOKUP(C$2,Table1[],5,0),0))))","v":2000000},{"$f":"IF($B1290=1,VLOOKUP(D$2,Table1[],3,0),IF($B1290=2,VLOOKUP(D$2,Table1[],4,0),IF($B1290=3,VLOOKUP(D$2,Table1[],5,0),IF($B1290=4,VLOOKUP(D$2,Table1[],5,0),0))))","v":2000000},{"$f":"IF($B1290=1,VLOOKUP(E$2,Table1[],3,0),IF($B1290=2,VLOOKUP(E$2,Table1[],4,0),IF($B1290=3,VLOOKUP(E$2,Table1[],5,0),IF($B1290=4,VLOOKUP(E$2,Table1[],5,0),0))))","v":1500000},{"$f":"IF($B1290=1,VLOOKUP(F$2,Table1[],3,0),IF($B1290=2,VLOOKUP(F$2,Table1[],4,0),IF($B1290=3,VLOOKUP(F$2,Table1[],5,0),IF($B1290=4,VLOOKUP(F$2,Table1[],5,0),0))))","v":800000}]
[6083,1,{"$f":"IF($B1291=1,VLOOKUP(C$2,Table1[],3,0),IF($B1291=2,VLOOKUP(C$2,Table1[],4,0),IF($B1291=3,VLOOKUP(C$2,Table1[],5,0),IF($B1291=4,VLOOKUP(C$2,Table1[],5,0),0))))","v":2000000},{"$f":"IF($B1291=1,VLOOKUP(D$2,Table1[],3,0),IF($B1291=2,VLOOKUP(D$2,Table1[],4,0),IF($B1291=3,VLOOKUP(D$2,Table1[],5,0),IF($B1291=4,VLOOKUP(D$2,Table1[],5,0),0))))","v":2000000},{"$f":"IF($B1291=1,VLOOKUP(E$2,Table1[],3,0),IF($B1291=2,VLOOKUP(E$2,Table1[],4,0),IF($B1291=3,VLOOKUP(E$2,Table1[],5,0),IF($B1291=4,VLOOKUP(E$2,Table1[],5,0),0))))","v":1500000},{"$f":"IF($B1291=1,VLOOKUP(F$2,Table1[],3,0),IF($B1291=2,VLOOKUP(F$2,Table1[],4,0),IF($B1291=3,VLOOKUP(F$2,Table1[],5,0),IF($B1291=4,VLOOKUP(F$2,Table1[],5,0),0))))","v":800000}]
[6084,1,{"$f":"IF($B1292=1,VLOOKUP(C$2,Table1[],3,0),IF($B1292=2,VLOOKUP(C$2,Table1[],4,0),IF($B1292=3,VLOOKUP(C$2,Table1[],5,0),IF($B1292=4,VLOOKUP(C$2,Table1[],5,0),0))))","v":2000000},{"$f":"IF($B1292=1,VLOOKUP(D$2,Table1[],3,0),IF($B1292=2,VLOOKUP(D$2,Table1[],4,0),IF($B1292=3,VLOOKUP(D$2,Table1[],5,0),IF($B1292=4,VLOOKUP(D$2,Table1[],5,0),0))))","v":2000000},{"$f":"IF($B1292=1,VLOOKUP(E$2,Table1[],3,0),IF($B1292=2,VLOOKUP(E$2,Table1[],4,0),IF($B1292=3,VLOOKUP(E$2,Table1[],5,0),IF($B1292=4,VLOOKUP(E$2,Table1[],5,0),0))))","v":1500000},{"$f":"IF($B1292=1,VLOOKUP(F$2,Table1[],3,0),IF($B1292=2,VLOOKUP(F$2,Table1[],4,0),IF($B1292=3,VLOOKUP(F$2,Table1[],5,0),IF($B1292=4,VLOOKUP(F$2,Table1[],5,0),0))))","v":800000}]
[6090,1,{"$f":"IF($B1293=1,VLOOKUP(C$2,Table1[],3,0),IF($B1293=2,VLOOKUP(C$2,Table1[],4,0),IF($B1293=3,VLOOKUP(C$2,Table1[],5,0),IF($B1293=4,VLOOKUP(C$2,Table1[],5,0),0))))","v":2000000},{"$f":"IF($B1293=1,VLOOKUP(D$2,Table1[],3,0),IF($B1293=2,VLOOKUP(D$2,Table1[],4,0),IF($B1293=3,VLOOKUP(D$2,Table1[],5,0),IF($B1293=4,VLOOKUP(D$2,Table1[],5,0),0))))","v":2000000},{"$f":"IF($B1293=1,VLOOKUP(E$2,Table1[],3,0),IF($B1293=2,VLOOKUP(E$2,Table1[],4,0),IF($B1293=3,VLOOKUP(E$2,Table1[],5,0),IF($B1293=4,VLOOKUP(E$2,Table1[],5,0),0))))","v":1500000},{"$f":"IF($B1293=1,VLOOKUP(F$2,Table1[],3,0),IF($B1293=2,VLOOKUP(F$2,Table1[],4,0),IF($B1293=3,VLOOKUP(F$2,Table1[],5,0),IF($B1293=4,VLOOKUP(F$2,Table1[],5,0),0))))","v":800000}]
[6100,1,{"$f":"IF($B1294=1,VLOOKUP(C$2,Table1[],3,0),IF($B1294=2,VLOOKUP(C$2,Table1[],4,0),IF($B1294=3,VLOOKUP(C$2,Table1[],5,0),IF($B1294=4,VLOOKUP(C$2,Table1[],5,0),0))))","v":2000000},{"$f":"IF($B1294=1,VLOOKUP(D$2,Table1[],3,0),IF($B1294=2,VLOOKUP(D$2,Table1[],4,0),IF($B1294=3,VLOOKUP(D$2,Table1[],5,0),IF($B1294=4,VLOOKUP(D$2,Table1[],5,0),0))))","v":2000000},{"$f":"IF($B1294=1,VLOOKUP(E$2,Table1[],3,0),IF($B1294=2,VLOOKUP(E$2,Table1[],4,0),IF($B1294=3,VLOOKUP(E$2,Table1[],5,0),IF($B1294=4,VLOOKUP(E$2,Table1[],5,0),0))))","v":1500000},{"$f":"IF($B1294=1,VLOOKUP(F$2,Table1[],3,0),IF($B1294=2,VLOOKUP(F$2,Table1[],4,0),IF($B1294=3,VLOOKUP(F$2,Table1[],5,0),IF($B1294=4,VLOOKUP(F$2,Table1[],5,0),0))))","v":800000}]
[6101,1,{"$f":"IF($B1295=1,VLOOKUP(C$2,Table1[],3,0),IF($B1295=2,VLOOKUP(C$2,Table1[],4,0),IF($B1295=3,VLOOKUP(C$2,Table1[],5,0),IF($B1295=4,VLOOKUP(C$2,Table1[],5,0),0))))","v":2000000},{"$f":"IF($B1295=1,VLOOKUP(D$2,Table1[],3,0),IF($B1295=2,VLOOKUP(D$2,Table1[],4,0),IF($B1295=3,VLOOKUP(D$2,Table1[],5,0),IF($B1295=4,VLOOKUP(D$2,Table1[],5,0),0))))","v":2000000},{"$f":"IF($B1295=1,VLOOKUP(E$2,Table1[],3,0),IF($B1295=2,VLOOKUP(E$2,Table1[],4,0),IF($B1295=3,VLOOKUP(E$2,Table1[],5,0),IF($B1295=4,VLOOKUP(E$2,Table1[],5,0),0))))","v":1500000},{"$f":"IF($B1295=1,VLOOKUP(F$2,Table1[],3,0),IF($B1295=2,VLOOKUP(F$2,Table1[],4,0),IF($B1295=3,VLOOKUP(F$2,Table1[],5,0),IF($B1295=4,VLOOKUP(F$2,Table1[],5,0),0))))","v":800000}]
[6102,1,{"$f":"IF($B1296=1,VLOOKUP(C$2,Table1[],3,0),IF($B1296=2,VLOOKUP(C$2,Table1[],4,0),IF($B1296=3,VLOOKUP(C$2,Table1[],5,0),IF($B1296=4,VLOOKUP(C$2,Table1[],5,0),0))))","v":2000000},{"$f":"IF($B1296=1,VLOOKUP(D$2,Table1[],3,0),IF($B1296=2,VLOOKUP(D$2,Table1[],4,0),IF($B1296=3,VLOOKUP(D$2,Table1[],5,0),IF($B1296=4,VLOOKUP(D$2,Table1[],5,0),0))))","v":2000000},{"$f":"IF($B1296=1,VLOOKUP(E$2,Table1[],3,0),IF($B1296=2,VLOOKUP(E$2,Table1[],4,0),IF($B1296=3,VLOOKUP(E$2,Table1[],5,0),IF($B1296=4,VLOOKUP(E$2,Table1[],5,0),0))))","v":1500000},{"$f":"IF($B1296=1,VLOOKUP(F$2,Table1[],3,0),IF($B1296=2,VLOOKUP(F$2,Table1[],4,0),IF($B1296=3,VLOOKUP(F$2,Table1[],5,0),IF($B1296=4,VLOOKUP(F$2,Table1[],5,0),0))))","v":800000}]
[6103,1,{"$f":"IF($B1297=1,VLOOKUP(C$2,Table1[],3,0),IF($B1297=2,VLOOKUP(C$2,Table1[],4,0),IF($B1297=3,VLOOKUP(C$2,Table1[],5,0),IF($B1297=4,VLOOKUP(C$2,Table1[],5,0),0))))","v":2000000},{"$f":"IF($B1297=1,VLOOKUP(D$2,Table1[],3,0),IF($B1297=2,VLOOKUP(D$2,Table1[],4,0),IF($B1297=3,VLOOKUP(D$2,Table1[],5,0),IF($B1297=4,VLOOKUP(D$2,Table1[],5,0),0))))","v":2000000},{"$f":"IF($B1297=1,VLOOKUP(E$2,Table1[],3,0),IF($B1297=2,VLOOKUP(E$2,Table1[],4,0),IF($B1297=3,VLOOKUP(E$2,Table1[],5,0),IF($B1297=4,VLOOKUP(E$2,Table1[],5,0),0))))","v":1500000},{"$f":"IF($B1297=1,VLOOKUP(F$2,Table1[],3,0),IF($B1297=2,VLOOKUP(F$2,Table1[],4,0),IF($B1297=3,VLOOKUP(F$2,Table1[],5,0),IF($B1297=4,VLOOKUP(F$2,Table1[],5,0),0))))","v":800000}]
[6104,1,{"$f":"IF($B1298=1,VLOOKUP(C$2,Table1[],3,0),IF($B1298=2,VLOOKUP(C$2,Table1[],4,0),IF($B1298=3,VLOOKUP(C$2,Table1[],5,0),IF($B1298=4,VLOOKUP(C$2,Table1[],5,0),0))))","v":2000000},{"$f":"IF($B1298=1,VLOOKUP(D$2,Table1[],3,0),IF($B1298=2,VLOOKUP(D$2,Table1[],4,0),IF($B1298=3,VLOOKUP(D$2,Table1[],5,0),IF($B1298=4,VLOOKUP(D$2,Table1[],5,0),0))))","v":2000000},{"$f":"IF($B1298=1,VLOOKUP(E$2,Table1[],3,0),IF($B1298=2,VLOOKUP(E$2,Table1[],4,0),IF($B1298=3,VLOOKUP(E$2,Table1[],5,0),IF($B1298=4,VLOOKUP(E$2,Table1[],5,0),0))))","v":1500000},{"$f":"IF($B1298=1,VLOOKUP(F$2,Table1[],3,0),IF($B1298=2,VLOOKUP(F$2,Table1[],4,0),IF($B1298=3,VLOOKUP(F$2,Table1[],5,0),IF($B1298=4,VLOOKUP(F$2,Table1[],5,0),0))))","v":800000}]
[6105,1,{"$f":"IF($B1299=1,VLOOKUP(C$2,Table1[],3,0),IF($B1299=2,VLOOKUP(C$2,Table1[],4,0),IF($B1299=3,VLOOKUP(C$2,Table1[],5,0),IF($B1299=4,VLOOKUP(C$2,Table1[],5,0),0))))","v":2000000},{"$f":"IF($B1299=1,VLOOKUP(D$2,Table1[],3,0),IF($B1299=2,VLOOKUP(D$2,Table1[],4,0),IF($B1299=3,VLOOKUP(D$2,Table1[],5,0),IF($B1299=4,VLOOKUP(D$2,Table1[],5,0),0))))","v":2000000},{"$f":"IF($B1299=1,VLOOKUP(E$2,Table1[],3,0),IF($B1299=2,VLOOKUP(E$2,Table1[],4,0),IF($B1299=3,VLOOKUP(E$2,Table1[],5,0),IF($B1299=4,VLOOKUP(E$2,Table1[],5,0),0))))","v":1500000},{"$f":"IF($B1299=1,VLOOKUP(F$2,Table1[],3,0),IF($B1299=2,VLOOKUP(F$2,Table1[],4,0),IF($B1299=3,VLOOKUP(F$2,Table1[],5,0),IF($B1299=4,VLOOKUP(F$2,Table1[],5,0),0))))","v":800000}]
[6106,1,{"$f":"IF($B1300=1,VLOOKUP(C$2,Table1[],3,0),IF($B1300=2,VLOOKUP(C$2,Table1[],4,0),IF($B1300=3,VLOOKUP(C$2,Table1[],5,0),IF($B1300=4,VLOOKUP(C$2,Table1[],5,0),0))))","v":2000000},{"$f":"IF($B1300=1,VLOOKUP(D$2,Table1[],3,0),IF($B1300=2,VLOOKUP(D$2,Table1[],4,0),IF($B1300=3,VLOOKUP(D$2,Table1[],5,0),IF($B1300=4,VLOOKUP(D$2,Table1[],5,0),0))))","v":2000000},{"$f":"IF($B1300=1,VLOOKUP(E$2,Table1[],3,0),IF($B1300=2,VLOOKUP(E$2,Table1[],4,0),IF($B1300=3,VLOOKUP(E$2,Table1[],5,0),IF($B1300=4,VLOOKUP(E$2,Table1[],5,0),0))))","v":1500000},{"$f":"IF($B1300=1,VLOOKUP(F$2,Table1[],3,0),IF($B1300=2,VLOOKUP(F$2,Table1[],4,0),IF($B1300=3,VLOOKUP(F$2,Table1[],5,0),IF($B1300=4,VLOOKUP(F$2,Table1[],5,0),0))))","v":800000}]
[6107,1,{"$f":"IF($B1301=1,VLOOKUP(C$2,Table1[],3,0),IF($B1301=2,VLOOKUP(C$2,Table1[],4,0),IF($B1301=3,VLOOKUP(C$2,Table1[],5,0),IF($B1301=4,VLOOKUP(C$2,Table1[],5,0),0))))","v":2000000},{"$f":"IF($B1301=1,VLOOKUP(D$2,Table1[],3,0),IF($B1301=2,VLOOKUP(D$2,Table1[],4,0),IF($B1301=3,VLOOKUP(D$2,Table1[],5,0),IF($B1301=4,VLOOKUP(D$2,Table1[],5,0),0))))","v":2000000},{"$f":"IF($B1301=1,VLOOKUP(E$2,Table1[],3,0),IF($B1301=2,VLOOKUP(E$2,Table1[],4,0),IF($B1301=3,VLOOKUP(E$2,Table1[],5,0),IF($B1301=4,VLOOKUP(E$2,Table1[],5,0),0))))","v":1500000},{"$f":"IF($B1301=1,VLOOKUP(F$2,Table1[],3,0),IF($B1301=2,VLOOKUP(F$2,Table1[],4,0),IF($B1301=3,VLOOKUP(F$2,Table1[],5,0),IF($B1301=4,VLOOKUP(F$2,Table1[],5,0),0))))","v":800000}]
[6108,1,{"$f":"IF($B1302=1,VLOOKUP(C$2,Table1[],3,0),IF($B1302=2,VLOOKUP(C$2,Table1[],4,0),IF($B1302=3,VLOOKUP(C$2,Table1[],5,0),IF($B1302=4,VLOOKUP(C$2,Table1[],5,0),0))))","v":2000000},{"$f":"IF($B1302=1,VLOOKUP(D$2,Table1[],3,0),IF($B1302=2,VLOOKUP(D$2,Table1[],4,0),IF($B1302=3,VLOOKUP(D$2,Table1[],5,0),IF($B1302=4,VLOOKUP(D$2,Table1[],5,0),0))))","v":2000000},{"$f":"IF($B1302=1,VLOOKUP(E$2,Table1[],3,0),IF($B1302=2,VLOOKUP(E$2,Table1[],4,0),IF($B1302=3,VLOOKUP(E$2,Table1[],5,0),IF($B1302=4,VLOOKUP(E$2,Table1[],5,0),0))))","v":1500000},{"$f":"IF($B1302=1,VLOOKUP(F$2,Table1[],3,0),IF($B1302=2,VLOOKUP(F$2,Table1[],4,0),IF($B1302=3,VLOOKUP(F$2,Table1[],5,0),IF($B1302=4,VLOOKUP(F$2,Table1[],5,0),0))))","v":800000}]
[6109,1,{"$f":"IF($B1303=1,VLOOKUP(C$2,Table1[],3,0),IF($B1303=2,VLOOKUP(C$2,Table1[],4,0),IF($B1303=3,VLOOKUP(C$2,Table1[],5,0),IF($B1303=4,VLOOKUP(C$2,Table1[],5,0),0))))","v":2000000},{"$f":"IF($B1303=1,VLOOKUP(D$2,Table1[],3,0),IF($B1303=2,VLOOKUP(D$2,Table1[],4,0),IF($B1303=3,VLOOKUP(D$2,Table1[],5,0),IF($B1303=4,VLOOKUP(D$2,Table1[],5,0),0))))","v":2000000},{"$f":"IF($B1303=1,VLOOKUP(E$2,Table1[],3,0),IF($B1303=2,VLOOKUP(E$2,Table1[],4,0),IF($B1303=3,VLOOKUP(E$2,Table1[],5,0),IF($B1303=4,VLOOKUP(E$2,Table1[],5,0),0))))","v":1500000},{"$f":"IF($B1303=1,VLOOKUP(F$2,Table1[],3,0),IF($B1303=2,VLOOKUP(F$2,Table1[],4,0),IF($B1303=3,VLOOKUP(F$2,Table1[],5,0),IF($B1303=4,VLOOKUP(F$2,Table1[],5,0),0))))","v":800000}]
[6110,1,{"$f":"IF($B1304=1,VLOOKUP(C$2,Table1[],3,0),IF($B1304=2,VLOOKUP(C$2,Table1[],4,0),IF($B1304=3,VLOOKUP(C$2,Table1[],5,0),IF($B1304=4,VLOOKUP(C$2,Table1[],5,0),0))))","v":2000000},{"$f":"IF($B1304=1,VLOOKUP(D$2,Table1[],3,0),IF($B1304=2,VLOOKUP(D$2,Table1[],4,0),IF($B1304=3,VLOOKUP(D$2,Table1[],5,0),IF($B1304=4,VLOOKUP(D$2,Table1[],5,0),0))))","v":2000000},{"$f":"IF($B1304=1,VLOOKUP(E$2,Table1[],3,0),IF($B1304=2,VLOOKUP(E$2,Table1[],4,0),IF($B1304=3,VLOOKUP(E$2,Table1[],5,0),IF($B1304=4,VLOOKUP(E$2,Table1[],5,0),0))))","v":1500000},{"$f":"IF($B1304=1,VLOOKUP(F$2,Table1[],3,0),IF($B1304=2,VLOOKUP(F$2,Table1[],4,0),IF($B1304=3,VLOOKUP(F$2,Table1[],5,0),IF($B1304=4,VLOOKUP(F$2,Table1[],5,0),0))))","v":800000}]
[6111,1,{"$f":"IF($B1305=1,VLOOKUP(C$2,Table1[],3,0),IF($B1305=2,VLOOKUP(C$2,Table1[],4,0),IF($B1305=3,VLOOKUP(C$2,Table1[],5,0),IF($B1305=4,VLOOKUP(C$2,Table1[],5,0),0))))","v":2000000},{"$f":"IF($B1305=1,VLOOKUP(D$2,Table1[],3,0),IF($B1305=2,VLOOKUP(D$2,Table1[],4,0),IF($B1305=3,VLOOKUP(D$2,Table1[],5,0),IF($B1305=4,VLOOKUP(D$2,Table1[],5,0),0))))","v":2000000},{"$f":"IF($B1305=1,VLOOKUP(E$2,Table1[],3,0),IF($B1305=2,VLOOKUP(E$2,Table1[],4,0),IF($B1305=3,VLOOKUP(E$2,Table1[],5,0),IF($B1305=4,VLOOKUP(E$2,Table1[],5,0),0))))","v":1500000},{"$f":"IF($B1305=1,VLOOKUP(F$2,Table1[],3,0),IF($B1305=2,VLOOKUP(F$2,Table1[],4,0),IF($B1305=3,VLOOKUP(F$2,Table1[],5,0),IF($B1305=4,VLOOKUP(F$2,Table1[],5,0),0))))","v":800000}]
[6112,1,{"$f":"IF($B1306=1,VLOOKUP(C$2,Table1[],3,0),IF($B1306=2,VLOOKUP(C$2,Table1[],4,0),IF($B1306=3,VLOOKUP(C$2,Table1[],5,0),IF($B1306=4,VLOOKUP(C$2,Table1[],5,0),0))))","v":2000000},{"$f":"IF($B1306=1,VLOOKUP(D$2,Table1[],3,0),IF($B1306=2,VLOOKUP(D$2,Table1[],4,0),IF($B1306=3,VLOOKUP(D$2,Table1[],5,0),IF($B1306=4,VLOOKUP(D$2,Table1[],5,0),0))))","v":2000000},{"$f":"IF($B1306=1,VLOOKUP(E$2,Table1[],3,0),IF($B1306=2,VLOOKUP(E$2,Table1[],4,0),IF($B1306=3,VLOOKUP(E$2,Table1[],5,0),IF($B1306=4,VLOOKUP(E$2,Table1[],5,0),0))))","v":1500000},{"$f":"IF($B1306=1,VLOOKUP(F$2,Table1[],3,0),IF($B1306=2,VLOOKUP(F$2,Table1[],4,0),IF($B1306=3,VLOOKUP(F$2,Table1[],5,0),IF($B1306=4,VLOOKUP(F$2,Table1[],5,0),0))))","v":800000}]
[6121,1,{"$f":"IF($B1307=1,VLOOKUP(C$2,Table1[],3,0),IF($B1307=2,VLOOKUP(C$2,Table1[],4,0),IF($B1307=3,VLOOKUP(C$2,Table1[],5,0),IF($B1307=4,VLOOKUP(C$2,Table1[],5,0),0))))","v":2000000},{"$f":"IF($B1307=1,VLOOKUP(D$2,Table1[],3,0),IF($B1307=2,VLOOKUP(D$2,Table1[],4,0),IF($B1307=3,VLOOKUP(D$2,Table1[],5,0),IF($B1307=4,VLOOKUP(D$2,Table1[],5,0),0))))","v":2000000},{"$f":"IF($B1307=1,VLOOKUP(E$2,Table1[],3,0),IF($B1307=2,VLOOKUP(E$2,Table1[],4,0),IF($B1307=3,VLOOKUP(E$2,Table1[],5,0),IF($B1307=4,VLOOKUP(E$2,Table1[],5,0),0))))","v":1500000},{"$f":"IF($B1307=1,VLOOKUP(F$2,Table1[],3,0),IF($B1307=2,VLOOKUP(F$2,Table1[],4,0),IF($B1307=3,VLOOKUP(F$2,Table1[],5,0),IF($B1307=4,VLOOKUP(F$2,Table1[],5,0),0))))","v":800000}]
[6122,1,{"$f":"IF($B1308=1,VLOOKUP(C$2,Table1[],3,0),IF($B1308=2,VLOOKUP(C$2,Table1[],4,0),IF($B1308=3,VLOOKUP(C$2,Table1[],5,0),IF($B1308=4,VLOOKUP(C$2,Table1[],5,0),0))))","v":2000000},{"$f":"IF($B1308=1,VLOOKUP(D$2,Table1[],3,0),IF($B1308=2,VLOOKUP(D$2,Table1[],4,0),IF($B1308=3,VLOOKUP(D$2,Table1[],5,0),IF($B1308=4,VLOOKUP(D$2,Table1[],5,0),0))))","v":2000000},{"$f":"IF($B1308=1,VLOOKUP(E$2,Table1[],3,0),IF($B1308=2,VLOOKUP(E$2,Table1[],4,0),IF($B1308=3,VLOOKUP(E$2,Table1[],5,0),IF($B1308=4,VLOOKUP(E$2,Table1[],5,0),0))))","v":1500000},{"$f":"IF($B1308=1,VLOOKUP(F$2,Table1[],3,0),IF($B1308=2,VLOOKUP(F$2,Table1[],4,0),IF($B1308=3,VLOOKUP(F$2,Table1[],5,0),IF($B1308=4,VLOOKUP(F$2,Table1[],5,0),0))))","v":800000}]
[6123,1,{"$f":"IF($B1309=1,VLOOKUP(C$2,Table1[],3,0),IF($B1309=2,VLOOKUP(C$2,Table1[],4,0),IF($B1309=3,VLOOKUP(C$2,Table1[],5,0),IF($B1309=4,VLOOKUP(C$2,Table1[],5,0),0))))","v":2000000},{"$f":"IF($B1309=1,VLOOKUP(D$2,Table1[],3,0),IF($B1309=2,VLOOKUP(D$2,Table1[],4,0),IF($B1309=3,VLOOKUP(D$2,Table1[],5,0),IF($B1309=4,VLOOKUP(D$2,Table1[],5,0),0))))","v":2000000},{"$f":"IF($B1309=1,VLOOKUP(E$2,Table1[],3,0),IF($B1309=2,VLOOKUP(E$2,Table1[],4,0),IF($B1309=3,VLOOKUP(E$2,Table1[],5,0),IF($B1309=4,VLOOKUP(E$2,Table1[],5,0),0))))","v":1500000},{"$f":"IF($B1309=1,VLOOKUP(F$2,Table1[],3,0),IF($B1309=2,VLOOKUP(F$2,Table1[],4,0),IF($B1309=3,VLOOKUP(F$2,Table1[],5,0),IF($B1309=4,VLOOKUP(F$2,Table1[],5,0),0))))","v":800000}]
[6124,1,{"$f":"IF($B1310=1,VLOOKUP(C$2,Table1[],3,0),IF($B1310=2,VLOOKUP(C$2,Table1[],4,0),IF($B1310=3,VLOOKUP(C$2,Table1[],5,0),IF($B1310=4,VLOOKUP(C$2,Table1[],5,0),0))))","v":2000000},{"$f":"IF($B1310=1,VLOOKUP(D$2,Table1[],3,0),IF($B1310=2,VLOOKUP(D$2,Table1[],4,0),IF($B1310=3,VLOOKUP(D$2,Table1[],5,0),IF($B1310=4,VLOOKUP(D$2,Table1[],5,0),0))))","v":2000000},{"$f":"IF($B1310=1,VLOOKUP(E$2,Table1[],3,0),IF($B1310=2,VLOOKUP(E$2,Table1[],4,0),IF($B1310=3,VLOOKUP(E$2,Table1[],5,0),IF($B1310=4,VLOOKUP(E$2,Table1[],5,0),0))))","v":1500000},{"$f":"IF($B1310=1,VLOOKUP(F$2,Table1[],3,0),IF($B1310=2,VLOOKUP(F$2,Table1[],4,0),IF($B1310=3,VLOOKUP(F$2,Table1[],5,0),IF($B1310=4,VLOOKUP(F$2,Table1[],5,0),0))))","v":800000}]
[6125,1,{"$f":"IF($B1311=1,VLOOKUP(C$2,Table1[],3,0),IF($B1311=2,VLOOKUP(C$2,Table1[],4,0),IF($B1311=3,VLOOKUP(C$2,Table1[],5,0),IF($B1311=4,VLOOKUP(C$2,Table1[],5,0),0))))","v":2000000},{"$f":"IF($B1311=1,VLOOKUP(D$2,Table1[],3,0),IF($B1311=2,VLOOKUP(D$2,Table1[],4,0),IF($B1311=3,VLOOKUP(D$2,Table1[],5,0),IF($B1311=4,VLOOKUP(D$2,Table1[],5,0),0))))","v":2000000},{"$f":"IF($B1311=1,VLOOKUP(E$2,Table1[],3,0),IF($B1311=2,VLOOKUP(E$2,Table1[],4,0),IF($B1311=3,VLOOKUP(E$2,Table1[],5,0),IF($B1311=4,VLOOKUP(E$2,Table1[],5,0),0))))","v":1500000},{"$f":"IF($B1311=1,VLOOKUP(F$2,Table1[],3,0),IF($B1311=2,VLOOKUP(F$2,Table1[],4,0),IF($B1311=3,VLOOKUP(F$2,Table1[],5,0),IF($B1311=4,VLOOKUP(F$2,Table1[],5,0),0))))","v":800000}]
[6126,1,{"$f":"IF($B1312=1,VLOOKUP(C$2,Table1[],3,0),IF($B1312=2,VLOOKUP(C$2,Table1[],4,0),IF($B1312=3,VLOOKUP(C$2,Table1[],5,0),IF($B1312=4,VLOOKUP(C$2,Table1[],5,0),0))))","v":2000000},{"$f":"IF($B1312=1,VLOOKUP(D$2,Table1[],3,0),IF($B1312=2,VLOOKUP(D$2,Table1[],4,0),IF($B1312=3,VLOOKUP(D$2,Table1[],5,0),IF($B1312=4,VLOOKUP(D$2,Table1[],5,0),0))))","v":2000000},{"$f":"IF($B1312=1,VLOOKUP(E$2,Table1[],3,0),IF($B1312=2,VLOOKUP(E$2,Table1[],4,0),IF($B1312=3,VLOOKUP(E$2,Table1[],5,0),IF($B1312=4,VLOOKUP(E$2,Table1[],5,0),0))))","v":1500000},{"$f":"IF($B1312=1,VLOOKUP(F$2,Table1[],3,0),IF($B1312=2,VLOOKUP(F$2,Table1[],4,0),IF($B1312=3,VLOOKUP(F$2,Table1[],5,0),IF($B1312=4,VLOOKUP(F$2,Table1[],5,0),0))))","v":800000}]
[6147,1,{"$f":"IF($B1313=1,VLOOKUP(C$2,Table1[],3,0),IF($B1313=2,VLOOKUP(C$2,Table1[],4,0),IF($B1313=3,VLOOKUP(C$2,Table1[],5,0),IF($B1313=4,VLOOKUP(C$2,Table1[],5,0),0))))","v":2000000},{"$f":"IF($B1313=1,VLOOKUP(D$2,Table1[],3,0),IF($B1313=2,VLOOKUP(D$2,Table1[],4,0),IF($B1313=3,VLOOKUP(D$2,Table1[],5,0),IF($B1313=4,VLOOKUP(D$2,Table1[],5,0),0))))","v":2000000},{"$f":"IF($B1313=1,VLOOKUP(E$2,Table1[],3,0),IF($B1313=2,VLOOKUP(E$2,Table1[],4,0),IF($B1313=3,VLOOKUP(E$2,Table1[],5,0),IF($B1313=4,VLOOKUP(E$2,Table1[],5,0),0))))","v":1500000},{"$f":"IF($B1313=1,VLOOKUP(F$2,Table1[],3,0),IF($B1313=2,VLOOKUP(F$2,Table1[],4,0),IF($B1313=3,VLOOKUP(F$2,Table1[],5,0),IF($B1313=4,VLOOKUP(F$2,Table1[],5,0),0))))","v":800000}]
[6148,1,{"$f":"IF($B1314=1,VLOOKUP(C$2,Table1[],3,0),IF($B1314=2,VLOOKUP(C$2,Table1[],4,0),IF($B1314=3,VLOOKUP(C$2,Table1[],5,0),IF($B1314=4,VLOOKUP(C$2,Table1[],5,0),0))))","v":2000000},{"$f":"IF($B1314=1,VLOOKUP(D$2,Table1[],3,0),IF($B1314=2,VLOOKUP(D$2,Table1[],4,0),IF($B1314=3,VLOOKUP(D$2,Table1[],5,0),IF($B1314=4,VLOOKUP(D$2,Table1[],5,0),0))))","v":2000000},{"$f":"IF($B1314=1,VLOOKUP(E$2,Table1[],3,0),IF($B1314=2,VLOOKUP(E$2,Table1[],4,0),IF($B1314=3,VLOOKUP(E$2,Table1[],5,0),IF($B1314=4,VLOOKUP(E$2,Table1[],5,0),0))))","v":1500000},{"$f":"IF($B1314=1,VLOOKUP(F$2,Table1[],3,0),IF($B1314=2,VLOOKUP(F$2,Table1[],4,0),IF($B1314=3,VLOOKUP(F$2,Table1[],5,0),IF($B1314=4,VLOOKUP(F$2,Table1[],5,0),0))))","v":800000}]
[6149,1,{"$f":"IF($B1315=1,VLOOKUP(C$2,Table1[],3,0),IF($B1315=2,VLOOKUP(C$2,Table1[],4,0),IF($B1315=3,VLOOKUP(C$2,Table1[],5,0),IF($B1315=4,VLOOKUP(C$2,Table1[],5,0),0))))","v":2000000},{"$f":"IF($B1315=1,VLOOKUP(D$2,Table1[],3,0),IF($B1315=2,VLOOKUP(D$2,Table1[],4,0),IF($B1315=3,VLOOKUP(D$2,Table1[],5,0),IF($B1315=4,VLOOKUP(D$2,Table1[],5,0),0))))","v":2000000},{"$f":"IF($B1315=1,VLOOKUP(E$2,Table1[],3,0),IF($B1315=2,VLOOKUP(E$2,Table1[],4,0),IF($B1315=3,VLOOKUP(E$2,Table1[],5,0),IF($B1315=4,VLOOKUP(E$2,Table1[],5,0),0))))","v":1500000},{"$f":"IF($B1315=1,VLOOKUP(F$2,Table1[],3,0),IF($B1315=2,VLOOKUP(F$2,Table1[],4,0),IF($B1315=3,VLOOKUP(F$2,Table1[],5,0),IF($B1315=4,VLOOKUP(F$2,Table1[],5,0),0))))","v":800000}]
[6150,1,{"$f":"IF($B1316=1,VLOOKUP(C$2,Table1[],3,0),IF($B1316=2,VLOOKUP(C$2,Table1[],4,0),IF($B1316=3,VLOOKUP(C$2,Table1[],5,0),IF($B1316=4,VLOOKUP(C$2,Table1[],5,0),0))))","v":2000000},{"$f":"IF($B1316=1,VLOOKUP(D$2,Table1[],3,0),IF($B1316=2,VLOOKUP(D$2,Table1[],4,0),IF($B1316=3,VLOOKUP(D$2,Table1[],5,0),IF($B1316=4,VLOOKUP(D$2,Table1[],5,0),0))))","v":2000000},{"$f":"IF($B1316=1,VLOOKUP(E$2,Table1[],3,0),IF($B1316=2,VLOOKUP(E$2,Table1[],4,0),IF($B1316=3,VLOOKUP(E$2,Table1[],5,0),IF($B1316=4,VLOOKUP(E$2,Table1[],5,0),0))))","v":1500000},{"$f":"IF($B1316=1,VLOOKUP(F$2,Table1[],3,0),IF($B1316=2,VLOOKUP(F$2,Table1[],4,0),IF($B1316=3,VLOOKUP(F$2,Table1[],5,0),IF($B1316=4,VLOOKUP(F$2,Table1[],5,0),0))))","v":800000}]
[6151,1,{"$f":"IF($B1317=1,VLOOKUP(C$2,Table1[],3,0),IF($B1317=2,VLOOKUP(C$2,Table1[],4,0),IF($B1317=3,VLOOKUP(C$2,Table1[],5,0),IF($B1317=4,VLOOKUP(C$2,Table1[],5,0),0))))","v":2000000},{"$f":"IF($B1317=1,VLOOKUP(D$2,Table1[],3,0),IF($B1317=2,VLOOKUP(D$2,Table1[],4,0),IF($B1317=3,VLOOKUP(D$2,Table1[],5,0),IF($B1317=4,VLOOKUP(D$2,Table1[],5,0),0))))","v":2000000},{"$f":"IF($B1317=1,VLOOKUP(E$2,Table1[],3,0),IF($B1317=2,VLOOKUP(E$2,Table1[],4,0),IF($B1317=3,VLOOKUP(E$2,Table1[],5,0),IF($B1317=4,VLOOKUP(E$2,Table1[],5,0),0))))","v":1500000},{"$f":"IF($B1317=1,VLOOKUP(F$2,Table1[],3,0),IF($B1317=2,VLOOKUP(F$2,Table1[],4,0),IF($B1317=3,VLOOKUP(F$2,Table1[],5,0),IF($B1317=4,VLOOKUP(F$2,Table1[],5,0),0))))","v":800000}]
[6152,1,{"$f":"IF($B1318=1,VLOOKUP(C$2,Table1[],3,0),IF($B1318=2,VLOOKUP(C$2,Table1[],4,0),IF($B1318=3,VLOOKUP(C$2,Table1[],5,0),IF($B1318=4,VLOOKUP(C$2,Table1[],5,0),0))))","v":2000000},{"$f":"IF($B1318=1,VLOOKUP(D$2,Table1[],3,0),IF($B1318=2,VLOOKUP(D$2,Table1[],4,0),IF($B1318=3,VLOOKUP(D$2,Table1[],5,0),IF($B1318=4,VLOOKUP(D$2,Table1[],5,0),0))))","v":2000000},{"$f":"IF($B1318=1,VLOOKUP(E$2,Table1[],3,0),IF($B1318=2,VLOOKUP(E$2,Table1[],4,0),IF($B1318=3,VLOOKUP(E$2,Table1[],5,0),IF($B1318=4,VLOOKUP(E$2,Table1[],5,0),0))))","v":1500000},{"$f":"IF($B1318=1,VLOOKUP(F$2,Table1[],3,0),IF($B1318=2,VLOOKUP(F$2,Table1[],4,0),IF($B1318=3,VLOOKUP(F$2,Table1[],5,0),IF($B1318=4,VLOOKUP(F$2,Table1[],5,0),0))))","v":800000}]
[6153,1,{"$f":"IF($B1319=1,VLOOKUP(C$2,Table1[],3,0),IF($B1319=2,VLOOKUP(C$2,Table1[],4,0),IF($B1319=3,VLOOKUP(C$2,Table1[],5,0),IF($B1319=4,VLOOKUP(C$2,Table1[],5,0),0))))","v":2000000},{"$f":"IF($B1319=1,VLOOKUP(D$2,Table1[],3,0),IF($B1319=2,VLOOKUP(D$2,Table1[],4,0),IF($B1319=3,VLOOKUP(D$2,Table1[],5,0),IF($B1319=4,VLOOKUP(D$2,Table1[],5,0),0))))","v":2000000},{"$f":"IF($B1319=1,VLOOKUP(E$2,Table1[],3,0),IF($B1319=2,VLOOKUP(E$2,Table1[],4,0),IF($B1319=3,VLOOKUP(E$2,Table1[],5,0),IF($B1319=4,VLOOKUP(E$2,Table1[],5,0),0))))","v":1500000},{"$f":"IF($B1319=1,VLOOKUP(F$2,Table1[],3,0),IF($B1319=2,VLOOKUP(F$2,Table1[],4,0),IF($B1319=3,VLOOKUP(F$2,Table1[],5,0),IF($B1319=4,VLOOKUP(F$2,Table1[],5,0),0))))","v":800000}]
[6154,1,{"$f":"IF($B1320=1,VLOOKUP(C$2,Table1[],3,0),IF($B1320=2,VLOOKUP(C$2,Table1[],4,0),IF($B1320=3,VLOOKUP(C$2,Table1[],5,0),IF($B1320=4,VLOOKUP(C$2,Table1[],5,0),0))))","v":2000000},{"$f":"IF($B1320=1,VLOOKUP(D$2,Table1[],3,0),IF($B1320=2,VLOOKUP(D$2,Table1[],4,0),IF($B1320=3,VLOOKUP(D$2,Table1[],5,0),IF($B1320=4,VLOOKUP(D$2,Table1[],5,0),0))))","v":2000000},{"$f":"IF($B1320=1,VLOOKUP(E$2,Table1[],3,0),IF($B1320=2,VLOOKUP(E$2,Table1[],4,0),IF($B1320=3,VLOOKUP(E$2,Table1[],5,0),IF($B1320=4,VLOOKUP(E$2,Table1[],5,0),0))))","v":1500000},{"$f":"IF($B1320=1,VLOOKUP(F$2,Table1[],3,0),IF($B1320=2,VLOOKUP(F$2,Table1[],4,0),IF($B1320=3,VLOOKUP(F$2,Table1[],5,0),IF($B1320=4,VLOOKUP(F$2,Table1[],5,0),0))))","v":800000}]
[6155,1,{"$f":"IF($B1321=1,VLOOKUP(C$2,Table1[],3,0),IF($B1321=2,VLOOKUP(C$2,Table1[],4,0),IF($B1321=3,VLOOKUP(C$2,Table1[],5,0),IF($B1321=4,VLOOKUP(C$2,Table1[],5,0),0))))","v":2000000},{"$f":"IF($B1321=1,VLOOKUP(D$2,Table1[],3,0),IF($B1321=2,VLOOKUP(D$2,Table1[],4,0),IF($B1321=3,VLOOKUP(D$2,Table1[],5,0),IF($B1321=4,VLOOKUP(D$2,Table1[],5,0),0))))","v":2000000},{"$f":"IF($B1321=1,VLOOKUP(E$2,Table1[],3,0),IF($B1321=2,VLOOKUP(E$2,Table1[],4,0),IF($B1321=3,VLOOKUP(E$2,Table1[],5,0),IF($B1321=4,VLOOKUP(E$2,Table1[],5,0),0))))","v":1500000},{"$f":"IF($B1321=1,VLOOKUP(F$2,Table1[],3,0),IF($B1321=2,VLOOKUP(F$2,Table1[],4,0),IF($B1321=3,VLOOKUP(F$2,Table1[],5,0),IF($B1321=4,VLOOKUP(F$2,Table1[],5,0),0))))","v":800000}]
[6156,1,{"$f":"IF($B1322=1,VLOOKUP(C$2,Table1[],3,0),IF($B1322=2,VLOOKUP(C$2,Table1[],4,0),IF($B1322=3,VLOOKUP(C$2,Table1[],5,0),IF($B1322=4,VLOOKUP(C$2,Table1[],5,0),0))))","v":2000000},{"$f":"IF($B1322=1,VLOOKUP(D$2,Table1[],3,0),IF($B1322=2,VLOOKUP(D$2,Table1[],4,0),IF($B1322=3,VLOOKUP(D$2,Table1[],5,0),IF($B1322=4,VLOOKUP(D$2,Table1[],5,0),0))))","v":2000000},{"$f":"IF($B1322=1,VLOOKUP(E$2,Table1[],3,0),IF($B1322=2,VLOOKUP(E$2,Table1[],4,0),IF($B1322=3,VLOOKUP(E$2,Table1[],5,0),IF($B1322=4,VLOOKUP(E$2,Table1[],5,0),0))))","v":1500000},{"$f":"IF($B1322=1,VLOOKUP(F$2,Table1[],3,0),IF($B1322=2,VLOOKUP(F$2,Table1[],4,0),IF($B1322=3,VLOOKUP(F$2,Table1[],5,0),IF($B1322=4,VLOOKUP(F$2,Table1[],5,0),0))))","v":800000}]
[6157,1,{"$f":"IF($B1323=1,VLOOKUP(C$2,Table1[],3,0),IF($B1323=2,VLOOKUP(C$2,Table1[],4,0),IF($B1323=3,VLOOKUP(C$2,Table1[],5,0),IF($B1323=4,VLOOKUP(C$2,Table1[],5,0),0))))","v":2000000},{"$f":"IF($B1323=1,VLOOKUP(D$2,Table1[],3,0),IF($B1323=2,VLOOKUP(D$2,Table1[],4,0),IF($B1323=3,VLOOKUP(D$2,Table1[],5,0),IF($B1323=4,VLOOKUP(D$2,Table1[],5,0),0))))","v":2000000},{"$f":"IF($B1323=1,VLOOKUP(E$2,Table1[],3,0),IF($B1323=2,VLOOKUP(E$2,Table1[],4,0),IF($B1323=3,VLOOKUP(E$2,Table1[],5,0),IF($B1323=4,VLOOKUP(E$2,Table1[],5,0),0))))","v":1500000},{"$f":"IF($B1323=1,VLOOKUP(F$2,Table1[],3,0),IF($B1323=2,VLOOKUP(F$2,Table1[],4,0),IF($B1323=3,VLOOKUP(F$2,Table1[],5,0),IF($B1323=4,VLOOKUP(F$2,Table1[],5,0),0))))","v":800000}]
[6158,1,{"$f":"IF($B1324=1,VLOOKUP(C$2,Table1[],3,0),IF($B1324=2,VLOOKUP(C$2,Table1[],4,0),IF($B1324=3,VLOOKUP(C$2,Table1[],5,0),IF($B1324=4,VLOOKUP(C$2,Table1[],5,0),0))))","v":2000000},{"$f":"IF($B1324=1,VLOOKUP(D$2,Table1[],3,0),IF($B1324=2,VLOOKUP(D$2,Table1[],4,0),IF($B1324=3,VLOOKUP(D$2,Table1[],5,0),IF($B1324=4,VLOOKUP(D$2,Table1[],5,0),0))))","v":2000000},{"$f":"IF($B1324=1,VLOOKUP(E$2,Table1[],3,0),IF($B1324=2,VLOOKUP(E$2,Table1[],4,0),IF($B1324=3,VLOOKUP(E$2,Table1[],5,0),IF($B1324=4,VLOOKUP(E$2,Table1[],5,0),0))))","v":1500000},{"$f":"IF($B1324=1,VLOOKUP(F$2,Table1[],3,0),IF($B1324=2,VLOOKUP(F$2,Table1[],4,0),IF($B1324=3,VLOOKUP(F$2,Table1[],5,0),IF($B1324=4,VLOOKUP(F$2,Table1[],5,0),0))))","v":800000}]
[6159,1,{"$f":"IF($B1325=1,VLOOKUP(C$2,Table1[],3,0),IF($B1325=2,VLOOKUP(C$2,Table1[],4,0),IF($B1325=3,VLOOKUP(C$2,Table1[],5,0),IF($B1325=4,VLOOKUP(C$2,Table1[],5,0),0))))","v":2000000},{"$f":"IF($B1325=1,VLOOKUP(D$2,Table1[],3,0),IF($B1325=2,VLOOKUP(D$2,Table1[],4,0),IF($B1325=3,VLOOKUP(D$2,Table1[],5,0),IF($B1325=4,VLOOKUP(D$2,Table1[],5,0),0))))","v":2000000},{"$f":"IF($B1325=1,VLOOKUP(E$2,Table1[],3,0),IF($B1325=2,VLOOKUP(E$2,Table1[],4,0),IF($B1325=3,VLOOKUP(E$2,Table1[],5,0),IF($B1325=4,VLOOKUP(E$2,Table1[],5,0),0))))","v":1500000},{"$f":"IF($B1325=1,VLOOKUP(F$2,Table1[],3,0),IF($B1325=2,VLOOKUP(F$2,Table1[],4,0),IF($B1325=3,VLOOKUP(F$2,Table1[],5,0),IF($B1325=4,VLOOKUP(F$2,Table1[],5,0),0))))","v":800000}]
[6160,1,{"$f":"IF($B1326=1,VLOOKUP(C$2,Table1[],3,0),IF($B1326=2,VLOOKUP(C$2,Table1[],4,0),IF($B1326=3,VLOOKUP(C$2,Table1[],5,0),IF($B1326=4,VLOOKUP(C$2,Table1[],5,0),0))))","v":2000000},{"$f":"IF($B1326=1,VLOOKUP(D$2,Table1[],3,0),IF($B1326=2,VLOOKUP(D$2,Table1[],4,0),IF($B1326=3,VLOOKUP(D$2,Table1[],5,0),IF($B1326=4,VLOOKUP(D$2,Table1[],5,0),0))))","v":2000000},{"$f":"IF($B1326=1,VLOOKUP(E$2,Table1[],3,0),IF($B1326=2,VLOOKUP(E$2,Table1[],4,0),IF($B1326=3,VLOOKUP(E$2,Table1[],5,0),IF($B1326=4,VLOOKUP(E$2,Table1[],5,0),0))))","v":1500000},{"$f":"IF($B1326=1,VLOOKUP(F$2,Table1[],3,0),IF($B1326=2,VLOOKUP(F$2,Table1[],4,0),IF($B1326=3,VLOOKUP(F$2,Table1[],5,0),IF($B1326=4,VLOOKUP(F$2,Table1[],5,0),0))))","v":800000}]
[6161,1,{"$f":"IF($B1327=1,VLOOKUP(C$2,Table1[],3,0),IF($B1327=2,VLOOKUP(C$2,Table1[],4,0),IF($B1327=3,VLOOKUP(C$2,Table1[],5,0),IF($B1327=4,VLOOKUP(C$2,Table1[],5,0),0))))","v":2000000},{"$f":"IF($B1327=1,VLOOKUP(D$2,Table1[],3,0),IF($B1327=2,VLOOKUP(D$2,Table1[],4,0),IF($B1327=3,VLOOKUP(D$2,Table1[],5,0),IF($B1327=4,VLOOKUP(D$2,Table1[],5,0),0))))","v":2000000},{"$f":"IF($B1327=1,VLOOKUP(E$2,Table1[],3,0),IF($B1327=2,VLOOKUP(E$2,Table1[],4,0),IF($B1327=3,VLOOKUP(E$2,Table1[],5,0),IF($B1327=4,VLOOKUP(E$2,Table1[],5,0),0))))","v":1500000},{"$f":"IF($B1327=1,VLOOKUP(F$2,Table1[],3,0),IF($B1327=2,VLOOKUP(F$2,Table1[],4,0),IF($B1327=3,VLOOKUP(F$2,Table1[],5,0),IF($B1327=4,VLOOKUP(F$2,Table1[],5,0),0))))","v":800000}]
[6162,1,{"$f":"IF($B1328=1,VLOOKUP(C$2,Table1[],3,0),IF($B1328=2,VLOOKUP(C$2,Table1[],4,0),IF($B1328=3,VLOOKUP(C$2,Table1[],5,0),IF($B1328=4,VLOOKUP(C$2,Table1[],5,0),0))))","v":2000000},{"$f":"IF($B1328=1,VLOOKUP(D$2,Table1[],3,0),IF($B1328=2,VLOOKUP(D$2,Table1[],4,0),IF($B1328=3,VLOOKUP(D$2,Table1[],5,0),IF($B1328=4,VLOOKUP(D$2,Table1[],5,0),0))))","v":2000000},{"$f":"IF($B1328=1,VLOOKUP(E$2,Table1[],3,0),IF($B1328=2,VLOOKUP(E$2,Table1[],4,0),IF($B1328=3,VLOOKUP(E$2,Table1[],5,0),IF($B1328=4,VLOOKUP(E$2,Table1[],5,0),0))))","v":1500000},{"$f":"IF($B1328=1,VLOOKUP(F$2,Table1[],3,0),IF($B1328=2,VLOOKUP(F$2,Table1[],4,0),IF($B1328=3,VLOOKUP(F$2,Table1[],5,0),IF($B1328=4,VLOOKUP(F$2,Table1[],5,0),0))))","v":800000}]
[6163,1,{"$f":"IF($B1329=1,VLOOKUP(C$2,Table1[],3,0),IF($B1329=2,VLOOKUP(C$2,Table1[],4,0),IF($B1329=3,VLOOKUP(C$2,Table1[],5,0),IF($B1329=4,VLOOKUP(C$2,Table1[],5,0),0))))","v":2000000},{"$f":"IF($B1329=1,VLOOKUP(D$2,Table1[],3,0),IF($B1329=2,VLOOKUP(D$2,Table1[],4,0),IF($B1329=3,VLOOKUP(D$2,Table1[],5,0),IF($B1329=4,VLOOKUP(D$2,Table1[],5,0),0))))","v":2000000},{"$f":"IF($B1329=1,VLOOKUP(E$2,Table1[],3,0),IF($B1329=2,VLOOKUP(E$2,Table1[],4,0),IF($B1329=3,VLOOKUP(E$2,Table1[],5,0),IF($B1329=4,VLOOKUP(E$2,Table1[],5,0),0))))","v":1500000},{"$f":"IF($B1329=1,VLOOKUP(F$2,Table1[],3,0),IF($B1329=2,VLOOKUP(F$2,Table1[],4,0),IF($B1329=3,VLOOKUP(F$2,Table1[],5,0),IF($B1329=4,VLOOKUP(F$2,Table1[],5,0),0))))","v":800000}]
[6164,1,{"$f":"IF($B1330=1,VLOOKUP(C$2,Table1[],3,0),IF($B1330=2,VLOOKUP(C$2,Table1[],4,0),IF($B1330=3,VLOOKUP(C$2,Table1[],5,0),IF($B1330=4,VLOOKUP(C$2,Table1[],5,0),0))))","v":2000000},{"$f":"IF($B1330=1,VLOOKUP(D$2,Table1[],3,0),IF($B1330=2,VLOOKUP(D$2,Table1[],4,0),IF($B1330=3,VLOOKUP(D$2,Table1[],5,0),IF($B1330=4,VLOOKUP(D$2,Table1[],5,0),0))))","v":2000000},{"$f":"IF($B1330=1,VLOOKUP(E$2,Table1[],3,0),IF($B1330=2,VLOOKUP(E$2,Table1[],4,0),IF($B1330=3,VLOOKUP(E$2,Table1[],5,0),IF($B1330=4,VLOOKUP(E$2,Table1[],5,0),0))))","v":1500000},{"$f":"IF($B1330=1,VLOOKUP(F$2,Table1[],3,0),IF($B1330=2,VLOOKUP(F$2,Table1[],4,0),IF($B1330=3,VLOOKUP(F$2,Table1[],5,0),IF($B1330=4,VLOOKUP(F$2,Table1[],5,0),0))))","v":800000}]
[6165,1,{"$f":"IF($B1331=1,VLOOKUP(C$2,Table1[],3,0),IF($B1331=2,VLOOKUP(C$2,Table1[],4,0),IF($B1331=3,VLOOKUP(C$2,Table1[],5,0),IF($B1331=4,VLOOKUP(C$2,Table1[],5,0),0))))","v":2000000},{"$f":"IF($B1331=1,VLOOKUP(D$2,Table1[],3,0),IF($B1331=2,VLOOKUP(D$2,Table1[],4,0),IF($B1331=3,VLOOKUP(D$2,Table1[],5,0),IF($B1331=4,VLOOKUP(D$2,Table1[],5,0),0))))","v":2000000},{"$f":"IF($B1331=1,VLOOKUP(E$2,Table1[],3,0),IF($B1331=2,VLOOKUP(E$2,Table1[],4,0),IF($B1331=3,VLOOKUP(E$2,Table1[],5,0),IF($B1331=4,VLOOKUP(E$2,Table1[],5,0),0))))","v":1500000},{"$f":"IF($B1331=1,VLOOKUP(F$2,Table1[],3,0),IF($B1331=2,VLOOKUP(F$2,Table1[],4,0),IF($B1331=3,VLOOKUP(F$2,Table1[],5,0),IF($B1331=4,VLOOKUP(F$2,Table1[],5,0),0))))","v":800000}]
[6166,1,{"$f":"IF($B1332=1,VLOOKUP(C$2,Table1[],3,0),IF($B1332=2,VLOOKUP(C$2,Table1[],4,0),IF($B1332=3,VLOOKUP(C$2,Table1[],5,0),IF($B1332=4,VLOOKUP(C$2,Table1[],5,0),0))))","v":2000000},{"$f":"IF($B1332=1,VLOOKUP(D$2,Table1[],3,0),IF($B1332=2,VLOOKUP(D$2,Table1[],4,0),IF($B1332=3,VLOOKUP(D$2,Table1[],5,0),IF($B1332=4,VLOOKUP(D$2,Table1[],5,0),0))))","v":2000000},{"$f":"IF($B1332=1,VLOOKUP(E$2,Table1[],3,0),IF($B1332=2,VLOOKUP(E$2,Table1[],4,0),IF($B1332=3,VLOOKUP(E$2,Table1[],5,0),IF($B1332=4,VLOOKUP(E$2,Table1[],5,0),0))))","v":1500000},{"$f":"IF($B1332=1,VLOOKUP(F$2,Table1[],3,0),IF($B1332=2,VLOOKUP(F$2,Table1[],4,0),IF($B1332=3,VLOOKUP(F$2,Table1[],5,0),IF($B1332=4,VLOOKUP(F$2,Table1[],5,0),0))))","v":800000}]
[6167,1,{"$f":"IF($B1333=1,VLOOKUP(C$2,Table1[],3,0),IF($B1333=2,VLOOKUP(C$2,Table1[],4,0),IF($B1333=3,VLOOKUP(C$2,Table1[],5,0),IF($B1333=4,VLOOKUP(C$2,Table1[],5,0),0))))","v":2000000},{"$f":"IF($B1333=1,VLOOKUP(D$2,Table1[],3,0),IF($B1333=2,VLOOKUP(D$2,Table1[],4,0),IF($B1333=3,VLOOKUP(D$2,Table1[],5,0),IF($B1333=4,VLOOKUP(D$2,Table1[],5,0),0))))","v":2000000},{"$f":"IF($B1333=1,VLOOKUP(E$2,Table1[],3,0),IF($B1333=2,VLOOKUP(E$2,Table1[],4,0),IF($B1333=3,VLOOKUP(E$2,Table1[],5,0),IF($B1333=4,VLOOKUP(E$2,Table1[],5,0),0))))","v":1500000},{"$f":"IF($B1333=1,VLOOKUP(F$2,Table1[],3,0),IF($B1333=2,VLOOKUP(F$2,Table1[],4,0),IF($B1333=3,VLOOKUP(F$2,Table1[],5,0),IF($B1333=4,VLOOKUP(F$2,Table1[],5,0),0))))","v":800000}]
[6168,1,{"$f":"IF($B1334=1,VLOOKUP(C$2,Table1[],3,0),IF($B1334=2,VLOOKUP(C$2,Table1[],4,0),IF($B1334=3,VLOOKUP(C$2,Table1[],5,0),IF($B1334=4,VLOOKUP(C$2,Table1[],5,0),0))))","v":2000000},{"$f":"IF($B1334=1,VLOOKUP(D$2,Table1[],3,0),IF($B1334=2,VLOOKUP(D$2,Table1[],4,0),IF($B1334=3,VLOOKUP(D$2,Table1[],5,0),IF($B1334=4,VLOOKUP(D$2,Table1[],5,0),0))))","v":2000000},{"$f":"IF($B1334=1,VLOOKUP(E$2,Table1[],3,0),IF($B1334=2,VLOOKUP(E$2,Table1[],4,0),IF($B1334=3,VLOOKUP(E$2,Table1[],5,0),IF($B1334=4,VLOOKUP(E$2,Table1[],5,0),0))))","v":1500000},{"$f":"IF($B1334=1,VLOOKUP(F$2,Table1[],3,0),IF($B1334=2,VLOOKUP(F$2,Table1[],4,0),IF($B1334=3,VLOOKUP(F$2,Table1[],5,0),IF($B1334=4,VLOOKUP(F$2,Table1[],5,0),0))))","v":800000}]
[6169,1,{"$f":"IF($B1335=1,VLOOKUP(C$2,Table1[],3,0),IF($B1335=2,VLOOKUP(C$2,Table1[],4,0),IF($B1335=3,VLOOKUP(C$2,Table1[],5,0),IF($B1335=4,VLOOKUP(C$2,Table1[],5,0),0))))","v":2000000},{"$f":"IF($B1335=1,VLOOKUP(D$2,Table1[],3,0),IF($B1335=2,VLOOKUP(D$2,Table1[],4,0),IF($B1335=3,VLOOKUP(D$2,Table1[],5,0),IF($B1335=4,VLOOKUP(D$2,Table1[],5,0),0))))","v":2000000},{"$f":"IF($B1335=1,VLOOKUP(E$2,Table1[],3,0),IF($B1335=2,VLOOKUP(E$2,Table1[],4,0),IF($B1335=3,VLOOKUP(E$2,Table1[],5,0),IF($B1335=4,VLOOKUP(E$2,Table1[],5,0),0))))","v":1500000},{"$f":"IF($B1335=1,VLOOKUP(F$2,Table1[],3,0),IF($B1335=2,VLOOKUP(F$2,Table1[],4,0),IF($B1335=3,VLOOKUP(F$2,Table1[],5,0),IF($B1335=4,VLOOKUP(F$2,Table1[],5,0),0))))","v":800000}]
[6170,1,{"$f":"IF($B1336=1,VLOOKUP(C$2,Table1[],3,0),IF($B1336=2,VLOOKUP(C$2,Table1[],4,0),IF($B1336=3,VLOOKUP(C$2,Table1[],5,0),IF($B1336=4,VLOOKUP(C$2,Table1[],5,0),0))))","v":2000000},{"$f":"IF($B1336=1,VLOOKUP(D$2,Table1[],3,0),IF($B1336=2,VLOOKUP(D$2,Table1[],4,0),IF($B1336=3,VLOOKUP(D$2,Table1[],5,0),IF($B1336=4,VLOOKUP(D$2,Table1[],5,0),0))))","v":2000000},{"$f":"IF($B1336=1,VLOOKUP(E$2,Table1[],3,0),IF($B1336=2,VLOOKUP(E$2,Table1[],4,0),IF($B1336=3,VLOOKUP(E$2,Table1[],5,0),IF($B1336=4,VLOOKUP(E$2,Table1[],5,0),0))))","v":1500000},{"$f":"IF($B1336=1,VLOOKUP(F$2,Table1[],3,0),IF($B1336=2,VLOOKUP(F$2,Table1[],4,0),IF($B1336=3,VLOOKUP(F$2,Table1[],5,0),IF($B1336=4,VLOOKUP(F$2,Table1[],5,0),0))))","v":800000}]
[6171,1,{"$f":"IF($B1337=1,VLOOKUP(C$2,Table1[],3,0),IF($B1337=2,VLOOKUP(C$2,Table1[],4,0),IF($B1337=3,VLOOKUP(C$2,Table1[],5,0),IF($B1337=4,VLOOKUP(C$2,Table1[],5,0),0))))","v":2000000},{"$f":"IF($B1337=1,VLOOKUP(D$2,Table1[],3,0),IF($B1337=2,VLOOKUP(D$2,Table1[],4,0),IF($B1337=3,VLOOKUP(D$2,Table1[],5,0),IF($B1337=4,VLOOKUP(D$2,Table1[],5,0),0))))","v":2000000},{"$f":"IF($B1337=1,VLOOKUP(E$2,Table1[],3,0),IF($B1337=2,VLOOKUP(E$2,Table1[],4,0),IF($B1337=3,VLOOKUP(E$2,Table1[],5,0),IF($B1337=4,VLOOKUP(E$2,Table1[],5,0),0))))","v":1500000},{"$f":"IF($B1337=1,VLOOKUP(F$2,Table1[],3,0),IF($B1337=2,VLOOKUP(F$2,Table1[],4,0),IF($B1337=3,VLOOKUP(F$2,Table1[],5,0),IF($B1337=4,VLOOKUP(F$2,Table1[],5,0),0))))","v":800000}]
[6172,1,{"$f":"IF($B1338=1,VLOOKUP(C$2,Table1[],3,0),IF($B1338=2,VLOOKUP(C$2,Table1[],4,0),IF($B1338=3,VLOOKUP(C$2,Table1[],5,0),IF($B1338=4,VLOOKUP(C$2,Table1[],5,0),0))))","v":2000000},{"$f":"IF($B1338=1,VLOOKUP(D$2,Table1[],3,0),IF($B1338=2,VLOOKUP(D$2,Table1[],4,0),IF($B1338=3,VLOOKUP(D$2,Table1[],5,0),IF($B1338=4,VLOOKUP(D$2,Table1[],5,0),0))))","v":2000000},{"$f":"IF($B1338=1,VLOOKUP(E$2,Table1[],3,0),IF($B1338=2,VLOOKUP(E$2,Table1[],4,0),IF($B1338=3,VLOOKUP(E$2,Table1[],5,0),IF($B1338=4,VLOOKUP(E$2,Table1[],5,0),0))))","v":1500000},{"$f":"IF($B1338=1,VLOOKUP(F$2,Table1[],3,0),IF($B1338=2,VLOOKUP(F$2,Table1[],4,0),IF($B1338=3,VLOOKUP(F$2,Table1[],5,0),IF($B1338=4,VLOOKUP(F$2,Table1[],5,0),0))))","v":800000}]
[6173,1,{"$f":"IF($B1339=1,VLOOKUP(C$2,Table1[],3,0),IF($B1339=2,VLOOKUP(C$2,Table1[],4,0),IF($B1339=3,VLOOKUP(C$2,Table1[],5,0),IF($B1339=4,VLOOKUP(C$2,Table1[],5,0),0))))","v":2000000},{"$f":"IF($B1339=1,VLOOKUP(D$2,Table1[],3,0),IF($B1339=2,VLOOKUP(D$2,Table1[],4,0),IF($B1339=3,VLOOKUP(D$2,Table1[],5,0),IF($B1339=4,VLOOKUP(D$2,Table1[],5,0),0))))","v":2000000},{"$f":"IF($B1339=1,VLOOKUP(E$2,Table1[],3,0),IF($B1339=2,VLOOKUP(E$2,Table1[],4,0),IF($B1339=3,VLOOKUP(E$2,Table1[],5,0),IF($B1339=4,VLOOKUP(E$2,Table1[],5,0),0))))","v":1500000},{"$f":"IF($B1339=1,VLOOKUP(F$2,Table1[],3,0),IF($B1339=2,VLOOKUP(F$2,Table1[],4,0),IF($B1339=3,VLOOKUP(F$2,Table1[],5,0),IF($B1339=4,VLOOKUP(F$2,Table1[],5,0),0))))","v":800000}]
[6174,1,{"$f":"IF($B1340=1,VLOOKUP(C$2,Table1[],3,0),IF($B1340=2,VLOOKUP(C$2,Table1[],4,0),IF($B1340=3,VLOOKUP(C$2,Table1[],5,0),IF($B1340=4,VLOOKUP(C$2,Table1[],5,0),0))))","v":2000000},{"$f":"IF($B1340=1,VLOOKUP(D$2,Table1[],3,0),IF($B1340=2,VLOOKUP(D$2,Table1[],4,0),IF($B1340=3,VLOOKUP(D$2,Table1[],5,0),IF($B1340=4,VLOOKUP(D$2,Table1[],5,0),0))))","v":2000000},{"$f":"IF($B1340=1,VLOOKUP(E$2,Table1[],3,0),IF($B1340=2,VLOOKUP(E$2,Table1[],4,0),IF($B1340=3,VLOOKUP(E$2,Table1[],5,0),IF($B1340=4,VLOOKUP(E$2,Table1[],5,0),0))))","v":1500000},{"$f":"IF($B1340=1,VLOOKUP(F$2,Table1[],3,0),IF($B1340=2,VLOOKUP(F$2,Table1[],4,0),IF($B1340=3,VLOOKUP(F$2,Table1[],5,0),IF($B1340=4,VLOOKUP(F$2,Table1[],5,0),0))))","v":800000}]
[6175,1,{"$f":"IF($B1341=1,VLOOKUP(C$2,Table1[],3,0),IF($B1341=2,VLOOKUP(C$2,Table1[],4,0),IF($B1341=3,VLOOKUP(C$2,Table1[],5,0),IF($B1341=4,VLOOKUP(C$2,Table1[],5,0),0))))","v":2000000},{"$f":"IF($B1341=1,VLOOKUP(D$2,Table1[],3,0),IF($B1341=2,VLOOKUP(D$2,Table1[],4,0),IF($B1341=3,VLOOKUP(D$2,Table1[],5,0),IF($B1341=4,VLOOKUP(D$2,Table1[],5,0),0))))","v":2000000},{"$f":"IF($B1341=1,VLOOKUP(E$2,Table1[],3,0),IF($B1341=2,VLOOKUP(E$2,Table1[],4,0),IF($B1341=3,VLOOKUP(E$2,Table1[],5,0),IF($B1341=4,VLOOKUP(E$2,Table1[],5,0),0))))","v":1500000},{"$f":"IF($B1341=1,VLOOKUP(F$2,Table1[],3,0),IF($B1341=2,VLOOKUP(F$2,Table1[],4,0),IF($B1341=3,VLOOKUP(F$2,Table1[],5,0),IF($B1341=4,VLOOKUP(F$2,Table1[],5,0),0))))","v":800000}]
[6176,1,{"$f":"IF($B1342=1,VLOOKUP(C$2,Table1[],3,0),IF($B1342=2,VLOOKUP(C$2,Table1[],4,0),IF($B1342=3,VLOOKUP(C$2,Table1[],5,0),IF($B1342=4,VLOOKUP(C$2,Table1[],5,0),0))))","v":2000000},{"$f":"IF($B1342=1,VLOOKUP(D$2,Table1[],3,0),IF($B1342=2,VLOOKUP(D$2,Table1[],4,0),IF($B1342=3,VLOOKUP(D$2,Table1[],5,0),IF($B1342=4,VLOOKUP(D$2,Table1[],5,0),0))))","v":2000000},{"$f":"IF($B1342=1,VLOOKUP(E$2,Table1[],3,0),IF($B1342=2,VLOOKUP(E$2,Table1[],4,0),IF($B1342=3,VLOOKUP(E$2,Table1[],5,0),IF($B1342=4,VLOOKUP(E$2,Table1[],5,0),0))))","v":1500000},{"$f":"IF($B1342=1,VLOOKUP(F$2,Table1[],3,0),IF($B1342=2,VLOOKUP(F$2,Table1[],4,0),IF($B1342=3,VLOOKUP(F$2,Table1[],5,0),IF($B1342=4,VLOOKUP(F$2,Table1[],5,0),0))))","v":800000}]
[6180,1,{"$f":"IF($B1343=1,VLOOKUP(C$2,Table1[],3,0),IF($B1343=2,VLOOKUP(C$2,Table1[],4,0),IF($B1343=3,VLOOKUP(C$2,Table1[],5,0),IF($B1343=4,VLOOKUP(C$2,Table1[],5,0),0))))","v":2000000},{"$f":"IF($B1343=1,VLOOKUP(D$2,Table1[],3,0),IF($B1343=2,VLOOKUP(D$2,Table1[],4,0),IF($B1343=3,VLOOKUP(D$2,Table1[],5,0),IF($B1343=4,VLOOKUP(D$2,Table1[],5,0),0))))","v":2000000},{"$f":"IF($B1343=1,VLOOKUP(E$2,Table1[],3,0),IF($B1343=2,VLOOKUP(E$2,Table1[],4,0),IF($B1343=3,VLOOKUP(E$2,Table1[],5,0),IF($B1343=4,VLOOKUP(E$2,Table1[],5,0),0))))","v":1500000},{"$f":"IF($B1343=1,VLOOKUP(F$2,Table1[],3,0),IF($B1343=2,VLOOKUP(F$2,Table1[],4,0),IF($B1343=3,VLOOKUP(F$2,Table1[],5,0),IF($B1343=4,VLOOKUP(F$2,Table1[],5,0),0))))","v":800000}]
[6181,1,{"$f":"IF($B1344=1,VLOOKUP(C$2,Table1[],3,0),IF($B1344=2,VLOOKUP(C$2,Table1[],4,0),IF($B1344=3,VLOOKUP(C$2,Table1[],5,0),IF($B1344=4,VLOOKUP(C$2,Table1[],5,0),0))))","v":2000000},{"$f":"IF($B1344=1,VLOOKUP(D$2,Table1[],3,0),IF($B1344=2,VLOOKUP(D$2,Table1[],4,0),IF($B1344=3,VLOOKUP(D$2,Table1[],5,0),IF($B1344=4,VLOOKUP(D$2,Table1[],5,0),0))))","v":2000000},{"$f":"IF($B1344=1,VLOOKUP(E$2,Table1[],3,0),IF($B1344=2,VLOOKUP(E$2,Table1[],4,0),IF($B1344=3,VLOOKUP(E$2,Table1[],5,0),IF($B1344=4,VLOOKUP(E$2,Table1[],5,0),0))))","v":1500000},{"$f":"IF($B1344=1,VLOOKUP(F$2,Table1[],3,0),IF($B1344=2,VLOOKUP(F$2,Table1[],4,0),IF($B1344=3,VLOOKUP(F$2,Table1[],5,0),IF($B1344=4,VLOOKUP(F$2,Table1[],5,0),0))))","v":800000}]
[6182,1,{"$f":"IF($B1345=1,VLOOKUP(C$2,Table1[],3,0),IF($B1345=2,VLOOKUP(C$2,Table1[],4,0),IF($B1345=3,VLOOKUP(C$2,Table1[],5,0),IF($B1345=4,VLOOKUP(C$2,Table1[],5,0),0))))","v":2000000},{"$f":"IF($B1345=1,VLOOKUP(D$2,Table1[],3,0),IF($B1345=2,VLOOKUP(D$2,Table1[],4,0),IF($B1345=3,VLOOKUP(D$2,Table1[],5,0),IF($B1345=4,VLOOKUP(D$2,Table1[],5,0),0))))","v":2000000},{"$f":"IF($B1345=1,VLOOKUP(E$2,Table1[],3,0),IF($B1345=2,VLOOKUP(E$2,Table1[],4,0),IF($B1345=3,VLOOKUP(E$2,Table1[],5,0),IF($B1345=4,VLOOKUP(E$2,Table1[],5,0),0))))","v":1500000},{"$f":"IF($B1345=1,VLOOKUP(F$2,Table1[],3,0),IF($B1345=2,VLOOKUP(F$2,Table1[],4,0),IF($B1345=3,VLOOKUP(F$2,Table1[],5,0),IF($B1345=4,VLOOKUP(F$2,Table1[],5,0),0))))","v":800000}]
[6207,1,{"$f":"IF($B1346=1,VLOOKUP(C$2,Table1[],3,0),IF($B1346=2,VLOOKUP(C$2,Table1[],4,0),IF($B1346=3,VLOOKUP(C$2,Table1[],5,0),IF($B1346=4,VLOOKUP(C$2,Table1[],5,0),0))))","v":2000000},{"$f":"IF($B1346=1,VLOOKUP(D$2,Table1[],3,0),IF($B1346=2,VLOOKUP(D$2,Table1[],4,0),IF($B1346=3,VLOOKUP(D$2,Table1[],5,0),IF($B1346=4,VLOOKUP(D$2,Table1[],5,0),0))))","v":2000000},{"$f":"IF($B1346=1,VLOOKUP(E$2,Table1[],3,0),IF($B1346=2,VLOOKUP(E$2,Table1[],4,0),IF($B1346=3,VLOOKUP(E$2,Table1[],5,0),IF($B1346=4,VLOOKUP(E$2,Table1[],5,0),0))))","v":1500000},{"$f":"IF($B1346=1,VLOOKUP(F$2,Table1[],3,0),IF($B1346=2,VLOOKUP(F$2,Table1[],4,0),IF($B1346=3,VLOOKUP(F$2,Table1[],5,0),IF($B1346=4,VLOOKUP(F$2,Table1[],5,0),0))))","v":800000}]
[6208,1,{"$f":"IF($B1347=1,VLOOKUP(C$2,Table1[],3,0),IF($B1347=2,VLOOKUP(C$2,Table1[],4,0),IF($B1347=3,VLOOKUP(C$2,Table1[],5,0),IF($B1347=4,VLOOKUP(C$2,Table1[],5,0),0))))","v":2000000},{"$f":"IF($B1347=1,VLOOKUP(D$2,Table1[],3,0),IF($B1347=2,VLOOKUP(D$2,Table1[],4,0),IF($B1347=3,VLOOKUP(D$2,Table1[],5,0),IF($B1347=4,VLOOKUP(D$2,Table1[],5,0),0))))","v":2000000},{"$f":"IF($B1347=1,VLOOKUP(E$2,Table1[],3,0),IF($B1347=2,VLOOKUP(E$2,Table1[],4,0),IF($B1347=3,VLOOKUP(E$2,Table1[],5,0),IF($B1347=4,VLOOKUP(E$2,Table1[],5,0),0))))","v":1500000},{"$f":"IF($B1347=1,VLOOKUP(F$2,Table1[],3,0),IF($B1347=2,VLOOKUP(F$2,Table1[],4,0),IF($B1347=3,VLOOKUP(F$2,Table1[],5,0),IF($B1347=4,VLOOKUP(F$2,Table1[],5,0),0))))","v":800000}]
[6209,1,{"$f":"IF($B1348=1,VLOOKUP(C$2,Table1[],3,0),IF($B1348=2,VLOOKUP(C$2,Table1[],4,0),IF($B1348=3,VLOOKUP(C$2,Table1[],5,0),IF($B1348=4,VLOOKUP(C$2,Table1[],5,0),0))))","v":2000000},{"$f":"IF($B1348=1,VLOOKUP(D$2,Table1[],3,0),IF($B1348=2,VLOOKUP(D$2,Table1[],4,0),IF($B1348=3,VLOOKUP(D$2,Table1[],5,0),IF($B1348=4,VLOOKUP(D$2,Table1[],5,0),0))))","v":2000000},{"$f":"IF($B1348=1,VLOOKUP(E$2,Table1[],3,0),IF($B1348=2,VLOOKUP(E$2,Table1[],4,0),IF($B1348=3,VLOOKUP(E$2,Table1[],5,0),IF($B1348=4,VLOOKUP(E$2,Table1[],5,0),0))))","v":1500000},{"$f":"IF($B1348=1,VLOOKUP(F$2,Table1[],3,0),IF($B1348=2,VLOOKUP(F$2,Table1[],4,0),IF($B1348=3,VLOOKUP(F$2,Table1[],5,0),IF($B1348=4,VLOOKUP(F$2,Table1[],5,0),0))))","v":800000}]
[6210,1,{"$f":"IF($B1349=1,VLOOKUP(C$2,Table1[],3,0),IF($B1349=2,VLOOKUP(C$2,Table1[],4,0),IF($B1349=3,VLOOKUP(C$2,Table1[],5,0),IF($B1349=4,VLOOKUP(C$2,Table1[],5,0),0))))","v":2000000},{"$f":"IF($B1349=1,VLOOKUP(D$2,Table1[],3,0),IF($B1349=2,VLOOKUP(D$2,Table1[],4,0),IF($B1349=3,VLOOKUP(D$2,Table1[],5,0),IF($B1349=4,VLOOKUP(D$2,Table1[],5,0),0))))","v":2000000},{"$f":"IF($B1349=1,VLOOKUP(E$2,Table1[],3,0),IF($B1349=2,VLOOKUP(E$2,Table1[],4,0),IF($B1349=3,VLOOKUP(E$2,Table1[],5,0),IF($B1349=4,VLOOKUP(E$2,Table1[],5,0),0))))","v":1500000},{"$f":"IF($B1349=1,VLOOKUP(F$2,Table1[],3,0),IF($B1349=2,VLOOKUP(F$2,Table1[],4,0),IF($B1349=3,VLOOKUP(F$2,Table1[],5,0),IF($B1349=4,VLOOKUP(F$2,Table1[],5,0),0))))","v":800000}]
[6211,1,{"$f":"IF($B1350=1,VLOOKUP(C$2,Table1[],3,0),IF($B1350=2,VLOOKUP(C$2,Table1[],4,0),IF($B1350=3,VLOOKUP(C$2,Table1[],5,0),IF($B1350=4,VLOOKUP(C$2,Table1[],5,0),0))))","v":2000000},{"$f":"IF($B1350=1,VLOOKUP(D$2,Table1[],3,0),IF($B1350=2,VLOOKUP(D$2,Table1[],4,0),IF($B1350=3,VLOOKUP(D$2,Table1[],5,0),IF($B1350=4,VLOOKUP(D$2,Table1[],5,0),0))))","v":2000000},{"$f":"IF($B1350=1,VLOOKUP(E$2,Table1[],3,0),IF($B1350=2,VLOOKUP(E$2,Table1[],4,0),IF($B1350=3,VLOOKUP(E$2,Table1[],5,0),IF($B1350=4,VLOOKUP(E$2,Table1[],5,0),0))))","v":1500000},{"$f":"IF($B1350=1,VLOOKUP(F$2,Table1[],3,0),IF($B1350=2,VLOOKUP(F$2,Table1[],4,0),IF($B1350=3,VLOOKUP(F$2,Table1[],5,0),IF($B1350=4,VLOOKUP(F$2,Table1[],5,0),0))))","v":800000}]
[6213,1,{"$f":"IF($B1351=1,VLOOKUP(C$2,Table1[],3,0),IF($B1351=2,VLOOKUP(C$2,Table1[],4,0),IF($B1351=3,VLOOKUP(C$2,Table1[],5,0),IF($B1351=4,VLOOKUP(C$2,Table1[],5,0),0))))","v":2000000},{"$f":"IF($B1351=1,VLOOKUP(D$2,Table1[],3,0),IF($B1351=2,VLOOKUP(D$2,Table1[],4,0),IF($B1351=3,VLOOKUP(D$2,Table1[],5,0),IF($B1351=4,VLOOKUP(D$2,Table1[],5,0),0))))","v":2000000},{"$f":"IF($B1351=1,VLOOKUP(E$2,Table1[],3,0),IF($B1351=2,VLOOKUP(E$2,Table1[],4,0),IF($B1351=3,VLOOKUP(E$2,Table1[],5,0),IF($B1351=4,VLOOKUP(E$2,Table1[],5,0),0))))","v":1500000},{"$f":"IF($B1351=1,VLOOKUP(F$2,Table1[],3,0),IF($B1351=2,VLOOKUP(F$2,Table1[],4,0),IF($B1351=3,VLOOKUP(F$2,Table1[],5,0),IF($B1351=4,VLOOKUP(F$2,Table1[],5,0),0))))","v":800000}]
[6214,1,{"$f":"IF($B1352=1,VLOOKUP(C$2,Table1[],3,0),IF($B1352=2,VLOOKUP(C$2,Table1[],4,0),IF($B1352=3,VLOOKUP(C$2,Table1[],5,0),IF($B1352=4,VLOOKUP(C$2,Table1[],5,0),0))))","v":2000000},{"$f":"IF($B1352=1,VLOOKUP(D$2,Table1[],3,0),IF($B1352=2,VLOOKUP(D$2,Table1[],4,0),IF($B1352=3,VLOOKUP(D$2,Table1[],5,0),IF($B1352=4,VLOOKUP(D$2,Table1[],5,0),0))))","v":2000000},{"$f":"IF($B1352=1,VLOOKUP(E$2,Table1[],3,0),IF($B1352=2,VLOOKUP(E$2,Table1[],4,0),IF($B1352=3,VLOOKUP(E$2,Table1[],5,0),IF($B1352=4,VLOOKUP(E$2,Table1[],5,0),0))))","v":1500000},{"$f":"IF($B1352=1,VLOOKUP(F$2,Table1[],3,0),IF($B1352=2,VLOOKUP(F$2,Table1[],4,0),IF($B1352=3,VLOOKUP(F$2,Table1[],5,0),IF($B1352=4,VLOOKUP(F$2,Table1[],5,0),0))))","v":800000}]
[6220,4,{"$f":"IF($B1353=1,VLOOKUP(C$2,Table1[],3,0),IF($B1353=2,VLOOKUP(C$2,Table1[],4,0),IF($B1353=3,VLOOKUP(C$2,Table1[],5,0),IF($B1353=4,VLOOKUP(C$2,Table1[],5,0),0))))","v":500000},{"$f":"IF($B1353=1,VLOOKUP(D$2,Table1[],3,0),IF($B1353=2,VLOOKUP(D$2,Table1[],4,0),IF($B1353=3,VLOOKUP(D$2,Table1[],5,0),IF($B1353=4,VLOOKUP(D$2,Table1[],5,0),0))))","v":400000},{"$f":"IF($B1353=1,VLOOKUP(E$2,Table1[],3,0),IF($B1353=2,VLOOKUP(E$2,Table1[],4,0),IF($B1353=3,VLOOKUP(E$2,Table1[],5,0),IF($B1353=4,VLOOKUP(E$2,Table1[],5,0),0))))","v":"N/A"},{"$f":"IF($B1353=1,VLOOKUP(F$2,Table1[],3,0),IF($B1353=2,VLOOKUP(F$2,Table1[],4,0),IF($B1353=3,VLOOKUP(F$2,Table1[],5,0),IF($B1353=4,VLOOKUP(F$2,Table1[],5,0),0))))","v":"N/A"}]
[6225,3,{"$f":"IF($B1354=1,VLOOKUP(C$2,Table1[],3,0),IF($B1354=2,VLOOKUP(C$2,Table1[],4,0),IF($B1354=3,VLOOKUP(C$2,Table1[],5,0),IF($B1354=4,VLOOKUP(C$2,Table1[],5,0),0))))","v":500000},{"$f":"IF($B1354=1,VLOOKUP(D$2,Table1[],3,0),IF($B1354=2,VLOOKUP(D$2,Table1[],4,0),IF($B1354=3,VLOOKUP(D$2,Table1[],5,0),IF($B1354=4,VLOOKUP(D$2,Table1[],5,0),0))))","v":400000},{"$f":"IF($B1354=1,VLOOKUP(E$2,Table1[],3,0),IF($B1354=2,VLOOKUP(E$2,Table1[],4,0),IF($B1354=3,VLOOKUP(E$2,Table1[],5,0),IF($B1354=4,VLOOKUP(E$2,Table1[],5,0),0))))","v":"N/A"},{"$f":"IF($B1354=1,VLOOKUP(F$2,Table1[],3,0),IF($B1354=2,VLOOKUP(F$2,Table1[],4,0),IF($B1354=3,VLOOKUP(F$2,Table1[],5,0),IF($B1354=4,VLOOKUP(F$2,Table1[],5,0),0))))","v":"N/A"}]
[6229,1,{"$f":"IF($B1355=1,VLOOKUP(C$2,Table1[],3,0),IF($B1355=2,VLOOKUP(C$2,Table1[],4,0),IF($B1355=3,VLOOKUP(C$2,Table1[],5,0),IF($B1355=4,VLOOKUP(C$2,Table1[],5,0),0))))","v":2000000},{"$f":"IF($B1355=1,VLOOKUP(D$2,Table1[],3,0),IF($B1355=2,VLOOKUP(D$2,Table1[],4,0),IF($B1355=3,VLOOKUP(D$2,Table1[],5,0),IF($B1355=4,VLOOKUP(D$2,Table1[],5,0),0))))","v":2000000},{"$f":"IF($B1355=1,VLOOKUP(E$2,Table1[],3,0),IF($B1355=2,VLOOKUP(E$2,Table1[],4,0),IF($B1355=3,VLOOKUP(E$2,Table1[],5,0),IF($B1355=4,VLOOKUP(E$2,Table1[],5,0),0))))","v":1500000},{"$f":"IF($B1355=1,VLOOKUP(F$2,Table1[],3,0),IF($B1355=2,VLOOKUP(F$2,Table1[],4,0),IF($B1355=3,VLOOKUP(F$2,Table1[],5,0),IF($B1355=4,VLOOKUP(F$2,Table1[],5,0),0))))","v":800000}]
[6230,1,{"$f":"IF($B1356=1,VLOOKUP(C$2,Table1[],3,0),IF($B1356=2,VLOOKUP(C$2,Table1[],4,0),IF($B1356=3,VLOOKUP(C$2,Table1[],5,0),IF($B1356=4,VLOOKUP(C$2,Table1[],5,0),0))))","v":2000000},{"$f":"IF($B1356=1,VLOOKUP(D$2,Table1[],3,0),IF($B1356=2,VLOOKUP(D$2,Table1[],4,0),IF($B1356=3,VLOOKUP(D$2,Table1[],5,0),IF($B1356=4,VLOOKUP(D$2,Table1[],5,0),0))))","v":2000000},{"$f":"IF($B1356=1,VLOOKUP(E$2,Table1[],3,0),IF($B1356=2,VLOOKUP(E$2,Table1[],4,0),IF($B1356=3,VLOOKUP(E$2,Table1[],5,0),IF($B1356=4,VLOOKUP(E$2,Table1[],5,0),0))))","v":1500000},{"$f":"IF($B1356=1,VLOOKUP(F$2,Table1[],3,0),IF($B1356=2,VLOOKUP(F$2,Table1[],4,0),IF($B1356=3,VLOOKUP(F$2,Table1[],5,0),IF($B1356=4,VLOOKUP(F$2,Table1[],5,0),0))))","v":800000}]
[6232,1,{"$f":"IF($B1357=1,VLOOKUP(C$2,Table1[],3,0),IF($B1357=2,VLOOKUP(C$2,Table1[],4,0),IF($B1357=3,VLOOKUP(C$2,Table1[],5,0),IF($B1357=4,VLOOKUP(C$2,Table1[],5,0),0))))","v":2000000},{"$f":"IF($B1357=1,VLOOKUP(D$2,Table1[],3,0),IF($B1357=2,VLOOKUP(D$2,Table1[],4,0),IF($B1357=3,VLOOKUP(D$2,Table1[],5,0),IF($B1357=4,VLOOKUP(D$2,Table1[],5,0),0))))","v":2000000},{"$f":"IF($B1357=1,VLOOKUP(E$2,Table1[],3,0),IF($B1357=2,VLOOKUP(E$2,Table1[],4,0),IF($B1357=3,VLOOKUP(E$2,Table1[],5,0),IF($B1357=4,VLOOKUP(E$2,Table1[],5,0),0))))","v":1500000},{"$f":"IF($B1357=1,VLOOKUP(F$2,Table1[],3,0),IF($B1357=2,VLOOKUP(F$2,Table1[],4,0),IF($B1357=3,VLOOKUP(F$2,Table1[],5,0),IF($B1357=4,VLOOKUP(F$2,Table1[],5,0),0))))","v":800000}]
[6233,1,{"$f":"IF($B1358=1,VLOOKUP(C$2,Table1[],3,0),IF($B1358=2,VLOOKUP(C$2,Table1[],4,0),IF($B1358=3,VLOOKUP(C$2,Table1[],5,0),IF($B1358=4,VLOOKUP(C$2,Table1[],5,0),0))))","v":2000000},{"$f":"IF($B1358=1,VLOOKUP(D$2,Table1[],3,0),IF($B1358=2,VLOOKUP(D$2,Table1[],4,0),IF($B1358=3,VLOOKUP(D$2,Table1[],5,0),IF($B1358=4,VLOOKUP(D$2,Table1[],5,0),0))))","v":2000000},{"$f":"IF($B1358=1,VLOOKUP(E$2,Table1[],3,0),IF($B1358=2,VLOOKUP(E$2,Table1[],4,0),IF($B1358=3,VLOOKUP(E$2,Table1[],5,0),IF($B1358=4,VLOOKUP(E$2,Table1[],5,0),0))))","v":1500000},{"$f":"IF($B1358=1,VLOOKUP(F$2,Table1[],3,0),IF($B1358=2,VLOOKUP(F$2,Table1[],4,0),IF($B1358=3,VLOOKUP(F$2,Table1[],5,0),IF($B1358=4,VLOOKUP(F$2,Table1[],5,0),0))))","v":800000}]
[6254,4,{"$f":"IF($B1359=1,VLOOKUP(C$2,Table1[],3,0),IF($B1359=2,VLOOKUP(C$2,Table1[],4,0),IF($B1359=3,VLOOKUP(C$2,Table1[],5,0),IF($B1359=4,VLOOKUP(C$2,Table1[],5,0),0))))","v":500000},{"$f":"IF($B1359=1,VLOOKUP(D$2,Table1[],3,0),IF($B1359=2,VLOOKUP(D$2,Table1[],4,0),IF($B1359=3,VLOOKUP(D$2,Table1[],5,0),IF($B1359=4,VLOOKUP(D$2,Table1[],5,0),0))))","v":400000},{"$f":"IF($B1359=1,VLOOKUP(E$2,Table1[],3,0),IF($B1359=2,VLOOKUP(E$2,Table1[],4,0),IF($B1359=3,VLOOKUP(E$2,Table1[],5,0),IF($B1359=4,VLOOKUP(E$2,Table1[],5,0),0))))","v":"N/A"},{"$f":"IF($B1359=1,VLOOKUP(F$2,Table1[],3,0),IF($B1359=2,VLOOKUP(F$2,Table1[],4,0),IF($B1359=3,VLOOKUP(F$2,Table1[],5,0),IF($B1359=4,VLOOKUP(F$2,Table1[],5,0),0))))","v":"N/A"}]
[6280,1,{"$f":"IF($B1360=1,VLOOKUP(C$2,Table1[],3,0),IF($B1360=2,VLOOKUP(C$2,Table1[],4,0),IF($B1360=3,VLOOKUP(C$2,Table1[],5,0),IF($B1360=4,VLOOKUP(C$2,Table1[],5,0),0))))","v":2000000},{"$f":"IF($B1360=1,VLOOKUP(D$2,Table1[],3,0),IF($B1360=2,VLOOKUP(D$2,Table1[],4,0),IF($B1360=3,VLOOKUP(D$2,Table1[],5,0),IF($B1360=4,VLOOKUP(D$2,Table1[],5,0),0))))","v":2000000},{"$f":"IF($B1360=1,VLOOKUP(E$2,Table1[],3,0),IF($B1360=2,VLOOKUP(E$2,Table1[],4,0),IF($B1360=3,VLOOKUP(E$2,Table1[],5,0),IF($B1360=4,VLOOKUP(E$2,Table1[],5,0),0))))","v":1500000},{"$f":"IF($B1360=1,VLOOKUP(F$2,Table1[],3,0),IF($B1360=2,VLOOKUP(F$2,Table1[],4,0),IF($B1360=3,VLOOKUP(F$2,Table1[],5,0),IF($B1360=4,VLOOKUP(F$2,Table1[],5,0),0))))","v":800000}]
[6281,1,{"$f":"IF($B1361=1,VLOOKUP(C$2,Table1[],3,0),IF($B1361=2,VLOOKUP(C$2,Table1[],4,0),IF($B1361=3,VLOOKUP(C$2,Table1[],5,0),IF($B1361=4,VLOOKUP(C$2,Table1[],5,0),0))))","v":2000000},{"$f":"IF($B1361=1,VLOOKUP(D$2,Table1[],3,0),IF($B1361=2,VLOOKUP(D$2,Table1[],4,0),IF($B1361=3,VLOOKUP(D$2,Table1[],5,0),IF($B1361=4,VLOOKUP(D$2,Table1[],5,0),0))))","v":2000000},{"$f":"IF($B1361=1,VLOOKUP(E$2,Table1[],3,0),IF($B1361=2,VLOOKUP(E$2,Table1[],4,0),IF($B1361=3,VLOOKUP(E$2,Table1[],5,0),IF($B1361=4,VLOOKUP(E$2,Table1[],5,0),0))))","v":1500000},{"$f":"IF($B1361=1,VLOOKUP(F$2,Table1[],3,0),IF($B1361=2,VLOOKUP(F$2,Table1[],4,0),IF($B1361=3,VLOOKUP(F$2,Table1[],5,0),IF($B1361=4,VLOOKUP(F$2,Table1[],5,0),0))))","v":800000}]
[6282,1,{"$f":"IF($B1362=1,VLOOKUP(C$2,Table1[],3,0),IF($B1362=2,VLOOKUP(C$2,Table1[],4,0),IF($B1362=3,VLOOKUP(C$2,Table1[],5,0),IF($B1362=4,VLOOKUP(C$2,Table1[],5,0),0))))","v":2000000},{"$f":"IF($B1362=1,VLOOKUP(D$2,Table1[],3,0),IF($B1362=2,VLOOKUP(D$2,Table1[],4,0),IF($B1362=3,VLOOKUP(D$2,Table1[],5,0),IF($B1362=4,VLOOKUP(D$2,Table1[],5,0),0))))","v":2000000},{"$f":"IF($B1362=1,VLOOKUP(E$2,Table1[],3,0),IF($B1362=2,VLOOKUP(E$2,Table1[],4,0),IF($B1362=3,VLOOKUP(E$2,Table1[],5,0),IF($B1362=4,VLOOKUP(E$2,Table1[],5,0),0))))","v":1500000},{"$f":"IF($B1362=1,VLOOKUP(F$2,Table1[],3,0),IF($B1362=2,VLOOKUP(F$2,Table1[],4,0),IF($B1362=3,VLOOKUP(F$2,Table1[],5,0),IF($B1362=4,VLOOKUP(F$2,Table1[],5,0),0))))","v":800000}]
[6284,1,{"$f":"IF($B1363=1,VLOOKUP(C$2,Table1[],3,0),IF($B1363=2,VLOOKUP(C$2,Table1[],4,0),IF($B1363=3,VLOOKUP(C$2,Table1[],5,0),IF($B1363=4,VLOOKUP(C$2,Table1[],5,0),0))))","v":2000000},{"$f":"IF($B1363=1,VLOOKUP(D$2,Table1[],3,0),IF($B1363=2,VLOOKUP(D$2,Table1[],4,0),IF($B1363=3,VLOOKUP(D$2,Table1[],5,0),IF($B1363=4,VLOOKUP(D$2,Table1[],5,0),0))))","v":2000000},{"$f":"IF($B1363=1,VLOOKUP(E$2,Table1[],3,0),IF($B1363=2,VLOOKUP(E$2,Table1[],4,0),IF($B1363=3,VLOOKUP(E$2,Table1[],5,0),IF($B1363=4,VLOOKUP(E$2,Table1[],5,0),0))))","v":1500000},{"$f":"IF($B1363=1,VLOOKUP(F$2,Table1[],3,0),IF($B1363=2,VLOOKUP(F$2,Table1[],4,0),IF($B1363=3,VLOOKUP(F$2,Table1[],5,0),IF($B1363=4,VLOOKUP(F$2,Table1[],5,0),0))))","v":800000}]
[6285,1,{"$f":"IF($B1364=1,VLOOKUP(C$2,Table1[],3,0),IF($B1364=2,VLOOKUP(C$2,Table1[],4,0),IF($B1364=3,VLOOKUP(C$2,Table1[],5,0),IF($B1364=4,VLOOKUP(C$2,Table1[],5,0),0))))","v":2000000},{"$f":"IF($B1364=1,VLOOKUP(D$2,Table1[],3,0),IF($B1364=2,VLOOKUP(D$2,Table1[],4,0),IF($B1364=3,VLOOKUP(D$2,Table1[],5,0),IF($B1364=4,VLOOKUP(D$2,Table1[],5,0),0))))","v":2000000},{"$f":"IF($B1364=1,VLOOKUP(E$2,Table1[],3,0),IF($B1364=2,VLOOKUP(E$2,Table1[],4,0),IF($B1364=3,VLOOKUP(E$2,Table1[],5,0),IF($B1364=4,VLOOKUP(E$2,Table1[],5,0),0))))","v":1500000},{"$f":"IF($B1364=1,VLOOKUP(F$2,Table1[],3,0),IF($B1364=2,VLOOKUP(F$2,Table1[],4,0),IF($B1364=3,VLOOKUP(F$2,Table1[],5,0),IF($B1364=4,VLOOKUP(F$2,Table1[],5,0),0))))","v":800000}]
[6290,2,{"$f":"IF($B1365=1,VLOOKUP(C$2,Table1[],3,0),IF($B1365=2,VLOOKUP(C$2,Table1[],4,0),IF($B1365=3,VLOOKUP(C$2,Table1[],5,0),IF($B1365=4,VLOOKUP(C$2,Table1[],5,0),0))))","v":1000000},{"$f":"IF($B1365=1,VLOOKUP(D$2,Table1[],3,0),IF($B1365=2,VLOOKUP(D$2,Table1[],4,0),IF($B1365=3,VLOOKUP(D$2,Table1[],5,0),IF($B1365=4,VLOOKUP(D$2,Table1[],5,0),0))))","v":1000000},{"$f":"IF($B1365=1,VLOOKUP(E$2,Table1[],3,0),IF($B1365=2,VLOOKUP(E$2,Table1[],4,0),IF($B1365=3,VLOOKUP(E$2,Table1[],5,0),IF($B1365=4,VLOOKUP(E$2,Table1[],5,0),0))))","v":750000},{"$f":"IF($B1365=1,VLOOKUP(F$2,Table1[],3,0),IF($B1365=2,VLOOKUP(F$2,Table1[],4,0),IF($B1365=3,VLOOKUP(F$2,Table1[],5,0),IF($B1365=4,VLOOKUP(F$2,Table1[],5,0),0))))","v":500000}]
[6330,1,{"$f":"IF($B1366=1,VLOOKUP(C$2,Table1[],3,0),IF($B1366=2,VLOOKUP(C$2,Table1[],4,0),IF($B1366=3,VLOOKUP(C$2,Table1[],5,0),IF($B1366=4,VLOOKUP(C$2,Table1[],5,0),0))))","v":2000000},{"$f":"IF($B1366=1,VLOOKUP(D$2,Table1[],3,0),IF($B1366=2,VLOOKUP(D$2,Table1[],4,0),IF($B1366=3,VLOOKUP(D$2,Table1[],5,0),IF($B1366=4,VLOOKUP(D$2,Table1[],5,0),0))))","v":2000000},{"$f":"IF($B1366=1,VLOOKUP(E$2,Table1[],3,0),IF($B1366=2,VLOOKUP(E$2,Table1[],4,0),IF($B1366=3,VLOOKUP(E$2,Table1[],5,0),IF($B1366=4,VLOOKUP(E$2,Table1[],5,0),0))))","v":1500000},{"$f":"IF($B1366=1,VLOOKUP(F$2,Table1[],3,0),IF($B1366=2,VLOOKUP(F$2,Table1[],4,0),IF($B1366=3,VLOOKUP(F$2,Table1[],5,0),IF($B1366=4,VLOOKUP(F$2,Table1[],5,0),0))))","v":800000}]
[6333,3,{"$f":"IF($B1367=1,VLOOKUP(C$2,Table1[],3,0),IF($B1367=2,VLOOKUP(C$2,Table1[],4,0),IF($B1367=3,VLOOKUP(C$2,Table1[],5,0),IF($B1367=4,VLOOKUP(C$2,Table1[],5,0),0))))","v":500000},{"$f":"IF($B1367=1,VLOOKUP(D$2,Table1[],3,0),IF($B1367=2,VLOOKUP(D$2,Table1[],4,0),IF($B1367=3,VLOOKUP(D$2,Table1[],5,0),IF($B1367=4,VLOOKUP(D$2,Table1[],5,0),0))))","v":400000},{"$f":"IF($B1367=1,VLOOKUP(E$2,Table1[],3,0),IF($B1367=2,VLOOKUP(E$2,Table1[],4,0),IF($B1367=3,VLOOKUP(E$2,Table1[],5,0),IF($B1367=4,VLOOKUP(E$2,Table1[],5,0),0))))","v":"N/A"},{"$f":"IF($B1367=1,VLOOKUP(F$2,Table1[],3,0),IF($B1367=2,VLOOKUP(F$2,Table1[],4,0),IF($B1367=3,VLOOKUP(F$2,Table1[],5,0),IF($B1367=4,VLOOKUP(F$2,Table1[],5,0),0))))","v":"N/A"}]
[6346,4,{"$f":"IF($B1368=1,VLOOKUP(C$2,Table1[],3,0),IF($B1368=2,VLOOKUP(C$2,Table1[],4,0),IF($B1368=3,VLOOKUP(C$2,Table1[],5,0),IF($B1368=4,VLOOKUP(C$2,Table1[],5,0),0))))","v":500000},{"$f":"IF($B1368=1,VLOOKUP(D$2,Table1[],3,0),IF($B1368=2,VLOOKUP(D$2,Table1[],4,0),IF($B1368=3,VLOOKUP(D$2,Table1[],5,0),IF($B1368=4,VLOOKUP(D$2,Table1[],5,0),0))))","v":400000},{"$f":"IF($B1368=1,VLOOKUP(E$2,Table1[],3,0),IF($B1368=2,VLOOKUP(E$2,Table1[],4,0),IF($B1368=3,VLOOKUP(E$2,Table1[],5,0),IF($B1368=4,VLOOKUP(E$2,Table1[],5,0),0))))","v":"N/A"},{"$f":"IF($B1368=1,VLOOKUP(F$2,Table1[],3,0),IF($B1368=2,VLOOKUP(F$2,Table1[],4,0),IF($B1368=3,VLOOKUP(F$2,Table1[],5,0),IF($B1368=4,VLOOKUP(F$2,Table1[],5,0),0))))","v":"N/A"}]
[6390,4,{"$f":"IF($B1369=1,VLOOKUP(C$2,Table1[],3,0),IF($B1369=2,VLOOKUP(C$2,Table1[],4,0),IF($B1369=3,VLOOKUP(C$2,Table1[],5,0),IF($B1369=4,VLOOKUP(C$2,Table1[],5,0),0))))","v":500000},{"$f":"IF($B1369=1,VLOOKUP(D$2,Table1[],3,0),IF($B1369=2,VLOOKUP(D$2,Table1[],4,0),IF($B1369=3,VLOOKUP(D$2,Table1[],5,0),IF($B1369=4,VLOOKUP(D$2,Table1[],5,0),0))))","v":400000},{"$f":"IF($B1369=1,VLOOKUP(E$2,Table1[],3,0),IF($B1369=2,VLOOKUP(E$2,Table1[],4,0),IF($B1369=3,VLOOKUP(E$2,Table1[],5,0),IF($B1369=4,VLOOKUP(E$2,Table1[],5,0),0))))","v":"N/A"},{"$f":"IF($B1369=1,VLOOKUP(F$2,Table1[],3,0),IF($B1369=2,VLOOKUP(F$2,Table1[],4,0),IF($B1369=3,VLOOKUP(F$2,Table1[],5,0),IF($B1369=4,VLOOKUP(F$2,Table1[],5,0),0))))","v":"N/A"}]
[6401,3,{"$f":"IF($B1370=1,VLOOKUP(C$2,Table1[],3,0),IF($B1370=2,VLOOKUP(C$2,Table1[],4,0),IF($B1370=3,VLOOKUP(C$2,Table1[],5,0),IF($B1370=4,VLOOKUP(C$2,Table1[],5,0),0))))","v":500000},{"$f":"IF($B1370=1,VLOOKUP(D$2,Table1[],3,0),IF($B1370=2,VLOOKUP(D$2,Table1[],4,0),IF($B1370=3,VLOOKUP(D$2,Table1[],5,0),IF($B1370=4,VLOOKUP(D$2,Table1[],5,0),0))))","v":400000},{"$f":"IF($B1370=1,VLOOKUP(E$2,Table1[],3,0),IF($B1370=2,VLOOKUP(E$2,Table1[],4,0),IF($B1370=3,VLOOKUP(E$2,Table1[],5,0),IF($B1370=4,VLOOKUP(E$2,Table1[],5,0),0))))","v":"N/A"},{"$f":"IF($B1370=1,VLOOKUP(F$2,Table1[],3,0),IF($B1370=2,VLOOKUP(F$2,Table1[],4,0),IF($B1370=3,VLOOKUP(F$2,Table1[],5,0),IF($B1370=4,VLOOKUP(F$2,Table1[],5,0),0))))","v":"N/A"}]
[6429,4,{"$f":"IF($B1371=1,VLOOKUP(C$2,Table1[],3,0),IF($B1371=2,VLOOKUP(C$2,Table1[],4,0),IF($B1371=3,VLOOKUP(C$2,Table1[],5,0),IF($B1371=4,VLOOKUP(C$2,Table1[],5,0),0))))","v":500000},{"$f":"IF($B1371=1,VLOOKUP(D$2,Table1[],3,0),IF($B1371=2,VLOOKUP(D$2,Table1[],4,0),IF($B1371=3,VLOOKUP(D$2,Table1[],5,0),IF($B1371=4,VLOOKUP(D$2,Table1[],5,0),0))))","v":400000},{"$f":"IF($B1371=1,VLOOKUP(E$2,Table1[],3,0),IF($B1371=2,VLOOKUP(E$2,Table1[],4,0),IF($B1371=3,VLOOKUP(E$2,Table1[],5,0),IF($B1371=4,VLOOKUP(E$2,Table1[],5,0),0))))","v":"N/A"},{"$f":"IF($B1371=1,VLOOKUP(F$2,Table1[],3,0),IF($B1371=2,VLOOKUP(F$2,Table1[],4,0),IF($B1371=3,VLOOKUP(F$2,Table1[],5,0),IF($B1371=4,VLOOKUP(F$2,Table1[],5,0),0))))","v":"N/A"}]
[6430,4,{"$f":"IF($B1372=1,VLOOKUP(C$2,Table1[],3,0),IF($B1372=2,VLOOKUP(C$2,Table1[],4,0),IF($B1372=3,VLOOKUP(C$2,Table1[],5,0),IF($B1372=4,VLOOKUP(C$2,Table1[],5,0),0))))","v":500000},{"$f":"IF($B1372=1,VLOOKUP(D$2,Table1[],3,0),IF($B1372=2,VLOOKUP(D$2,Table1[],4,0),IF($B1372=3,VLOOKUP(D$2,Table1[],5,0),IF($B1372=4,VLOOKUP(D$2,Table1[],5,0),0))))","v":400000},{"$f":"IF($B1372=1,VLOOKUP(E$2,Table1[],3,0),IF($B1372=2,VLOOKUP(E$2,Table1[],4,0),IF($B1372=3,VLOOKUP(E$2,Table1[],5,0),IF($B1372=4,VLOOKUP(E$2,Table1[],5,0),0))))","v":"N/A"},{"$f":"IF($B1372=1,VLOOKUP(F$2,Table1[],3,0),IF($B1372=2,VLOOKUP(F$2,Table1[],4,0),IF($B1372=3,VLOOKUP(F$2,Table1[],5,0),IF($B1372=4,VLOOKUP(F$2,Table1[],5,0),0))))","v":"N/A"}]
[6432,4,{"$f":"IF($B1373=1,VLOOKUP(C$2,Table1[],3,0),IF($B1373=2,VLOOKUP(C$2,Table1[],4,0),IF($B1373=3,VLOOKUP(C$2,Table1[],5,0),IF($B1373=4,VLOOKUP(C$2,Table1[],5,0),0))))","v":500000},{"$f":"IF($B1373=1,VLOOKUP(D$2,Table1[],3,0),IF($B1373=2,VLOOKUP(D$2,Table1[],4,0),IF($B1373=3,VLOOKUP(D$2,Table1[],5,0),IF($B1373=4,VLOOKUP(D$2,Table1[],5,0),0))))","v":400000},{"$f":"IF($B1373=1,VLOOKUP(E$2,Table1[],3,0),IF($B1373=2,VLOOKUP(E$2,Table1[],4,0),IF($B1373=3,VLOOKUP(E$2,Table1[],5,0),IF($B1373=4,VLOOKUP(E$2,Table1[],5,0),0))))","v":"N/A"},{"$f":"IF($B1373=1,VLOOKUP(F$2,Table1[],3,0),IF($B1373=2,VLOOKUP(F$2,Table1[],4,0),IF($B1373=3,VLOOKUP(F$2,Table1[],5,0),IF($B1373=4,VLOOKUP(F$2,Table1[],5,0),0))))","v":"N/A"}]
[6436,4,{"$f":"IF($B1374=1,VLOOKUP(C$2,Table1[],3,0),IF($B1374=2,VLOOKUP(C$2,Table1[],4,0),IF($B1374=3,VLOOKUP(C$2,Table1[],5,0),IF($B1374=4,VLOOKUP(C$2,Table1[],5,0),0))))","v":500000},{"$f":"IF($B1374=1,VLOOKUP(D$2,Table1[],3,0),IF($B1374=2,VLOOKUP(D$2,Table1[],4,0),IF($B1374=3,VLOOKUP(D$2,Table1[],5,0),IF($B1374=4,VLOOKUP(D$2,Table1[],5,0),0))))","v":400000},{"$f":"IF($B1374=1,VLOOKUP(E$2,Table1[],3,0),IF($B1374=2,VLOOKUP(E$2,Table1[],4,0),IF($B1374=3,VLOOKUP(E$2,Table1[],5,0),IF($B1374=4,VLOOKUP(E$2,Table1[],5,0),0))))","v":"N/A"},{"$f":"IF($B1374=1,VLOOKUP(F$2,Table1[],3,0),IF($B1374=2,VLOOKUP(F$2,Table1[],4,0),IF($B1374=3,VLOOKUP(F$2,Table1[],5,0),IF($B1374=4,VLOOKUP(F$2,Table1[],5,0),0))))","v":"N/A"}]
[6437,4,{"$f":"IF($B1375=1,VLOOKUP(C$2,Table1[],3,0),IF($B1375=2,VLOOKUP(C$2,Table1[],4,0),IF($B1375=3,VLOOKUP(C$2,Table1[],5,0),IF($B1375=4,VLOOKUP(C$2,Table1[],5,0),0))))","v":500000},{"$f":"IF($B1375=1,VLOOKUP(D$2,Table1[],3,0),IF($B1375=2,VLOOKUP(D$2,Table1[],4,0),IF($B1375=3,VLOOKUP(D$2,Table1[],5,0),IF($B1375=4,VLOOKUP(D$2,Table1[],5,0),0))))","v":400000},{"$f":"IF($B1375=1,VLOOKUP(E$2,Table1[],3,0),IF($B1375=2,VLOOKUP(E$2,Table1[],4,0),IF($B1375=3,VLOOKUP(E$2,Table1[],5,0),IF($B1375=4,VLOOKUP(E$2,Table1[],5,0),0))))","v":"N/A"},{"$f":"IF($B1375=1,VLOOKUP(F$2,Table1[],3,0),IF($B1375=2,VLOOKUP(F$2,Table1[],4,0),IF($B1375=3,VLOOKUP(F$2,Table1[],5,0),IF($B1375=4,VLOOKUP(F$2,Table1[],5,0),0))))","v":"N/A"}]
[6438,4,{"$f":"IF($B1376=1,VLOOKUP(C$2,Table1[],3,0),IF($B1376=2,VLOOKUP(C$2,Table1[],4,0),IF($B1376=3,VLOOKUP(C$2,Table1[],5,0),IF($B1376=4,VLOOKUP(C$2,Table1[],5,0),0))))","v":500000},{"$f":"IF($B1376=1,VLOOKUP(D$2,Table1[],3,0),IF($B1376=2,VLOOKUP(D$2,Table1[],4,0),IF($B1376=3,VLOOKUP(D$2,Table1[],5,0),IF($B1376=4,VLOOKUP(D$2,Table1[],5,0),0))))","v":400000},{"$f":"IF($B1376=1,VLOOKUP(E$2,Table1[],3,0),IF($B1376=2,VLOOKUP(E$2,Table1[],4,0),IF($B1376=3,VLOOKUP(E$2,Table1[],5,0),IF($B1376=4,VLOOKUP(E$2,Table1[],5,0),0))))","v":"N/A"},{"$f":"IF($B1376=1,VLOOKUP(F$2,Table1[],3,0),IF($B1376=2,VLOOKUP(F$2,Table1[],4,0),IF($B1376=3,VLOOKUP(F$2,Table1[],5,0),IF($B1376=4,VLOOKUP(F$2,Table1[],5,0),0))))","v":"N/A"}]
[6440,4,{"$f":"IF($B1377=1,VLOOKUP(C$2,Table1[],3,0),IF($B1377=2,VLOOKUP(C$2,Table1[],4,0),IF($B1377=3,VLOOKUP(C$2,Table1[],5,0),IF($B1377=4,VLOOKUP(C$2,Table1[],5,0),0))))","v":500000},{"$f":"IF($B1377=1,VLOOKUP(D$2,Table1[],3,0),IF($B1377=2,VLOOKUP(D$2,Table1[],4,0),IF($B1377=3,VLOOKUP(D$2,Table1[],5,0),IF($B1377=4,VLOOKUP(D$2,Table1[],5,0),0))))","v":400000},{"$f":"IF($B1377=1,VLOOKUP(E$2,Table1[],3,0),IF($B1377=2,VLOOKUP(E$2,Table1[],4,0),IF($B1377=3,VLOOKUP(E$2,Table1[],5,0),IF($B1377=4,VLOOKUP(E$2,Table1[],5,0),0))))","v":"N/A"},{"$f":"IF($B1377=1,VLOOKUP(F$2,Table1[],3,0),IF($B1377=2,VLOOKUP(F$2,Table1[],4,0),IF($B1377=3,VLOOKUP(F$2,Table1[],5,0),IF($B1377=4,VLOOKUP(F$2,Table1[],5,0),0))))","v":"N/A"}]
[6442,4,{"$f":"IF($B1378=1,VLOOKUP(C$2,Table1[],3,0),IF($B1378=2,VLOOKUP(C$2,Table1[],4,0),IF($B1378=3,VLOOKUP(C$2,Table1[],5,0),IF($B1378=4,VLOOKUP(C$2,Table1[],5,0),0))))","v":500000},{"$f":"IF($B1378=1,VLOOKUP(D$2,Table1[],3,0),IF($B1378=2,VLOOKUP(D$2,Table1[],4,0),IF($B1378=3,VLOOKUP(D$2,Table1[],5,0),IF($B1378=4,VLOOKUP(D$2,Table1[],5,0),0))))","v":400000},{"$f":"IF($B1378=1,VLOOKUP(E$2,Table1[],3,0),IF($B1378=2,VLOOKUP(E$2,Table1[],4,0),IF($B1378=3,VLOOKUP(E$2,Table1[],5,0),IF($B1378=4,VLOOKUP(E$2,Table1[],5,0),0))))","v":"N/A"},{"$f":"IF($B1378=1,VLOOKUP(F$2,Table1[],3,0),IF($B1378=2,VLOOKUP(F$2,Table1[],4,0),IF($B1378=3,VLOOKUP(F$2,Table1[],5,0),IF($B1378=4,VLOOKUP(F$2,Table1[],5,0),0))))","v":"N/A"}]
[6443,4,{"$f":"IF($B1379=1,VLOOKUP(C$2,Table1[],3,0),IF($B1379=2,VLOOKUP(C$2,Table1[],4,0),IF($B1379=3,VLOOKUP(C$2,Table1[],5,0),IF($B1379=4,VLOOKUP(C$2,Table1[],5,0),0))))","v":500000},{"$f":"IF($B1379=1,VLOOKUP(D$2,Table1[],3,0),IF($B1379=2,VLOOKUP(D$2,Table1[],4,0),IF($B1379=3,VLOOKUP(D$2,Table1[],5,0),IF($B1379=4,VLOOKUP(D$2,Table1[],5,0),0))))","v":400000},{"$f":"IF($B1379=1,VLOOKUP(E$2,Table1[],3,0),IF($B1379=2,VLOOKUP(E$2,Table1[],4,0),IF($B1379=3,VLOOKUP(E$2,Table1[],5,0),IF($B1379=4,VLOOKUP(E$2,Table1[],5,0),0))))","v":"N/A"},{"$f":"IF($B1379=1,VLOOKUP(F$2,Table1[],3,0),IF($B1379=2,VLOOKUP(F$2,Table1[],4,0),IF($B1379=3,VLOOKUP(F$2,Table1[],5,0),IF($B1379=4,VLOOKUP(F$2,Table1[],5,0),0))))","v":"N/A"}]
[6446,4,{"$f":"IF($B1380=1,VLOOKUP(C$2,Table1[],3,0),IF($B1380=2,VLOOKUP(C$2,Table1[],4,0),IF($B1380=3,VLOOKUP(C$2,Table1[],5,0),IF($B1380=4,VLOOKUP(C$2,Table1[],5,0),0))))","v":500000},{"$f":"IF($B1380=1,VLOOKUP(D$2,Table1[],3,0),IF($B1380=2,VLOOKUP(D$2,Table1[],4,0),IF($B1380=3,VLOOKUP(D$2,Table1[],5,0),IF($B1380=4,VLOOKUP(D$2,Table1[],5,0),0))))","v":400000},{"$f":"IF($B1380=1,VLOOKUP(E$2,Table1[],3,0),IF($B1380=2,VLOOKUP(E$2,Table1[],4,0),IF($B1380=3,VLOOKUP(E$2,Table1[],5,0),IF($B1380=4,VLOOKUP(E$2,Table1[],5,0),0))))","v":"N/A"},{"$f":"IF($B1380=1,VLOOKUP(F$2,Table1[],3,0),IF($B1380=2,VLOOKUP(F$2,Table1[],4,0),IF($B1380=3,VLOOKUP(F$2,Table1[],5,0),IF($B1380=4,VLOOKUP(F$2,Table1[],5,0),0))))","v":"N/A"}]
[6450,2,{"$f":"IF($B1381=1,VLOOKUP(C$2,Table1[],3,0),IF($B1381=2,VLOOKUP(C$2,Table1[],4,0),IF($B1381=3,VLOOKUP(C$2,Table1[],5,0),IF($B1381=4,VLOOKUP(C$2,Table1[],5,0),0))))","v":1000000},{"$f":"IF($B1381=1,VLOOKUP(D$2,Table1[],3,0),IF($B1381=2,VLOOKUP(D$2,Table1[],4,0),IF($B1381=3,VLOOKUP(D$2,Table1[],5,0),IF($B1381=4,VLOOKUP(D$2,Table1[],5,0),0))))","v":1000000},{"$f":"IF($B1381=1,VLOOKUP(E$2,Table1[],3,0),IF($B1381=2,VLOOKUP(E$2,Table1[],4,0),IF($B1381=3,VLOOKUP(E$2,Table1[],5,0),IF($B1381=4,VLOOKUP(E$2,Table1[],5,0),0))))","v":750000},{"$f":"IF($B1381=1,VLOOKUP(F$2,Table1[],3,0),IF($B1381=2,VLOOKUP(F$2,Table1[],4,0),IF($B1381=3,VLOOKUP(F$2,Table1[],5,0),IF($B1381=4,VLOOKUP(F$2,Table1[],5,0),0))))","v":500000}]
[6511,2,{"$f":"IF($B1382=1,VLOOKUP(C$2,Table1[],3,0),IF($B1382=2,VLOOKUP(C$2,Table1[],4,0),IF($B1382=3,VLOOKUP(C$2,Table1[],5,0),IF($B1382=4,VLOOKUP(C$2,Table1[],5,0),0))))","v":1000000},{"$f":"IF($B1382=1,VLOOKUP(D$2,Table1[],3,0),IF($B1382=2,VLOOKUP(D$2,Table1[],4,0),IF($B1382=3,VLOOKUP(D$2,Table1[],5,0),IF($B1382=4,VLOOKUP(D$2,Table1[],5,0),0))))","v":1000000},{"$f":"IF($B1382=1,VLOOKUP(E$2,Table1[],3,0),IF($B1382=2,VLOOKUP(E$2,Table1[],4,0),IF($B1382=3,VLOOKUP(E$2,Table1[],5,0),IF($B1382=4,VLOOKUP(E$2,Table1[],5,0),0))))","v":750000},{"$f":"IF($B1382=1,VLOOKUP(F$2,Table1[],3,0),IF($B1382=2,VLOOKUP(F$2,Table1[],4,0),IF($B1382=3,VLOOKUP(F$2,Table1[],5,0),IF($B1382=4,VLOOKUP(F$2,Table1[],5,0),0))))","v":500000}]
[6516,2,{"$f":"IF($B1383=1,VLOOKUP(C$2,Table1[],3,0),IF($B1383=2,VLOOKUP(C$2,Table1[],4,0),IF($B1383=3,VLOOKUP(C$2,Table1[],5,0),IF($B1383=4,VLOOKUP(C$2,Table1[],5,0),0))))","v":1000000},{"$f":"IF($B1383=1,VLOOKUP(D$2,Table1[],3,0),IF($B1383=2,VLOOKUP(D$2,Table1[],4,0),IF($B1383=3,VLOOKUP(D$2,Table1[],5,0),IF($B1383=4,VLOOKUP(D$2,Table1[],5,0),0))))","v":1000000},{"$f":"IF($B1383=1,VLOOKUP(E$2,Table1[],3,0),IF($B1383=2,VLOOKUP(E$2,Table1[],4,0),IF($B1383=3,VLOOKUP(E$2,Table1[],5,0),IF($B1383=4,VLOOKUP(E$2,Table1[],5,0),0))))","v":750000},{"$f":"IF($B1383=1,VLOOKUP(F$2,Table1[],3,0),IF($B1383=2,VLOOKUP(F$2,Table1[],4,0),IF($B1383=3,VLOOKUP(F$2,Table1[],5,0),IF($B1383=4,VLOOKUP(F$2,Table1[],5,0),0))))","v":500000}]
[6517,4,{"$f":"IF($B1384=1,VLOOKUP(C$2,Table1[],3,0),IF($B1384=2,VLOOKUP(C$2,Table1[],4,0),IF($B1384=3,VLOOKUP(C$2,Table1[],5,0),IF($B1384=4,VLOOKUP(C$2,Table1[],5,0),0))))","v":500000},{"$f":"IF($B1384=1,VLOOKUP(D$2,Table1[],3,0),IF($B1384=2,VLOOKUP(D$2,Table1[],4,0),IF($B1384=3,VLOOKUP(D$2,Table1[],5,0),IF($B1384=4,VLOOKUP(D$2,Table1[],5,0),0))))","v":400000},{"$f":"IF($B1384=1,VLOOKUP(E$2,Table1[],3,0),IF($B1384=2,VLOOKUP(E$2,Table1[],4,0),IF($B1384=3,VLOOKUP(E$2,Table1[],5,0),IF($B1384=4,VLOOKUP(E$2,Table1[],5,0),0))))","v":"N/A"},{"$f":"IF($B1384=1,VLOOKUP(F$2,Table1[],3,0),IF($B1384=2,VLOOKUP(F$2,Table1[],4,0),IF($B1384=3,VLOOKUP(F$2,Table1[],5,0),IF($B1384=4,VLOOKUP(F$2,Table1[],5,0),0))))","v":"N/A"}]
[6518,4,{"$f":"IF($B1385=1,VLOOKUP(C$2,Table1[],3,0),IF($B1385=2,VLOOKUP(C$2,Table1[],4,0),IF($B1385=3,VLOOKUP(C$2,Table1[],5,0),IF($B1385=4,VLOOKUP(C$2,Table1[],5,0),0))))","v":500000},{"$f":"IF($B1385=1,VLOOKUP(D$2,Table1[],3,0),IF($B1385=2,VLOOKUP(D$2,Table1[],4,0),IF($B1385=3,VLOOKUP(D$2,Table1[],5,0),IF($B1385=4,VLOOKUP(D$2,Table1[],5,0),0))))","v":400000},{"$f":"IF($B1385=1,VLOOKUP(E$2,Table1[],3,0),IF($B1385=2,VLOOKUP(E$2,Table1[],4,0),IF($B1385=3,VLOOKUP(E$2,Table1[],5,0),IF($B1385=4,VLOOKUP(E$2,Table1[],5,0),0))))","v":"N/A"},{"$f":"IF($B1385=1,VLOOKUP(F$2,Table1[],3,0),IF($B1385=2,VLOOKUP(F$2,Table1[],4,0),IF($B1385=3,VLOOKUP(F$2,Table1[],5,0),IF($B1385=4,VLOOKUP(F$2,Table1[],5,0),0))))","v":"N/A"}]
[6530,1,{"$f":"IF($B1386=1,VLOOKUP(C$2,Table1[],3,0),IF($B1386=2,VLOOKUP(C$2,Table1[],4,0),IF($B1386=3,VLOOKUP(C$2,Table1[],5,0),IF($B1386=4,VLOOKUP(C$2,Table1[],5,0),0))))","v":2000000},{"$f":"IF($B1386=1,VLOOKUP(D$2,Table1[],3,0),IF($B1386=2,VLOOKUP(D$2,Table1[],4,0),IF($B1386=3,VLOOKUP(D$2,Table1[],5,0),IF($B1386=4,VLOOKUP(D$2,Table1[],5,0),0))))","v":2000000},{"$f":"IF($B1386=1,VLOOKUP(E$2,Table1[],3,0),IF($B1386=2,VLOOKUP(E$2,Table1[],4,0),IF($B1386=3,VLOOKUP(E$2,Table1[],5,0),IF($B1386=4,VLOOKUP(E$2,Table1[],5,0),0))))","v":1500000},{"$f":"IF($B1386=1,VLOOKUP(F$2,Table1[],3,0),IF($B1386=2,VLOOKUP(F$2,Table1[],4,0),IF($B1386=3,VLOOKUP(F$2,Table1[],5,0),IF($B1386=4,VLOOKUP(F$2,Table1[],5,0),0))))","v":800000}]
[6532,2,{"$f":"IF($B1387=1,VLOOKUP(C$2,Table1[],3,0),IF($B1387=2,VLOOKUP(C$2,Table1[],4,0),IF($B1387=3,VLOOKUP(C$2,Table1[],5,0),IF($B1387=4,VLOOKUP(C$2,Table1[],5,0),0))))","v":1000000},{"$f":"IF($B1387=1,VLOOKUP(D$2,Table1[],3,0),IF($B1387=2,VLOOKUP(D$2,Table1[],4,0),IF($B1387=3,VLOOKUP(D$2,Table1[],5,0),IF($B1387=4,VLOOKUP(D$2,Table1[],5,0),0))))","v":1000000},{"$f":"IF($B1387=1,VLOOKUP(E$2,Table1[],3,0),IF($B1387=2,VLOOKUP(E$2,Table1[],4,0),IF($B1387=3,VLOOKUP(E$2,Table1[],5,0),IF($B1387=4,VLOOKUP(E$2,Table1[],5,0),0))))","v":750000},{"$f":"IF($B1387=1,VLOOKUP(F$2,Table1[],3,0),IF($B1387=2,VLOOKUP(F$2,Table1[],4,0),IF($B1387=3,VLOOKUP(F$2,Table1[],5,0),IF($B1387=4,VLOOKUP(F$2,Table1[],5,0),0))))","v":500000}]
[6535,4,{"$f":"IF($B1388=1,VLOOKUP(C$2,Table1[],3,0),IF($B1388=2,VLOOKUP(C$2,Table1[],4,0),IF($B1388=3,VLOOKUP(C$2,Table1[],5,0),IF($B1388=4,VLOOKUP(C$2,Table1[],5,0),0))))","v":500000},{"$f":"IF($B1388=1,VLOOKUP(D$2,Table1[],3,0),IF($B1388=2,VLOOKUP(D$2,Table1[],4,0),IF($B1388=3,VLOOKUP(D$2,Table1[],5,0),IF($B1388=4,VLOOKUP(D$2,Table1[],5,0),0))))","v":400000},{"$f":"IF($B1388=1,VLOOKUP(E$2,Table1[],3,0),IF($B1388=2,VLOOKUP(E$2,Table1[],4,0),IF($B1388=3,VLOOKUP(E$2,Table1[],5,0),IF($B1388=4,VLOOKUP(E$2,Table1[],5,0),0))))","v":"N/A"},{"$f":"IF($B1388=1,VLOOKUP(F$2,Table1[],3,0),IF($B1388=2,VLOOKUP(F$2,Table1[],4,0),IF($B1388=3,VLOOKUP(F$2,Table1[],5,0),IF($B1388=4,VLOOKUP(F$2,Table1[],5,0),0))))","v":"N/A"}]
[6620,4,{"$f":"IF($B1389=1,VLOOKUP(C$2,Table1[],3,0),IF($B1389=2,VLOOKUP(C$2,Table1[],4,0),IF($B1389=3,VLOOKUP(C$2,Table1[],5,0),IF($B1389=4,VLOOKUP(C$2,Table1[],5,0),0))))","v":500000},{"$f":"IF($B1389=1,VLOOKUP(D$2,Table1[],3,0),IF($B1389=2,VLOOKUP(D$2,Table1[],4,0),IF($B1389=3,VLOOKUP(D$2,Table1[],5,0),IF($B1389=4,VLOOKUP(D$2,Table1[],5,0),0))))","v":400000},{"$f":"IF($B1389=1,VLOOKUP(E$2,Table1[],3,0),IF($B1389=2,VLOOKUP(E$2,Table1[],4,0),IF($B1389=3,VLOOKUP(E$2,Table1[],5,0),IF($B1389=4,VLOOKUP(E$2,Table1[],5,0),0))))","v":"N/A"},{"$f":"IF($B1389=1,VLOOKUP(F$2,Table1[],3,0),IF($B1389=2,VLOOKUP(F$2,Table1[],4,0),IF($B1389=3,VLOOKUP(F$2,Table1[],5,0),IF($B1389=4,VLOOKUP(F$2,Table1[],5,0),0))))","v":"N/A"}]
[6640,4,{"$f":"IF($B1390=1,VLOOKUP(C$2,Table1[],3,0),IF($B1390=2,VLOOKUP(C$2,Table1[],4,0),IF($B1390=3,VLOOKUP(C$2,Table1[],5,0),IF($B1390=4,VLOOKUP(C$2,Table1[],5,0),0))))","v":500000},{"$f":"IF($B1390=1,VLOOKUP(D$2,Table1[],3,0),IF($B1390=2,VLOOKUP(D$2,Table1[],4,0),IF($B1390=3,VLOOKUP(D$2,Table1[],5,0),IF($B1390=4,VLOOKUP(D$2,Table1[],5,0),0))))","v":400000},{"$f":"IF($B1390=1,VLOOKUP(E$2,Table1[],3,0),IF($B1390=2,VLOOKUP(E$2,Table1[],4,0),IF($B1390=3,VLOOKUP(E$2,Table1[],5,0),IF($B1390=4,VLOOKUP(E$2,Table1[],5,0),0))))","v":"N/A"},{"$f":"IF($B1390=1,VLOOKUP(F$2,Table1[],3,0),IF($B1390=2,VLOOKUP(F$2,Table1[],4,0),IF($B1390=3,VLOOKUP(F$2,Table1[],5,0),IF($B1390=4,VLOOKUP(F$2,Table1[],5,0),0))))","v":"N/A"}]
[6642,4,{"$f":"IF($B1391=1,VLOOKUP(C$2,Table1[],3,0),IF($B1391=2,VLOOKUP(C$2,Table1[],4,0),IF($B1391=3,VLOOKUP(C$2,Table1[],5,0),IF($B1391=4,VLOOKUP(C$2,Table1[],5,0),0))))","v":500000},{"$f":"IF($B1391=1,VLOOKUP(D$2,Table1[],3,0),IF($B1391=2,VLOOKUP(D$2,Table1[],4,0),IF($B1391=3,VLOOKUP(D$2,Table1[],5,0),IF($B1391=4,VLOOKUP(D$2,Table1[],5,0),0))))","v":400000},{"$f":"IF($B1391=1,VLOOKUP(E$2,Table1[],3,0),IF($B1391=2,VLOOKUP(E$2,Table1[],4,0),IF($B1391=3,VLOOKUP(E$2,Table1[],5,0),IF($B1391=4,VLOOKUP(E$2,Table1[],5,0),0))))","v":"N/A"},{"$f":"IF($B1391=1,VLOOKUP(F$2,Table1[],3,0),IF($B1391=2,VLOOKUP(F$2,Table1[],4,0),IF($B1391=3,VLOOKUP(F$2,Table1[],5,0),IF($B1391=4,VLOOKUP(F$2,Table1[],5,0),0))))","v":"N/A"}]
[6701,4,{"$f":"IF($B1392=1,VLOOKUP(C$2,Table1[],3,0),IF($B1392=2,VLOOKUP(C$2,Table1[],4,0),IF($B1392=3,VLOOKUP(C$2,Table1[],5,0),IF($B1392=4,VLOOKUP(C$2,Table1[],5,0),0))))","v":500000},{"$f":"IF($B1392=1,VLOOKUP(D$2,Table1[],3,0),IF($B1392=2,VLOOKUP(D$2,Table1[],4,0),IF($B1392=3,VLOOKUP(D$2,Table1[],5,0),IF($B1392=4,VLOOKUP(D$2,Table1[],5,0),0))))","v":400000},{"$f":"IF($B1392=1,VLOOKUP(E$2,Table1[],3,0),IF($B1392=2,VLOOKUP(E$2,Table1[],4,0),IF($B1392=3,VLOOKUP(E$2,Table1[],5,0),IF($B1392=4,VLOOKUP(E$2,Table1[],5,0),0))))","v":"N/A"},{"$f":"IF($B1392=1,VLOOKUP(F$2,Table1[],3,0),IF($B1392=2,VLOOKUP(F$2,Table1[],4,0),IF($B1392=3,VLOOKUP(F$2,Table1[],5,0),IF($B1392=4,VLOOKUP(F$2,Table1[],5,0),0))))","v":"N/A"}]
[6707,4,{"$f":"IF($B1393=1,VLOOKUP(C$2,Table1[],3,0),IF($B1393=2,VLOOKUP(C$2,Table1[],4,0),IF($B1393=3,VLOOKUP(C$2,Table1[],5,0),IF($B1393=4,VLOOKUP(C$2,Table1[],5,0),0))))","v":500000},{"$f":"IF($B1393=1,VLOOKUP(D$2,Table1[],3,0),IF($B1393=2,VLOOKUP(D$2,Table1[],4,0),IF($B1393=3,VLOOKUP(D$2,Table1[],5,0),IF($B1393=4,VLOOKUP(D$2,Table1[],5,0),0))))","v":400000},{"$f":"IF($B1393=1,VLOOKUP(E$2,Table1[],3,0),IF($B1393=2,VLOOKUP(E$2,Table1[],4,0),IF($B1393=3,VLOOKUP(E$2,Table1[],5,0),IF($B1393=4,VLOOKUP(E$2,Table1[],5,0),0))))","v":"N/A"},{"$f":"IF($B1393=1,VLOOKUP(F$2,Table1[],3,0),IF($B1393=2,VLOOKUP(F$2,Table1[],4,0),IF($B1393=3,VLOOKUP(F$2,Table1[],5,0),IF($B1393=4,VLOOKUP(F$2,Table1[],5,0),0))))","v":"N/A"}]
[6710,4,{"$f":"IF($B1394=1,VLOOKUP(C$2,Table1[],3,0),IF($B1394=2,VLOOKUP(C$2,Table1[],4,0),IF($B1394=3,VLOOKUP(C$2,Table1[],5,0),IF($B1394=4,VLOOKUP(C$2,Table1[],5,0),0))))","v":500000},{"$f":"IF($B1394=1,VLOOKUP(D$2,Table1[],3,0),IF($B1394=2,VLOOKUP(D$2,Table1[],4,0),IF($B1394=3,VLOOKUP(D$2,Table1[],5,0),IF($B1394=4,VLOOKUP(D$2,Table1[],5,0),0))))","v":400000},{"$f":"IF($B1394=1,VLOOKUP(E$2,Table1[],3,0),IF($B1394=2,VLOOKUP(E$2,Table1[],4,0),IF($B1394=3,VLOOKUP(E$2,Table1[],5,0),IF($B1394=4,VLOOKUP(E$2,Table1[],5,0),0))))","v":"N/A"},{"$f":"IF($B1394=1,VLOOKUP(F$2,Table1[],3,0),IF($B1394=2,VLOOKUP(F$2,Table1[],4,0),IF($B1394=3,VLOOKUP(F$2,Table1[],5,0),IF($B1394=4,VLOOKUP(F$2,Table1[],5,0),0))))","v":"N/A"}]
[6713,4,{"$f":"IF($B1395=1,VLOOKUP(C$2,Table1[],3,0),IF($B1395=2,VLOOKUP(C$2,Table1[],4,0),IF($B1395=3,VLOOKUP(C$2,Table1[],5,0),IF($B1395=4,VLOOKUP(C$2,Table1[],5,0),0))))","v":500000},{"$f":"IF($B1395=1,VLOOKUP(D$2,Table1[],3,0),IF($B1395=2,VLOOKUP(D$2,Table1[],4,0),IF($B1395=3,VLOOKUP(D$2,Table1[],5,0),IF($B1395=4,VLOOKUP(D$2,Table1[],5,0),0))))","v":400000},{"$f":"IF($B1395=1,VLOOKUP(E$2,Table1[],3,0),IF($B1395=2,VLOOKUP(E$2,Table1[],4,0),IF($B1395=3,VLOOKUP(E$2,Table1[],5,0),IF($B1395=4,VLOOKUP(E$2,Table1[],5,0),0))))","v":"N/A"},{"$f":"IF($B1395=1,VLOOKUP(F$2,Table1[],3,0),IF($B1395=2,VLOOKUP(F$2,Table1[],4,0),IF($B1395=3,VLOOKUP(F$2,Table1[],5,0),IF($B1395=4,VLOOKUP(F$2,Table1[],5,0),0))))","v":"N/A"}]
[6714,4,{"$f":"IF($B1396=1,VLOOKUP(C$2,Table1[],3,0),IF($B1396=2,VLOOKUP(C$2,Table1[],4,0),IF($B1396=3,VLOOKUP(C$2,Table1[],5,0),IF($B1396=4,VLOOKUP(C$2,Table1[],5,0),0))))","v":500000},{"$f":"IF($B1396=1,VLOOKUP(D$2,Table1[],3,0),IF($B1396=2,VLOOKUP(D$2,Table1[],4,0),IF($B1396=3,VLOOKUP(D$2,Table1[],5,0),IF($B1396=4,VLOOKUP(D$2,Table1[],5,0),0))))","v":400000},{"$f":"IF($B1396=1,VLOOKUP(E$2,Table1[],3,0),IF($B1396=2,VLOOKUP(E$2,Table1[],4,0),IF($B1396=3,VLOOKUP(E$2,Table1[],5,0),IF($B1396=4,VLOOKUP(E$2,Table1[],5,0),0))))","v":"N/A"},{"$f":"IF($B1396=1,VLOOKUP(F$2,Table1[],3,0),IF($B1396=2,VLOOKUP(F$2,Table1[],4,0),IF($B1396=3,VLOOKUP(F$2,Table1[],5,0),IF($B1396=4,VLOOKUP(F$2,Table1[],5,0),0))))","v":"N/A"}]
[6716,4,{"$f":"IF($B1397=1,VLOOKUP(C$2,Table1[],3,0),IF($B1397=2,VLOOKUP(C$2,Table1[],4,0),IF($B1397=3,VLOOKUP(C$2,Table1[],5,0),IF($B1397=4,VLOOKUP(C$2,Table1[],5,0),0))))","v":500000},{"$f":"IF($B1397=1,VLOOKUP(D$2,Table1[],3,0),IF($B1397=2,VLOOKUP(D$2,Table1[],4,0),IF($B1397=3,VLOOKUP(D$2,Table1[],5,0),IF($B1397=4,VLOOKUP(D$2,Table1[],5,0),0))))","v":400000},{"$f":"IF($B1397=1,VLOOKUP(E$2,Table1[],3,0),IF($B1397=2,VLOOKUP(E$2,Table1[],4,0),IF($B1397=3,VLOOKUP(E$2,Table1[],5,0),IF($B1397=4,VLOOKUP(E$2,Table1[],5,0),0))))","v":"N/A"},{"$f":"IF($B1397=1,VLOOKUP(F$2,Table1[],3,0),IF($B1397=2,VLOOKUP(F$2,Table1[],4,0),IF($B1397=3,VLOOKUP(F$2,Table1[],5,0),IF($B1397=4,VLOOKUP(F$2,Table1[],5,0),0))))","v":"N/A"}]
[6718,4,{"$f":"IF($B1398=1,VLOOKUP(C$2,Table1[],3,0),IF($B1398=2,VLOOKUP(C$2,Table1[],4,0),IF($B1398=3,VLOOKUP(C$2,Table1[],5,0),IF($B1398=4,VLOOKUP(C$2,Table1[],5,0),0))))","v":500000},{"$f":"IF($B1398=1,VLOOKUP(D$2,Table1[],3,0),IF($B1398=2,VLOOKUP(D$2,Table1[],4,0),IF($B1398=3,VLOOKUP(D$2,Table1[],5,0),IF($B1398=4,VLOOKUP(D$2,Table1[],5,0),0))))","v":400000},{"$f":"IF($B1398=1,VLOOKUP(E$2,Table1[],3,0),IF($B1398=2,VLOOKUP(E$2,Table1[],4,0),IF($B1398=3,VLOOKUP(E$2,Table1[],5,0),IF($B1398=4,VLOOKUP(E$2,Table1[],5,0),0))))","v":"N/A"},{"$f":"IF($B1398=1,VLOOKUP(F$2,Table1[],3,0),IF($B1398=2,VLOOKUP(F$2,Table1[],4,0),IF($B1398=3,VLOOKUP(F$2,Table1[],5,0),IF($B1398=4,VLOOKUP(F$2,Table1[],5,0),0))))","v":"N/A"}]
[6720,4,{"$f":"IF($B1399=1,VLOOKUP(C$2,Table1[],3,0),IF($B1399=2,VLOOKUP(C$2,Table1[],4,0),IF($B1399=3,VLOOKUP(C$2,Table1[],5,0),IF($B1399=4,VLOOKUP(C$2,Table1[],5,0),0))))","v":500000},{"$f":"IF($B1399=1,VLOOKUP(D$2,Table1[],3,0),IF($B1399=2,VLOOKUP(D$2,Table1[],4,0),IF($B1399=3,VLOOKUP(D$2,Table1[],5,0),IF($B1399=4,VLOOKUP(D$2,Table1[],5,0),0))))","v":400000},{"$f":"IF($B1399=1,VLOOKUP(E$2,Table1[],3,0),IF($B1399=2,VLOOKUP(E$2,Table1[],4,0),IF($B1399=3,VLOOKUP(E$2,Table1[],5,0),IF($B1399=4,VLOOKUP(E$2,Table1[],5,0),0))))","v":"N/A"},{"$f":"IF($B1399=1,VLOOKUP(F$2,Table1[],3,0),IF($B1399=2,VLOOKUP(F$2,Table1[],4,0),IF($B1399=3,VLOOKUP(F$2,Table1[],5,0),IF($B1399=4,VLOOKUP(F$2,Table1[],5,0),0))))","v":"N/A"}]
[6721,4,{"$f":"IF($B1400=1,VLOOKUP(C$2,Table1[],3,0),IF($B1400=2,VLOOKUP(C$2,Table1[],4,0),IF($B1400=3,VLOOKUP(C$2,Table1[],5,0),IF($B1400=4,VLOOKUP(C$2,Table1[],5,0),0))))","v":500000},{"$f":"IF($B1400=1,VLOOKUP(D$2,Table1[],3,0),IF($B1400=2,VLOOKUP(D$2,Table1[],4,0),IF($B1400=3,VLOOKUP(D$2,Table1[],5,0),IF($B1400=4,VLOOKUP(D$2,Table1[],5,0),0))))","v":400000},{"$f":"IF($B1400=1,VLOOKUP(E$2,Table1[],3,0),IF($B1400=2,VLOOKUP(E$2,Table1[],4,0),IF($B1400=3,VLOOKUP(E$2,Table1[],5,0),IF($B1400=4,VLOOKUP(E$2,Table1[],5,0),0))))","v":"N/A"},{"$f":"IF($B1400=1,VLOOKUP(F$2,Table1[],3,0),IF($B1400=2,VLOOKUP(F$2,Table1[],4,0),IF($B1400=3,VLOOKUP(F$2,Table1[],5,0),IF($B1400=4,VLOOKUP(F$2,Table1[],5,0),0))))","v":"N/A"}]
[6722,4,{"$f":"IF($B1401=1,VLOOKUP(C$2,Table1[],3,0),IF($B1401=2,VLOOKUP(C$2,Table1[],4,0),IF($B1401=3,VLOOKUP(C$2,Table1[],5,0),IF($B1401=4,VLOOKUP(C$2,Table1[],5,0),0))))","v":500000},{"$f":"IF($B1401=1,VLOOKUP(D$2,Table1[],3,0),IF($B1401=2,VLOOKUP(D$2,Table1[],4,0),IF($B1401=3,VLOOKUP(D$2,Table1[],5,0),IF($B1401=4,VLOOKUP(D$2,Table1[],5,0),0))))","v":400000},{"$f":"IF($B1401=1,VLOOKUP(E$2,Table1[],3,0),IF($B1401=2,VLOOKUP(E$2,Table1[],4,0),IF($B1401=3,VLOOKUP(E$2,Table1[],5,0),IF($B1401=4,VLOOKUP(E$2,Table1[],5,0),0))))","v":"N/A"},{"$f":"IF($B1401=1,VLOOKUP(F$2,Table1[],3,0),IF($B1401=2,VLOOKUP(F$2,Table1[],4,0),IF($B1401=3,VLOOKUP(F$2,Table1[],5,0),IF($B1401=4,VLOOKUP(F$2,Table1[],5,0),0))))","v":"N/A"}]
[6725,4,{"$f":"IF($B1402=1,VLOOKUP(C$2,Table1[],3,0),IF($B1402=2,VLOOKUP(C$2,Table1[],4,0),IF($B1402=3,VLOOKUP(C$2,Table1[],5,0),IF($B1402=4,VLOOKUP(C$2,Table1[],5,0),0))))","v":500000},{"$f":"IF($B1402=1,VLOOKUP(D$2,Table1[],3,0),IF($B1402=2,VLOOKUP(D$2,Table1[],4,0),IF($B1402=3,VLOOKUP(D$2,Table1[],5,0),IF($B1402=4,VLOOKUP(D$2,Table1[],5,0),0))))","v":400000},{"$f":"IF($B1402=1,VLOOKUP(E$2,Table1[],3,0),IF($B1402=2,VLOOKUP(E$2,Table1[],4,0),IF($B1402=3,VLOOKUP(E$2,Table1[],5,0),IF($B1402=4,VLOOKUP(E$2,Table1[],5,0),0))))","v":"N/A"},{"$f":"IF($B1402=1,VLOOKUP(F$2,Table1[],3,0),IF($B1402=2,VLOOKUP(F$2,Table1[],4,0),IF($B1402=3,VLOOKUP(F$2,Table1[],5,0),IF($B1402=4,VLOOKUP(F$2,Table1[],5,0),0))))","v":"N/A"}]
[6726,2,{"$f":"IF($B1403=1,VLOOKUP(C$2,Table1[],3,0),IF($B1403=2,VLOOKUP(C$2,Table1[],4,0),IF($B1403=3,VLOOKUP(C$2,Table1[],5,0),IF($B1403=4,VLOOKUP(C$2,Table1[],5,0),0))))","v":1000000},{"$f":"IF($B1403=1,VLOOKUP(D$2,Table1[],3,0),IF($B1403=2,VLOOKUP(D$2,Table1[],4,0),IF($B1403=3,VLOOKUP(D$2,Table1[],5,0),IF($B1403=4,VLOOKUP(D$2,Table1[],5,0),0))))","v":1000000},{"$f":"IF($B1403=1,VLOOKUP(E$2,Table1[],3,0),IF($B1403=2,VLOOKUP(E$2,Table1[],4,0),IF($B1403=3,VLOOKUP(E$2,Table1[],5,0),IF($B1403=4,VLOOKUP(E$2,Table1[],5,0),0))))","v":750000},{"$f":"IF($B1403=1,VLOOKUP(F$2,Table1[],3,0),IF($B1403=2,VLOOKUP(F$2,Table1[],4,0),IF($B1403=3,VLOOKUP(F$2,Table1[],5,0),IF($B1403=4,VLOOKUP(F$2,Table1[],5,0),0))))","v":500000}]
[6728,4,{"$f":"IF($B1404=1,VLOOKUP(C$2,Table1[],3,0),IF($B1404=2,VLOOKUP(C$2,Table1[],4,0),IF($B1404=3,VLOOKUP(C$2,Table1[],5,0),IF($B1404=4,VLOOKUP(C$2,Table1[],5,0),0))))","v":500000},{"$f":"IF($B1404=1,VLOOKUP(D$2,Table1[],3,0),IF($B1404=2,VLOOKUP(D$2,Table1[],4,0),IF($B1404=3,VLOOKUP(D$2,Table1[],5,0),IF($B1404=4,VLOOKUP(D$2,Table1[],5,0),0))))","v":400000},{"$f":"IF($B1404=1,VLOOKUP(E$2,Table1[],3,0),IF($B1404=2,VLOOKUP(E$2,Table1[],4,0),IF($B1404=3,VLOOKUP(E$2,Table1[],5,0),IF($B1404=4,VLOOKUP(E$2,Table1[],5,0),0))))","v":"N/A"},{"$f":"IF($B1404=1,VLOOKUP(F$2,Table1[],3,0),IF($B1404=2,VLOOKUP(F$2,Table1[],4,0),IF($B1404=3,VLOOKUP(F$2,Table1[],5,0),IF($B1404=4,VLOOKUP(F$2,Table1[],5,0),0))))","v":"N/A"}]
[6743,4,{"$f":"IF($B1405=1,VLOOKUP(C$2,Table1[],3,0),IF($B1405=2,VLOOKUP(C$2,Table1[],4,0),IF($B1405=3,VLOOKUP(C$2,Table1[],5,0),IF($B1405=4,VLOOKUP(C$2,Table1[],5,0),0))))","v":500000},{"$f":"IF($B1405=1,VLOOKUP(D$2,Table1[],3,0),IF($B1405=2,VLOOKUP(D$2,Table1[],4,0),IF($B1405=3,VLOOKUP(D$2,Table1[],5,0),IF($B1405=4,VLOOKUP(D$2,Table1[],5,0),0))))","v":400000},{"$f":"IF($B1405=1,VLOOKUP(E$2,Table1[],3,0),IF($B1405=2,VLOOKUP(E$2,Table1[],4,0),IF($B1405=3,VLOOKUP(E$2,Table1[],5,0),IF($B1405=4,VLOOKUP(E$2,Table1[],5,0),0))))","v":"N/A"},{"$f":"IF($B1405=1,VLOOKUP(F$2,Table1[],3,0),IF($B1405=2,VLOOKUP(F$2,Table1[],4,0),IF($B1405=3,VLOOKUP(F$2,Table1[],5,0),IF($B1405=4,VLOOKUP(F$2,Table1[],5,0),0))))","v":"N/A"}]
[6751,4,{"$f":"IF($B1406=1,VLOOKUP(C$2,Table1[],3,0),IF($B1406=2,VLOOKUP(C$2,Table1[],4,0),IF($B1406=3,VLOOKUP(C$2,Table1[],5,0),IF($B1406=4,VLOOKUP(C$2,Table1[],5,0),0))))","v":500000},{"$f":"IF($B1406=1,VLOOKUP(D$2,Table1[],3,0),IF($B1406=2,VLOOKUP(D$2,Table1[],4,0),IF($B1406=3,VLOOKUP(D$2,Table1[],5,0),IF($B1406=4,VLOOKUP(D$2,Table1[],5,0),0))))","v":400000},{"$f":"IF($B1406=1,VLOOKUP(E$2,Table1[],3,0),IF($B1406=2,VLOOKUP(E$2,Table1[],4,0),IF($B1406=3,VLOOKUP(E$2,Table1[],5,0),IF($B1406=4,VLOOKUP(E$2,Table1[],5,0),0))))","v":"N/A"},{"$f":"IF($B1406=1,VLOOKUP(F$2,Table1[],3,0),IF($B1406=2,VLOOKUP(F$2,Table1[],4,0),IF($B1406=3,VLOOKUP(F$2,Table1[],5,0),IF($B1406=4,VLOOKUP(F$2,Table1[],5,0),0))))","v":"N/A"}]
[6753,4,{"$f":"IF($B1407=1,VLOOKUP(C$2,Table1[],3,0),IF($B1407=2,VLOOKUP(C$2,Table1[],4,0),IF($B1407=3,VLOOKUP(C$2,Table1[],5,0),IF($B1407=4,VLOOKUP(C$2,Table1[],5,0),0))))","v":500000},{"$f":"IF($B1407=1,VLOOKUP(D$2,Table1[],3,0),IF($B1407=2,VLOOKUP(D$2,Table1[],4,0),IF($B1407=3,VLOOKUP(D$2,Table1[],5,0),IF($B1407=4,VLOOKUP(D$2,Table1[],5,0),0))))","v":400000},{"$f":"IF($B1407=1,VLOOKUP(E$2,Table1[],3,0),IF($B1407=2,VLOOKUP(E$2,Table1[],4,0),IF($B1407=3,VLOOKUP(E$2,Table1[],5,0),IF($B1407=4,VLOOKUP(E$2,Table1[],5,0),0))))","v":"N/A"},{"$f":"IF($B1407=1,VLOOKUP(F$2,Table1[],3,0),IF($B1407=2,VLOOKUP(F$2,Table1[],4,0),IF($B1407=3,VLOOKUP(F$2,Table1[],5,0),IF($B1407=4,VLOOKUP(F$2,Table1[],5,0),0))))","v":"N/A"}]
[6754,4,{"$f":"IF($B1408=1,VLOOKUP(C$2,Table1[],3,0),IF($B1408=2,VLOOKUP(C$2,Table1[],4,0),IF($B1408=3,VLOOKUP(C$2,Table1[],5,0),IF($B1408=4,VLOOKUP(C$2,Table1[],5,0),0))))","v":500000},{"$f":"IF($B1408=1,VLOOKUP(D$2,Table1[],3,0),IF($B1408=2,VLOOKUP(D$2,Table1[],4,0),IF($B1408=3,VLOOKUP(D$2,Table1[],5,0),IF($B1408=4,VLOOKUP(D$2,Table1[],5,0),0))))","v":400000},{"$f":"IF($B1408=1,VLOOKUP(E$2,Table1[],3,0),IF($B1408=2,VLOOKUP(E$2,Table1[],4,0),IF($B1408=3,VLOOKUP(E$2,Table1[],5,0),IF($B1408=4,VLOOKUP(E$2,Table1[],5,0),0))))","v":"N/A"},{"$f":"IF($B1408=1,VLOOKUP(F$2,Table1[],3,0),IF($B1408=2,VLOOKUP(F$2,Table1[],4,0),IF($B1408=3,VLOOKUP(F$2,Table1[],5,0),IF($B1408=4,VLOOKUP(F$2,Table1[],5,0),0))))","v":"N/A"}]
[6758,4,{"$f":"IF($B1409=1,VLOOKUP(C$2,Table1[],3,0),IF($B1409=2,VLOOKUP(C$2,Table1[],4,0),IF($B1409=3,VLOOKUP(C$2,Table1[],5,0),IF($B1409=4,VLOOKUP(C$2,Table1[],5,0),0))))","v":500000},{"$f":"IF($B1409=1,VLOOKUP(D$2,Table1[],3,0),IF($B1409=2,VLOOKUP(D$2,Table1[],4,0),IF($B1409=3,VLOOKUP(D$2,Table1[],5,0),IF($B1409=4,VLOOKUP(D$2,Table1[],5,0),0))))","v":400000},{"$f":"IF($B1409=1,VLOOKUP(E$2,Table1[],3,0),IF($B1409=2,VLOOKUP(E$2,Table1[],4,0),IF($B1409=3,VLOOKUP(E$2,Table1[],5,0),IF($B1409=4,VLOOKUP(E$2,Table1[],5,0),0))))","v":"N/A"},{"$f":"IF($B1409=1,VLOOKUP(F$2,Table1[],3,0),IF($B1409=2,VLOOKUP(F$2,Table1[],4,0),IF($B1409=3,VLOOKUP(F$2,Table1[],5,0),IF($B1409=4,VLOOKUP(F$2,Table1[],5,0),0))))","v":"N/A"}]
[6760,4,{"$f":"IF($B1410=1,VLOOKUP(C$2,Table1[],3,0),IF($B1410=2,VLOOKUP(C$2,Table1[],4,0),IF($B1410=3,VLOOKUP(C$2,Table1[],5,0),IF($B1410=4,VLOOKUP(C$2,Table1[],5,0),0))))","v":500000},{"$f":"IF($B1410=1,VLOOKUP(D$2,Table1[],3,0),IF($B1410=2,VLOOKUP(D$2,Table1[],4,0),IF($B1410=3,VLOOKUP(D$2,Table1[],5,0),IF($B1410=4,VLOOKUP(D$2,Table1[],5,0),0))))","v":400000},{"$f":"IF($B1410=1,VLOOKUP(E$2,Table1[],3,0),IF($B1410=2,VLOOKUP(E$2,Table1[],4,0),IF($B1410=3,VLOOKUP(E$2,Table1[],5,0),IF($B1410=4,VLOOKUP(E$2,Table1[],5,0),0))))","v":"N/A"},{"$f":"IF($B1410=1,VLOOKUP(F$2,Table1[],3,0),IF($B1410=2,VLOOKUP(F$2,Table1[],4,0),IF($B1410=3,VLOOKUP(F$2,Table1[],5,0),IF($B1410=4,VLOOKUP(F$2,Table1[],5,0),0))))","v":"N/A"}]
[6770,4,{"$f":"IF($B1411=1,VLOOKUP(C$2,Table1[],3,0),IF($B1411=2,VLOOKUP(C$2,Table1[],4,0),IF($B1411=3,VLOOKUP(C$2,Table1[],5,0),IF($B1411=4,VLOOKUP(C$2,Table1[],5,0),0))))","v":500000},{"$f":"IF($B1411=1,VLOOKUP(D$2,Table1[],3,0),IF($B1411=2,VLOOKUP(D$2,Table1[],4,0),IF($B1411=3,VLOOKUP(D$2,Table1[],5,0),IF($B1411=4,VLOOKUP(D$2,Table1[],5,0),0))))","v":400000},{"$f":"IF($B1411=1,VLOOKUP(E$2,Table1[],3,0),IF($B1411=2,VLOOKUP(E$2,Table1[],4,0),IF($B1411=3,VLOOKUP(E$2,Table1[],5,0),IF($B1411=4,VLOOKUP(E$2,Table1[],5,0),0))))","v":"N/A"},{"$f":"IF($B1411=1,VLOOKUP(F$2,Table1[],3,0),IF($B1411=2,VLOOKUP(F$2,Table1[],4,0),IF($B1411=3,VLOOKUP(F$2,Table1[],5,0),IF($B1411=4,VLOOKUP(F$2,Table1[],5,0),0))))","v":"N/A"}]
[7000,1,{"$f":"IF($B1412=1,VLOOKUP(C$2,Table1[],3,0),IF($B1412=2,VLOOKUP(C$2,Table1[],4,0),IF($B1412=3,VLOOKUP(C$2,Table1[],5,0),IF($B1412=4,VLOOKUP(C$2,Table1[],5,0),0))))","v":2000000},{"$f":"IF($B1412=1,VLOOKUP(D$2,Table1[],3,0),IF($B1412=2,VLOOKUP(D$2,Table1[],4,0),IF($B1412=3,VLOOKUP(D$2,Table1[],5,0),IF($B1412=4,VLOOKUP(D$2,Table1[],5,0),0))))","v":2000000},{"$f":"IF($B1412=1,VLOOKUP(E$2,Table1[],3,0),IF($B1412=2,VLOOKUP(E$2,Table1[],4,0),IF($B1412=3,VLOOKUP(E$2,Table1[],5,0),IF($B1412=4,VLOOKUP(E$2,Table1[],5,0),0))))","v":1500000},{"$f":"IF($B1412=1,VLOOKUP(F$2,Table1[],3,0),IF($B1412=2,VLOOKUP(F$2,Table1[],4,0),IF($B1412=3,VLOOKUP(F$2,Table1[],5,0),IF($B1412=4,VLOOKUP(F$2,Table1[],5,0),0))))","v":800000}]
[7004,1,{"$f":"IF($B1413=1,VLOOKUP(C$2,Table1[],3,0),IF($B1413=2,VLOOKUP(C$2,Table1[],4,0),IF($B1413=3,VLOOKUP(C$2,Table1[],5,0),IF($B1413=4,VLOOKUP(C$2,Table1[],5,0),0))))","v":2000000},{"$f":"IF($B1413=1,VLOOKUP(D$2,Table1[],3,0),IF($B1413=2,VLOOKUP(D$2,Table1[],4,0),IF($B1413=3,VLOOKUP(D$2,Table1[],5,0),IF($B1413=4,VLOOKUP(D$2,Table1[],5,0),0))))","v":2000000},{"$f":"IF($B1413=1,VLOOKUP(E$2,Table1[],3,0),IF($B1413=2,VLOOKUP(E$2,Table1[],4,0),IF($B1413=3,VLOOKUP(E$2,Table1[],5,0),IF($B1413=4,VLOOKUP(E$2,Table1[],5,0),0))))","v":1500000},{"$f":"IF($B1413=1,VLOOKUP(F$2,Table1[],3,0),IF($B1413=2,VLOOKUP(F$2,Table1[],4,0),IF($B1413=3,VLOOKUP(F$2,Table1[],5,0),IF($B1413=4,VLOOKUP(F$2,Table1[],5,0),0))))","v":800000}]
[7005,1,{"$f":"IF($B1414=1,VLOOKUP(C$2,Table1[],3,0),IF($B1414=2,VLOOKUP(C$2,Table1[],4,0),IF($B1414=3,VLOOKUP(C$2,Table1[],5,0),IF($B1414=4,VLOOKUP(C$2,Table1[],5,0),0))))","v":2000000},{"$f":"IF($B1414=1,VLOOKUP(D$2,Table1[],3,0),IF($B1414=2,VLOOKUP(D$2,Table1[],4,0),IF($B1414=3,VLOOKUP(D$2,Table1[],5,0),IF($B1414=4,VLOOKUP(D$2,Table1[],5,0),0))))","v":2000000},{"$f":"IF($B1414=1,VLOOKUP(E$2,Table1[],3,0),IF($B1414=2,VLOOKUP(E$2,Table1[],4,0),IF($B1414=3,VLOOKUP(E$2,Table1[],5,0),IF($B1414=4,VLOOKUP(E$2,Table1[],5,0),0))))","v":1500000},{"$f":"IF($B1414=1,VLOOKUP(F$2,Table1[],3,0),IF($B1414=2,VLOOKUP(F$2,Table1[],4,0),IF($B1414=3,VLOOKUP(F$2,Table1[],5,0),IF($B1414=4,VLOOKUP(F$2,Table1[],5,0),0))))","v":800000}]
[7007,1,{"$f":"IF($B1415=1,VLOOKUP(C$2,Table1[],3,0),IF($B1415=2,VLOOKUP(C$2,Table1[],4,0),IF($B1415=3,VLOOKUP(C$2,Table1[],5,0),IF($B1415=4,VLOOKUP(C$2,Table1[],5,0),0))))","v":2000000},{"$f":"IF($B1415=1,VLOOKUP(D$2,Table1[],3,0),IF($B1415=2,VLOOKUP(D$2,Table1[],4,0),IF($B1415=3,VLOOKUP(D$2,Table1[],5,0),IF($B1415=4,VLOOKUP(D$2,Table1[],5,0),0))))","v":2000000},{"$f":"IF($B1415=1,VLOOKUP(E$2,Table1[],3,0),IF($B1415=2,VLOOKUP(E$2,Table1[],4,0),IF($B1415=3,VLOOKUP(E$2,Table1[],5,0),IF($B1415=4,VLOOKUP(E$2,Table1[],5,0),0))))","v":1500000},{"$f":"IF($B1415=1,VLOOKUP(F$2,Table1[],3,0),IF($B1415=2,VLOOKUP(F$2,Table1[],4,0),IF($B1415=3,VLOOKUP(F$2,Table1[],5,0),IF($B1415=4,VLOOKUP(F$2,Table1[],5,0),0))))","v":800000}]
[7008,1,{"$f":"IF($B1416=1,VLOOKUP(C$2,Table1[],3,0),IF($B1416=2,VLOOKUP(C$2,Table1[],4,0),IF($B1416=3,VLOOKUP(C$2,Table1[],5,0),IF($B1416=4,VLOOKUP(C$2,Table1[],5,0),0))))","v":2000000},{"$f":"IF($B1416=1,VLOOKUP(D$2,Table1[],3,0),IF($B1416=2,VLOOKUP(D$2,Table1[],4,0),IF($B1416=3,VLOOKUP(D$2,Table1[],5,0),IF($B1416=4,VLOOKUP(D$2,Table1[],5,0),0))))","v":2000000},{"$f":"IF($B1416=1,VLOOKUP(E$2,Table1[],3,0),IF($B1416=2,VLOOKUP(E$2,Table1[],4,0),IF($B1416=3,VLOOKUP(E$2,Table1[],5,0),IF($B1416=4,VLOOKUP(E$2,Table1[],5,0),0))))","v":1500000},{"$f":"IF($B1416=1,VLOOKUP(F$2,Table1[],3,0),IF($B1416=2,VLOOKUP(F$2,Table1[],4,0),IF($B1416=3,VLOOKUP(F$2,Table1[],5,0),IF($B1416=4,VLOOKUP(F$2,Table1[],5,0),0))))","v":800000}]
[7009,1,{"$f":"IF($B1417=1,VLOOKUP(C$2,Table1[],3,0),IF($B1417=2,VLOOKUP(C$2,Table1[],4,0),IF($B1417=3,VLOOKUP(C$2,Table1[],5,0),IF($B1417=4,VLOOKUP(C$2,Table1[],5,0),0))))","v":2000000},{"$f":"IF($B1417=1,VLOOKUP(D$2,Table1[],3,0),IF($B1417=2,VLOOKUP(D$2,Table1[],4,0),IF($B1417=3,VLOOKUP(D$2,Table1[],5,0),IF($B1417=4,VLOOKUP(D$2,Table1[],5,0),0))))","v":2000000},{"$f":"IF($B1417=1,VLOOKUP(E$2,Table1[],3,0),IF($B1417=2,VLOOKUP(E$2,Table1[],4,0),IF($B1417=3,VLOOKUP(E$2,Table1[],5,0),IF($B1417=4,VLOOKUP(E$2,Table1[],5,0),0))))","v":1500000},{"$f":"IF($B1417=1,VLOOKUP(F$2,Table1[],3,0),IF($B1417=2,VLOOKUP(F$2,Table1[],4,0),IF($B1417=3,VLOOKUP(F$2,Table1[],5,0),IF($B1417=4,VLOOKUP(F$2,Table1[],5,0),0))))","v":800000}]
[7010,1,{"$f":"IF($B1418=1,VLOOKUP(C$2,Table1[],3,0),IF($B1418=2,VLOOKUP(C$2,Table1[],4,0),IF($B1418=3,VLOOKUP(C$2,Table1[],5,0),IF($B1418=4,VLOOKUP(C$2,Table1[],5,0),0))))","v":2000000},{"$f":"IF($B1418=1,VLOOKUP(D$2,Table1[],3,0),IF($B1418=2,VLOOKUP(D$2,Table1[],4,0),IF($B1418=3,VLOOKUP(D$2,Table1[],5,0),IF($B1418=4,VLOOKUP(D$2,Table1[],5,0),0))))","v":2000000},{"$f":"IF($B1418=1,VLOOKUP(E$2,Table1[],3,0),IF($B1418=2,VLOOKUP(E$2,Table1[],4,0),IF($B1418=3,VLOOKUP(E$2,Table1[],5,0),IF($B1418=4,VLOOKUP(E$2,Table1[],5,0),0))))","v":1500000},{"$f":"IF($B1418=1,VLOOKUP(F$2,Table1[],3,0),IF($B1418=2,VLOOKUP(F$2,Table1[],4,0),IF($B1418=3,VLOOKUP(F$2,Table1[],5,0),IF($B1418=4,VLOOKUP(F$2,Table1[],5,0),0))))","v":800000}]
[7011,1,{"$f":"IF($B1419=1,VLOOKUP(C$2,Table1[],3,0),IF($B1419=2,VLOOKUP(C$2,Table1[],4,0),IF($B1419=3,VLOOKUP(C$2,Table1[],5,0),IF($B1419=4,VLOOKUP(C$2,Table1[],5,0),0))))","v":2000000},{"$f":"IF($B1419=1,VLOOKUP(D$2,Table1[],3,0),IF($B1419=2,VLOOKUP(D$2,Table1[],4,0),IF($B1419=3,VLOOKUP(D$2,Table1[],5,0),IF($B1419=4,VLOOKUP(D$2,Table1[],5,0),0))))","v":2000000},{"$f":"IF($B1419=1,VLOOKUP(E$2,Table1[],3,0),IF($B1419=2,VLOOKUP(E$2,Table1[],4,0),IF($B1419=3,VLOOKUP(E$2,Table1[],5,0),IF($B1419=4,VLOOKUP(E$2,Table1[],5,0),0))))","v":1500000},{"$f":"IF($B1419=1,VLOOKUP(F$2,Table1[],3,0),IF($B1419=2,VLOOKUP(F$2,Table1[],4,0),IF($B1419=3,VLOOKUP(F$2,Table1[],5,0),IF($B1419=4,VLOOKUP(F$2,Table1[],5,0),0))))","v":800000}]
[7012,1,{"$f":"IF($B1420=1,VLOOKUP(C$2,Table1[],3,0),IF($B1420=2,VLOOKUP(C$2,Table1[],4,0),IF($B1420=3,VLOOKUP(C$2,Table1[],5,0),IF($B1420=4,VLOOKUP(C$2,Table1[],5,0),0))))","v":2000000},{"$f":"IF($B1420=1,VLOOKUP(D$2,Table1[],3,0),IF($B1420=2,VLOOKUP(D$2,Table1[],4,0),IF($B1420=3,VLOOKUP(D$2,Table1[],5,0),IF($B1420=4,VLOOKUP(D$2,Table1[],5,0),0))))","v":2000000},{"$f":"IF($B1420=1,VLOOKUP(E$2,Table1[],3,0),IF($B1420=2,VLOOKUP(E$2,Table1[],4,0),IF($B1420=3,VLOOKUP(E$2,Table1[],5,0),IF($B1420=4,VLOOKUP(E$2,Table1[],5,0),0))))","v":1500000},{"$f":"IF($B1420=1,VLOOKUP(F$2,Table1[],3,0),IF($B1420=2,VLOOKUP(F$2,Table1[],4,0),IF($B1420=3,VLOOKUP(F$2,Table1[],5,0),IF($B1420=4,VLOOKUP(F$2,Table1[],5,0),0))))","v":800000}]
[7015,1,{"$f":"IF($B1421=1,VLOOKUP(C$2,Table1[],3,0),IF($B1421=2,VLOOKUP(C$2,Table1[],4,0),IF($B1421=3,VLOOKUP(C$2,Table1[],5,0),IF($B1421=4,VLOOKUP(C$2,Table1[],5,0),0))))","v":2000000},{"$f":"IF($B1421=1,VLOOKUP(D$2,Table1[],3,0),IF($B1421=2,VLOOKUP(D$2,Table1[],4,0),IF($B1421=3,VLOOKUP(D$2,Table1[],5,0),IF($B1421=4,VLOOKUP(D$2,Table1[],5,0),0))))","v":2000000},{"$f":"IF($B1421=1,VLOOKUP(E$2,Table1[],3,0),IF($B1421=2,VLOOKUP(E$2,Table1[],4,0),IF($B1421=3,VLOOKUP(E$2,Table1[],5,0),IF($B1421=4,VLOOKUP(E$2,Table1[],5,0),0))))","v":1500000},{"$f":"IF($B1421=1,VLOOKUP(F$2,Table1[],3,0),IF($B1421=2,VLOOKUP(F$2,Table1[],4,0),IF($B1421=3,VLOOKUP(F$2,Table1[],5,0),IF($B1421=4,VLOOKUP(F$2,Table1[],5,0),0))))","v":800000}]
[7016,1,{"$f":"IF($B1422=1,VLOOKUP(C$2,Table1[],3,0),IF($B1422=2,VLOOKUP(C$2,Table1[],4,0),IF($B1422=3,VLOOKUP(C$2,Table1[],5,0),IF($B1422=4,VLOOKUP(C$2,Table1[],5,0),0))))","v":2000000},{"$f":"IF($B1422=1,VLOOKUP(D$2,Table1[],3,0),IF($B1422=2,VLOOKUP(D$2,Table1[],4,0),IF($B1422=3,VLOOKUP(D$2,Table1[],5,0),IF($B1422=4,VLOOKUP(D$2,Table1[],5,0),0))))","v":2000000},{"$f":"IF($B1422=1,VLOOKUP(E$2,Table1[],3,0),IF($B1422=2,VLOOKUP(E$2,Table1[],4,0),IF($B1422=3,VLOOKUP(E$2,Table1[],5,0),IF($B1422=4,VLOOKUP(E$2,Table1[],5,0),0))))","v":1500000},{"$f":"IF($B1422=1,VLOOKUP(F$2,Table1[],3,0),IF($B1422=2,VLOOKUP(F$2,Table1[],4,0),IF($B1422=3,VLOOKUP(F$2,Table1[],5,0),IF($B1422=4,VLOOKUP(F$2,Table1[],5,0),0))))","v":800000}]
[7017,1,{"$f":"IF($B1423=1,VLOOKUP(C$2,Table1[],3,0),IF($B1423=2,VLOOKUP(C$2,Table1[],4,0),IF($B1423=3,VLOOKUP(C$2,Table1[],5,0),IF($B1423=4,VLOOKUP(C$2,Table1[],5,0),0))))","v":2000000},{"$f":"IF($B1423=1,VLOOKUP(D$2,Table1[],3,0),IF($B1423=2,VLOOKUP(D$2,Table1[],4,0),IF($B1423=3,VLOOKUP(D$2,Table1[],5,0),IF($B1423=4,VLOOKUP(D$2,Table1[],5,0),0))))","v":2000000},{"$f":"IF($B1423=1,VLOOKUP(E$2,Table1[],3,0),IF($B1423=2,VLOOKUP(E$2,Table1[],4,0),IF($B1423=3,VLOOKUP(E$2,Table1[],5,0),IF($B1423=4,VLOOKUP(E$2,Table1[],5,0),0))))","v":1500000},{"$f":"IF($B1423=1,VLOOKUP(F$2,Table1[],3,0),IF($B1423=2,VLOOKUP(F$2,Table1[],4,0),IF($B1423=3,VLOOKUP(F$2,Table1[],5,0),IF($B1423=4,VLOOKUP(F$2,Table1[],5,0),0))))","v":800000}]
[7018,1,{"$f":"IF($B1424=1,VLOOKUP(C$2,Table1[],3,0),IF($B1424=2,VLOOKUP(C$2,Table1[],4,0),IF($B1424=3,VLOOKUP(C$2,Table1[],5,0),IF($B1424=4,VLOOKUP(C$2,Table1[],5,0),0))))","v":2000000},{"$f":"IF($B1424=1,VLOOKUP(D$2,Table1[],3,0),IF($B1424=2,VLOOKUP(D$2,Table1[],4,0),IF($B1424=3,VLOOKUP(D$2,Table1[],5,0),IF($B1424=4,VLOOKUP(D$2,Table1[],5,0),0))))","v":2000000},{"$f":"IF($B1424=1,VLOOKUP(E$2,Table1[],3,0),IF($B1424=2,VLOOKUP(E$2,Table1[],4,0),IF($B1424=3,VLOOKUP(E$2,Table1[],5,0),IF($B1424=4,VLOOKUP(E$2,Table1[],5,0),0))))","v":1500000},{"$f":"IF($B1424=1,VLOOKUP(F$2,Table1[],3,0),IF($B1424=2,VLOOKUP(F$2,Table1[],4,0),IF($B1424=3,VLOOKUP(F$2,Table1[],5,0),IF($B1424=4,VLOOKUP(F$2,Table1[],5,0),0))))","v":800000}]
[7019,1,{"$f":"IF($B1425=1,VLOOKUP(C$2,Table1[],3,0),IF($B1425=2,VLOOKUP(C$2,Table1[],4,0),IF($B1425=3,VLOOKUP(C$2,Table1[],5,0),IF($B1425=4,VLOOKUP(C$2,Table1[],5,0),0))))","v":2000000},{"$f":"IF($B1425=1,VLOOKUP(D$2,Table1[],3,0),IF($B1425=2,VLOOKUP(D$2,Table1[],4,0),IF($B1425=3,VLOOKUP(D$2,Table1[],5,0),IF($B1425=4,VLOOKUP(D$2,Table1[],5,0),0))))","v":2000000},{"$f":"IF($B1425=1,VLOOKUP(E$2,Table1[],3,0),IF($B1425=2,VLOOKUP(E$2,Table1[],4,0),IF($B1425=3,VLOOKUP(E$2,Table1[],5,0),IF($B1425=4,VLOOKUP(E$2,Table1[],5,0),0))))","v":1500000},{"$f":"IF($B1425=1,VLOOKUP(F$2,Table1[],3,0),IF($B1425=2,VLOOKUP(F$2,Table1[],4,0),IF($B1425=3,VLOOKUP(F$2,Table1[],5,0),IF($B1425=4,VLOOKUP(F$2,Table1[],5,0),0))))","v":800000}]
[7021,1,{"$f":"IF($B1426=1,VLOOKUP(C$2,Table1[],3,0),IF($B1426=2,VLOOKUP(C$2,Table1[],4,0),IF($B1426=3,VLOOKUP(C$2,Table1[],5,0),IF($B1426=4,VLOOKUP(C$2,Table1[],5,0),0))))","v":2000000},{"$f":"IF($B1426=1,VLOOKUP(D$2,Table1[],3,0),IF($B1426=2,VLOOKUP(D$2,Table1[],4,0),IF($B1426=3,VLOOKUP(D$2,Table1[],5,0),IF($B1426=4,VLOOKUP(D$2,Table1[],5,0),0))))","v":2000000},{"$f":"IF($B1426=1,VLOOKUP(E$2,Table1[],3,0),IF($B1426=2,VLOOKUP(E$2,Table1[],4,0),IF($B1426=3,VLOOKUP(E$2,Table1[],5,0),IF($B1426=4,VLOOKUP(E$2,Table1[],5,0),0))))","v":1500000},{"$f":"IF($B1426=1,VLOOKUP(F$2,Table1[],3,0),IF($B1426=2,VLOOKUP(F$2,Table1[],4,0),IF($B1426=3,VLOOKUP(F$2,Table1[],5,0),IF($B1426=4,VLOOKUP(F$2,Table1[],5,0),0))))","v":800000}]
[7022,2,{"$f":"IF($B1427=1,VLOOKUP(C$2,Table1[],3,0),IF($B1427=2,VLOOKUP(C$2,Table1[],4,0),IF($B1427=3,VLOOKUP(C$2,Table1[],5,0),IF($B1427=4,VLOOKUP(C$2,Table1[],5,0),0))))","v":1000000},{"$f":"IF($B1427=1,VLOOKUP(D$2,Table1[],3,0),IF($B1427=2,VLOOKUP(D$2,Table1[],4,0),IF($B1427=3,VLOOKUP(D$2,Table1[],5,0),IF($B1427=4,VLOOKUP(D$2,Table1[],5,0),0))))","v":1000000},{"$f":"IF($B1427=1,VLOOKUP(E$2,Table1[],3,0),IF($B1427=2,VLOOKUP(E$2,Table1[],4,0),IF($B1427=3,VLOOKUP(E$2,Table1[],5,0),IF($B1427=4,VLOOKUP(E$2,Table1[],5,0),0))))","v":750000},{"$f":"IF($B1427=1,VLOOKUP(F$2,Table1[],3,0),IF($B1427=2,VLOOKUP(F$2,Table1[],4,0),IF($B1427=3,VLOOKUP(F$2,Table1[],5,0),IF($B1427=4,VLOOKUP(F$2,Table1[],5,0),0))))","v":500000}]
[7025,1,{"$f":"IF($B1428=1,VLOOKUP(C$2,Table1[],3,0),IF($B1428=2,VLOOKUP(C$2,Table1[],4,0),IF($B1428=3,VLOOKUP(C$2,Table1[],5,0),IF($B1428=4,VLOOKUP(C$2,Table1[],5,0),0))))","v":2000000},{"$f":"IF($B1428=1,VLOOKUP(D$2,Table1[],3,0),IF($B1428=2,VLOOKUP(D$2,Table1[],4,0),IF($B1428=3,VLOOKUP(D$2,Table1[],5,0),IF($B1428=4,VLOOKUP(D$2,Table1[],5,0),0))))","v":2000000},{"$f":"IF($B1428=1,VLOOKUP(E$2,Table1[],3,0),IF($B1428=2,VLOOKUP(E$2,Table1[],4,0),IF($B1428=3,VLOOKUP(E$2,Table1[],5,0),IF($B1428=4,VLOOKUP(E$2,Table1[],5,0),0))))","v":1500000},{"$f":"IF($B1428=1,VLOOKUP(F$2,Table1[],3,0),IF($B1428=2,VLOOKUP(F$2,Table1[],4,0),IF($B1428=3,VLOOKUP(F$2,Table1[],5,0),IF($B1428=4,VLOOKUP(F$2,Table1[],5,0),0))))","v":800000}]
[7030,2,{"$f":"IF($B1429=1,VLOOKUP(C$2,Table1[],3,0),IF($B1429=2,VLOOKUP(C$2,Table1[],4,0),IF($B1429=3,VLOOKUP(C$2,Table1[],5,0),IF($B1429=4,VLOOKUP(C$2,Table1[],5,0),0))))","v":1000000},{"$f":"IF($B1429=1,VLOOKUP(D$2,Table1[],3,0),IF($B1429=2,VLOOKUP(D$2,Table1[],4,0),IF($B1429=3,VLOOKUP(D$2,Table1[],5,0),IF($B1429=4,VLOOKUP(D$2,Table1[],5,0),0))))","v":1000000},{"$f":"IF($B1429=1,VLOOKUP(E$2,Table1[],3,0),IF($B1429=2,VLOOKUP(E$2,Table1[],4,0),IF($B1429=3,VLOOKUP(E$2,Table1[],5,0),IF($B1429=4,VLOOKUP(E$2,Table1[],5,0),0))))","v":750000},{"$f":"IF($B1429=1,VLOOKUP(F$2,Table1[],3,0),IF($B1429=2,VLOOKUP(F$2,Table1[],4,0),IF($B1429=3,VLOOKUP(F$2,Table1[],5,0),IF($B1429=4,VLOOKUP(F$2,Table1[],5,0),0))))","v":500000}]
[7050,1,{"$f":"IF($B1430=1,VLOOKUP(C$2,Table1[],3,0),IF($B1430=2,VLOOKUP(C$2,Table1[],4,0),IF($B1430=3,VLOOKUP(C$2,Table1[],5,0),IF($B1430=4,VLOOKUP(C$2,Table1[],5,0),0))))","v":2000000},{"$f":"IF($B1430=1,VLOOKUP(D$2,Table1[],3,0),IF($B1430=2,VLOOKUP(D$2,Table1[],4,0),IF($B1430=3,VLOOKUP(D$2,Table1[],5,0),IF($B1430=4,VLOOKUP(D$2,Table1[],5,0),0))))","v":2000000},{"$f":"IF($B1430=1,VLOOKUP(E$2,Table1[],3,0),IF($B1430=2,VLOOKUP(E$2,Table1[],4,0),IF($B1430=3,VLOOKUP(E$2,Table1[],5,0),IF($B1430=4,VLOOKUP(E$2,Table1[],5,0),0))))","v":1500000},{"$f":"IF($B1430=1,VLOOKUP(F$2,Table1[],3,0),IF($B1430=2,VLOOKUP(F$2,Table1[],4,0),IF($B1430=3,VLOOKUP(F$2,Table1[],5,0),IF($B1430=4,VLOOKUP(F$2,Table1[],5,0),0))))","v":800000}]
[7052,1,{"$f":"IF($B1431=1,VLOOKUP(C$2,Table1[],3,0),IF($B1431=2,VLOOKUP(C$2,Table1[],4,0),IF($B1431=3,VLOOKUP(C$2,Table1[],5,0),IF($B1431=4,VLOOKUP(C$2,Table1[],5,0),0))))","v":2000000},{"$f":"IF($B1431=1,VLOOKUP(D$2,Table1[],3,0),IF($B1431=2,VLOOKUP(D$2,Table1[],4,0),IF($B1431=3,VLOOKUP(D$2,Table1[],5,0),IF($B1431=4,VLOOKUP(D$2,Table1[],5,0),0))))","v":2000000},{"$f":"IF($B1431=1,VLOOKUP(E$2,Table1[],3,0),IF($B1431=2,VLOOKUP(E$2,Table1[],4,0),IF($B1431=3,VLOOKUP(E$2,Table1[],5,0),IF($B1431=4,VLOOKUP(E$2,Table1[],5,0),0))))","v":1500000},{"$f":"IF($B1431=1,VLOOKUP(F$2,Table1[],3,0),IF($B1431=2,VLOOKUP(F$2,Table1[],4,0),IF($B1431=3,VLOOKUP(F$2,Table1[],5,0),IF($B1431=4,VLOOKUP(F$2,Table1[],5,0),0))))","v":800000}]
[7053,1,{"$f":"IF($B1432=1,VLOOKUP(C$2,Table1[],3,0),IF($B1432=2,VLOOKUP(C$2,Table1[],4,0),IF($B1432=3,VLOOKUP(C$2,Table1[],5,0),IF($B1432=4,VLOOKUP(C$2,Table1[],5,0),0))))","v":2000000},{"$f":"IF($B1432=1,VLOOKUP(D$2,Table1[],3,0),IF($B1432=2,VLOOKUP(D$2,Table1[],4,0),IF($B1432=3,VLOOKUP(D$2,Table1[],5,0),IF($B1432=4,VLOOKUP(D$2,Table1[],5,0),0))))","v":2000000},{"$f":"IF($B1432=1,VLOOKUP(E$2,Table1[],3,0),IF($B1432=2,VLOOKUP(E$2,Table1[],4,0),IF($B1432=3,VLOOKUP(E$2,Table1[],5,0),IF($B1432=4,VLOOKUP(E$2,Table1[],5,0),0))))","v":1500000},{"$f":"IF($B1432=1,VLOOKUP(F$2,Table1[],3,0),IF($B1432=2,VLOOKUP(F$2,Table1[],4,0),IF($B1432=3,VLOOKUP(F$2,Table1[],5,0),IF($B1432=4,VLOOKUP(F$2,Table1[],5,0),0))))","v":800000}]
[7054,1,{"$f":"IF($B1433=1,VLOOKUP(C$2,Table1[],3,0),IF($B1433=2,VLOOKUP(C$2,Table1[],4,0),IF($B1433=3,VLOOKUP(C$2,Table1[],5,0),IF($B1433=4,VLOOKUP(C$2,Table1[],5,0),0))))","v":2000000},{"$f":"IF($B1433=1,VLOOKUP(D$2,Table1[],3,0),IF($B1433=2,VLOOKUP(D$2,Table1[],4,0),IF($B1433=3,VLOOKUP(D$2,Table1[],5,0),IF($B1433=4,VLOOKUP(D$2,Table1[],5,0),0))))","v":2000000},{"$f":"IF($B1433=1,VLOOKUP(E$2,Table1[],3,0),IF($B1433=2,VLOOKUP(E$2,Table1[],4,0),IF($B1433=3,VLOOKUP(E$2,Table1[],5,0),IF($B1433=4,VLOOKUP(E$2,Table1[],5,0),0))))","v":1500000},{"$f":"IF($B1433=1,VLOOKUP(F$2,Table1[],3,0),IF($B1433=2,VLOOKUP(F$2,Table1[],4,0),IF($B1433=3,VLOOKUP(F$2,Table1[],5,0),IF($B1433=4,VLOOKUP(F$2,Table1[],5,0),0))))","v":800000}]
[7055,1,{"$f":"IF($B1434=1,VLOOKUP(C$2,Table1[],3,0),IF($B1434=2,VLOOKUP(C$2,Table1[],4,0),IF($B1434=3,VLOOKUP(C$2,Table1[],5,0),IF($B1434=4,VLOOKUP(C$2,Table1[],5,0),0))))","v":2000000},{"$f":"IF($B1434=1,VLOOKUP(D$2,Table1[],3,0),IF($B1434=2,VLOOKUP(D$2,Table1[],4,0),IF($B1434=3,VLOOKUP(D$2,Table1[],5,0),IF($B1434=4,VLOOKUP(D$2,Table1[],5,0),0))))","v":2000000},{"$f":"IF($B1434=1,VLOOKUP(E$2,Table1[],3,0),IF($B1434=2,VLOOKUP(E$2,Table1[],4,0),IF($B1434=3,VLOOKUP(E$2,Table1[],5,0),IF($B1434=4,VLOOKUP(E$2,Table1[],5,0),0))))","v":1500000},{"$f":"IF($B1434=1,VLOOKUP(F$2,Table1[],3,0),IF($B1434=2,VLOOKUP(F$2,Table1[],4,0),IF($B1434=3,VLOOKUP(F$2,Table1[],5,0),IF($B1434=4,VLOOKUP(F$2,Table1[],5,0),0))))","v":800000}]
[7170,1,{"$f":"IF($B1435=1,VLOOKUP(C$2,Table1[],3,0),IF($B1435=2,VLOOKUP(C$2,Table1[],4,0),IF($B1435=3,VLOOKUP(C$2,Table1[],5,0),IF($B1435=4,VLOOKUP(C$2,Table1[],5,0),0))))","v":2000000},{"$f":"IF($B1435=1,VLOOKUP(D$2,Table1[],3,0),IF($B1435=2,VLOOKUP(D$2,Table1[],4,0),IF($B1435=3,VLOOKUP(D$2,Table1[],5,0),IF($B1435=4,VLOOKUP(D$2,Table1[],5,0),0))))","v":2000000},{"$f":"IF($B1435=1,VLOOKUP(E$2,Table1[],3,0),IF($B1435=2,VLOOKUP(E$2,Table1[],4,0),IF($B1435=3,VLOOKUP(E$2,Table1[],5,0),IF($B1435=4,VLOOKUP(E$2,Table1[],5,0),0))))","v":1500000},{"$f":"IF($B1435=1,VLOOKUP(F$2,Table1[],3,0),IF($B1435=2,VLOOKUP(F$2,Table1[],4,0),IF($B1435=3,VLOOKUP(F$2,Table1[],5,0),IF($B1435=4,VLOOKUP(F$2,Table1[],5,0),0))))","v":800000}]
[7171,1,{"$f":"IF($B1436=1,VLOOKUP(C$2,Table1[],3,0),IF($B1436=2,VLOOKUP(C$2,Table1[],4,0),IF($B1436=3,VLOOKUP(C$2,Table1[],5,0),IF($B1436=4,VLOOKUP(C$2,Table1[],5,0),0))))","v":2000000},{"$f":"IF($B1436=1,VLOOKUP(D$2,Table1[],3,0),IF($B1436=2,VLOOKUP(D$2,Table1[],4,0),IF($B1436=3,VLOOKUP(D$2,Table1[],5,0),IF($B1436=4,VLOOKUP(D$2,Table1[],5,0),0))))","v":2000000},{"$f":"IF($B1436=1,VLOOKUP(E$2,Table1[],3,0),IF($B1436=2,VLOOKUP(E$2,Table1[],4,0),IF($B1436=3,VLOOKUP(E$2,Table1[],5,0),IF($B1436=4,VLOOKUP(E$2,Table1[],5,0),0))))","v":1500000},{"$f":"IF($B1436=1,VLOOKUP(F$2,Table1[],3,0),IF($B1436=2,VLOOKUP(F$2,Table1[],4,0),IF($B1436=3,VLOOKUP(F$2,Table1[],5,0),IF($B1436=4,VLOOKUP(F$2,Table1[],5,0),0))))","v":800000}]
[7172,1,{"$f":"IF($B1437=1,VLOOKUP(C$2,Table1[],3,0),IF($B1437=2,VLOOKUP(C$2,Table1[],4,0),IF($B1437=3,VLOOKUP(C$2,Table1[],5,0),IF($B1437=4,VLOOKUP(C$2,Table1[],5,0),0))))","v":2000000},{"$f":"IF($B1437=1,VLOOKUP(D$2,Table1[],3,0),IF($B1437=2,VLOOKUP(D$2,Table1[],4,0),IF($B1437=3,VLOOKUP(D$2,Table1[],5,0),IF($B1437=4,VLOOKUP(D$2,Table1[],5,0),0))))","v":2000000},{"$f":"IF($B1437=1,VLOOKUP(E$2,Table1[],3,0),IF($B1437=2,VLOOKUP(E$2,Table1[],4,0),IF($B1437=3,VLOOKUP(E$2,Table1[],5,0),IF($B1437=4,VLOOKUP(E$2,Table1[],5,0),0))))","v":1500000},{"$f":"IF($B1437=1,VLOOKUP(F$2,Table1[],3,0),IF($B1437=2,VLOOKUP(F$2,Table1[],4,0),IF($B1437=3,VLOOKUP(F$2,Table1[],5,0),IF($B1437=4,VLOOKUP(F$2,Table1[],5,0),0))))","v":800000}]
[7173,2,{"$f":"IF($B1438=1,VLOOKUP(C$2,Table1[],3,0),IF($B1438=2,VLOOKUP(C$2,Table1[],4,0),IF($B1438=3,VLOOKUP(C$2,Table1[],5,0),IF($B1438=4,VLOOKUP(C$2,Table1[],5,0),0))))","v":1000000},{"$f":"IF($B1438=1,VLOOKUP(D$2,Table1[],3,0),IF($B1438=2,VLOOKUP(D$2,Table1[],4,0),IF($B1438=3,VLOOKUP(D$2,Table1[],5,0),IF($B1438=4,VLOOKUP(D$2,Table1[],5,0),0))))","v":1000000},{"$f":"IF($B1438=1,VLOOKUP(E$2,Table1[],3,0),IF($B1438=2,VLOOKUP(E$2,Table1[],4,0),IF($B1438=3,VLOOKUP(E$2,Table1[],5,0),IF($B1438=4,VLOOKUP(E$2,Table1[],5,0),0))))","v":750000},{"$f":"IF($B1438=1,VLOOKUP(F$2,Table1[],3,0),IF($B1438=2,VLOOKUP(F$2,Table1[],4,0),IF($B1438=3,VLOOKUP(F$2,Table1[],5,0),IF($B1438=4,VLOOKUP(F$2,Table1[],5,0),0))))","v":500000}]
[7190,2,{"$f":"IF($B1439=1,VLOOKUP(C$2,Table1[],3,0),IF($B1439=2,VLOOKUP(C$2,Table1[],4,0),IF($B1439=3,VLOOKUP(C$2,Table1[],5,0),IF($B1439=4,VLOOKUP(C$2,Table1[],5,0),0))))","v":1000000},{"$f":"IF($B1439=1,VLOOKUP(D$2,Table1[],3,0),IF($B1439=2,VLOOKUP(D$2,Table1[],4,0),IF($B1439=3,VLOOKUP(D$2,Table1[],5,0),IF($B1439=4,VLOOKUP(D$2,Table1[],5,0),0))))","v":1000000},{"$f":"IF($B1439=1,VLOOKUP(E$2,Table1[],3,0),IF($B1439=2,VLOOKUP(E$2,Table1[],4,0),IF($B1439=3,VLOOKUP(E$2,Table1[],5,0),IF($B1439=4,VLOOKUP(E$2,Table1[],5,0),0))))","v":750000},{"$f":"IF($B1439=1,VLOOKUP(F$2,Table1[],3,0),IF($B1439=2,VLOOKUP(F$2,Table1[],4,0),IF($B1439=3,VLOOKUP(F$2,Table1[],5,0),IF($B1439=4,VLOOKUP(F$2,Table1[],5,0),0))))","v":500000}]
[7212,2,{"$f":"IF($B1440=1,VLOOKUP(C$2,Table1[],3,0),IF($B1440=2,VLOOKUP(C$2,Table1[],4,0),IF($B1440=3,VLOOKUP(C$2,Table1[],5,0),IF($B1440=4,VLOOKUP(C$2,Table1[],5,0),0))))","v":1000000},{"$f":"IF($B1440=1,VLOOKUP(D$2,Table1[],3,0),IF($B1440=2,VLOOKUP(D$2,Table1[],4,0),IF($B1440=3,VLOOKUP(D$2,Table1[],5,0),IF($B1440=4,VLOOKUP(D$2,Table1[],5,0),0))))","v":1000000},{"$f":"IF($B1440=1,VLOOKUP(E$2,Table1[],3,0),IF($B1440=2,VLOOKUP(E$2,Table1[],4,0),IF($B1440=3,VLOOKUP(E$2,Table1[],5,0),IF($B1440=4,VLOOKUP(E$2,Table1[],5,0),0))))","v":750000},{"$f":"IF($B1440=1,VLOOKUP(F$2,Table1[],3,0),IF($B1440=2,VLOOKUP(F$2,Table1[],4,0),IF($B1440=3,VLOOKUP(F$2,Table1[],5,0),IF($B1440=4,VLOOKUP(F$2,Table1[],5,0),0))))","v":500000}]
[7216,2,{"$f":"IF($B1441=1,VLOOKUP(C$2,Table1[],3,0),IF($B1441=2,VLOOKUP(C$2,Table1[],4,0),IF($B1441=3,VLOOKUP(C$2,Table1[],5,0),IF($B1441=4,VLOOKUP(C$2,Table1[],5,0),0))))","v":1000000},{"$f":"IF($B1441=1,VLOOKUP(D$2,Table1[],3,0),IF($B1441=2,VLOOKUP(D$2,Table1[],4,0),IF($B1441=3,VLOOKUP(D$2,Table1[],5,0),IF($B1441=4,VLOOKUP(D$2,Table1[],5,0),0))))","v":1000000},{"$f":"IF($B1441=1,VLOOKUP(E$2,Table1[],3,0),IF($B1441=2,VLOOKUP(E$2,Table1[],4,0),IF($B1441=3,VLOOKUP(E$2,Table1[],5,0),IF($B1441=4,VLOOKUP(E$2,Table1[],5,0),0))))","v":750000},{"$f":"IF($B1441=1,VLOOKUP(F$2,Table1[],3,0),IF($B1441=2,VLOOKUP(F$2,Table1[],4,0),IF($B1441=3,VLOOKUP(F$2,Table1[],5,0),IF($B1441=4,VLOOKUP(F$2,Table1[],5,0),0))))","v":500000}]
[7248,1,{"$f":"IF($B1442=1,VLOOKUP(C$2,Table1[],3,0),IF($B1442=2,VLOOKUP(C$2,Table1[],4,0),IF($B1442=3,VLOOKUP(C$2,Table1[],5,0),IF($B1442=4,VLOOKUP(C$2,Table1[],5,0),0))))","v":2000000},{"$f":"IF($B1442=1,VLOOKUP(D$2,Table1[],3,0),IF($B1442=2,VLOOKUP(D$2,Table1[],4,0),IF($B1442=3,VLOOKUP(D$2,Table1[],5,0),IF($B1442=4,VLOOKUP(D$2,Table1[],5,0),0))))","v":2000000},{"$f":"IF($B1442=1,VLOOKUP(E$2,Table1[],3,0),IF($B1442=2,VLOOKUP(E$2,Table1[],4,0),IF($B1442=3,VLOOKUP(E$2,Table1[],5,0),IF($B1442=4,VLOOKUP(E$2,Table1[],5,0),0))))","v":1500000},{"$f":"IF($B1442=1,VLOOKUP(F$2,Table1[],3,0),IF($B1442=2,VLOOKUP(F$2,Table1[],4,0),IF($B1442=3,VLOOKUP(F$2,Table1[],5,0),IF($B1442=4,VLOOKUP(F$2,Table1[],5,0),0))))","v":800000}]
[7249,1,{"$f":"IF($B1443=1,VLOOKUP(C$2,Table1[],3,0),IF($B1443=2,VLOOKUP(C$2,Table1[],4,0),IF($B1443=3,VLOOKUP(C$2,Table1[],5,0),IF($B1443=4,VLOOKUP(C$2,Table1[],5,0),0))))","v":2000000},{"$f":"IF($B1443=1,VLOOKUP(D$2,Table1[],3,0),IF($B1443=2,VLOOKUP(D$2,Table1[],4,0),IF($B1443=3,VLOOKUP(D$2,Table1[],5,0),IF($B1443=4,VLOOKUP(D$2,Table1[],5,0),0))))","v":2000000},{"$f":"IF($B1443=1,VLOOKUP(E$2,Table1[],3,0),IF($B1443=2,VLOOKUP(E$2,Table1[],4,0),IF($B1443=3,VLOOKUP(E$2,Table1[],5,0),IF($B1443=4,VLOOKUP(E$2,Table1[],5,0),0))))","v":1500000},{"$f":"IF($B1443=1,VLOOKUP(F$2,Table1[],3,0),IF($B1443=2,VLOOKUP(F$2,Table1[],4,0),IF($B1443=3,VLOOKUP(F$2,Table1[],5,0),IF($B1443=4,VLOOKUP(F$2,Table1[],5,0),0))))","v":800000}]
[7250,1,{"$f":"IF($B1444=1,VLOOKUP(C$2,Table1[],3,0),IF($B1444=2,VLOOKUP(C$2,Table1[],4,0),IF($B1444=3,VLOOKUP(C$2,Table1[],5,0),IF($B1444=4,VLOOKUP(C$2,Table1[],5,0),0))))","v":2000000},{"$f":"IF($B1444=1,VLOOKUP(D$2,Table1[],3,0),IF($B1444=2,VLOOKUP(D$2,Table1[],4,0),IF($B1444=3,VLOOKUP(D$2,Table1[],5,0),IF($B1444=4,VLOOKUP(D$2,Table1[],5,0),0))))","v":2000000},{"$f":"IF($B1444=1,VLOOKUP(E$2,Table1[],3,0),IF($B1444=2,VLOOKUP(E$2,Table1[],4,0),IF($B1444=3,VLOOKUP(E$2,Table1[],5,0),IF($B1444=4,VLOOKUP(E$2,Table1[],5,0),0))))","v":1500000},{"$f":"IF($B1444=1,VLOOKUP(F$2,Table1[],3,0),IF($B1444=2,VLOOKUP(F$2,Table1[],4,0),IF($B1444=3,VLOOKUP(F$2,Table1[],5,0),IF($B1444=4,VLOOKUP(F$2,Table1[],5,0),0))))","v":800000}]
[7258,1,{"$f":"IF($B1445=1,VLOOKUP(C$2,Table1[],3,0),IF($B1445=2,VLOOKUP(C$2,Table1[],4,0),IF($B1445=3,VLOOKUP(C$2,Table1[],5,0),IF($B1445=4,VLOOKUP(C$2,Table1[],5,0),0))))","v":2000000},{"$f":"IF($B1445=1,VLOOKUP(D$2,Table1[],3,0),IF($B1445=2,VLOOKUP(D$2,Table1[],4,0),IF($B1445=3,VLOOKUP(D$2,Table1[],5,0),IF($B1445=4,VLOOKUP(D$2,Table1[],5,0),0))))","v":2000000},{"$f":"IF($B1445=1,VLOOKUP(E$2,Table1[],3,0),IF($B1445=2,VLOOKUP(E$2,Table1[],4,0),IF($B1445=3,VLOOKUP(E$2,Table1[],5,0),IF($B1445=4,VLOOKUP(E$2,Table1[],5,0),0))))","v":1500000},{"$f":"IF($B1445=1,VLOOKUP(F$2,Table1[],3,0),IF($B1445=2,VLOOKUP(F$2,Table1[],4,0),IF($B1445=3,VLOOKUP(F$2,Table1[],5,0),IF($B1445=4,VLOOKUP(F$2,Table1[],5,0),0))))","v":800000}]
[7267,4,{"$f":"IF($B1446=1,VLOOKUP(C$2,Table1[],3,0),IF($B1446=2,VLOOKUP(C$2,Table1[],4,0),IF($B1446=3,VLOOKUP(C$2,Table1[],5,0),IF($B1446=4,VLOOKUP(C$2,Table1[],5,0),0))))","v":500000},{"$f":"IF($B1446=1,VLOOKUP(D$2,Table1[],3,0),IF($B1446=2,VLOOKUP(D$2,Table1[],4,0),IF($B1446=3,VLOOKUP(D$2,Table1[],5,0),IF($B1446=4,VLOOKUP(D$2,Table1[],5,0),0))))","v":400000},{"$f":"IF($B1446=1,VLOOKUP(E$2,Table1[],3,0),IF($B1446=2,VLOOKUP(E$2,Table1[],4,0),IF($B1446=3,VLOOKUP(E$2,Table1[],5,0),IF($B1446=4,VLOOKUP(E$2,Table1[],5,0),0))))","v":"N/A"},{"$f":"IF($B1446=1,VLOOKUP(F$2,Table1[],3,0),IF($B1446=2,VLOOKUP(F$2,Table1[],4,0),IF($B1446=3,VLOOKUP(F$2,Table1[],5,0),IF($B1446=4,VLOOKUP(F$2,Table1[],5,0),0))))","v":"N/A"}]
[7277,1,{"$f":"IF($B1447=1,VLOOKUP(C$2,Table1[],3,0),IF($B1447=2,VLOOKUP(C$2,Table1[],4,0),IF($B1447=3,VLOOKUP(C$2,Table1[],5,0),IF($B1447=4,VLOOKUP(C$2,Table1[],5,0),0))))","v":2000000},{"$f":"IF($B1447=1,VLOOKUP(D$2,Table1[],3,0),IF($B1447=2,VLOOKUP(D$2,Table1[],4,0),IF($B1447=3,VLOOKUP(D$2,Table1[],5,0),IF($B1447=4,VLOOKUP(D$2,Table1[],5,0),0))))","v":2000000},{"$f":"IF($B1447=1,VLOOKUP(E$2,Table1[],3,0),IF($B1447=2,VLOOKUP(E$2,Table1[],4,0),IF($B1447=3,VLOOKUP(E$2,Table1[],5,0),IF($B1447=4,VLOOKUP(E$2,Table1[],5,0),0))))","v":1500000},{"$f":"IF($B1447=1,VLOOKUP(F$2,Table1[],3,0),IF($B1447=2,VLOOKUP(F$2,Table1[],4,0),IF($B1447=3,VLOOKUP(F$2,Table1[],5,0),IF($B1447=4,VLOOKUP(F$2,Table1[],5,0),0))))","v":800000}]
[7290,1,{"$f":"IF($B1448=1,VLOOKUP(C$2,Table1[],3,0),IF($B1448=2,VLOOKUP(C$2,Table1[],4,0),IF($B1448=3,VLOOKUP(C$2,Table1[],5,0),IF($B1448=4,VLOOKUP(C$2,Table1[],5,0),0))))","v":2000000},{"$f":"IF($B1448=1,VLOOKUP(D$2,Table1[],3,0),IF($B1448=2,VLOOKUP(D$2,Table1[],4,0),IF($B1448=3,VLOOKUP(D$2,Table1[],5,0),IF($B1448=4,VLOOKUP(D$2,Table1[],5,0),0))))","v":2000000},{"$f":"IF($B1448=1,VLOOKUP(E$2,Table1[],3,0),IF($B1448=2,VLOOKUP(E$2,Table1[],4,0),IF($B1448=3,VLOOKUP(E$2,Table1[],5,0),IF($B1448=4,VLOOKUP(E$2,Table1[],5,0),0))))","v":1500000},{"$f":"IF($B1448=1,VLOOKUP(F$2,Table1[],3,0),IF($B1448=2,VLOOKUP(F$2,Table1[],4,0),IF($B1448=3,VLOOKUP(F$2,Table1[],5,0),IF($B1448=4,VLOOKUP(F$2,Table1[],5,0),0))))","v":800000}]
[7300,1,{"$f":"IF($B1449=1,VLOOKUP(C$2,Table1[],3,0),IF($B1449=2,VLOOKUP(C$2,Table1[],4,0),IF($B1449=3,VLOOKUP(C$2,Table1[],5,0),IF($B1449=4,VLOOKUP(C$2,Table1[],5,0),0))))","v":2000000},{"$f":"IF($B1449=1,VLOOKUP(D$2,Table1[],3,0),IF($B1449=2,VLOOKUP(D$2,Table1[],4,0),IF($B1449=3,VLOOKUP(D$2,Table1[],5,0),IF($B1449=4,VLOOKUP(D$2,Table1[],5,0),0))))","v":2000000},{"$f":"IF($B1449=1,VLOOKUP(E$2,Table1[],3,0),IF($B1449=2,VLOOKUP(E$2,Table1[],4,0),IF($B1449=3,VLOOKUP(E$2,Table1[],5,0),IF($B1449=4,VLOOKUP(E$2,Table1[],5,0),0))))","v":1500000},{"$f":"IF($B1449=1,VLOOKUP(F$2,Table1[],3,0),IF($B1449=2,VLOOKUP(F$2,Table1[],4,0),IF($B1449=3,VLOOKUP(F$2,Table1[],5,0),IF($B1449=4,VLOOKUP(F$2,Table1[],5,0),0))))","v":800000}]
[7301,2,{"$f":"IF($B1450=1,VLOOKUP(C$2,Table1[],3,0),IF($B1450=2,VLOOKUP(C$2,Table1[],4,0),IF($B1450=3,VLOOKUP(C$2,Table1[],5,0),IF($B1450=4,VLOOKUP(C$2,Table1[],5,0),0))))","v":1000000},{"$f":"IF($B1450=1,VLOOKUP(D$2,Table1[],3,0),IF($B1450=2,VLOOKUP(D$2,Table1[],4,0),IF($B1450=3,VLOOKUP(D$2,Table1[],5,0),IF($B1450=4,VLOOKUP(D$2,Table1[],5,0),0))))","v":1000000},{"$f":"IF($B1450=1,VLOOKUP(E$2,Table1[],3,0),IF($B1450=2,VLOOKUP(E$2,Table1[],4,0),IF($B1450=3,VLOOKUP(E$2,Table1[],5,0),IF($B1450=4,VLOOKUP(E$2,Table1[],5,0),0))))","v":750000},{"$f":"IF($B1450=1,VLOOKUP(F$2,Table1[],3,0),IF($B1450=2,VLOOKUP(F$2,Table1[],4,0),IF($B1450=3,VLOOKUP(F$2,Table1[],5,0),IF($B1450=4,VLOOKUP(F$2,Table1[],5,0),0))))","v":500000}]
[7307,2,{"$f":"IF($B1451=1,VLOOKUP(C$2,Table1[],3,0),IF($B1451=2,VLOOKUP(C$2,Table1[],4,0),IF($B1451=3,VLOOKUP(C$2,Table1[],5,0),IF($B1451=4,VLOOKUP(C$2,Table1[],5,0),0))))","v":1000000},{"$f":"IF($B1451=1,VLOOKUP(D$2,Table1[],3,0),IF($B1451=2,VLOOKUP(D$2,Table1[],4,0),IF($B1451=3,VLOOKUP(D$2,Table1[],5,0),IF($B1451=4,VLOOKUP(D$2,Table1[],5,0),0))))","v":1000000},{"$f":"IF($B1451=1,VLOOKUP(E$2,Table1[],3,0),IF($B1451=2,VLOOKUP(E$2,Table1[],4,0),IF($B1451=3,VLOOKUP(E$2,Table1[],5,0),IF($B1451=4,VLOOKUP(E$2,Table1[],5,0),0))))","v":750000},{"$f":"IF($B1451=1,VLOOKUP(F$2,Table1[],3,0),IF($B1451=2,VLOOKUP(F$2,Table1[],4,0),IF($B1451=3,VLOOKUP(F$2,Table1[],5,0),IF($B1451=4,VLOOKUP(F$2,Table1[],5,0),0))))","v":500000}]
[7310,2,{"$f":"IF($B1452=1,VLOOKUP(C$2,Table1[],3,0),IF($B1452=2,VLOOKUP(C$2,Table1[],4,0),IF($B1452=3,VLOOKUP(C$2,Table1[],5,0),IF($B1452=4,VLOOKUP(C$2,Table1[],5,0),0))))","v":1000000},{"$f":"IF($B1452=1,VLOOKUP(D$2,Table1[],3,0),IF($B1452=2,VLOOKUP(D$2,Table1[],4,0),IF($B1452=3,VLOOKUP(D$2,Table1[],5,0),IF($B1452=4,VLOOKUP(D$2,Table1[],5,0),0))))","v":1000000},{"$f":"IF($B1452=1,VLOOKUP(E$2,Table1[],3,0),IF($B1452=2,VLOOKUP(E$2,Table1[],4,0),IF($B1452=3,VLOOKUP(E$2,Table1[],5,0),IF($B1452=4,VLOOKUP(E$2,Table1[],5,0),0))))","v":750000},{"$f":"IF($B1452=1,VLOOKUP(F$2,Table1[],3,0),IF($B1452=2,VLOOKUP(F$2,Table1[],4,0),IF($B1452=3,VLOOKUP(F$2,Table1[],5,0),IF($B1452=4,VLOOKUP(F$2,Table1[],5,0),0))))","v":500000}]
[7315,2,{"$f":"IF($B1453=1,VLOOKUP(C$2,Table1[],3,0),IF($B1453=2,VLOOKUP(C$2,Table1[],4,0),IF($B1453=3,VLOOKUP(C$2,Table1[],5,0),IF($B1453=4,VLOOKUP(C$2,Table1[],5,0),0))))","v":1000000},{"$f":"IF($B1453=1,VLOOKUP(D$2,Table1[],3,0),IF($B1453=2,VLOOKUP(D$2,Table1[],4,0),IF($B1453=3,VLOOKUP(D$2,Table1[],5,0),IF($B1453=4,VLOOKUP(D$2,Table1[],5,0),0))))","v":1000000},{"$f":"IF($B1453=1,VLOOKUP(E$2,Table1[],3,0),IF($B1453=2,VLOOKUP(E$2,Table1[],4,0),IF($B1453=3,VLOOKUP(E$2,Table1[],5,0),IF($B1453=4,VLOOKUP(E$2,Table1[],5,0),0))))","v":750000},{"$f":"IF($B1453=1,VLOOKUP(F$2,Table1[],3,0),IF($B1453=2,VLOOKUP(F$2,Table1[],4,0),IF($B1453=3,VLOOKUP(F$2,Table1[],5,0),IF($B1453=4,VLOOKUP(F$2,Table1[],5,0),0))))","v":500000}]
[7316,2,{"$f":"IF($B1454=1,VLOOKUP(C$2,Table1[],3,0),IF($B1454=2,VLOOKUP(C$2,Table1[],4,0),IF($B1454=3,VLOOKUP(C$2,Table1[],5,0),IF($B1454=4,VLOOKUP(C$2,Table1[],5,0),0))))","v":1000000},{"$f":"IF($B1454=1,VLOOKUP(D$2,Table1[],3,0),IF($B1454=2,VLOOKUP(D$2,Table1[],4,0),IF($B1454=3,VLOOKUP(D$2,Table1[],5,0),IF($B1454=4,VLOOKUP(D$2,Table1[],5,0),0))))","v":1000000},{"$f":"IF($B1454=1,VLOOKUP(E$2,Table1[],3,0),IF($B1454=2,VLOOKUP(E$2,Table1[],4,0),IF($B1454=3,VLOOKUP(E$2,Table1[],5,0),IF($B1454=4,VLOOKUP(E$2,Table1[],5,0),0))))","v":750000},{"$f":"IF($B1454=1,VLOOKUP(F$2,Table1[],3,0),IF($B1454=2,VLOOKUP(F$2,Table1[],4,0),IF($B1454=3,VLOOKUP(F$2,Table1[],5,0),IF($B1454=4,VLOOKUP(F$2,Table1[],5,0),0))))","v":500000}]
[7320,2,{"$f":"IF($B1455=1,VLOOKUP(C$2,Table1[],3,0),IF($B1455=2,VLOOKUP(C$2,Table1[],4,0),IF($B1455=3,VLOOKUP(C$2,Table1[],5,0),IF($B1455=4,VLOOKUP(C$2,Table1[],5,0),0))))","v":1000000},{"$f":"IF($B1455=1,VLOOKUP(D$2,Table1[],3,0),IF($B1455=2,VLOOKUP(D$2,Table1[],4,0),IF($B1455=3,VLOOKUP(D$2,Table1[],5,0),IF($B1455=4,VLOOKUP(D$2,Table1[],5,0),0))))","v":1000000},{"$f":"IF($B1455=1,VLOOKUP(E$2,Table1[],3,0),IF($B1455=2,VLOOKUP(E$2,Table1[],4,0),IF($B1455=3,VLOOKUP(E$2,Table1[],5,0),IF($B1455=4,VLOOKUP(E$2,Table1[],5,0),0))))","v":750000},{"$f":"IF($B1455=1,VLOOKUP(F$2,Table1[],3,0),IF($B1455=2,VLOOKUP(F$2,Table1[],4,0),IF($B1455=3,VLOOKUP(F$2,Table1[],5,0),IF($B1455=4,VLOOKUP(F$2,Table1[],5,0),0))))","v":500000}]
[7321,3,{"$f":"IF($B1456=1,VLOOKUP(C$2,Table1[],3,0),IF($B1456=2,VLOOKUP(C$2,Table1[],4,0),IF($B1456=3,VLOOKUP(C$2,Table1[],5,0),IF($B1456=4,VLOOKUP(C$2,Table1[],5,0),0))))","v":500000},{"$f":"IF($B1456=1,VLOOKUP(D$2,Table1[],3,0),IF($B1456=2,VLOOKUP(D$2,Table1[],4,0),IF($B1456=3,VLOOKUP(D$2,Table1[],5,0),IF($B1456=4,VLOOKUP(D$2,Table1[],5,0),0))))","v":400000},{"$f":"IF($B1456=1,VLOOKUP(E$2,Table1[],3,0),IF($B1456=2,VLOOKUP(E$2,Table1[],4,0),IF($B1456=3,VLOOKUP(E$2,Table1[],5,0),IF($B1456=4,VLOOKUP(E$2,Table1[],5,0),0))))","v":"N/A"},{"$f":"IF($B1456=1,VLOOKUP(F$2,Table1[],3,0),IF($B1456=2,VLOOKUP(F$2,Table1[],4,0),IF($B1456=3,VLOOKUP(F$2,Table1[],5,0),IF($B1456=4,VLOOKUP(F$2,Table1[],5,0),0))))","v":"N/A"}]
[7325,3,{"$f":"IF($B1457=1,VLOOKUP(C$2,Table1[],3,0),IF($B1457=2,VLOOKUP(C$2,Table1[],4,0),IF($B1457=3,VLOOKUP(C$2,Table1[],5,0),IF($B1457=4,VLOOKUP(C$2,Table1[],5,0),0))))","v":500000},{"$f":"IF($B1457=1,VLOOKUP(D$2,Table1[],3,0),IF($B1457=2,VLOOKUP(D$2,Table1[],4,0),IF($B1457=3,VLOOKUP(D$2,Table1[],5,0),IF($B1457=4,VLOOKUP(D$2,Table1[],5,0),0))))","v":400000},{"$f":"IF($B1457=1,VLOOKUP(E$2,Table1[],3,0),IF($B1457=2,VLOOKUP(E$2,Table1[],4,0),IF($B1457=3,VLOOKUP(E$2,Table1[],5,0),IF($B1457=4,VLOOKUP(E$2,Table1[],5,0),0))))","v":"N/A"},{"$f":"IF($B1457=1,VLOOKUP(F$2,Table1[],3,0),IF($B1457=2,VLOOKUP(F$2,Table1[],4,0),IF($B1457=3,VLOOKUP(F$2,Table1[],5,0),IF($B1457=4,VLOOKUP(F$2,Table1[],5,0),0))))","v":"N/A"}]
[7330,2,{"$f":"IF($B1458=1,VLOOKUP(C$2,Table1[],3,0),IF($B1458=2,VLOOKUP(C$2,Table1[],4,0),IF($B1458=3,VLOOKUP(C$2,Table1[],5,0),IF($B1458=4,VLOOKUP(C$2,Table1[],5,0),0))))","v":1000000},{"$f":"IF($B1458=1,VLOOKUP(D$2,Table1[],3,0),IF($B1458=2,VLOOKUP(D$2,Table1[],4,0),IF($B1458=3,VLOOKUP(D$2,Table1[],5,0),IF($B1458=4,VLOOKUP(D$2,Table1[],5,0),0))))","v":1000000},{"$f":"IF($B1458=1,VLOOKUP(E$2,Table1[],3,0),IF($B1458=2,VLOOKUP(E$2,Table1[],4,0),IF($B1458=3,VLOOKUP(E$2,Table1[],5,0),IF($B1458=4,VLOOKUP(E$2,Table1[],5,0),0))))","v":750000},{"$f":"IF($B1458=1,VLOOKUP(F$2,Table1[],3,0),IF($B1458=2,VLOOKUP(F$2,Table1[],4,0),IF($B1458=3,VLOOKUP(F$2,Table1[],5,0),IF($B1458=4,VLOOKUP(F$2,Table1[],5,0),0))))","v":500000}]
[7467,4,{"$f":"IF($B1459=1,VLOOKUP(C$2,Table1[],3,0),IF($B1459=2,VLOOKUP(C$2,Table1[],4,0),IF($B1459=3,VLOOKUP(C$2,Table1[],5,0),IF($B1459=4,VLOOKUP(C$2,Table1[],5,0),0))))","v":500000},{"$f":"IF($B1459=1,VLOOKUP(D$2,Table1[],3,0),IF($B1459=2,VLOOKUP(D$2,Table1[],4,0),IF($B1459=3,VLOOKUP(D$2,Table1[],5,0),IF($B1459=4,VLOOKUP(D$2,Table1[],5,0),0))))","v":400000},{"$f":"IF($B1459=1,VLOOKUP(E$2,Table1[],3,0),IF($B1459=2,VLOOKUP(E$2,Table1[],4,0),IF($B1459=3,VLOOKUP(E$2,Table1[],5,0),IF($B1459=4,VLOOKUP(E$2,Table1[],5,0),0))))","v":"N/A"},{"$f":"IF($B1459=1,VLOOKUP(F$2,Table1[],3,0),IF($B1459=2,VLOOKUP(F$2,Table1[],4,0),IF($B1459=3,VLOOKUP(F$2,Table1[],5,0),IF($B1459=4,VLOOKUP(F$2,Table1[],5,0),0))))","v":"N/A"}]
[7468,4,{"$f":"IF($B1460=1,VLOOKUP(C$2,Table1[],3,0),IF($B1460=2,VLOOKUP(C$2,Table1[],4,0),IF($B1460=3,VLOOKUP(C$2,Table1[],5,0),IF($B1460=4,VLOOKUP(C$2,Table1[],5,0),0))))","v":500000},{"$f":"IF($B1460=1,VLOOKUP(D$2,Table1[],3,0),IF($B1460=2,VLOOKUP(D$2,Table1[],4,0),IF($B1460=3,VLOOKUP(D$2,Table1[],5,0),IF($B1460=4,VLOOKUP(D$2,Table1[],5,0),0))))","v":400000},{"$f":"IF($B1460=1,VLOOKUP(E$2,Table1[],3,0),IF($B1460=2,VLOOKUP(E$2,Table1[],4,0),IF($B1460=3,VLOOKUP(E$2,Table1[],5,0),IF($B1460=4,VLOOKUP(E$2,Table1[],5,0),0))))","v":"N/A"},{"$f":"IF($B1460=1,VLOOKUP(F$2,Table1[],3,0),IF($B1460=2,VLOOKUP(F$2,Table1[],4,0),IF($B1460=3,VLOOKUP(F$2,Table1[],5,0),IF($B1460=4,VLOOKUP(F$2,Table1[],5,0),0))))","v":"N/A"}]
[7469,4,{"$f":"IF($B1461=1,VLOOKUP(C$2,Table1[],3,0),IF($B1461=2,VLOOKUP(C$2,Table1[],4,0),IF($B1461=3,VLOOKUP(C$2,Table1[],5,0),IF($B1461=4,VLOOKUP(C$2,Table1[],5,0),0))))","v":500000},{"$f":"IF($B1461=1,VLOOKUP(D$2,Table1[],3,0),IF($B1461=2,VLOOKUP(D$2,Table1[],4,0),IF($B1461=3,VLOOKUP(D$2,Table1[],5,0),IF($B1461=4,VLOOKUP(D$2,Table1[],5,0),0))))","v":400000},{"$f":"IF($B1461=1,VLOOKUP(E$2,Table1[],3,0),IF($B1461=2,VLOOKUP(E$2,Table1[],4,0),IF($B1461=3,VLOOKUP(E$2,Table1[],5,0),IF($B1461=4,VLOOKUP(E$2,Table1[],5,0),0))))","v":"N/A"},{"$f":"IF($B1461=1,VLOOKUP(F$2,Table1[],3,0),IF($B1461=2,VLOOKUP(F$2,Table1[],4,0),IF($B1461=3,VLOOKUP(F$2,Table1[],5,0),IF($B1461=4,VLOOKUP(F$2,Table1[],5,0),0))))","v":"N/A"}]
[7470,4,{"$f":"IF($B1462=1,VLOOKUP(C$2,Table1[],3,0),IF($B1462=2,VLOOKUP(C$2,Table1[],4,0),IF($B1462=3,VLOOKUP(C$2,Table1[],5,0),IF($B1462=4,VLOOKUP(C$2,Table1[],5,0),0))))","v":500000},{"$f":"IF($B1462=1,VLOOKUP(D$2,Table1[],3,0),IF($B1462=2,VLOOKUP(D$2,Table1[],4,0),IF($B1462=3,VLOOKUP(D$2,Table1[],5,0),IF($B1462=4,VLOOKUP(D$2,Table1[],5,0),0))))","v":400000},{"$f":"IF($B1462=1,VLOOKUP(E$2,Table1[],3,0),IF($B1462=2,VLOOKUP(E$2,Table1[],4,0),IF($B1462=3,VLOOKUP(E$2,Table1[],5,0),IF($B1462=4,VLOOKUP(E$2,Table1[],5,0),0))))","v":"N/A"},{"$f":"IF($B1462=1,VLOOKUP(F$2,Table1[],3,0),IF($B1462=2,VLOOKUP(F$2,Table1[],4,0),IF($B1462=3,VLOOKUP(F$2,Table1[],5,0),IF($B1462=4,VLOOKUP(F$2,Table1[],5,0),0))))","v":"N/A"}]
["0800",1,{"$f":"IF($B1463=1,VLOOKUP(C$2,Table1[],3,0),IF($B1463=2,VLOOKUP(C$2,Table1[],4,0),IF($B1463=3,VLOOKUP(C$2,Table1[],5,0),IF($B1463=4,VLOOKUP(C$2,Table1[],5,0),0))))","v":2000000},{"$f":"IF($B1463=1,VLOOKUP(D$2,Table1[],3,0),IF($B1463=2,VLOOKUP(D$2,Table1[],4,0),IF($B1463=3,VLOOKUP(D$2,Table1[],5,0),IF($B1463=4,VLOOKUP(D$2,Table1[],5,0),0))))","v":2000000},{"$f":"IF($B1463=1,VLOOKUP(E$2,Table1[],3,0),IF($B1463=2,VLOOKUP(E$2,Table1[],4,0),IF($B1463=3,VLOOKUP(E$2,Table1[],5,0),IF($B1463=4,VLOOKUP(E$2,Table1[],5,0),0))))","v":1500000},{"$f":"IF($B1463=1,VLOOKUP(F$2,Table1[],3,0),IF($B1463=2,VLOOKUP(F$2,Table1[],4,0),IF($B1463=3,VLOOKUP(F$2,Table1[],5,0),IF($B1463=4,VLOOKUP(F$2,Table1[],5,0),0))))","v":800000}]
["0810",1,{"$f":"IF($B1464=1,VLOOKUP(C$2,Table1[],3,0),IF($B1464=2,VLOOKUP(C$2,Table1[],4,0),IF($B1464=3,VLOOKUP(C$2,Table1[],5,0),IF($B1464=4,VLOOKUP(C$2,Table1[],5,0),0))))","v":2000000},{"$f":"IF($B1464=1,VLOOKUP(D$2,Table1[],3,0),IF($B1464=2,VLOOKUP(D$2,Table1[],4,0),IF($B1464=3,VLOOKUP(D$2,Table1[],5,0),IF($B1464=4,VLOOKUP(D$2,Table1[],5,0),0))))","v":2000000},{"$f":"IF($B1464=1,VLOOKUP(E$2,Table1[],3,0),IF($B1464=2,VLOOKUP(E$2,Table1[],4,0),IF($B1464=3,VLOOKUP(E$2,Table1[],5,0),IF($B1464=4,VLOOKUP(E$2,Table1[],5,0),0))))","v":1500000},{"$f":"IF($B1464=1,VLOOKUP(F$2,Table1[],3,0),IF($B1464=2,VLOOKUP(F$2,Table1[],4,0),IF($B1464=3,VLOOKUP(F$2,Table1[],5,0),IF($B1464=4,VLOOKUP(F$2,Table1[],5,0),0))))","v":800000}]
["0812",1,{"$f":"IF($B1465=1,VLOOKUP(C$2,Table1[],3,0),IF($B1465=2,VLOOKUP(C$2,Table1[],4,0),IF($B1465=3,VLOOKUP(C$2,Table1[],5,0),IF($B1465=4,VLOOKUP(C$2,Table1[],5,0),0))))","v":2000000},{"$f":"IF($B1465=1,VLOOKUP(D$2,Table1[],3,0),IF($B1465=2,VLOOKUP(D$2,Table1[],4,0),IF($B1465=3,VLOOKUP(D$2,Table1[],5,0),IF($B1465=4,VLOOKUP(D$2,Table1[],5,0),0))))","v":2000000},{"$f":"IF($B1465=1,VLOOKUP(E$2,Table1[],3,0),IF($B1465=2,VLOOKUP(E$2,Table1[],4,0),IF($B1465=3,VLOOKUP(E$2,Table1[],5,0),IF($B1465=4,VLOOKUP(E$2,Table1[],5,0),0))))","v":1500000},{"$f":"IF($B1465=1,VLOOKUP(F$2,Table1[],3,0),IF($B1465=2,VLOOKUP(F$2,Table1[],4,0),IF($B1465=3,VLOOKUP(F$2,Table1[],5,0),IF($B1465=4,VLOOKUP(F$2,Table1[],5,0),0))))","v":800000}]
["0820",1,{"$f":"IF($B1466=1,VLOOKUP(C$2,Table1[],3,0),IF($B1466=2,VLOOKUP(C$2,Table1[],4,0),IF($B1466=3,VLOOKUP(C$2,Table1[],5,0),IF($B1466=4,VLOOKUP(C$2,Table1[],5,0),0))))","v":2000000},{"$f":"IF($B1466=1,VLOOKUP(D$2,Table1[],3,0),IF($B1466=2,VLOOKUP(D$2,Table1[],4,0),IF($B1466=3,VLOOKUP(D$2,Table1[],5,0),IF($B1466=4,VLOOKUP(D$2,Table1[],5,0),0))))","v":2000000},{"$f":"IF($B1466=1,VLOOKUP(E$2,Table1[],3,0),IF($B1466=2,VLOOKUP(E$2,Table1[],4,0),IF($B1466=3,VLOOKUP(E$2,Table1[],5,0),IF($B1466=4,VLOOKUP(E$2,Table1[],5,0),0))))","v":1500000},{"$f":"IF($B1466=1,VLOOKUP(F$2,Table1[],3,0),IF($B1466=2,VLOOKUP(F$2,Table1[],4,0),IF($B1466=3,VLOOKUP(F$2,Table1[],5,0),IF($B1466=4,VLOOKUP(F$2,Table1[],5,0),0))))","v":800000}]
["0822",2,{"$f":"IF($B1467=1,VLOOKUP(C$2,Table1[],3,0),IF($B1467=2,VLOOKUP(C$2,Table1[],4,0),IF($B1467=3,VLOOKUP(C$2,Table1[],5,0),IF($B1467=4,VLOOKUP(C$2,Table1[],5,0),0))))","v":1000000},{"$f":"IF($B1467=1,VLOOKUP(D$2,Table1[],3,0),IF($B1467=2,VLOOKUP(D$2,Table1[],4,0),IF($B1467=3,VLOOKUP(D$2,Table1[],5,0),IF($B1467=4,VLOOKUP(D$2,Table1[],5,0),0))))","v":1000000},{"$f":"IF($B1467=1,VLOOKUP(E$2,Table1[],3,0),IF($B1467=2,VLOOKUP(E$2,Table1[],4,0),IF($B1467=3,VLOOKUP(E$2,Table1[],5,0),IF($B1467=4,VLOOKUP(E$2,Table1[],5,0),0))))","v":750000},{"$f":"IF($B1467=1,VLOOKUP(F$2,Table1[],3,0),IF($B1467=2,VLOOKUP(F$2,Table1[],4,0),IF($B1467=3,VLOOKUP(F$2,Table1[],5,0),IF($B1467=4,VLOOKUP(F$2,Table1[],5,0),0))))","v":500000}]
["0828",1,{"$f":"IF($B1468=1,VLOOKUP(C$2,Table1[],3,0),IF($B1468=2,VLOOKUP(C$2,Table1[],4,0),IF($B1468=3,VLOOKUP(C$2,Table1[],5,0),IF($B1468=4,VLOOKUP(C$2,Table1[],5,0),0))))","v":2000000},{"$f":"IF($B1468=1,VLOOKUP(D$2,Table1[],3,0),IF($B1468=2,VLOOKUP(D$2,Table1[],4,0),IF($B1468=3,VLOOKUP(D$2,Table1[],5,0),IF($B1468=4,VLOOKUP(D$2,Table1[],5,0),0))))","v":2000000},{"$f":"IF($B1468=1,VLOOKUP(E$2,Table1[],3,0),IF($B1468=2,VLOOKUP(E$2,Table1[],4,0),IF($B1468=3,VLOOKUP(E$2,Table1[],5,0),IF($B1468=4,VLOOKUP(E$2,Table1[],5,0),0))))","v":1500000},{"$f":"IF($B1468=1,VLOOKUP(F$2,Table1[],3,0),IF($B1468=2,VLOOKUP(F$2,Table1[],4,0),IF($B1468=3,VLOOKUP(F$2,Table1[],5,0),IF($B1468=4,VLOOKUP(F$2,Table1[],5,0),0))))","v":800000}]
["0829",1,{"$f":"IF($B1469=1,VLOOKUP(C$2,Table1[],3,0),IF($B1469=2,VLOOKUP(C$2,Table1[],4,0),IF($B1469=3,VLOOKUP(C$2,Table1[],5,0),IF($B1469=4,VLOOKUP(C$2,Table1[],5,0),0))))","v":2000000},{"$f":"IF($B1469=1,VLOOKUP(D$2,Table1[],3,0),IF($B1469=2,VLOOKUP(D$2,Table1[],4,0),IF($B1469=3,VLOOKUP(D$2,Table1[],5,0),IF($B1469=4,VLOOKUP(D$2,Table1[],5,0),0))))","v":2000000},{"$f":"IF($B1469=1,VLOOKUP(E$2,Table1[],3,0),IF($B1469=2,VLOOKUP(E$2,Table1[],4,0),IF($B1469=3,VLOOKUP(E$2,Table1[],5,0),IF($B1469=4,VLOOKUP(E$2,Table1[],5,0),0))))","v":1500000},{"$f":"IF($B1469=1,VLOOKUP(F$2,Table1[],3,0),IF($B1469=2,VLOOKUP(F$2,Table1[],4,0),IF($B1469=3,VLOOKUP(F$2,Table1[],5,0),IF($B1469=4,VLOOKUP(F$2,Table1[],5,0),0))))","v":800000}]
["0830 Houses",1,{"$f":"IF($B1470=1,VLOOKUP(C$2,Table1[],3,0),IF($B1470=2,VLOOKUP(C$2,Table1[],4,0),IF($B1470=3,VLOOKUP(C$2,Table1[],5,0),IF($B1470=4,VLOOKUP(C$2,Table1[],5,0),0))))","v":2000000},{"$f":"IF($B1470=1,VLOOKUP(D$2,Table1[],3,0),IF($B1470=2,VLOOKUP(D$2,Table1[],4,0),IF($B1470=3,VLOOKUP(D$2,Table1[],5,0),IF($B1470=4,VLOOKUP(D$2,Table1[],5,0),0))))","v":2000000},{"$f":"IF($B1470=1,VLOOKUP(E$2,Table1[],3,0),IF($B1470=2,VLOOKUP(E$2,Table1[],4,0),IF($B1470=3,VLOOKUP(E$2,Table1[],5,0),IF($B1470=4,VLOOKUP(E$2,Table1[],5,0),0))))","v":1500000},{"$f":"IF($B1470=1,VLOOKUP(F$2,Table1[],3,0),IF($B1470=2,VLOOKUP(F$2,Table1[],4,0),IF($B1470=3,VLOOKUP(F$2,Table1[],5,0),IF($B1470=4,VLOOKUP(F$2,Table1[],5,0),0))))","v":800000}]
["0830 Units",4,{"$f":"IF($B1471=1,VLOOKUP(C$2,Table1[],3,0),IF($B1471=2,VLOOKUP(C$2,Table1[],4,0),IF($B1471=3,VLOOKUP(C$2,Table1[],5,0),IF($B1471=4,VLOOKUP(C$2,Table1[],5,0),0))))","v":500000},{"$f":"IF($B1471=1,VLOOKUP(D$2,Table1[],3,0),IF($B1471=2,VLOOKUP(D$2,Table1[],4,0),IF($B1471=3,VLOOKUP(D$2,Table1[],5,0),IF($B1471=4,VLOOKUP(D$2,Table1[],5,0),0))))","v":400000},{"$f":"IF($B1471=1,VLOOKUP(E$2,Table1[],3,0),IF($B1471=2,VLOOKUP(E$2,Table1[],4,0),IF($B1471=3,VLOOKUP(E$2,Table1[],5,0),IF($B1471=4,VLOOKUP(E$2,Table1[],5,0),0))))","v":"N/A"},{"$f":"IF($B1471=1,VLOOKUP(F$2,Table1[],3,0),IF($B1471=2,VLOOKUP(F$2,Table1[],4,0),IF($B1471=3,VLOOKUP(F$2,Table1[],5,0),IF($B1471=4,VLOOKUP(F$2,Table1[],5,0),0))))","v":"N/A"}]
["0832 Houses",1,{"$f":"IF($B1472=1,VLOOKUP(C$2,Table1[],3,0),IF($B1472=2,VLOOKUP(C$2,Table1[],4,0),IF($B1472=3,VLOOKUP(C$2,Table1[],5,0),IF($B1472=4,VLOOKUP(C$2,Table1[],5,0),0))))","v":2000000},{"$f":"IF($B1472=1,VLOOKUP(D$2,Table1[],3,0),IF($B1472=2,VLOOKUP(D$2,Table1[],4,0),IF($B1472=3,VLOOKUP(D$2,Table1[],5,0),IF($B1472=4,VLOOKUP(D$2,Table1[],5,0),0))))","v":2000000},{"$f":"IF($B1472=1,VLOOKUP(E$2,Table1[],3,0),IF($B1472=2,VLOOKUP(E$2,Table1[],4,0),IF($B1472=3,VLOOKUP(E$2,Table1[],5,0),IF($B1472=4,VLOOKUP(E$2,Table1[],5,0),0))))","v":1500000},{"$f":"IF($B1472=1,VLOOKUP(F$2,Table1[],3,0),IF($B1472=2,VLOOKUP(F$2,Table1[],4,0),IF($B1472=3,VLOOKUP(F$2,Table1[],5,0),IF($B1472=4,VLOOKUP(F$2,Table1[],5,0),0))))","v":800000}]
["0832 Units",4,{"$f":"IF($B1473=1,VLOOKUP(C$2,Table1[],3,0),IF($B1473=2,VLOOKUP(C$2,Table1[],4,0),IF($B1473=3,VLOOKUP(C$2,Table1[],5,0),IF($B1473=4,VLOOKUP(C$2,Table1[],5,0),0))))","v":500000},{"$f":"IF($B1473=1,VLOOKUP(D$2,Table1[],3,0),IF($B1473=2,VLOOKUP(D$2,Table1[],4,0),IF($B1473=3,VLOOKUP(D$2,Table1[],5,0),IF($B1473=4,VLOOKUP(D$2,Table1[],5,0),0))))","v":400000},{"$f":"IF($B1473=1,VLOOKUP(E$2,Table1[],3,0),IF($B1473=2,VLOOKUP(E$2,Table1[],4,0),IF($B1473=3,VLOOKUP(E$2,Table1[],5,0),IF($B1473=4,VLOOKUP(E$2,Table1[],5,0),0))))","v":"N/A"},{"$f":"IF($B1473=1,VLOOKUP(F$2,Table1[],3,0),IF($B1473=2,VLOOKUP(F$2,Table1[],4,0),IF($B1473=3,VLOOKUP(F$2,Table1[],5,0),IF($B1473=4,VLOOKUP(F$2,Table1[],5,0),0))))","v":"N/A"}]
["0834",2,{"$f":"IF($B1474=1,VLOOKUP(C$2,Table1[],3,0),IF($B1474=2,VLOOKUP(C$2,Table1[],4,0),IF($B1474=3,VLOOKUP(C$2,Table1[],5,0),IF($B1474=4,VLOOKUP(C$2,Table1[],5,0),0))))","v":1000000},{"$f":"IF($B1474=1,VLOOKUP(D$2,Table1[],3,0),IF($B1474=2,VLOOKUP(D$2,Table1[],4,0),IF($B1474=3,VLOOKUP(D$2,Table1[],5,0),IF($B1474=4,VLOOKUP(D$2,Table1[],5,0),0))))","v":1000000},{"$f":"IF($B1474=1,VLOOKUP(E$2,Table1[],3,0),IF($B1474=2,VLOOKUP(E$2,Table1[],4,0),IF($B1474=3,VLOOKUP(E$2,Table1[],5,0),IF($B1474=4,VLOOKUP(E$2,Table1[],5,0),0))))","v":750000},{"$f":"IF($B1474=1,VLOOKUP(F$2,Table1[],3,0),IF($B1474=2,VLOOKUP(F$2,Table1[],4,0),IF($B1474=3,VLOOKUP(F$2,Table1[],5,0),IF($B1474=4,VLOOKUP(F$2,Table1[],5,0),0))))","v":500000}]
["0835",2,{"$f":"IF($B1475=1,VLOOKUP(C$2,Table1[],3,0),IF($B1475=2,VLOOKUP(C$2,Table1[],4,0),IF($B1475=3,VLOOKUP(C$2,Table1[],5,0),IF($B1475=4,VLOOKUP(C$2,Table1[],5,0),0))))","v":1000000},{"$f":"IF($B1475=1,VLOOKUP(D$2,Table1[],3,0),IF($B1475=2,VLOOKUP(D$2,Table1[],4,0),IF($B1475=3,VLOOKUP(D$2,Table1[],5,0),IF($B1475=4,VLOOKUP(D$2,Table1[],5,0),0))))","v":1000000},{"$f":"IF($B1475=1,VLOOKUP(E$2,Table1[],3,0),IF($B1475=2,VLOOKUP(E$2,Table1[],4,0),IF($B1475=3,VLOOKUP(E$2,Table1[],5,0),IF($B1475=4,VLOOKUP(E$2,Table1[],5,0),0))))","v":750000},{"$f":"IF($B1475=1,VLOOKUP(F$2,Table1[],3,0),IF($B1475=2,VLOOKUP(F$2,Table1[],4,0),IF($B1475=3,VLOOKUP(F$2,Table1[],5,0),IF($B1475=4,VLOOKUP(F$2,Table1[],5,0),0))))","v":500000}]
["0836",2,{"$f":"IF($B1476=1,VLOOKUP(C$2,Table1[],3,0),IF($B1476=2,VLOOKUP(C$2,Table1[],4,0),IF($B1476=3,VLOOKUP(C$2,Table1[],5,0),IF($B1476=4,VLOOKUP(C$2,Table1[],5,0),0))))","v":1000000},{"$f":"IF($B1476=1,VLOOKUP(D$2,Table1[],3,0),IF($B1476=2,VLOOKUP(D$2,Table1[],4,0),IF($B1476=3,VLOOKUP(D$2,Table1[],5,0),IF($B1476=4,VLOOKUP(D$2,Table1[],5,0),0))))","v":1000000},{"$f":"IF($B1476=1,VLOOKUP(E$2,Table1[],3,0),IF($B1476=2,VLOOKUP(E$2,Table1[],4,0),IF($B1476=3,VLOOKUP(E$2,Table1[],5,0),IF($B1476=4,VLOOKUP(E$2,Table1[],5,0),0))))","v":750000},{"$f":"IF($B1476=1,VLOOKUP(F$2,Table1[],3,0),IF($B1476=2,VLOOKUP(F$2,Table1[],4,0),IF($B1476=3,VLOOKUP(F$2,Table1[],5,0),IF($B1476=4,VLOOKUP(F$2,Table1[],5,0),0))))","v":500000}]
["0839",3,{"$f":"IF($B1477=1,VLOOKUP(C$2,Table1[],3,0),IF($B1477=2,VLOOKUP(C$2,Table1[],4,0),IF($B1477=3,VLOOKUP(C$2,Table1[],5,0),IF($B1477=4,VLOOKUP(C$2,Table1[],5,0),0))))","v":500000},{"$f":"IF($B1477=1,VLOOKUP(D$2,Table1[],3,0),IF($B1477=2,VLOOKUP(D$2,Table1[],4,0),IF($B1477=3,VLOOKUP(D$2,Table1[],5,0),IF($B1477=4,VLOOKUP(D$2,Table1[],5,0),0))))","v":400000},{"$f":"IF($B1477=1,VLOOKUP(E$2,Table1[],3,0),IF($B1477=2,VLOOKUP(E$2,Table1[],4,0),IF($B1477=3,VLOOKUP(E$2,Table1[],5,0),IF($B1477=4,VLOOKUP(E$2,Table1[],5,0),0))))","v":"N/A"},{"$f":"IF($B1477=1,VLOOKUP(F$2,Table1[],3,0),IF($B1477=2,VLOOKUP(F$2,Table1[],4,0),IF($B1477=3,VLOOKUP(F$2,Table1[],5,0),IF($B1477=4,VLOOKUP(F$2,Table1[],5,0),0))))","v":"N/A"}]
["0850",3,{"$f":"IF($B1478=1,VLOOKUP(C$2,Table1[],3,0),IF($B1478=2,VLOOKUP(C$2,Table1[],4,0),IF($B1478=3,VLOOKUP(C$2,Table1[],5,0),IF($B1478=4,VLOOKUP(C$2,Table1[],5,0),0))))","v":500000},{"$f":"IF($B1478=1,VLOOKUP(D$2,Table1[],3,0),IF($B1478=2,VLOOKUP(D$2,Table1[],4,0),IF($B1478=3,VLOOKUP(D$2,Table1[],5,0),IF($B1478=4,VLOOKUP(D$2,Table1[],5,0),0))))","v":400000},{"$f":"IF($B1478=1,VLOOKUP(E$2,Table1[],3,0),IF($B1478=2,VLOOKUP(E$2,Table1[],4,0),IF($B1478=3,VLOOKUP(E$2,Table1[],5,0),IF($B1478=4,VLOOKUP(E$2,Table1[],5,0),0))))","v":"N/A"},{"$f":"IF($B1478=1,VLOOKUP(F$2,Table1[],3,0),IF($B1478=2,VLOOKUP(F$2,Table1[],4,0),IF($B1478=3,VLOOKUP(F$2,Table1[],5,0),IF($B1478=4,VLOOKUP(F$2,Table1[],5,0),0))))","v":"N/A"}]
["0870",2,{"$f":"IF($B1479=1,VLOOKUP(C$2,Table1[],3,0),IF($B1479=2,VLOOKUP(C$2,Table1[],4,0),IF($B1479=3,VLOOKUP(C$2,Table1[],5,0),IF($B1479=4,VLOOKUP(C$2,Table1[],5,0),0))))","v":1000000},{"$f":"IF($B1479=1,VLOOKUP(D$2,Table1[],3,0),IF($B1479=2,VLOOKUP(D$2,Table1[],4,0),IF($B1479=3,VLOOKUP(D$2,Table1[],5,0),IF($B1479=4,VLOOKUP(D$2,Table1[],5,0),0))))","v":1000000},{"$f":"IF($B1479=1,VLOOKUP(E$2,Table1[],3,0),IF($B1479=2,VLOOKUP(E$2,Table1[],4,0),IF($B1479=3,VLOOKUP(E$2,Table1[],5,0),IF($B1479=4,VLOOKUP(E$2,Table1[],5,0),0))))","v":750000},{"$f":"IF($B1479=1,VLOOKUP(F$2,Table1[],3,0),IF($B1479=2,VLOOKUP(F$2,Table1[],4,0),IF($B1479=3,VLOOKUP(F$2,Table1[],5,0),IF($B1479=4,VLOOKUP(F$2,Table1[],5,0),0))))","v":500000}]
["0872",2,{"$f":"IF($B1480=1,VLOOKUP(C$2,Table1[],3,0),IF($B1480=2,VLOOKUP(C$2,Table1[],4,0),IF($B1480=3,VLOOKUP(C$2,Table1[],5,0),IF($B1480=4,VLOOKUP(C$2,Table1[],5,0),0))))","v":1000000},{"$f":"IF($B1480=1,VLOOKUP(D$2,Table1[],3,0),IF($B1480=2,VLOOKUP(D$2,Table1[],4,0),IF($B1480=3,VLOOKUP(D$2,Table1[],5,0),IF($B1480=4,VLOOKUP(D$2,Table1[],5,0),0))))","v":1000000},{"$f":"IF($B1480=1,VLOOKUP(E$2,Table1[],3,0),IF($B1480=2,VLOOKUP(E$2,Table1[],4,0),IF($B1480=3,VLOOKUP(E$2,Table1[],5,0),IF($B1480=4,VLOOKUP(E$2,Table1[],5,0),0))))","v":750000},{"$f":"IF($B1480=1,VLOOKUP(F$2,Table1[],3,0),IF($B1480=2,VLOOKUP(F$2,Table1[],4,0),IF($B1480=3,VLOOKUP(F$2,Table1[],5,0),IF($B1480=4,VLOOKUP(F$2,Table1[],5,0),0))))","v":500000}]
["0873",2,{"$f":"IF($B1481=1,VLOOKUP(C$2,Table1[],3,0),IF($B1481=2,VLOOKUP(C$2,Table1[],4,0),IF($B1481=3,VLOOKUP(C$2,Table1[],5,0),IF($B1481=4,VLOOKUP(C$2,Table1[],5,0),0))))","v":1000000},{"$f":"IF($B1481=1,VLOOKUP(D$2,Table1[],3,0),IF($B1481=2,VLOOKUP(D$2,Table1[],4,0),IF($B1481=3,VLOOKUP(D$2,Table1[],5,0),IF($B1481=4,VLOOKUP(D$2,Table1[],5,0),0))))","v":1000000},{"$f":"IF($B1481=1,VLOOKUP(E$2,Table1[],3,0),IF($B1481=2,VLOOKUP(E$2,Table1[],4,0),IF($B1481=3,VLOOKUP(E$2,Table1[],5,0),IF($B1481=4,VLOOKUP(E$2,Table1[],5,0),0))))","v":750000},{"$f":"IF($B1481=1,VLOOKUP(F$2,Table1[],3,0),IF($B1481=2,VLOOKUP(F$2,Table1[],4,0),IF($B1481=3,VLOOKUP(F$2,Table1[],5,0),IF($B1481=4,VLOOKUP(F$2,Table1[],5,0),0))))","v":500000}]
["0874",2,{"$f":"IF($B1482=1,VLOOKUP(C$2,Table1[],3,0),IF($B1482=2,VLOOKUP(C$2,Table1[],4,0),IF($B1482=3,VLOOKUP(C$2,Table1[],5,0),IF($B1482=4,VLOOKUP(C$2,Table1[],5,0),0))))","v":1000000},{"$f":"IF($B1482=1,VLOOKUP(D$2,Table1[],3,0),IF($B1482=2,VLOOKUP(D$2,Table1[],4,0),IF($B1482=3,VLOOKUP(D$2,Table1[],5,0),IF($B1482=4,VLOOKUP(D$2,Table1[],5,0),0))))","v":1000000},{"$f":"IF($B1482=1,VLOOKUP(E$2,Table1[],3,0),IF($B1482=2,VLOOKUP(E$2,Table1[],4,0),IF($B1482=3,VLOOKUP(E$2,Table1[],5,0),IF($B1482=4,VLOOKUP(E$2,Table1[],5,0),0))))","v":750000},{"$f":"IF($B1482=1,VLOOKUP(F$2,Table1[],3,0),IF($B1482=2,VLOOKUP(F$2,Table1[],4,0),IF($B1482=3,VLOOKUP(F$2,Table1[],5,0),IF($B1482=4,VLOOKUP(F$2,Table1[],5,0),0))))","v":500000}]
["0875",2,{"$f":"IF($B1483=1,VLOOKUP(C$2,Table1[],3,0),IF($B1483=2,VLOOKUP(C$2,Table1[],4,0),IF($B1483=3,VLOOKUP(C$2,Table1[],5,0),IF($B1483=4,VLOOKUP(C$2,Table1[],5,0),0))))","v":1000000},{"$f":"IF($B1483=1,VLOOKUP(D$2,Table1[],3,0),IF($B1483=2,VLOOKUP(D$2,Table1[],4,0),IF($B1483=3,VLOOKUP(D$2,Table1[],5,0),IF($B1483=4,VLOOKUP(D$2,Table1[],5,0),0))))","v":1000000},{"$f":"IF($B1483=1,VLOOKUP(E$2,Table1[],3,0),IF($B1483=2,VLOOKUP(E$2,Table1[],4,0),IF($B1483=3,VLOOKUP(E$2,Table1[],5,0),IF($B1483=4,VLOOKUP(E$2,Table1[],5,0),0))))","v":750000},{"$f":"IF($B1483=1,VLOOKUP(F$2,Table1[],3,0),IF($B1483=2,VLOOKUP(F$2,Table1[],4,0),IF($B1483=3,VLOOKUP(F$2,Table1[],5,0),IF($B1483=4,VLOOKUP(F$2,Table1[],5,0),0))))","v":500000}]
["0885",4,{"$f":"IF($B1484=1,VLOOKUP(C$2,Table1[],3,0),IF($B1484=2,VLOOKUP(C$2,Table1[],4,0),IF($B1484=3,VLOOKUP(C$2,Table1[],5,0),IF($B1484=4,VLOOKUP(C$2,Table1[],5,0),0))))","v":500000},{"$f":"IF($B1484=1,VLOOKUP(D$2,Table1[],3,0),IF($B1484=2,VLOOKUP(D$2,Table1[],4,0),IF($B1484=3,VLOOKUP(D$2,Table1[],5,0),IF($B1484=4,VLOOKUP(D$2,Table1[],5,0),0))))","v":400000},{"$f":"IF($B1484=1,VLOOKUP(E$2,Table1[],3,0),IF($B1484=2,VLOOKUP(E$2,Table1[],4,0),IF($B1484=3,VLOOKUP(E$2,Table1[],5,0),IF($B1484=4,VLOOKUP(E$2,Table1[],5,0),0))))","v":"N/A"},{"$f":"IF($B1484=1,VLOOKUP(F$2,Table1[],3,0),IF($B1484=2,VLOOKUP(F$2,Table1[],4,0),IF($B1484=3,VLOOKUP(F$2,Table1[],5,0),IF($B1484=4,VLOOKUP(F$2,Table1[],5,0),0))))","v":"N/A"}]

{"sheet":"HEM","index":8,"n_rows":168,"n_cols":27,"rows_kept":168,"cut":false,"hidden":true,"merged":[[39,1,39,9],[71,1,71,9],[102,1,102,9],[136,1,136,9]]}
["InstitutionId","NSTS_IncomeRangeStart","NSTS_IncomeRangeEnd","NSTS_TaxRate","NSTS_TaxFree","NSTS_CustomerType",null,"Applicant 1","Applicant 2","Applicant 3","Applicant 4","Applicant 5",null,null,null,null,"Weighting Classifications",null,null,"Rental Categories","%",null,"Investment Flag",null,"Household No.",null,"Couple"]
[1,0,999999999999,0.3,0,"C",null,null,null,null,null,null,null,null,null,null,"Bonus",0.8,null,"Cat 1,2,3 and Any Other Residential",0.8,null,"Yes",null,1,null,"Y"]
[1,0,18200,0,0,"I",null,null,null,null,null,null,null,null,null,null,"Commission",0.8,null,"Cat 4 Residential",0.6,null,"No",null,2,null,"N"]
[1,18200.01,22801,0.19,3458,"I",null,null,null,null,null,null,null,null,null,null,"Dividends",0.9,null,"Cat 1, 2, 3 and Any Other Commercial",0.7,null,null,null,3]
[1,22801.01,28501,0.29,5738.1,"I",null,null,null,null,null,null,null,null,null,null,"Overtime",0.8,null,"Cat 4 Commercial",0.6,null,null,null,"NA"]
[1,28501.01,45000,0.21,3458.02,"I",null,null,null,null,null,null,null,null,null,null,"Car Allowance",1]
[1,45000.01,120000,0.345,9533.02,"I",null,null,null,null,null,null,null,null,null,null,"Foreign Income",1]
[1,120000.01,180000,0.39,14933.02,"I"]
[1,180000.01,999999999999,0.47,29333.02,"I",null,null,null,null,null,null,null,null,null,null,null,null,null,"Rental Categories","%"]
[null,null,null,null,null,null,null,null,null,null,null,null,null,null,null,null,null,null,null,"Cat 1 Resi",0.8]
[null,null,null,null,null,null,null,0,0,0,0,0,null,null,null,null,null,null,null,"Cat 1 Commercial",0.7]
[null,null,null,null,1,null,null,null,null,null,null,null,null,null,null,null,null,null,null,"Cat 2 Resi",0.8]
[null,"Current HEM Data - provided by external people",null,null,"Living Expenses Table - Household 1",null,null,null,null,null,null,null,null,null,null,null,null,null,null,"Cat 2 Commercial",0.7]
[null,null,null,null,"Household Members","Household No's","Couple","Gross Income",{"$f":"IF('Result Sheet'!B32>0,'Result Sheet'!B32,0)","v":0},null,null,null,null,null,null,null,null,null,null,"Cat 3 Resi",0.8]
[null,"Total HEM (Annual)",{"$f":"(J17+J24+J31)*52","v":0},null,"Adults (Applicants)",{"$f":"Calculator!M36","v":""},{"$f":"'Result Sheet'!B60","v":0},{"$f":"'Result Sheet'!B59-I15+I14","v":0},{"$f":"SUMIF('Result Sheet'!B29:E29,HEM!E12,'Result Sheet'!B30:E30)-SUMIF('Result Sheet'!B29:E29,HEM!E12,'Result Sheet'!B31:E31)","v":0},null,null,null,{"$f":"HEM_1","v":0},null,null,null,null,null,null,"Cat 3 Commercial",0.7]
[null,"HEM",{"$f":"C15/12","v":0},null,"Adults (Dep)",0,null,null,null,null,null,null,null,null,null,null,null,null,null,"Cat 4 Resi",0.6]
[null,null,null,null,"Children (capped at 10)",{"$f":"IF('Result Sheet'!B63>10,10,'Result Sheet'!B63)","v":0},null,null,null,{"$f":"S69","v":0},{"$f":"(S69*52)/12","v":0},null,null,null,null,null,null,null,null,"Cat 4 Commercial",0.6]
[]
[null,null,null,null,2]
[null,null,null,null,"Living Expenses Table - Household 2"]
[null,null,null,null,"Household Members","Household No.s","Couple","Gross Income",{"$f":"IF('Result Sheet'!C32>0,'Result Sheet'!C32,0)","v":0},null,null,null,null,null,null,null,null,null,null,null,null,null,"Corporate / Self Employed?"]
[null,null,null,null,"Adults (Applicants)",{"$f":"Calculator!P36","v":""},{"$f":"'Result Sheet'!C60","v":0},{"$f":"'Result Sheet'!C59-I22+I21","v":0},{"$f":"SUMIF('Result Sheet'!B29:E29,HEM!E19,'Result Sheet'!B30:E30)-SUMIF('Result Sheet'!B29:E29,HEM!E19,'Result Sheet'!B31:E31)","v":0}]
[null,null,null,null,"Adults (Dep)",0]
[null,null,null,null,"Children (capped at 10)",{"$f":"IF('Result Sheet'!C63>10,10,'Result Sheet'!C63)","v":0},null,null,null,{"$f":"S101","v":0},{"$f":"(S101*52)/12","v":0}]
[]
[null,null,null,null,3]
[null,null,null,null,"Living Expenses Table - Household 3"]
[null,null,null,null,"Household Members","Household No.s","Couple","Gross Income",{"$f":"IF('Result Sheet'!D32>0,'Result Sheet'!D32,0)","v":0}]
[null,null,null,null,"Adults (Applicants)",{"$f":"Calculator!T36","v":""},{"$f":"'Result Sheet'!D60","v":0},{"$f":"'Result Sheet'!D59-I29+I28","v":0},{"$f":"SUMIF('Result Sheet'!B29:E29,HEM!E26,'Result Sheet'!B30:E30)-SUMIF('Result Sheet'!B29:E29,HEM!E26,'Result Sheet'!B31:E31)","v":0}]
[null,null,null,null,"Adults (Dep)",0]
[null,null,null,null,"Children (capped at 10)",{"$f":"IF('Result Sheet'!D63>10,10,'Result Sheet'!D63)","v":0},null,null,null,{"$f":"S134","v":0},{"$f":"(S134*52)/12","v":0}]
[]
[null,null,null,null,4]
[null,null,null,null,"Living Expenses Table - Household 4"]
[null,null,null,null,"Household Members","Household No.s","Couple","Gross Income",{"$f":"IF('Result Sheet'!E32>0,'Result Sheet'!E32,0)","v":0}]
[null,null,null,null,"Adults (Applicants)",{"$f":"Calculator!W36","v":""},{"$f":"'Result Sheet'!E60","v":0},{"$f":"'Result Sheet'!E59-I36+I35","v":0},{"$f":"SUMIF('Result Sheet'!B29:E29,HEM!E33,'Result Sheet'!B30:E30)-SUMIF('Result Sheet'!B29:E29,HEM!E33,'Result Sheet'!B31:E31)","v":0}]
[null,null,null,null,"Adults (Dep)",0]
[null,null,null,null,"Children (capped at 10)",{"$f":"IF('Result Sheet'!E63>10,10,'Result Sheet'!E63)","v":0},null,null,null,{"$f":"S168","v":0},{"$f":"(S168*52)/12","v":0}]
[]
[null,"*"]
[]
[null,"Insert  Table Here:",null,null,null,null,"Total current gross HH income from all sources (measured in current dollars)"]
[null,null,null,0.01,24999.99,36999.99,48999.99,60999.99,73999.99,97999.99,122999.99,146999.99,171999.99,195999.99,245999.99,306999.99,367999.99,"More Than"]
[null,null,null,"to","to","to","to","to","to","to","to","to","to","to","to","to","to"]
[-99999999,null,"Australia",24999.98,36999.98,48999.98,60999.98,73999.98,97999.98,122999.98,146999.98,171999.98,195999.98,245999.98,306999.98,367999.98,613999.98,613999.99]
[null,null,"Couple",{"$f":"E46","v":553},553,567.659441278708,588.247907943725,626.235086825684,681.149008535531,756.981033153593,828.739473983982,915.186512401634,960.444956239875,1003.98804310923,1126.15174925158,1243.43847193564,1287.68008045727,1287.68008045727]
[null,null,"Couple with 1 child",{"$f":"E47","v":621.687171921196},{"$f":"F47*0.95","v":621.687171921196},654.407549390732,675.068311188349,713.188888894627,768.295591531285,844.393932374705,916.404311808699,1003.15490367727,1048.57226975347,1092.26827386124,1214.86093196255,1332.55949974933,1376.95645995434,1376.95645995434]
[null,null,"Couple with 2 children",{"$f":"E48","v":690.234750178938},{"$f":"F48*0.95","v":690.234750178938},726.562894925198,747.133492293008,785.087701056281,839.953924879943,915.720132795491,987.416329080167,1073.78826457,1119.00750052095,1162.51277685546,1284.57039888108,1401.75539835104,1445.95853519977,1445.95853519977]
[null,null,"Couple with 3 children",{"$f":"E49","v":751.034750178938},{"$f":"F49*0.95","v":751.034750178938},{"$f":"F48+64","v":790.562894925198},805.739626378548,844.007166485531,899.326325630047,975.718003813102,1048.00607133303,1135.09103020205,1180.68358145591,1224.54800545763,1347.61324572891,1465.76560176164,1510.33372106886,1510.33372106886]
[null,null,"Couple cost of additional dependents (capped at 10)",60,60,60.2578592360695,{"$f":"G49-G48","v":58.6061340855407},61.5517348541168,61.6965018055409,61.8956143551912,62.0690142562524,62.2965327222481,62.3825216582543,62.5183555273327,62.8349013672973,63.1510964035792,63.2274539058385,63.2274539058385]
[]
[null,null,"Single person",282,297.876973043765,312.242538302735,332.816388239288,370.77660279559,425.651501922234,501.429689791269,573.137231636659,659.522842323241,704.749173340281,748.261365201667,870.338323244443,987.541833404741,1031.75195953718,1007.45432672642]
[null,null,"Single parent with 1 child",{"$f":"E53","v":398.191549427182},398.191549427182,412.555860673465,433.127983988041,471.084913293345,525.955146153191,601.726830586341,673.428181271641,759.806406890238,805.028898535399,848.537324761076,970.603838940672,1087.79724973086,1132.00366016541,1098.65332680632]
[null,null,"Single parent with 2 children",{"$f":"E54","v":510.531500343411},510.531500343411,524.930787568412,545.552900075387,583.602157918247,638.605783738811,714.561733676675,786.437442742656,873.025753623173,918.358195856314,961.972441197211,1084.33571492955,1201.81418188847,1246.12801706576,1221.59266804599]
[null,null,"Single parent with 3 children",{"$f":"E55","v":605.440428740191},{"$f":"F55*0.95","v":605.440428740191},637.305714463359,657.977816162733,696.119402543149,751.256421324431,827.396636767008,899.446704213672,986.245100356108,1031.68749317723,1075.40755763335,1198.06759091843,1315.83111404608,1360.25237396612,1361.54507211538]
[null,null,"Single cost of additional dependents (capped at 10)",{"$f":"D55-D54","v":94.9089283967796},{"$f":"E55-E54","v":94.9089283967796},{"$f":"F55-F54","v":112.374926894947},{"$f":"G55-G54","v":112.424916087346},112.517244624902,112.65063758562,112.834903090334,113.009261471016,113.219346732935,113.329297320915,113.435116436135,113.731875988877,114.01693215761,114.124356900354,139.952404069391]
[]
["Income Unit 1","Y",0,{"$f":"IF(AND($H$15>$A$45,$H$15<=$D$45),D46,0)","v":553},{"$f":"IF(AND($H$15<=E$45,$H$15>E$43),E46,0)","v":0},0,0,0,0,0,0,0,0,0,0,0,0,{"$f":"IF($H$15>R45,R46,0)","v":0},{"$f":"IF(AND($G$15=B58,$F$17=C58),SUM(D58:R58),0)","v":0}]
[null,"Y",1,{"$f":"IF(AND($H$15>$A$45,$H$15<=$D$45),D47,0)","v":621.687171921196},{"$f":"IF(AND($H$15<=E$45,$H$15>E$43),E47,0)","v":0},0,0,0,0,0,0,0,0,0,0,0,0,{"$f":"IF($H$15>R45,R47,0)","v":0},{"$f":"IF(AND($G$15=B59,$F$17=C59),SUM(D59:R59),0)","v":0}]
[null,"Y",2,{"$f":"IF(AND($H$15>$A$45,$H$15<=$D$45),D48,0)","v":690.234750178938},{"$f":"IF(AND($H$15<=E$45,$H$15>E$43),E48,0)","v":0},0,0,0,0,0,0,0,0,0,0,0,0,{"$f":"IF($H$15>R45,R48,0)","v":0},{"$f":"IF(AND($G$15=B60,$F$17=C60),SUM(D60:R60),0)","v":0}]
[null,"Y",3,{"$f":"IF(AND($H$15>$A$45,$H$15<=$D$45),D49,0)","v":751.034750178938},{"$f":"IF(AND($H$15<=E$45,$H$15>E$43),E49,0)","v":0},0,0,0,0,0,0,0,0,0,0,0,0,{"$f":"IF($H$15>R45,R49,0)","v":0},{"$f":"IF(AND($G$15=B61,$F$17=C61),SUM(D61:R61),0)","v":0}]
[null,"Y",4,{"$f":"IF(AND($H$15>A45,$H$15<=D43),D61+(($F$17-C61)*D50),0)","v":571.034750178938},{"$f":"IF(AND($H$15<=E$45,$H$15>E$43),E49+(($F$17-$C61)*E50),0)","v":0},{"$f":"IF(AND($H$15<=F$45,$H$15>F$43),F49+(($F$17-$C61)*F50),0)","v":0},{"$f":"IF(AND($H$15<=G$45,$H$15>G$43),G49+(($F$17-$C61)*G50),0)","v":0},{"$f":"IF(AND($H$15<=H$45,$H$15>H$43),H49+(($F$17-$C61)*H50),0)","v":0},{"$f":"IF(AND($H$15<=I$45,$H$15>I$43),I49+(($F$17-$C61)*I50),0)","v":0},0,0,0,0,0,0,0,0,{"$f":"IF($H$15>R45,R49+(($F$17-$C61)*R50),0)","v":0},{"$f":"IF(AND($G$15=B62,$F$17>=C62),SUM(D62:R62),0)","v":0}]
[null,null,null,{"$f":"IF(AND($H$15>=A45,$H$15<D43),D51,0)","v":0},{"$f":"IF(AND($H$15<E45,$H$15>=E43),E51,0)","v":0},0,0,0,0,0,0,0,0,0,0,0,{"$f":"IF(AND($H$15<=Q45,$H$15>=Q43),Q51,0)","v":0},{"$f":"IF($H$15>R45,R51,0)","v":0},{"$f":"IF(AND($G$15=B63,$F$17=C63),SUM(D63:R63),0)","v":0}]
[null,"N",0,{"$f":"IF(AND($H$15>$A$45,$H$15<=$D$45),D52,0)","v":282},{"$f":"IF(AND($H$15<=E$45,$H$15>E$43),E52,0)","v":0},0,0,0,0,0,0,0,0,0,0,0,0,{"$f":"IF($H$15>R45,R52,0)","v":0},{"$f":"IF(AND($G$15=B64,$F$17=C64),SUM(D64:R64),0)","v":0}]
[null,"N",1,{"$f":"IF(AND($H$15>$A$45,$H$15<=$D$45),D53,0)","v":398.191549427182},{"$f":"IF(AND($H$15<=E$45,$H$15>E$43),E53,0)","v":0},0,0,0,0,0,0,0,0,0,0,0,0,{"$f":"IF($H$15>R45,R53,0)","v":0},{"$f":"IF(AND($G$15=B65,$F$17=C65),SUM(D65:R65),0)","v":0}]
[null,"N",2,{"$f":"IF(AND($H$15>$A$45,$H$15<=$D$45),D54,0)","v":510.531500343411},{"$f":"IF(AND($H$15<=E$45,$H$15>E$43),E54,0)","v":0},0,0,0,0,0,0,0,0,0,0,0,0,{"$f":"IF($H$15>R45,R54,0)","v":0},{"$f":"IF(AND($G$15=B66,$F$17=C66),SUM(D66:R66),0)","v":0}]
[null,"N",3,{"$f":"IF(AND($H$15>$A$45,$H$15<=$D$45),D55,0)","v":605.440428740191},{"$f":"IF(AND($H$15<=E$45,$H$15>E$43),E55,0)","v":0},0,0,0,0,0,0,0,0,0,0,0,0,{"$f":"IF($H$15>R45,R55,0)","v":0},{"$f":"IF(AND($G$15=B67,$F$17=C67),SUM(D67:R67),0)","v":0}]
[null,"N",4,{"$f":"IF(AND($H$15>A45,$H$15<=D45),D55+(($F$17-C67)*D56),0)","v":320.713643549852},{"$f":"IF(AND($H$15<=E$45,$H$15>E$43),E55+(($F$17-$C67)*E56),0)","v":0},{"$f":"IF(AND($H$15<=F$45,$H$15>F$43),F55+(($F$17-$C67)*F56),0)","v":0},{"$f":"IF(AND($H$15<=G$45,$H$15>G$43),G55+(($F$17-$C67)*G56),0)","v":0},{"$f":"IF(AND($H$15<=H$45,$H$15>H$43),H55+(($F$17-$C67)*H56),0)","v":0},{"$f":"IF(AND($H$15<=I$45,$H$15>I$43),I55+(($F$17-$C67)*I56),0)","v":0},0,0,0,0,0,0,0,0,{"$f":"IF($H$15>R45,R55+(($F$17-$C67)*R56),0)","v":0},{"$f":"IF(AND($G$15=B68,$F$17>=C68),SUM(D68:R68),0)","v":0}]
[null,null,null,null,null,null,null,null,null,null,null,null,null,null,null,null,null,null,{"$f":"SUM(S58:S68)+IFERROR($F$16*SUM(D64:R64),0)","v":0}]
[]
[]
[null,"Disclaimer\nPlease note; the HEM values provided within this unprotected version of the NSC are commercial in confidence and for the sole purpose of integrating into your system to service Adelaide Bank customers. They must not be disclosed or distributed."]
[]
[null,"Insert  Table Here:",null,null,null,null,"Total current gross HH income from all sources (measured in current dollars)"]
[null,null,null,0.01,24999.99,36999.99,48999.99,60999.99,73999.99,97999.99,122999.99,146999.99,171999.99,195999.99,245999.99,306999.99,367999.99,"More Than"]
[null,null,null,"to","to","to","to","to","to","to","to","to","to","to","to","to","to"]
[-99999999,null,"Australia",24999.98,36999.98,48999.98,60999.98,73999.98,97999.98,122999.98,146999.98,171999.98,195999.98,245999.98,306999.98,367999.98,613999.98,613999.99]
[null,null,"Couple",{"$f":"E78","v":553},553,567.659441278708,588.247907943725,626.235086825684,681.149008535531,756.981033153593,828.739473983982,915.186512401634,960.444956239875,1003.98804310923,1126.15174925158,1243.43847193564,1287.68008045727,1287.68008045727]
[null,null,"Couple with 1 child",{"$f":"E79","v":621.687171921196},{"$f":"F79*0.95","v":621.687171921196},654.407549390732,675.068311188349,713.188888894627,768.295591531285,844.393932374705,916.404311808699,1003.15490367727,1048.57226975347,1092.26827386124,1214.86093196255,1332.55949974933,1376.95645995434,1376.95645995434]
[null,null,"Couple with 2 children",{"$f":"E80","v":690.234750178938},{"$f":"F80*0.95","v":690.234750178938},726.562894925198,747.133492293008,785.087701056281,839.953924879943,915.720132795491,987.416329080167,1073.78826457,1119.00750052095,1162.51277685546,1284.57039888108,1401.75539835104,1445.95853519977,1445.95853519977]
[null,null,"Couple with 3 children",{"$f":"E81","v":751.034750178938},{"$f":"F81*0.95","v":751.034750178938},{"$f":"F80+64","v":790.562894925198},805.739626378548,844.007166485531,899.326325630047,975.718003813102,1048.00607133303,1135.09103020205,1180.68358145591,1224.54800545763,1347.61324572891,1465.76560176164,1510.33372106886,1510.33372106886]
[null,null,"Couple cost of additional dependents (capped at 10)",60,60,60.2578592360695,{"$f":"G81-G80","v":58.6061340855407},61.5517348541168,61.6965018055409,61.8956143551912,62.0690142562524,62.2965327222481,62.3825216582543,62.5183555273327,62.8349013672973,63.1510964035792,63.2274539058385,63.2274539058385]
[]
[null,null,"Single person",282,297.876973043765,312.242538302735,332.816388239288,370.77660279559,425.651501922234,501.429689791269,573.137231636659,659.522842323241,704.749173340281,748.261365201667,870.338323244443,987.541833404741,1031.75195953718,1007.45432672642]
[null,null,"Single parent with 1 child",{"$f":"E85","v":398.191549427182},398.191549427182,412.555860673465,433.127983988041,471.084913293345,525.955146153191,601.726830586341,673.428181271641,759.806406890238,805.028898535399,848.537324761076,970.603838940672,1087.79724973086,1132.00366016541,1098.65332680632]
[null,null,"Single parent with 2 children",{"$f":"E86","v":510.531500343411},510.531500343411,524.930787568412,545.552900075387,583.602157918247,638.605783738811,714.561733676675,786.437442742656,873.025753623173,918.358195856314,961.972441197211,1084.33571492955,1201.81418188847,1246.12801706576,1221.59266804599]
[null,null,"Single parent with 3 children",{"$f":"E87","v":605.440428740191},{"$f":"F87*0.95","v":605.440428740191},637.305714463359,657.977816162733,696.119402543149,751.256421324431,827.396636767008,899.446704213672,986.245100356108,1031.68749317723,1075.40755763335,1198.06759091843,1315.83111404608,1360.25237396612,1361.54507211538]
[null,null,"Single cost of additional dependents (capped at 10)",{"$f":"D87-D86","v":94.9089283967796},{"$f":"E87-E86","v":94.9089283967796},{"$f":"F87-F86","v":112.374926894947},{"$f":"G87-G86","v":112.424916087346},112.517244624902,112.65063758562,112.834903090334,113.009261471016,113.219346732935,113.329297320915,113.435116436135,113.731875988877,114.01693215761,114.124356900354,139.952404069391]
[]
["Income Unit 1","Y",0,{"$f":"IF(AND($H$22>$A$77,$H$22<=$D$77),D78,0)","v":553},{"$f":"IF(AND($H$22<=E$77,$H$22>E$75),E78,0)","v":0},0,0,0,0,0,0,0,0,0,0,0,0,{"$f":"IF($H$22>R77,R78,0)","v":0},{"$f":"IF(AND($G$22=B90,$F$24=C90),SUM(D90:R90),0)","v":0}]
[null,"Y",1,{"$f":"IF(AND($H$22>$A$77,$H$22<=$D$77),D79,0)","v":621.687171921196},{"$f":"IF(AND($H$22<=E$77,$H$22>E$75),E79,0)","v":0},0,0,0,0,0,0,0,0,0,0,0,0,{"$f":"IF($H$22>R77,R79,0)","v":0},{"$f":"IF(AND($G$22=B91,$F$24=C91),SUM(D91:R91),0)","v":0}]
[null,"Y",2,{"$f":"IF(AND($H$22>$A$77,$H$22<=$D$77),D80,0)","v":690.234750178938},{"$f":"IF(AND($H$22<=E$77,$H$22>E$75),E80,0)","v":0},0,0,0,0,0,0,0,0,0,0,0,0,{"$f":"IF($H$22>R77,R80,0)","v":0},{"$f":"IF(AND($G$22=B92,$F$24=C92),SUM(D92:R92),0)","v":0}]
[null,"Y",3,{"$f":"IF(AND($H$22>$A$77,$H$22<=$D$75),D81,0)","v":751.034750178938},{"$f":"IF(AND($H$22<=E$77,$H$22>E$75),E81,0)","v":0},0,0,0,0,0,0,0,0,0,0,0,0,{"$f":"IF($H$22>R77,R81,0)","v":0},{"$f":"IF(AND($G$22=B93,$F$24=C93),SUM(D93:R93),0)","v":0}]
[null,"Y",4,{"$f":"IF(AND($H$22>A77,$H$22<=D77),D93+(($F$24-C93)*D82),0)","v":571.034750178938},{"$f":"IF(AND($H$22<=E$77,$H$22>E$75),E81+(($F$24-$C93)*E82),0)","v":0},{"$f":"IF(AND($H$22<=F$77,$H$22>F$75),F81+(($F$24-$C93)*F82),0)","v":0},{"$f":"IF(AND($H$22<=G$77,$H$22>G$75),G81+(($F$24-$C93)*G82),0)","v":0},{"$f":"IF(AND($H$22<=H$77,$H$22>H$75),H81+(($F$24-$C93)*H82),0)","v":0},{"$f":"IF(AND($H$22<=I$77,$H$22>I$75),I81+(($F$24-$C93)*I82),0)","v":0},0,0,0,0,0,0,0,0,{"$f":"IF($H$22>R77,R81+(($F$24-$C93)*R82),0)","v":0},{"$f":"IF(AND($G$22=B94,$F$24>=C94),SUM(D94:R94),0)","v":0}]
[null,null,null,{"$f":"IF(AND($H$22>=A77,$H$22<D75),D83,0)","v":0},{"$f":"IF(AND($H$22<E77,$H$22>=E75),E83,0)","v":0},0,0,0,0,0,0,0,0,0,0,0,{"$f":"IF(AND($H$22<=Q77,$H$22>=Q75),Q83,0)","v":0},{"$f":"IF($H$22>R77,R83,0)","v":0},{"$f":"IF(AND($G$22=B95,$F$24=C95),SUM(D95:R95),0)","v":0}]
[null,"N",0,{"$f":"IF(AND($H$22>$A$77,$H$22<=$D$77),D84,0)","v":282},{"$f":"IF(AND($H$22<=E$77,$H$22>E$75),E84,0)","v":0},0,0,0,0,0,0,0,0,0,0,0,0,{"$f":"IF($H$22>R77,R84,0)","v":0},{"$f":"IF(AND($G$22=B96,$F$24=C96),SUM(D96:R96),0)","v":0}]
[null,"N",1,{"$f":"IF(AND($H$22>$A$77,$H$22<=$D$77),D85,0)","v":398.191549427182},{"$f":"IF(AND($H$22<=E$77,$H$22>E$75),E85,0)","v":0},0,0,0,0,0,0,0,0,0,0,0,0,{"$f":"IF($H$22>R77,R85,0)","v":0},{"$f":"IF(AND($G$22=B97,$F$24=C97),SUM(D97:R97),0)","v":0}]
[null,"N",2,{"$f":"IF(AND($H$22>$A$77,$H$22<=$D$77),D86,0)","v":510.531500343411},{"$f":"IF(AND($H$22<=E$77,$H$22>E$75),E86,0)","v":0},0,0,0,0,0,0,0,0,0,0,0,0,{"$f":"IF($H$22>R77,R86,0)","v":0},{"$f":"IF(AND($G$22=B98,$F$24=C98),SUM(D98:R98),0)","v":0}]
[null,"N",3,{"$f":"IF(AND($H$22>$A$77,$H$22<=$D$77),D87,0)","v":605.440428740191},{"$f":"IF(AND($H$22<=E$77,$H$22>E$75),E87,0)","v":0},0,0,0,0,0,0,0,0,0,0,0,0,{"$f":"IF($H$22>R77,R87,0)","v":0},{"$f":"IF(AND($G$22=B99,$F$24=C99),SUM(D99:R99),0)","v":0}]
[null,"N",4,{"$f":"IF(AND($H$22>A77,$H$22<=D77),D87+(($F$24-C$130)*D88),0)","v":320.713643549852},{"$f":"IF(AND($H$22<=E$77,$H$22>E$75),E87+(($F$24-$C99)*E88),0)","v":0},{"$f":"IF(AND($H$22<=F$77,$H$22>F$75),F87+(($F$24-$C99)*F88),0)","v":0},{"$f":"IF(AND($H$22<=G$77,$H$22>G$75),G87+(($F$24-$C99)*G88),0)","v":0},{"$f":"IF(AND($H$22<=H$77,$H$22>H$75),H87+(($F$24-$C99)*H88),0)","v":0},{"$f":"IF(AND($H$22<=I$77,$H$22>I$75),I87+(($F$24-$C99)*I88),0)","v":0},0,0,0,0,0,0,0,0,{"$f":"IF($H$22>R77,R87+(($F$24-$C99)*R88),0)","v":0},{"$f":"IF(AND($G$22=B100,$F$24>=C100),SUM(D100:R100),0)","v":0}]
[null,null,null,null,null,null,null,null,null,null,null,null,null,null,null,null,null,null,{"$f":"SUM(S90:S100)+IFERROR($F$23*SUM(D96:R96),0)","v":0}]
[]
[null,"Disclaimer\nPlease note; the HEM values provided within this unprotected version of the NSC are commercial in confidence and for the sole purpose of integrating into your system to service Adelaide Bank customers. They must not be disclosed or distributed."]
[]
[null,"Insert  Table Here:",null,null,null,null,"Total current gross HH income from all sources (measured in current dollars)"]
[null,null,null,0.01,24999.99,36999.99,48999.99,60999.99,73999.99,97999.99,122999.99,146999.99,171999.99,195999.99,245999.99,306999.99,367999.99,"More Than"]
[null,null,null,"to","to","to","to","to","to","to","to","to","to","to","to","to","to"]
[-99999999,null,"Australia",24999.98,36999.98,48999.98,60999.98,73999.98,97999.98,122999.98,146999.98,171999.98,195999.98,245999.98,306999.98,367999.98,613999.98,613999.99]
[null,null,"Couple",{"$f":"E109","v":553},553,567.659441278708,588.247907943725,626.235086825684,681.149008535531,756.981033153593,828.739473983982,915.186512401634,960.444956239875,1003.98804310923,1126.15174925158,1243.43847193564,1287.68008045727,1287.68008045727]
[null,null,"Couple with 1 child",{"$f":"E110","v":621.687171921196},{"$f":"F110*0.95","v":621.687171921196},654.407549390732,675.068311188349,713.188888894627,768.295591531285,844.393932374705,916.404311808699,1003.15490367727,1048.57226975347,1092.26827386124,1214.86093196255,1332.55949974933,1376.95645995434,1376.95645995434]
[null,null,"Couple with 2 children",{"$f":"E111","v":690.234750178938},{"$f":"F111*0.95","v":690.234750178938},726.562894925198,747.133492293008,785.087701056281,839.953924879943,915.720132795491,987.416329080167,1073.78826457,1119.00750052095,1162.51277685546,1284.57039888108,1401.75539835104,1445.95853519977,1445.95853519977]
[null,null,"Couple with 3 children",{"$f":"E112","v":751.034750178938},{"$f":"F112*0.95","v":751.034750178938},{"$f":"F111+64","v":790.562894925198},805.739626378548,844.007166485531,899.326325630047,975.718003813102,1048.00607133303,1135.09103020205,1180.68358145591,1224.54800545763,1347.61324572891,1465.76560176164,1510.33372106886,1510.33372106886]
[null,null,"Couple cost of additional dependents (capped at 10)",60,60,60.2578592360695,{"$f":"G112-G111","v":58.6061340855407},61.5517348541168,61.6965018055409,61.8956143551912,62.0690142562524,62.2965327222481,62.3825216582543,62.5183555273327,62.8349013672973,63.1510964035792,63.2274539058385,63.2274539058385]
[]
[null,null,"Single person",282,297.876973043765,312.242538302735,332.816388239288,370.77660279559,425.651501922234,501.429689791269,573.137231636659,659.522842323241,704.749173340281,748.261365201667,870.338323244443,987.541833404741,1031.75195953718,1007.45432672642]
[null,null,"Single parent with 1 child",{"$f":"E116","v":398.191549427182},398.191549427182,412.555860673465,433.127983988041,471.084913293345,525.955146153191,601.726830586341,673.428181271641,759.806406890238,805.028898535399,848.537324761076,970.603838940672,1087.79724973086,1132.00366016541,1098.65332680632]
[null,null,"Single parent with 2 children",{"$f":"E117","v":510.531500343411},510.531500343411,524.930787568412,545.552900075387,583.602157918247,638.605783738811,714.561733676675,786.437442742656,873.025753623173,918.358195856314,961.972441197211,1084.33571492955,1201.81418188847,1246.12801706576,1221.59266804599]
[null,null,"Single parent with 3 children",{"$f":"E118","v":605.440428740191},{"$f":"F118*0.95","v":605.440428740191},637.305714463359,657.977816162733,696.119402543149,751.256421324431,827.396636767008,899.446704213672,986.245100356108,1031.68749317723,1075.40755763335,1198.06759091843,1315.83111404608,1360.25237396612,1361.54507211538]
[null,null,"Single cost of additional dependents (capped at 10)",{"$f":"D118-D117","v":94.9089283967796},{"$f":"E118-E117","v":94.9089283967796},{"$f":"F118-F117","v":112.374926894947},{"$f":"G118-G117","v":112.424916087346},112.517244624902,112.65063758562,112.834903090334,113.009261471016,113.219346732935,113.329297320915,113.435116436135,113.731875988877,114.01693215761,114.124356900354,139.952404069391]
[]
["Income Unit 1","Y",0,{"$f":"IF(AND($H$29>A$108,$H$29<=D$108),D109,0)","v":553},{"$f":"IF(AND($H$29<=E$108,$H$29>E$106),E109,0)","v":0},0,0,0,0,0,0,0,0,0,0,0,0,{"$f":"IF($H$29>R108,R109,0)","v":0},{"$f":"IF(AND($G$29=B121,$F$31=C121),SUM(D121:R121),0)","v":0}]
[null,"Y",1,{"$f":"IF(AND($H$29>A$108,$H$29<=D$108),D110,0)","v":621.687171921196},{"$f":"IF(AND($H$29<=E$108,$H$29>E$106),E110,0)","v":0},0,0,0,0,0,0,0,0,0,0,0,0,{"$f":"IF($H$29>R108,R110,0)","v":0},{"$f":"IF(AND($G$29=B122,$F$31=C122),SUM(D122:R122),0)","v":0}]
[null,"Y",2,{"$f":"IF(AND($H$29>A$108,$H$29<=D$108),D111,0)","v":690.234750178938},{"$f":"IF(AND($H$29<=E$108,$H$29>E$106),E111,0)","v":0},0,0,0,0,0,0,0,0,0,0,0,0,{"$f":"IF($H$29>R108,R111,0)","v":0},{"$f":"IF(AND($G$29=B123,$F$31=C123),SUM(D123:R123),0)","v":0}]
[null,"Y",3,{"$f":"IF(AND($H$29>A$108,$H$29<=D$108),D112,0)","v":751.034750178938},{"$f":"IF(AND($H$29<=E$108,$H$29>E$106),E112,0)","v":0},0,0,0,0,0,0,0,0,0,0,0,0,{"$f":"IF($H$29>R108,R112,0)","v":0},{"$f":"IF(AND($G$29=B124,$F$31=C124),SUM(D124:R124),0)","v":0}]
[null,"Y",4,{"$f":"IF(AND($H$29>A$108,$H$29<=D$108),D124+(($F$31-C124)*D113),0)","v":571.034750178938},{"$f":"IF(AND($H$29<=E$108,$H$29>E$106),E112+(($F$31-$C124)*E113),0)","v":0},{"$f":"IF(AND($H$29<=F$108,$H$29>F$106),F112+(($F$31-$C124)*F113),0)","v":0},{"$f":"IF(AND($H$29<=G$108,$H$29>G$106),G112+(($F$31-$C124)*G113),0)","v":0},{"$f":"IF(AND($H$29<=H$108,$H$29>H$106),H112+(($F$31-$C124)*H113),0)","v":0},{"$f":"IF(AND($H$29<=I$108,$H$29>I$106),I112+(($F$31-$C124)*I113),0)","v":0},0,0,0,0,0,0,0,0,{"$f":"IF($H$29>R108,R112+(($F$31-$C124)*R113),0)","v":0},{"$f":"IF(AND($G$29=B125,$F$31>=C125),SUM(D125:R125),0)","v":0}]
[null,null,null,{"$f":"IF(AND($H$29>=A108,$H$29<D106),D114,0)","v":0},{"$f":"IF(AND($H$29<E108,$H$29>=E106),E114,0)","v":0},0,0,0,0,0,0,0,0,0,0,0,{"$f":"IF(AND($H$29<=Q108,$H$29>=Q106),Q114,0)","v":0},{"$f":"IF($H$29>R108,R114,0)","v":0},{"$f":"IF(AND($G$29=B126,$F$31=C126),SUM(D126:R126),0)","v":0}]
[null,"N",0,{"$f":"IF(AND($H$29>A$108,$H$29<=D$108),D115,0)","v":282},{"$f":"IF(AND($H$29<=E$108,$H$29>E$106),E115,0)","v":0},0,0,0,0,0,0,0,0,0,0,0,0,{"$f":"IF($H$29>R108,R115,0)","v":0},{"$f":"IF(AND($G$29=B127,$F$31=C127),SUM(D127:R127),0)","v":0}]
[null,"N",1,{"$f":"IF(AND($H$29>A$108,$H$29<=D$108),D116,0)","v":398.191549427182},{"$f":"IF(AND($H$29<=E$108,$H$29>E$106),E116,0)","v":0},0,0,0,0,0,0,0,0,0,0,0,0,{"$f":"IF($H$29>R108,R116,0)","v":0},{"$f":"IF(AND($G$29=B128,$F$31=C128),SUM(D128:R128),0)","v":0}]
[null,"N",2,{"$f":"IF(AND($H$29>A$108,$H$29<=D$108),D117,0)","v":510.531500343411},{"$f":"IF(AND($H$29<=E$108,$H$29>E$106),E117,0)","v":0},0,0,0,0,0,0,0,0,0,0,0,0,{"$f":"IF($H$29>R108,R117,0)","v":0},{"$f":"IF(AND($G$29=B129,$F$31=C129),SUM(D129:R129),0)","v":0}]
[null,"N",3,{"$f":"IF(AND($H$29>A$108,$H$29<=D$108),D118,0)","v":605.440428740191},{"$f":"IF(AND($H$29<=E$108,$H$29>E$106),E118,0)","v":0},0,0,0,0,0,0,0,0,0,0,0,0,{"$f":"IF($H$29>R108,R118,0)","v":0},{"$f":"IF(AND($G$29=B130,$F$31=C130),SUM(D130:R130),0)","v":0}]
[null,"N",4,{"$f":"IF(AND($H$29>A$108,$H$29<=D$108),D130+(($F$31-C130)*D119),0)","v":320.713643549852},{"$f":"IF(AND($H$29<=E$108,$H$29>E$106),E118+(($F$31-$C130)*E119),0)","v":0},{"$f":"IF(AND($H$29<=F$108,$H$29>F$106),F118+(($F$31-$C130)*F119),0)","v":0},{"$f":"IF(AND($H$29<=G$108,$H$29>G$106),G118+(($F$31-$C130)*G119),0)","v":0},{"$f":"IF(AND($H$29<=H$108,$H$29>H$106),H118+(($F$31-$C130)*H119),0)","v":0},{"$f":"IF(AND($H$29<=I$108,$H$29>I$106),I118+(($F$31-$C130)*I119),0)","v":0},0,0,0,0,0,0,0,0,{"$f":"IF($H$29>R108,R118+(($F$31-$C130)*R119),0)","v":0},{"$f":"IF(AND($G$29=B131,$F$31>=C131),SUM(D131:R131),0)","v":0}]
[]
[]
[null,null,null,null,null,null,null,null,null,null,null,null,null,null,null,null,null,null,{"$f":"SUM(S121:S131)+IFERROR($F$30*SUM(D127:R127),0)","v":0}]
[]
[]
[null,"Disclaimer\nPlease note; the HEM values provided within this unprotected version of the NSC are commercial in confidence and for the sole purpose of integrating into your system to service Adelaide Bank customers. They must not be disclosed or distributed."]
[]
[null,"Insert  Table Here:",null,null,null,null,"Total current gross HH income from all sources (measured in current dollars)"]
[null,null,null,0.01,24999.99,36999.99,48999.99,60999.99,73999.99,97999.99,122999.99,146999.99,171999.99,195999.99,245999.99,306999.99,367999.99,"More Than"]
[null,null,null,"to","to","to","to","to","to","to","to","to","to","to","to","to","to"]
[-99999999,null,"Australia",24999.98,36999.98,48999.98,60999.98,73999.98,97999.98,122999.98,146999.98,171999.98,195999.98,245999.98,306999.98,367999.98,613999.98,613999.99]
[null,null,"Couple",{"$f":"E143","v":553},553,567.659441278708,588.247907943725,626.235086825684,681.149008535531,756.981033153593,828.739473983982,915.186512401634,960.444956239875,1003.98804310923,1126.15174925158,1243.43847193564,1287.68008045727,1287.68008045727]
[null,null,"Couple with 1 child",{"$f":"E144","v":621.687171921196},{"$f":"F144*0.95","v":621.687171921196},654.407549390732,675.068311188349,713.188888894627,768.295591531285,844.393932374705,916.404311808699,1003.15490367727,1048.57226975347,1092.26827386124,1214.86093196255,1332.55949974933,1376.95645995434,1376.95645995434]
[null,null,"Couple with 2 children",{"$f":"E145","v":690.234750178938},{"$f":"F145*0.95","v":690.234750178938},726.562894925198,747.133492293008,785.087701056281,839.953924879943,915.720132795491,987.416329080167,1073.78826457,1119.00750052095,1162.51277685546,1284.57039888108,1401.75539835104,1445.95853519977,1445.95853519977]
[null,null,"Couple with 3 children",{"$f":"E146","v":751.034750178938},{"$f":"F146*0.95","v":751.034750178938},{"$f":"F145+64","v":790.562894925198},805.739626378548,844.007166485531,899.326325630047,975.718003813102,1048.00607133303,1135.09103020205,1180.68358145591,1224.54800545763,1347.61324572891,1465.76560176164,1510.33372106886,1510.33372106886]
[null,null,"Couple cost of additional dependents (capped at 10)",60,60,60.2578592360695,{"$f":"G146-G145","v":58.6061340855407},61.5517348541168,61.6965018055409,61.8956143551912,62.0690142562524,62.2965327222481,62.3825216582543,62.5183555273327,62.8349013672973,63.1510964035792,63.2274539058385,63.2274539058385]
[]
[null,null,"Single person",282,297.876973043765,312.242538302735,332.816388239288,370.77660279559,425.651501922234,501.429689791269,573.137231636659,659.522842323241,704.749173340281,748.261365201667,870.338323244443,987.541833404741,1031.75195953718,1007.45432672642]
[null,null,"Single parent with 1 child",{"$f":"E150","v":398.191549427182},398.191549427182,412.555860673465,433.127983988041,471.084913293345,525.955146153191,601.726830586341,673.428181271641,759.806406890238,805.028898535399,848.537324761076,970.603838940672,1087.79724973086,1132.00366016541,1098.65332680632]
[null,null,"Single parent with 2 children",{"$f":"E151","v":510.531500343411},510.531500343411,524.930787568412,545.552900075387,583.602157918247,638.605783738811,714.561733676675,786.437442742656,873.025753623173,918.358195856314,961.972441197211,1084.33571492955,1201.81418188847,1246.12801706576,1221.59266804599]
[null,null,"Single parent with 3 children",{"$f":"E152","v":605.440428740191},{"$f":"F152*0.95","v":605.440428740191},637.305714463359,657.977816162733,696.119402543149,751.256421324431,827.396636767008,899.446704213672,986.245100356108,1031.68749317723,1075.40755763335,1198.06759091843,1315.83111404608,1360.25237396612,1361.54507211538]
[null,null,"Single cost of additional dependents (capped at 10)",{"$f":"D152-D151","v":94.9089283967796},{"$f":"E152-E151","v":94.9089283967796},{"$f":"F152-F151","v":112.374926894947},{"$f":"G152-G151","v":112.424916087346},112.517244624902,112.65063758562,112.834903090334,113.009261471016,113.219346732935,113.329297320915,113.435116436135,113.731875988877,114.01693215761,114.124356900354,139.952404069391]
[]
["Income Unit 1","Y",0,{"$f":"IF(AND($H$36>A$142,$H$36<=D$142),D143,0)","v":553},{"$f":"IF(AND($H$36<=E$142,$H$36>E$140),E143,0)","v":0},0,0,0,0,0,0,0,0,0,0,0,0,{"$f":"IF($H$36>R142,R143,0)","v":0},{"$f":"IF(AND($G$36=B155,$F$38=C155),SUM(D155:R155),0)","v":0}]
[null,"Y",1,{"$f":"IF(AND($H$36>A$142,$H$36<=D$142),D144,0)","v":621.687171921196},{"$f":"IF(AND($H$36<=E$142,$H$36>E$140),E144,0)","v":0},0,0,0,0,0,0,0,0,0,0,0,0,{"$f":"IF($H$36>R142,R144,0)","v":0},{"$f":"IF(AND($G$36=B156,$F$38=C156),SUM(D156:R156),0)","v":0}]
[null,"Y",2,{"$f":"IF(AND($H$36>A$142,$H$36<=D$142),D145,0)","v":690.234750178938},{"$f":"IF(AND($H$36<=E$142,$H$36>E$140),E145,0)","v":0},0,0,0,0,0,0,0,0,0,0,0,0,{"$f":"IF($H$36>R142,R145,0)","v":0},{"$f":"IF(AND($G$36=B157,$F$38=C157),SUM(D157:R157),0)","v":0}]
[null,"Y",3,{"$f":"IF(AND($H$29>A$142,$H$29<=D$140),D146,0)","v":751.034750178938},{"$f":"IF(AND($H$36<=E$142,$H$36>E$140),E146,0)","v":0},0,0,0,0,0,0,0,0,0,0,0,0,{"$f":"IF($H$36>R142,R146,0)","v":0},{"$f":"IF(AND($G$36=B158,$F$38=C158),SUM(D158:R158),0)","v":0}]
[null,"Y",4,{"$f":"IF(AND($H$36>A$142,$H$36<=D$142),D158+(($F$38-C158)*D147),0)","v":571.034750178938},{"$f":"IF(AND($H$36<=E$142,$H$36>E$140),E146+(($F$38-$C158)*E147),0)","v":0},0,0,0,0,0,0,0,0,0,0,0,0,{"$f":"IF($H$36>R142,R146+(($F$38-$C158)*R147),0)","v":0},{"$f":"IF(AND($G$36=B159,$F$38>=C159),SUM(D159:R159),0)","v":0}]
[null,null,null,{"$f":"IF(AND($H$36>=A142,$H$36<D140),D148,0)","v":0},{"$f":"IF(AND($H$36<E142,$H$36>=E140),E148,0)","v":0},0,0,0,0,0,0,0,0,0,0,0,{"$f":"IF(AND($H$36<=Q142,$H$36>=Q140),Q148,0)","v":0},{"$f":"IF($H$36>R142,R148,0)","v":0},{"$f":"IF(AND($G$36=B160,$F$38=C160),SUM(D160:R160),0)","v":0}]
[null,"N",0,{"$f":"IF(AND($H$36>A$142,$H$36<=D$142),D149,0)","v":282},{"$f":"IF(AND($H$36<=E$142,$H$36>E$140),E149,0)","v":0},0,0,0,0,0,0,0,0,0,0,0,0,{"$f":"IF($H$36>R142,R149,0)","v":0},{"$f":"IF(AND($G$36=B161,$F$38=C161),SUM(D161:R161),0)","v":0}]
[null,"N",1,{"$f":"IF(AND($H$36>A$142,$H$36<=D$142),D150,0)","v":398.191549427182},{"$f":"IF(AND($H$36<=E$142,$H$36>E$140),E150,0)","v":0},0,0,0,0,0,0,0,0,0,0,0,0,{"$f":"IF($H$36>R142,R150,0)","v":0},{"$f":"IF(AND($G$36=B162,$F$38=C162),SUM(D162:R162),0)","v":0}]
[null,"N",2,{"$f":"IF(AND($H$36>A$142,$H$29<=D$142),D151,0)","v":510.531500343411},{"$f":"IF(AND($H$36<=E$142,$H$36>E$140),E151,0)","v":0},0,0,0,0,0,0,0,0,0,0,0,0,{"$f":"IF($H$36>R142,R151,0)","v":0},{"$f":"IF(AND($G$36=B163,$F$38=C163),SUM(D163:R163),0)","v":0}]
[null,"N",3,{"$f":"IF(AND($H$36>A$142,$H$36<=D$142),D152,0)","v":605.440428740191},{"$f":"IF(AND($H$36<=E$142,$H$36>E$140),E152,0)","v":0},{"$f":"IF(AND($H$29<=F$142,$H$36>F$140),F152,0)","v":0},{"$f":"IF(AND($H$36<=G$142,$H$36>G$140),G152,0)","v":0},0,0,0,0,0,0,0,0,0,0,{"$f":"IF($H$36>R142,R152,0)","v":0},{"$f":"IF(AND($G$36=B164,$F$38=C164),SUM(D164:R164),0)","v":0}]
[null,"N",4,{"$f":"IF(AND($H$36>A$142,$H$36<=D$142),D164+(($F$38-C164)*D153),0)","v":320.713643549852},{"$f":"IF(AND($H$36<=E$142,$H$36>E$140),E152+(($F$38-$C164)*E153),0)","v":0},0,0,0,0,0,0,0,0,0,0,0,0,{"$f":"IF($H$36>R142,R152+(($F$38-$C164)*R153),0)","v":0},{"$f":"IF(AND($G$36=B165,$F$38>=C165),SUM(D165:R165),0)","v":0}]
[]
[]
[null,null,null,null,null,null,null,null,null,null,null,null,null,null,null,null,null,null,{"$f":"SUM(S155:S165)+IFERROR($F$30*SUM(D161:R161),0)","v":0}]

{"sheet":"Version log","index":9,"n_rows":16,"n_cols":4,"rows_kept":16,"cut":false,"hidden":true,"merged":[]}
["Rev No","Date","Update","Comments"]
["1.0.20",null,"2021 Q3 HEM data updated","2021 Q3 HEM data and ranges updated"]
["1.0.20",null,"Credit Card Calculation","Credit card calculation update to only calculate excess above 20K"]
["1.0.20","2022-01-23","Self employed Abnormal Income","Formula updated to dedcut from total"]
["1.0.20","2022-02-10","Locked Adults cells under Household Details","Locked to force users to complete the Couple cell"]
["1.0.21","2022-02-15","2021 Q4 HEM data updated","2021 Q4 HEM data and ranges updated"]
["1.0.21","2022-03-08","Introdcued default interest rate and term for existing commitments","Only working in the background"]
["1.0.21","2022-05-11","Fixed formula for boarding/rental income","Result Sheet M126:M131 referenced an incorrect cell"]
["1.0.22","2022-05-13","2022 Q1 HEM data updated","2022 Q1 HEM data updated"]
["1.0.22","2022-05-19","Other commitments added to Exisiting Commitments formula"]
["1.1.0","2022-06-27","Updated HEM Calculation for BEN"]
["1.1.1","2022-08-08","Adjusted some formulas"]
["1.1.1","2022-08-16","2022 Q2 HEM data uploaded","NSR not showing when Household has not been assigned"]
["1.1.2","2022-11-16","2022 Q3 HEM data updated","2022 Q3 HEM data updated"]
["1.1.3","2023-03-24","Updated HEM formula for income less than $24,000"]
["1.1.4","2023-06-14","2023 Q1 HEM data updated","2023 Q1 HEM data updated"]

{"sheet":"RK Use_Do not delete","index":10,"n_rows":7,"n_cols":2,"rows_kept":7,"cut":false,"hidden":true,"merged":[]}
["Tax Payable","=IF(OR(ISBLANK(M69)),\"\",IF(AND(M69>=0,M69<=18200),M69*'Tables '!$J$5,IF(AND(M69>=18201,M69<=45000),M69*'Tables '!$J$6,IF(AND(M69>=45001,M69<=120000),M69*'Tables '!$J$7,IF(AND(M69>=120001,M69<=180000),M69*'Tables '!$J$8,IF(AND(M69>=180001),M69*'Tables '!$J$9,\"\"))))))"]
["Postcode","=Postcode!I11"]
["Savings Buffer","=IF(ISNUMBER(SEARCH(\"couple\",'Calculator_HEM test'!M29)),'Calculator_HEM test'!V136/12,IF(ISNUMBER(SEARCH(\"couple\",'Calculator_HEM test'!P29)),'Calculator_HEM test'!V136/12,IF(ISNUMBER(SEARCH(\"couple\",'Calculator_HEM test'!S29)),'Calculator_HEM test'!V136/12,IF(ISNUMBER(SEARCH(\"couple\",'Calculator_HEM test'!V29)),'Calculator_HEM test'!V136/12,0))))"]
["Savings Buffer","=IF(K37=0,0,\n(\nIF(\n('Living Exp'!F46<('Living Exp'!F48)), ((('Calculator_HEM test'!V136*1)/12)/K37),\nIF(\n('Living Exp'!F46>=('Living Exp'!F48+((('Calculator_HEM test'!V136*1)/12)/K37))),0,\n\n(('Living Exp'!F48+((('Calculator_HEM test'!V136*1)/12)/K37) - 'Living Exp'!F46))\n   )\n) *IF(ISBLANK('Calculator_HEM test'!M29),0,1) +\nIF(\n('Living Exp'!H46<('Living Exp'!H48)), ((('Calculator_HEM test'!V136*1)/12)/K37),\nIF(\n('Living Exp'!H46>=('Living Exp'!H48+((('Calculator_HEM test'!V136*1)/12)/K37))),0,\n\n(('Living Exp'!H48+((('Calculator_HEM test'!V136*1)/12)/K37) - 'Living Exp'!F46))\n   )\n) *IF(ISBLANK('Calculator_HEM test'!P29),0,1) +\nIF(\n('Living Exp'!J46<('Living Exp'!J48)), ((('Calculator_HEM test'!V136*1)/12)/K37),\nIF(\n('Living Exp'!J46>=('Living Exp'!J48+((('Calculator_HEM test'!V136*1)/12)/K37))),0,\n\n(('Living Exp'!J48+((('Calculator_HEM test'!V136*1)/12)/K37) - 'Living Exp'!J46))\n   )\n) * IF(ISBLANK('Calculator_HEM test'!S29),0,1) +\nIF(\n('Living Exp'!L46<('Living Exp'!L48)), ((('Calculator_HEM test'!V136*1)/12)/K37),\nIF(\n('Living Exp'!L46>=('Living Exp'!L48+((('Calculator_HEM test'!V136*1)/12)/K37))),0,\n\n(('Living Exp'!L48+((('Calculator_HEM test'!V136*1)/12)/K37) - 'Living Exp'!L46))\n   )\n) * IF(ISBLANK('Calculator_HEM test'!V29),0,1)\n)\n)"]
["HEM","=ROUNDUP(IF(OR(ISBLANK('Result Sheet'!B93)),\"\",(IF(AND('Result Sheet'!B93>=HEM_WIP!$D43,'Result Sheet'!B93<=HEM_WIP!$D45),SUMIF(HEM_WIP!$C46:$C56,'Calculator_HEM test'!M27,HEM_WIP!$D46:$D56),IF(AND('Result Sheet'!B93>=HEM_WIP!$E43,'Result Sheet'!B93<=HEM_WIP!$E45),SUMIF(HEM_WIP!$C46:$C56,'Calculator_HEM test'!M27,HEM_WIP!$E46:$E56),IF(AND('Result Sheet'!B93>=HEM_WIP!$F43,'Result Sheet'!B93<=HEM_WIP!$F45),SUMIF(HEM_WIP!$C46:$C56,'Calculator_HEM test'!M27,HEM_WIP!$F46:$F56),IF(AND('Result Sheet'!B93>=HEM_WIP!$G43,'Result Sheet'!B93<=HEM_WIP!$G45),SUMIF(HEM_WIP!$C46:$C56,'Calculator_HEM test'!M27,HEM_WIP!$G46:$G56),IF(AND('Result Sheet'!B93>=HEM_WIP!$H43,'Result Sheet'!B93<=HEM_WIP!$H45),SUMIF(HEM_WIP!$C46:$C56,'Calculator_HEM test'!M27,HEM_WIP!$H46:$H56),IF(AND('Result Sheet'!B93>=HEM_WIP!$I43,'Result Sheet'!B93<=HEM_WIP!$I45),SUMIF(HEM_WIP!$C46:$C56,'Calculator_HEM test'!M27,HEM_WIP!$I46:$I56),IF(AND('Result Sheet'!B93>=HEM_WIP!$J43,'Result Sheet'!B93<=HEM_WIP!$J45),SUMIF(HEM_WIP!$C46:$C56,'Calculator_HEM test'!M27,HEM_WIP!$J46:$J56),IF(AND('Result Sheet'!B93>=HEM_WIP!$K43,'Result Sheet'!B93<=HEM_WIP!$K45),SUMIF(HEM_WIP!$C46:$C56,'Calculator_HEM test'!M27,HEM_WIP!$K46:$K56),IF(AND('Result Sheet'!B93>=HEM_WIP!$L43,'Result Sheet'!B93<=HEM_WIP!$L45),SUMIF(HEM_WIP!$C46:$C56,'Calculator_HEM test'!M27,HEM_WIP!$L46:$L56),IF(AND('Result Sheet'!B93>=HEM_WIP!$M43,'Result Sheet'!B93<=HEM_WIP!$M45),SUMIF(HEM_WIP!$C46:$C56,'Calculator_HEM test'!M27,HEM_WIP!$M46:$M56),IF(AND('Result Sheet'!B93>=HEM_WIP!$N43,'Result Sheet'!B93<=HEM_WIP!$N45),SUMIF(HEM_WIP!$C46:$C56,'Calculator_HEM test'!M27,HEM_WIP!$N46:$N56),IF(AND('Result Sheet'!B93>=HEM_WIP!$O43,'Result Sheet'!B93<=HEM_WIP!$O45),SUMIF(HEM_WIP!$C46:$C56,'Calculator_HEM test'!M27,HEM_WIP!$O46:$O56),IF(AND('Result Sheet'!B93>=HEM_WIP!$P43,'Result Sheet'!B93<=HEM_WIP!$P45),SUMIF(HEM_WIP!$C46:$C56,'Calculator_HEM test'!M27,HEM_WIP!$P46:$P56),IF(AND('Result Sheet'!B93>=HEM_WIP!$Q43,'Result Sheet'!B93<=HEM_WIP!$Q45),SUMIF(HEM_WIP!$C46:$C56,'Calculator_HEM test'!M27,HEM_WIP!$Q46:$Q56),IF(AND('Result Sheet'!B93>=HEM_WIP!$R45,),SUMIF(HEM_WIP!$C46:$C56,'Calculator_HEM test'!M27,HEM_WIP!$R46:$R56),\"\")))))))))))))))))*52/12,0)"]
["Savings Buffer v2","=IF(AND('Calculator_HEM test'!M31=1,'Calculator_HEM test'!M27=\"YES\"),IF(AND('Calculator_HEM test'!P31=1,'Calculator_HEM test'!P27=\"YES\"),IF(AND('Calculator_HEM test'!S31=1,'Calculator_HEM test'!S27=\"YES\"),IF(AND('Calculator_HEM test'!V31=1,'Calculator_HEM test'!V27=\"YES\"),1,0))))"]
["IO","=IF(C110=2,IPMT(E110/12,1,12,-Calculator!$M$11)+PMT(E110/12,(Calculator!$P$11-12),-Calculator!$M$11),0)"]